{"text_format":"1","workbook":"xlsx","n_sheets":14,"sheets":["Mode d'emploi","Inscription","11 ans et -","12 - 13 ans","14 - 15 ans F","14 - 15 ans H","Senior F","Senior H","Résultats PRÉLIMINAIRES","Présentation","Vagues FINALES","Valeurs","Décompte CLUB","Déconte ATHL"],"not_rendered":{"charts":0,"images":2,"macros":1,"external_links":1,"defined_names":16,"comments":0,"pivot_tables":0},"unopened":[],"bounds":{"document_bytes":16777216,"sheet_cells":100000,"rows_first":2000,"rows_last":500,"rows_between":2000,"halvings":0,"cell_chars":16384,"cell_head_chars":4096},"cells_cut":0,"cells_raw":0,"read":"whole","date_system":"1900"}

{"sheet":"Mode d'emploi","index":0,"n_rows":31,"n_cols":2,"rows_kept":31,"cut":false,"hidden":false,"merged":[[0,0,0,18],[1,0,1,18]]}
["FICHIER DE COMPILATION EN SAUVETAGE SPORTIF PHYSIQUE"]
["MODE D'EMPLOI"]
[]
["Général"]
[]
["Le tableau de compilation simplifié est conçu pour accueillir 30 compétiteurs par catégorie sans avoir à modifier les formules excel de compilation."]
["Afin d'éviter les erreurs, seuls les zones pour inscrire les noms de compétiteurs ou d'équipes, les zones pour inscrire les temps et les résultats sont accessibles."]
["Si pour quelconque raison vous devez modifier une donnée ou une formule: \"Outils: protection: ôter la protection\""]
["À noter, si vous avez des compétiteurs Hors-concours, important de mettre DNS à la place du temps de l'épreuve."]
["Pour les surclassements, inscrire le nom dans l'onglet inscription / dans la catégorie d'àge surclassé et ajouter à la fin (S)"]
[]
["Épreuves physiques"]
[]
["Les résultats des épreuves  doivent être saisies dans les onglets, selon la catégorie d'âge . Ils seront automatiquement reportés au tableau de résultats finaux."]
["Les temps doivent être inscrits sous la forme MM:SS,CC  (ex.: 01:05,77)."]
["En cas de disqualification, simplement saisir \"DQ\" dans la zone inscriptible."]
["En cas d'absence sur la vague, Saisir ''DNF''."]
["À noter, une équipe qui ne complète pas l'épreve dans un temps donner se voit donner la mention DNF pour ''Did not finish''  "]
["Relais + Corde Senior, comme les équipes peuvent variés dans les équipes, une liste déroulant automotiser avec l'onglet ''Inscription'' a été programmé."]
[null,"Veuillez attritré les bon nom aux bonnes équipes !"]
[]
["Présentation des résultats"]
[]
["ATTENTION : IL Y A DES MACROS DANS CE TABLEAU SVP BIEN ENREGISTRÉ AVANT DE COMMENCER"]
["Afin de bien présenter vos résultats, vous pouvez utiliser l'onglet ''Présentation''"]
[null,"Pour avoir toutes les résultats en ordre, seulement ''cliquer'' sur le ''S (logo)'' de la Société de sauvetage"]
[null,"Le tout se triera automatiquement et vous pourrez imprimer par la suite :)"]
[]
["Cumulatif"]
[]
["Afin de calculer les banières de club pour la compétiton, veuillez vous référer au 2 tableaux Js et Senior dans l'onglet Cumulatif"]

{"sheet":"Inscription","index":1,"n_rows":21,"n_cols":12,"rows_kept":21,"cut":false,"hidden":false,"merged":[[0,0,0,1],[0,2,0,3],[0,8,0,9],[0,10,0,11],[0,4,0,5],[0,6,0,7]]}
["11 ans et -",null,"12 - 13 ans",null,"14 - 15 ans Femme",null,"14 - 15 ans Homme",null,"Senior Femme",null,"Senior Homme"]
["SSSL","Missy Roy","SSSL","Sybel Roy","SSSL","Paula Loaiza","Dam'eauclès","Jacob Rousson","SSSL","Célia Crivellaro Kingsbury","Dam'eauclès","Charles GIrouard"]
["CASO","Étienne Roy","CAEM","Ariane St-Denis","CAEM","Audrey Desroches","Dam'eauclès","Julien Turgeon","CASO","Laurence Lamarre","SSSL","Félix Labelle"]
["CAEM","Emmy Mastrovito","Dam'eauclès","Émile Turgeon","Dam'eauclès","Manuelle Charbonneau","Dam'eauclès","James Willamson","CASO","Émilie Boulerne","SSSL","Thomas Willame"]
["Dam'eauclès","Katherine Gaulin","CSRAD","Malory Boisclair","Dam'eauclès","Myriam Jacques","CSRAD","Alexandre Vincent","Dam'eauclès","Caroline Arcand","Rouville Surf","Miguel Jean"]
["Dam'eauclès","Théodore Turgeon","30deux","Ariane Trudel","Dam'eauclès","Emma Lajeunesse","CSRN","Malik Romdhani","Dam'eauclès","Tamara Jacques","Rouville Surf","Dimitri Jean"]
["30deux","Émilie Tessier","CSRN","Thomas Martin","CSRAD","Sarah-Claude Lampron","CSRN","Jonathan St-Roch","O'méga","Josée Miron","Rouville Surf","Kevin Bustamante-Cortés"]
["30deux","Ève-Marie Bell","CSRN","Maxime Laurence","O'méga","AnnabelleDuquet","Gatineau","Vincent Marsclais","Rouville Surf","Marie-Hélène Paquette","30deux","Thomas Lavoie"]
["CSRN","Samya Chakir","CSRN","Eugénie Tétreault","O'méga","Odette Côté","Gatineau","Benjamin Lapointe","Rouville Surf","Claudine Courteau-Godmaire","30deux","Samuel Lévesque"]
["CSRN","Zoé Martin","CSRN","Justin Gauthier","30deux","Alexane Thibeault",null,null,"Rouville Surf","Ana Jaimes","30deux","François Houle"]
["CSRN","Gabriel Martin","Gatineau","Justin Pichette","CSRN","Rosanne Trépanier",null,null,"Rouville Surf","Gabrièle St-Georges","30deux","Maxime Chamberland"]
["CSRN","Justin Gauthier","Gatineau","Marianne Caplette",null,null,null,null,"Rouville Surf","Mariama Keita","30deux","Marco Patriarco"]
["CSRN","Annabelle Rhéaume","Narval","Joelle Gauthier-Drapeau",null,null,null,null,"30deux","Marie-Pier Anctil","CSRN","Ismaël Chakir"]
["Gatineau","Andréanne Pichette","Narval","Léony Gobeil",null,null,null,null,"30deux","Emmanuelle Hudon","CSRN","Kamil Romdhani"]
["Narval","GabriellePotvin",null,null,null,null,null,null,"30deux","Alexandra Ladouceur","CSRN","William Laurence"]
["CASO","Zacharie Taillefer",null,null,null,null,null,null,"30deux","Camille Gaudreault","Gatineau","Olivier Breton"]
[null,null,null,null,null,null,null,null,"30deux","Sarah-Laurence Morin","Narval","Alex Tremblay"]
[null,null,null,null,null,null,null,null,"30deux","Noémie Desjardins","Narval","David Comeau"]
[null,null,null,null,null,null,null,null,"CSRN","Raphaëlle Tétreault"]
[null,null,null,null,null,null,null,null,"Gatineau","Isabelle Carrier"]
[null,null,null,null,null,null,null,null,"Gatineau","Jessica Carrier"]

{"sheet":"11 ans et -","index":2,"n_rows":170,"n_cols":9,"rows_kept":170,"cut":false,"hidden":false,"merged":[[1,0,2,8],[35,0,36,8],[69,0,70,8],[103,0,104,8],[137,0,138,8]]}
[]
["Lancer de précision - 11 ans et moins\nÉPREUVE DE LA CORDE"]
[]
["Club","Nom",null,"Chrono 1","Chrono 2","Temps final",null,"R","Points"]
[{"$f":"Inscription!A2","v":"SSSL"},{"$f":"Inscription!B2","v":"Missy Roy"},null,null,null,{"$f":"IF(D5=\"\",\"\",IF(D5=\"DQ\",\"DQ\",IF(D5=\"DNF\",\"DNF\",IF(D5=\"DNS\",\"DNS\",AVERAGE(D5,E5)))))","v":""},null,{"$f":"IF(F5=\"DNS\",\"DNS\",IF(F5=\"DQ\",\"DQ\",IF(F5=\"\",\"\",IF(F5=\"DNF\",\"DNF\",RANK(F5,$F$5:$F$34,1)))))","v":""},{"$f":"IF(F5=\"DNS\",\"0\",IF(F5=\"DQ\",\"0\",IF(F5=\"\",\"\",IF(F5=\"DNF\",\"0\",LOOKUP(H5,Valeurs!$A$4:'Valeurs'!$A$46,Valeurs!$B$4:'Valeurs'!$B$46)))))","v":""}]
[{"$f":"Inscription!A3","v":"CASO"},{"$f":"Inscription!B3","v":"Étienne Roy"},null,null,null,"",null,{"$f":"IF(F6=\"DNS\",\"DNS\",IF(F6=\"DQ\",\"DQ\",IF(F6=\"\",\"\",IF(F6=\"DNF\",\"DNF\",RANK(F6,$F$5:$F$34,1)))))","v":""},{"$f":"IF(F6=\"DNS\",\"0\",IF(F6=\"DQ\",\"0\",IF(F6=\"\",\"\",IF(F6=\"DNF\",\"0\",LOOKUP(H6,Valeurs!$A$4:'Valeurs'!$A$46,Valeurs!$B$4:'Valeurs'!$B$46)))))","v":""}]
[{"$f":"Inscription!A4","v":"CAEM"},{"$f":"Inscription!B4","v":"Emmy Mastrovito"},null,null,null,"",null,"",{"$f":"IF(F7=\"DNS\",\"0\",IF(F7=\"DQ\",\"0\",IF(F7=\"\",\"\",IF(F7=\"DNF\",\"0\",LOOKUP(H7,Valeurs!$A$4:'Valeurs'!$A$46,Valeurs!$B$4:'Valeurs'!$B$46)))))","v":""}]
[{"$f":"Inscription!A5","v":"Dam'eauclès"},{"$f":"Inscription!B5","v":"Katherine Gaulin"},null,null,null,"",null,"",{"$f":"IF(F8=\"DNS\",\"0\",IF(F8=\"DQ\",\"0\",IF(F8=\"\",\"\",IF(F8=\"DNF\",\"0\",LOOKUP(H8,Valeurs!$A$4:'Valeurs'!$A$46,Valeurs!$B$4:'Valeurs'!$B$46)))))","v":""}]
[{"$f":"Inscription!A6","v":"Dam'eauclès"},{"$f":"Inscription!B6","v":"Théodore Turgeon"},null,null,null,"",null,"",{"$f":"IF(F9=\"DNS\",\"0\",IF(F9=\"DQ\",\"0\",IF(F9=\"\",\"\",IF(F9=\"DNF\",\"0\",LOOKUP(H9,Valeurs!$A$4:'Valeurs'!$A$46,Valeurs!$B$4:'Valeurs'!$B$46)))))","v":""}]
[{"$f":"Inscription!A7","v":"30deux"},{"$f":"Inscription!B7","v":"Émilie Tessier"},null,null,null,"",null,"",{"$f":"IF(F10=\"DNS\",\"0\",IF(F10=\"DQ\",\"0\",IF(F10=\"\",\"\",IF(F10=\"DNF\",\"0\",LOOKUP(H10,Valeurs!$A$4:'Valeurs'!$A$46,Valeurs!$B$4:'Valeurs'!$B$46)))))","v":""}]
[{"$f":"Inscription!A8","v":"30deux"},{"$f":"Inscription!B8","v":"Ève-Marie Bell"},null,null,null,"",null,"",{"$f":"IF(F11=\"DNS\",\"0\",IF(F11=\"DQ\",\"0\",IF(F11=\"\",\"\",IF(F11=\"DNF\",\"0\",LOOKUP(H11,Valeurs!$A$4:'Valeurs'!$A$46,Valeurs!$B$4:'Valeurs'!$B$46)))))","v":""}]
[{"$f":"Inscription!A9","v":"CSRN"},{"$f":"Inscription!B9","v":"Samya Chakir"},null,null,null,"",null,"",{"$f":"IF(F12=\"DNS\",\"0\",IF(F12=\"DQ\",\"0\",IF(F12=\"\",\"\",IF(F12=\"DNF\",\"0\",LOOKUP(H12,Valeurs!$A$4:'Valeurs'!$A$46,Valeurs!$B$4:'Valeurs'!$B$46)))))","v":""}]
[{"$f":"Inscription!A10","v":"CSRN"},{"$f":"Inscription!B10","v":"Zoé Martin"},null,null,null,"",null,"",{"$f":"IF(F13=\"DNS\",\"0\",IF(F13=\"DQ\",\"0\",IF(F13=\"\",\"\",IF(F13=\"DNF\",\"0\",LOOKUP(H13,Valeurs!$A$4:'Valeurs'!$A$46,Valeurs!$B$4:'Valeurs'!$B$46)))))","v":""}]
[{"$f":"Inscription!A11","v":"CSRN"},{"$f":"Inscription!B11","v":"Gabriel Martin"},null,null,null,"",null,"",{"$f":"IF(F14=\"DNS\",\"0\",IF(F14=\"DQ\",\"0\",IF(F14=\"\",\"\",IF(F14=\"DNF\",\"0\",LOOKUP(H14,Valeurs!$A$4:'Valeurs'!$A$46,Valeurs!$B$4:'Valeurs'!$B$46)))))","v":""}]
[{"$f":"Inscription!A12","v":"CSRN"},{"$f":"Inscription!B12","v":"Justin Gauthier"},null,null,null,"",null,"",{"$f":"IF(F15=\"DNS\",\"0\",IF(F15=\"DQ\",\"0\",IF(F15=\"\",\"\",IF(F15=\"DNF\",\"0\",LOOKUP(H15,Valeurs!$A$4:'Valeurs'!$A$46,Valeurs!$B$4:'Valeurs'!$B$46)))))","v":""}]
[{"$f":"Inscription!A13","v":"CSRN"},{"$f":"Inscription!B13","v":"Annabelle Rhéaume"},null,null,null,"",null,"",{"$f":"IF(F16=\"DNS\",\"0\",IF(F16=\"DQ\",\"0\",IF(F16=\"\",\"\",IF(F16=\"DNF\",\"0\",LOOKUP(H16,Valeurs!$A$4:'Valeurs'!$A$46,Valeurs!$B$4:'Valeurs'!$B$46)))))","v":""}]
[{"$f":"Inscription!A14","v":"Gatineau"},{"$f":"Inscription!B14","v":"Andréanne Pichette"},null,null,null,"",null,"",{"$f":"IF(F17=\"DNS\",\"0\",IF(F17=\"DQ\",\"0\",IF(F17=\"\",\"\",IF(F17=\"DNF\",\"0\",LOOKUP(H17,Valeurs!$A$4:'Valeurs'!$A$46,Valeurs!$B$4:'Valeurs'!$B$46)))))","v":""}]
[{"$f":"Inscription!A15","v":"Narval"},{"$f":"Inscription!B15","v":"GabriellePotvin"},null,null,null,"",null,"",{"$f":"IF(F18=\"DNS\",\"0\",IF(F18=\"DQ\",\"0\",IF(F18=\"\",\"\",IF(F18=\"DNF\",\"0\",LOOKUP(H18,Valeurs!$A$4:'Valeurs'!$A$46,Valeurs!$B$4:'Valeurs'!$B$46)))))","v":""}]
[{"$f":"Inscription!A16","v":"CASO"},{"$f":"Inscription!B16","v":"Zacharie Taillefer"},null,null,null,"",null,"",{"$f":"IF(F19=\"DNS\",\"0\",IF(F19=\"DQ\",\"0\",IF(F19=\"\",\"\",IF(F19=\"DNF\",\"0\",LOOKUP(H19,Valeurs!$A$4:'Valeurs'!$A$46,Valeurs!$B$4:'Valeurs'!$B$46)))))","v":""}]
[{"$f":"Inscription!A17","v":0},{"$f":"Inscription!B17","v":0},null,null,null,{"$f":"IF(D20=\"\",\"\",IF(D20=\"DQ\",\"DQ\",IF(D20=\"DNF\",\"DNF\",IF(D20=\"DNS\",\"DNS\",AVERAGE(D20,E20)))))","v":""},null,"",{"$f":"IF(F20=\"DNS\",\"0\",IF(F20=\"DQ\",\"0\",IF(F20=\"\",\"\",IF(F20=\"DNF\",\"0\",LOOKUP(H20,Valeurs!$A$4:'Valeurs'!$A$46,Valeurs!$B$4:'Valeurs'!$B$46)))))","v":""}]
[{"$f":"Inscription!A18","v":0},{"$f":"Inscription!B18","v":0},null,null,null,"",null,"",{"$f":"IF(F21=\"DNS\",\"0\",IF(F21=\"DQ\",\"0\",IF(F21=\"\",\"\",IF(F21=\"DNF\",\"0\",LOOKUP(H21,Valeurs!$A$4:'Valeurs'!$A$46,Valeurs!$B$4:'Valeurs'!$B$46)))))","v":""}]
[{"$f":"Inscription!A19","v":0},{"$f":"Inscription!B19","v":0},null,null,null,"",null,"",{"$f":"IF(F22=\"DNS\",\"0\",IF(F22=\"DQ\",\"0\",IF(F22=\"\",\"\",IF(F22=\"DNF\",\"0\",LOOKUP(H22,Valeurs!$A$4:'Valeurs'!$A$46,Valeurs!$B$4:'Valeurs'!$B$46)))))","v":""}]
[{"$f":"Inscription!A20","v":0},{"$f":"Inscription!B20","v":0},null,null,null,"",null,"",{"$f":"IF(F23=\"DNS\",\"0\",IF(F23=\"DQ\",\"0\",IF(F23=\"\",\"\",IF(F23=\"DNF\",\"0\",LOOKUP(H23,Valeurs!$A$4:'Valeurs'!$A$46,Valeurs!$B$4:'Valeurs'!$B$46)))))","v":""}]
[{"$f":"Inscription!A21","v":0},{"$f":"Inscription!B21","v":0},null,null,null,"",null,"",{"$f":"IF(F24=\"DNS\",\"0\",IF(F24=\"DQ\",\"0\",IF(F24=\"\",\"\",IF(F24=\"DNF\",\"0\",LOOKUP(H24,Valeurs!$A$4:'Valeurs'!$A$46,Valeurs!$B$4:'Valeurs'!$B$46)))))","v":""}]
[{"$f":"Inscription!A22","v":0},{"$f":"Inscription!B22","v":0},null,null,null,"",null,"",{"$f":"IF(F25=\"DNS\",\"0\",IF(F25=\"DQ\",\"0\",IF(F25=\"\",\"\",IF(F25=\"DNF\",\"0\",LOOKUP(H25,Valeurs!$A$4:'Valeurs'!$A$46,Valeurs!$B$4:'Valeurs'!$B$46)))))","v":""}]
[{"$f":"Inscription!A23","v":0},{"$f":"Inscription!B23","v":0},null,null,null,"",null,"",{"$f":"IF(F26=\"DNS\",\"0\",IF(F26=\"DQ\",\"0\",IF(F26=\"\",\"\",IF(F26=\"DNF\",\"0\",LOOKUP(H26,Valeurs!$A$4:'Valeurs'!$A$46,Valeurs!$B$4:'Valeurs'!$B$46)))))","v":""}]
[{"$f":"Inscription!A24","v":0},{"$f":"Inscription!B24","v":0},null,null,null,"",null,"",{"$f":"IF(F27=\"DNS\",\"0\",IF(F27=\"DQ\",\"0\",IF(F27=\"\",\"\",IF(F27=\"DNF\",\"0\",LOOKUP(H27,Valeurs!$A$4:'Valeurs'!$A$46,Valeurs!$B$4:'Valeurs'!$B$46)))))","v":""}]
[{"$f":"Inscription!A25","v":0},{"$f":"Inscription!B25","v":0},null,null,null,"",null,"",{"$f":"IF(F28=\"DNS\",\"0\",IF(F28=\"DQ\",\"0\",IF(F28=\"\",\"\",IF(F28=\"DNF\",\"0\",LOOKUP(H28,Valeurs!$A$4:'Valeurs'!$A$46,Valeurs!$B$4:'Valeurs'!$B$46)))))","v":""}]
[{"$f":"Inscription!A26","v":0},{"$f":"Inscription!B26","v":0},null,null,null,"",null,"",{"$f":"IF(F29=\"DNS\",\"0\",IF(F29=\"DQ\",\"0\",IF(F29=\"\",\"\",IF(F29=\"DNF\",\"0\",LOOKUP(H29,Valeurs!$A$4:'Valeurs'!$A$46,Valeurs!$B$4:'Valeurs'!$B$46)))))","v":""}]
[{"$f":"Inscription!A27","v":0},{"$f":"Inscription!B27","v":0},null,null,null,"",null,"",{"$f":"IF(F30=\"DNS\",\"0\",IF(F30=\"DQ\",\"0\",IF(F30=\"\",\"\",IF(F30=\"DNF\",\"0\",LOOKUP(H30,Valeurs!$A$4:'Valeurs'!$A$46,Valeurs!$B$4:'Valeurs'!$B$46)))))","v":""}]
[{"$f":"Inscription!A28","v":0},{"$f":"Inscription!B28","v":0},null,null,null,"",null,"",{"$f":"IF(F31=\"DNS\",\"0\",IF(F31=\"DQ\",\"0\",IF(F31=\"\",\"\",IF(F31=\"DNF\",\"0\",LOOKUP(H31,Valeurs!$A$4:'Valeurs'!$A$46,Valeurs!$B$4:'Valeurs'!$B$46)))))","v":""}]
[{"$f":"Inscription!A29","v":0},{"$f":"Inscription!B29","v":0},null,null,null,"",null,"",{"$f":"IF(F32=\"DNS\",\"0\",IF(F32=\"DQ\",\"0\",IF(F32=\"\",\"\",IF(F32=\"DNF\",\"0\",LOOKUP(H32,Valeurs!$A$4:'Valeurs'!$A$46,Valeurs!$B$4:'Valeurs'!$B$46)))))","v":""}]
[{"$f":"Inscription!A30","v":0},{"$f":"Inscription!B30","v":0},null,null,null,"",null,"",{"$f":"IF(F33=\"DNS\",\"0\",IF(F33=\"DQ\",\"0\",IF(F33=\"\",\"\",IF(F33=\"DNF\",\"0\",LOOKUP(H33,Valeurs!$A$4:'Valeurs'!$A$46,Valeurs!$B$4:'Valeurs'!$B$46)))))","v":""}]
[{"$f":"Inscription!A31","v":0},{"$f":"Inscription!B31","v":0},null,null,null,{"$f":"IF(D34=\"\",\"\",IF(D34=\"DQ\",\"DQ\",IF(D34=\"DNF\",\"DNF\",IF(D34=\"DNS\",\"DNS\",AVERAGE(D34,E34)))))","v":""},null,"",{"$f":"IF(F34=\"DNS\",\"0\",IF(F34=\"DQ\",\"0\",IF(F34=\"\",\"\",IF(F34=\"DNF\",\"0\",LOOKUP(H34,Valeurs!$A$4:'Valeurs'!$A$46,Valeurs!$B$4:'Valeurs'!$B$46)))))","v":""}]
[]
["Remorquage mannequin 1/2 plein avec palmes - 11 ans et moins\nÉPREUVE REMORQUAGE MANNEQUIN + PALMES"]
[]
["Club","Nom",null,"Chrono 1","Chrono 2","Temps final",null,"R","Points"]
[{"$f":"Inscription!A2","v":"SSSL"},{"$f":"Inscription!B2","v":"Missy Roy"},null,"00:00:52.280","00:00:52.870",{"$f":"IF(D39=\"\",\"\",IF(D39=\"DQ\",\"DQ\",IF(D39=\"DNF\",\"DNF\",IF(D39=\"DNS\",\"DNS\",AVERAGE(D39,E39)))))","v":"00:00:52.575"},null,{"$f":"IF(F39=\"DNS\",\"DNS\",IF(F39=\"DQ\",\"DQ\",IF(F39=\"\",\"\",IF(F39=\"DNF\",\"DNF\",RANK(F39,$F$39:$F$68,1)))))","v":9},{"$f":"IF(F39=\"DNS\",\"0\",IF(F39=\"DQ\",\"0\",IF(F39=\"\",\"\",IF(F39=\"DNF\",\"0\",LOOKUP(H39,Valeurs!$A$4:'Valeurs'!$A$46,Valeurs!$B$4:'Valeurs'!$B$46)))))","v":8}]
[{"$f":"Inscription!A3","v":"CASO"},{"$f":"Inscription!B3","v":"Étienne Roy"},null,"00:00:48.060","00:00:48.190","00:00:48.125",null,{"$f":"IF(F40=\"DNS\",\"DNS\",IF(F40=\"DQ\",\"DQ\",IF(F40=\"\",\"\",IF(F40=\"DNF\",\"DNF\",RANK(F40,$F$39:$F$68,1)))))","v":6},{"$f":"IF(F40=\"DNS\",\"0\",IF(F40=\"DQ\",\"0\",IF(F40=\"\",\"\",IF(F40=\"DNF\",\"0\",LOOKUP(H40,Valeurs!$A$4:'Valeurs'!$A$46,Valeurs!$B$4:'Valeurs'!$B$46)))))","v":12}]
[{"$f":"Inscription!A4","v":"CAEM"},{"$f":"Inscription!B4","v":"Emmy Mastrovito"},null,"00:00:43.560","00:00:43.460","00:00:43.510",null,{"$f":"IF(F41=\"DNS\",\"DNS\",IF(F41=\"DQ\",\"DQ\",IF(F41=\"\",\"\",IF(F41=\"DNF\",\"DNF\",RANK(F41,$F$39:$F$68,1)))))","v":3},{"$f":"IF(F41=\"DNS\",\"0\",IF(F41=\"DQ\",\"0\",IF(F41=\"\",\"\",IF(F41=\"DNF\",\"0\",LOOKUP(H41,Valeurs!$A$4:'Valeurs'!$A$46,Valeurs!$B$4:'Valeurs'!$B$46)))))","v":16}]
[{"$f":"Inscription!A5","v":"Dam'eauclès"},{"$f":"Inscription!B5","v":"Katherine Gaulin"},null,"00:00:49.120","00:00:49.250","00:00:49.185",null,7,{"$f":"IF(F42=\"DNS\",\"0\",IF(F42=\"DQ\",\"0\",IF(F42=\"\",\"\",IF(F42=\"DNF\",\"0\",LOOKUP(H42,Valeurs!$A$4:'Valeurs'!$A$46,Valeurs!$B$4:'Valeurs'!$B$46)))))","v":11}]
[{"$f":"Inscription!A6","v":"Dam'eauclès"},{"$f":"Inscription!B6","v":"Théodore Turgeon"},null,"00:01:02.130","00:01:02.030","00:01:02.080",null,13,{"$f":"IF(F43=\"DNS\",\"0\",IF(F43=\"DQ\",\"0\",IF(F43=\"\",\"\",IF(F43=\"DNF\",\"0\",LOOKUP(H43,Valeurs!$A$4:'Valeurs'!$A$46,Valeurs!$B$4:'Valeurs'!$B$46)))))","v":4}]
[{"$f":"Inscription!A7","v":"30deux"},{"$f":"Inscription!B7","v":"Émilie Tessier"},null,"00:00:45.280","00:00:45.220","00:00:45.250",null,4,{"$f":"IF(F44=\"DNS\",\"0\",IF(F44=\"DQ\",\"0\",IF(F44=\"\",\"\",IF(F44=\"DNF\",\"0\",LOOKUP(H44,Valeurs!$A$4:'Valeurs'!$A$46,Valeurs!$B$4:'Valeurs'!$B$46)))))","v":14}]
[{"$f":"Inscription!A8","v":"30deux"},{"$f":"Inscription!B8","v":"Ève-Marie Bell"},null,"00:00:53.690","00:00:53.910","00:00:53.800",null,10,{"$f":"IF(F45=\"DNS\",\"0\",IF(F45=\"DQ\",\"0\",IF(F45=\"\",\"\",IF(F45=\"DNF\",\"0\",LOOKUP(H45,Valeurs!$A$4:'Valeurs'!$A$46,Valeurs!$B$4:'Valeurs'!$B$46)))))","v":7}]
[{"$f":"Inscription!A9","v":"CSRN"},{"$f":"Inscription!B9","v":"Samya Chakir"},null,"00:00:51.080","00:00:51.030","00:00:51.055",null,8,{"$f":"IF(F46=\"DNS\",\"0\",IF(F46=\"DQ\",\"0\",IF(F46=\"\",\"\",IF(F46=\"DNF\",\"0\",LOOKUP(H46,Valeurs!$A$4:'Valeurs'!$A$46,Valeurs!$B$4:'Valeurs'!$B$46)))))","v":10}]
[{"$f":"Inscription!A10","v":"CSRN"},{"$f":"Inscription!B10","v":"Zoé Martin"},null,"00:00:55.310","00:00:55.190","00:00:55.250",null,12,{"$f":"IF(F47=\"DNS\",\"0\",IF(F47=\"DQ\",\"0\",IF(F47=\"\",\"\",IF(F47=\"DNF\",\"0\",LOOKUP(H47,Valeurs!$A$4:'Valeurs'!$A$46,Valeurs!$B$4:'Valeurs'!$B$46)))))","v":5}]
[{"$f":"Inscription!A11","v":"CSRN"},{"$f":"Inscription!B11","v":"Gabriel Martin"},null,"DQ","DQ","DQ",null,"DQ",{"$f":"IF(F48=\"DNS\",\"0\",IF(F48=\"DQ\",\"0\",IF(F48=\"\",\"\",IF(F48=\"DNF\",\"0\",LOOKUP(H48,Valeurs!$A$4:'Valeurs'!$A$46,Valeurs!$B$4:'Valeurs'!$B$46)))))","v":"0"}]
[{"$f":"Inscription!A12","v":"CSRN"},{"$f":"Inscription!B12","v":"Justin Gauthier"},null,"00:00:43","00:00:42.900","00:00:42.950",null,2,{"$f":"IF(F49=\"DNS\",\"0\",IF(F49=\"DQ\",\"0\",IF(F49=\"\",\"\",IF(F49=\"DNF\",\"0\",LOOKUP(H49,Valeurs!$A$4:'Valeurs'!$A$46,Valeurs!$B$4:'Valeurs'!$B$46)))))","v":18}]
[{"$f":"Inscription!A13","v":"CSRN"},{"$f":"Inscription!B13","v":"Annabelle Rhéaume"},null,"00:00:54.320","00:00:54.690","00:00:54.505",null,11,{"$f":"IF(F50=\"DNS\",\"0\",IF(F50=\"DQ\",\"0\",IF(F50=\"\",\"\",IF(F50=\"DNF\",\"0\",LOOKUP(H50,Valeurs!$A$4:'Valeurs'!$A$46,Valeurs!$B$4:'Valeurs'!$B$46)))))","v":6}]
[{"$f":"Inscription!A14","v":"Gatineau"},{"$f":"Inscription!B14","v":"Andréanne Pichette"},null,"00:01:02.530","00:01:02.250","00:01:02.390",null,14,{"$f":"IF(F51=\"DNS\",\"0\",IF(F51=\"DQ\",\"0\",IF(F51=\"\",\"\",IF(F51=\"DNF\",\"0\",LOOKUP(H51,Valeurs!$A$4:'Valeurs'!$A$46,Valeurs!$B$4:'Valeurs'!$B$46)))))","v":3}]
[{"$f":"Inscription!A15","v":"Narval"},{"$f":"Inscription!B15","v":"GabriellePotvin"},null,"00:00:45.880","00:00:45.850","00:00:45.865",null,5,{"$f":"IF(F52=\"DNS\",\"0\",IF(F52=\"DQ\",\"0\",IF(F52=\"\",\"\",IF(F52=\"DNF\",\"0\",LOOKUP(H52,Valeurs!$A$4:'Valeurs'!$A$46,Valeurs!$B$4:'Valeurs'!$B$46)))))","v":13}]
[{"$f":"Inscription!A16","v":"CASO"},{"$f":"Inscription!B16","v":"Zacharie Taillefer"},null,"00:00:41.970","00:00:41.970","00:00:41.970",null,1,{"$f":"IF(F53=\"DNS\",\"0\",IF(F53=\"DQ\",\"0\",IF(F53=\"\",\"\",IF(F53=\"DNF\",\"0\",LOOKUP(H53,Valeurs!$A$4:'Valeurs'!$A$46,Valeurs!$B$4:'Valeurs'!$B$46)))))","v":20}]
[{"$f":"Inscription!A17","v":0},{"$f":"Inscription!B17","v":0},null,null,null,{"$f":"IF(D54=\"\",\"\",IF(D54=\"DQ\",\"DQ\",IF(D54=\"DNF\",\"DNF\",IF(D54=\"DNS\",\"DNS\",AVERAGE(D54,E54)))))","v":""},null,"",{"$f":"IF(F54=\"DNS\",\"0\",IF(F54=\"DQ\",\"0\",IF(F54=\"\",\"\",IF(F54=\"DNF\",\"0\",LOOKUP(H54,Valeurs!$A$4:'Valeurs'!$A$46,Valeurs!$B$4:'Valeurs'!$B$46)))))","v":""}]
[{"$f":"Inscription!A18","v":0},{"$f":"Inscription!B18","v":0},null,null,null,"",null,"",{"$f":"IF(F55=\"DNS\",\"0\",IF(F55=\"DQ\",\"0\",IF(F55=\"\",\"\",IF(F55=\"DNF\",\"0\",LOOKUP(H55,Valeurs!$A$4:'Valeurs'!$A$46,Valeurs!$B$4:'Valeurs'!$B$46)))))","v":""}]
[{"$f":"Inscription!A19","v":0},{"$f":"Inscription!B19","v":0},null,null,null,"",null,"",{"$f":"IF(F56=\"DNS\",\"0\",IF(F56=\"DQ\",\"0\",IF(F56=\"\",\"\",IF(F56=\"DNF\",\"0\",LOOKUP(H56,Valeurs!$A$4:'Valeurs'!$A$46,Valeurs!$B$4:'Valeurs'!$B$46)))))","v":""}]
[{"$f":"Inscription!A20","v":0},{"$f":"Inscription!B20","v":0},null,null,null,"",null,"",{"$f":"IF(F57=\"DNS\",\"0\",IF(F57=\"DQ\",\"0\",IF(F57=\"\",\"\",IF(F57=\"DNF\",\"0\",LOOKUP(H57,Valeurs!$A$4:'Valeurs'!$A$46,Valeurs!$B$4:'Valeurs'!$B$46)))))","v":""}]
[{"$f":"Inscription!A21","v":0},{"$f":"Inscription!B21","v":0},null,null,null,"",null,"",{"$f":"IF(F58=\"DNS\",\"0\",IF(F58=\"DQ\",\"0\",IF(F58=\"\",\"\",IF(F58=\"DNF\",\"0\",LOOKUP(H58,Valeurs!$A$4:'Valeurs'!$A$46,Valeurs!$B$4:'Valeurs'!$B$46)))))","v":""}]
[{"$f":"Inscription!A22","v":0},{"$f":"Inscription!B22","v":0},null,null,null,"",null,"",{"$f":"IF(F59=\"DNS\",\"0\",IF(F59=\"DQ\",\"0\",IF(F59=\"\",\"\",IF(F59=\"DNF\",\"0\",LOOKUP(H59,Valeurs!$A$4:'Valeurs'!$A$46,Valeurs!$B$4:'Valeurs'!$B$46)))))","v":""}]
[{"$f":"Inscription!A23","v":0},{"$f":"Inscription!B23","v":0},null,null,null,"",null,"",{"$f":"IF(F60=\"DNS\",\"0\",IF(F60=\"DQ\",\"0\",IF(F60=\"\",\"\",IF(F60=\"DNF\",\"0\",LOOKUP(H60,Valeurs!$A$4:'Valeurs'!$A$46,Valeurs!$B$4:'Valeurs'!$B$46)))))","v":""}]
[{"$f":"Inscription!A24","v":0},{"$f":"Inscription!B24","v":0},null,null,null,"",null,"",{"$f":"IF(F61=\"DNS\",\"0\",IF(F61=\"DQ\",\"0\",IF(F61=\"\",\"\",IF(F61=\"DNF\",\"0\",LOOKUP(H61,Valeurs!$A$4:'Valeurs'!$A$46,Valeurs!$B$4:'Valeurs'!$B$46)))))","v":""}]
[{"$f":"Inscription!A25","v":0},{"$f":"Inscription!B25","v":0},null,null,null,"",null,"",{"$f":"IF(F62=\"DNS\",\"0\",IF(F62=\"DQ\",\"0\",IF(F62=\"\",\"\",IF(F62=\"DNF\",\"0\",LOOKUP(H62,Valeurs!$A$4:'Valeurs'!$A$46,Valeurs!$B$4:'Valeurs'!$B$46)))))","v":""}]
[{"$f":"Inscription!A26","v":0},{"$f":"Inscription!B26","v":0},null,null,null,"",null,"",{"$f":"IF(F63=\"DNS\",\"0\",IF(F63=\"DQ\",\"0\",IF(F63=\"\",\"\",IF(F63=\"DNF\",\"0\",LOOKUP(H63,Valeurs!$A$4:'Valeurs'!$A$46,Valeurs!$B$4:'Valeurs'!$B$46)))))","v":""}]
[{"$f":"Inscription!A27","v":0},{"$f":"Inscription!B27","v":0},null,null,null,"",null,"",{"$f":"IF(F64=\"DNS\",\"0\",IF(F64=\"DQ\",\"0\",IF(F64=\"\",\"\",IF(F64=\"DNF\",\"0\",LOOKUP(H64,Valeurs!$A$4:'Valeurs'!$A$46,Valeurs!$B$4:'Valeurs'!$B$46)))))","v":""}]
[{"$f":"Inscription!A28","v":0},{"$f":"Inscription!B28","v":0},null,null,null,"",null,"",{"$f":"IF(F65=\"DNS\",\"0\",IF(F65=\"DQ\",\"0\",IF(F65=\"\",\"\",IF(F65=\"DNF\",\"0\",LOOKUP(H65,Valeurs!$A$4:'Valeurs'!$A$46,Valeurs!$B$4:'Valeurs'!$B$46)))))","v":""}]
[{"$f":"Inscription!A29","v":0},{"$f":"Inscription!B29","v":0},null,null,null,"",null,"",{"$f":"IF(F66=\"DNS\",\"0\",IF(F66=\"DQ\",\"0\",IF(F66=\"\",\"\",IF(F66=\"DNF\",\"0\",LOOKUP(H66,Valeurs!$A$4:'Valeurs'!$A$46,Valeurs!$B$4:'Valeurs'!$B$46)))))","v":""}]
[{"$f":"Inscription!A30","v":0},{"$f":"Inscription!B30","v":0},null,null,null,"",null,"",{"$f":"IF(F67=\"DNS\",\"0\",IF(F67=\"DQ\",\"0\",IF(F67=\"\",\"\",IF(F67=\"DNF\",\"0\",LOOKUP(H67,Valeurs!$A$4:'Valeurs'!$A$46,Valeurs!$B$4:'Valeurs'!$B$46)))))","v":""}]
[{"$f":"Inscription!A31","v":0},{"$f":"Inscription!B31","v":0},null,null,null,{"$f":"IF(D68=\"\",\"\",IF(D68=\"DQ\",\"DQ\",IF(D68=\"DNF\",\"DNF\",IF(D68=\"DNS\",\"DNS\",AVERAGE(D68,E68)))))","v":""},null,"",{"$f":"IF(F68=\"DNS\",\"0\",IF(F68=\"DQ\",\"0\",IF(F68=\"\",\"\",IF(F68=\"DNF\",\"0\",LOOKUP(H68,Valeurs!$A$4:'Valeurs'!$A$46,Valeurs!$B$4:'Valeurs'!$B$46)))))","v":""}]
[]
["Obstacle - 11 ans et moins\nÉPREUVE OBSTACLES"]
[]
["Club","Nom",null,"Chrono 1","Chrono 2","Temps final",null,"R","Points"]
[{"$f":"Inscription!A2","v":"SSSL"},{"$f":"Inscription!B2","v":"Missy Roy"},null,"00:00:53.500","00:00:53.500",{"$f":"IF(D73=\"\",\"\",IF(D73=\"DQ\",\"DQ\",IF(D73=\"DNF\",\"DNF\",IF(D73=\"DNS\",\"DNS\",AVERAGE(D73,E73)))))","v":"00:00:53.500"},null,{"$f":"IF(F73=\"DNS\",\"DNS\",IF(F73=\"DQ\",\"DQ\",IF(F73=\"\",\"\",IF(F73=\"DNF\",\"DNF\",RANK(F73,$F$73:$F$102,1)))))","v":8},{"$f":"IF(F73=\"DNS\",\"0\",IF(F73=\"DQ\",\"0\",IF(F73=\"\",\"\",IF(F73=\"DNF\",\"0\",LOOKUP(H73,Valeurs!$A$4:'Valeurs'!$A$46,Valeurs!$B$4:'Valeurs'!$B$46)))))","v":10}]
[{"$f":"Inscription!A3","v":"CASO"},{"$f":"Inscription!B3","v":"Étienne Roy"},null,"00:00:45.250","00:00:44.990",{"$f":"IF(D74=\"\",\"\",IF(D74=\"DQ\",\"DQ\",IF(D74=\"DNF\",\"DNF\",IF(D74=\"DNS\",\"DNS\",AVERAGE(D74,E74)))))","v":"00:00:45.120"},null,{"$f":"IF(F74=\"DNS\",\"DNS\",IF(F74=\"DQ\",\"DQ\",IF(F74=\"\",\"\",IF(F74=\"DNF\",\"DNF\",RANK(F74,$F$73:$F$102,1)))))","v":4},{"$f":"IF(F74=\"DNS\",\"0\",IF(F74=\"DQ\",\"0\",IF(F74=\"\",\"\",IF(F74=\"DNF\",\"0\",LOOKUP(H74,Valeurs!$A$4:'Valeurs'!$A$46,Valeurs!$B$4:'Valeurs'!$B$46)))))","v":14}]
[{"$f":"Inscription!A4","v":"CAEM"},{"$f":"Inscription!B4","v":"Emmy Mastrovito"},null,"00:00:45.190","00:00:45.470","00:00:45.330",null,{"$f":"IF(F75=\"DNS\",\"DNS\",IF(F75=\"DQ\",\"DQ\",IF(F75=\"\",\"\",IF(F75=\"DNF\",\"DNF\",RANK(F75,$F$73:$F$102,1)))))","v":5},{"$f":"IF(F75=\"DNS\",\"0\",IF(F75=\"DQ\",\"0\",IF(F75=\"\",\"\",IF(F75=\"DNF\",\"0\",LOOKUP(H75,Valeurs!$A$4:'Valeurs'!$A$46,Valeurs!$B$4:'Valeurs'!$B$46)))))","v":13}]
[{"$f":"Inscription!A5","v":"Dam'eauclès"},{"$f":"Inscription!B5","v":"Katherine Gaulin"},null,"00:00:58.280","00:00:58.500","00:00:58.390",null,11,{"$f":"IF(F76=\"DNS\",\"0\",IF(F76=\"DQ\",\"0\",IF(F76=\"\",\"\",IF(F76=\"DNF\",\"0\",LOOKUP(H76,Valeurs!$A$4:'Valeurs'!$A$46,Valeurs!$B$4:'Valeurs'!$B$46)))))","v":6}]
[{"$f":"Inscription!A6","v":"Dam'eauclès"},{"$f":"Inscription!B6","v":"Théodore Turgeon"},null,"00:00:57.750","00:00:57.800","00:00:57.775",null,10,{"$f":"IF(F77=\"DNS\",\"0\",IF(F77=\"DQ\",\"0\",IF(F77=\"\",\"\",IF(F77=\"DNF\",\"0\",LOOKUP(H77,Valeurs!$A$4:'Valeurs'!$A$46,Valeurs!$B$4:'Valeurs'!$B$46)))))","v":7}]
[{"$f":"Inscription!A7","v":"30deux"},{"$f":"Inscription!B7","v":"Émilie Tessier"},null,"00:00:43.030","00:00:43.180","00:00:43.105",null,2,{"$f":"IF(F78=\"DNS\",\"0\",IF(F78=\"DQ\",\"0\",IF(F78=\"\",\"\",IF(F78=\"DNF\",\"0\",LOOKUP(H78,Valeurs!$A$4:'Valeurs'!$A$46,Valeurs!$B$4:'Valeurs'!$B$46)))))","v":18}]
[{"$f":"Inscription!A8","v":"30deux"},{"$f":"Inscription!B8","v":"Ève-Marie Bell"},null,"00:00:54.750","00:00:54.470","00:00:54.610",null,9,{"$f":"IF(F79=\"DNS\",\"0\",IF(F79=\"DQ\",\"0\",IF(F79=\"\",\"\",IF(F79=\"DNF\",\"0\",LOOKUP(H79,Valeurs!$A$4:'Valeurs'!$A$46,Valeurs!$B$4:'Valeurs'!$B$46)))))","v":8}]
[{"$f":"Inscription!A9","v":"CSRN"},{"$f":"Inscription!B9","v":"Samya Chakir"},null,"00:00:52.120","00:00:51.910","00:00:52.015",null,7,{"$f":"IF(F80=\"DNS\",\"0\",IF(F80=\"DQ\",\"0\",IF(F80=\"\",\"\",IF(F80=\"DNF\",\"0\",LOOKUP(H80,Valeurs!$A$4:'Valeurs'!$A$46,Valeurs!$B$4:'Valeurs'!$B$46)))))","v":11}]
[{"$f":"Inscription!A10","v":"CSRN"},{"$f":"Inscription!B10","v":"Zoé Martin"},null,"00:01:02.030","00:01:02.130","00:01:02.080",null,13,{"$f":"IF(F81=\"DNS\",\"0\",IF(F81=\"DQ\",\"0\",IF(F81=\"\",\"\",IF(F81=\"DNF\",\"0\",LOOKUP(H81,Valeurs!$A$4:'Valeurs'!$A$46,Valeurs!$B$4:'Valeurs'!$B$46)))))","v":4}]
[{"$f":"Inscription!A11","v":"CSRN"},{"$f":"Inscription!B11","v":"Gabriel Martin"},null,"00:01:04.410","00:01:04.250","00:01:04.330",null,14,{"$f":"IF(F82=\"DNS\",\"0\",IF(F82=\"DQ\",\"0\",IF(F82=\"\",\"\",IF(F82=\"DNF\",\"0\",LOOKUP(H82,Valeurs!$A$4:'Valeurs'!$A$46,Valeurs!$B$4:'Valeurs'!$B$46)))))","v":3}]
[{"$f":"Inscription!A12","v":"CSRN"},{"$f":"Inscription!B12","v":"Justin Gauthier"},null,"DQ","DQ","DQ",null,"DQ",{"$f":"IF(F83=\"DNS\",\"0\",IF(F83=\"DQ\",\"0\",IF(F83=\"\",\"\",IF(F83=\"DNF\",\"0\",LOOKUP(H83,Valeurs!$A$4:'Valeurs'!$A$46,Valeurs!$B$4:'Valeurs'!$B$46)))))","v":"0"}]
[{"$f":"Inscription!A13","v":"CSRN"},{"$f":"Inscription!B13","v":"Annabelle Rhéaume"},null,"00:00:59.220","00:00:58.870","00:00:59.045",null,12,{"$f":"IF(F84=\"DNS\",\"0\",IF(F84=\"DQ\",\"0\",IF(F84=\"\",\"\",IF(F84=\"DNF\",\"0\",LOOKUP(H84,Valeurs!$A$4:'Valeurs'!$A$46,Valeurs!$B$4:'Valeurs'!$B$46)))))","v":5}]
[{"$f":"Inscription!A14","v":"Gatineau"},{"$f":"Inscription!B14","v":"Andréanne Pichette"},null,"00:00:50.090","00:00:50.280","00:00:50.185",null,6,{"$f":"IF(F85=\"DNS\",\"0\",IF(F85=\"DQ\",\"0\",IF(F85=\"\",\"\",IF(F85=\"DNF\",\"0\",LOOKUP(H85,Valeurs!$A$4:'Valeurs'!$A$46,Valeurs!$B$4:'Valeurs'!$B$46)))))","v":12}]
[{"$f":"Inscription!A15","v":"Narval"},{"$f":"Inscription!B15","v":"GabriellePotvin"},null,"00:00:44.970","00:00:45.100","00:00:45.035",null,3,{"$f":"IF(F86=\"DNS\",\"0\",IF(F86=\"DQ\",\"0\",IF(F86=\"\",\"\",IF(F86=\"DNF\",\"0\",LOOKUP(H86,Valeurs!$A$4:'Valeurs'!$A$46,Valeurs!$B$4:'Valeurs'!$B$46)))))","v":16}]
[{"$f":"Inscription!A16","v":"CASO"},{"$f":"Inscription!B16","v":"Zacharie Taillefer"},null,"00:00:42.720","00:00:42.500","00:00:42.610",null,1,{"$f":"IF(F87=\"DNS\",\"0\",IF(F87=\"DQ\",\"0\",IF(F87=\"\",\"\",IF(F87=\"DNF\",\"0\",LOOKUP(H87,Valeurs!$A$4:'Valeurs'!$A$46,Valeurs!$B$4:'Valeurs'!$B$46)))))","v":20}]
[{"$f":"Inscription!A17","v":0},{"$f":"Inscription!B17","v":0},null,null,null,"",null,"",{"$f":"IF(F88=\"DNS\",\"0\",IF(F88=\"DQ\",\"0\",IF(F88=\"\",\"\",IF(F88=\"DNF\",\"0\",LOOKUP(H88,Valeurs!$A$4:'Valeurs'!$A$46,Valeurs!$B$4:'Valeurs'!$B$46)))))","v":""}]
[{"$f":"Inscription!A18","v":0},{"$f":"Inscription!B18","v":0},null,null,null,"",null,"",{"$f":"IF(F89=\"DNS\",\"0\",IF(F89=\"DQ\",\"0\",IF(F89=\"\",\"\",IF(F89=\"DNF\",\"0\",LOOKUP(H89,Valeurs!$A$4:'Valeurs'!$A$46,Valeurs!$B$4:'Valeurs'!$B$46)))))","v":""}]
[{"$f":"Inscription!A19","v":0},{"$f":"Inscription!B19","v":0},null,null,null,"",null,"",{"$f":"IF(F90=\"DNS\",\"0\",IF(F90=\"DQ\",\"0\",IF(F90=\"\",\"\",IF(F90=\"DNF\",\"0\",LOOKUP(H90,Valeurs!$A$4:'Valeurs'!$A$46,Valeurs!$B$4:'Valeurs'!$B$46)))))","v":""}]
[{"$f":"Inscription!A20","v":0},{"$f":"Inscription!B20","v":0},null,null,null,"",null,"",{"$f":"IF(F91=\"DNS\",\"0\",IF(F91=\"DQ\",\"0\",IF(F91=\"\",\"\",IF(F91=\"DNF\",\"0\",LOOKUP(H91,Valeurs!$A$4:'Valeurs'!$A$46,Valeurs!$B$4:'Valeurs'!$B$46)))))","v":""}]
[{"$f":"Inscription!A21","v":0},{"$f":"Inscription!B21","v":0},null,null,null,"",null,"",{"$f":"IF(F92=\"DNS\",\"0\",IF(F92=\"DQ\",\"0\",IF(F92=\"\",\"\",IF(F92=\"DNF\",\"0\",LOOKUP(H92,Valeurs!$A$4:'Valeurs'!$A$46,Valeurs!$B$4:'Valeurs'!$B$46)))))","v":""}]
[{"$f":"Inscription!A22","v":0},{"$f":"Inscription!B22","v":0},null,null,null,"",null,"",{"$f":"IF(F93=\"DNS\",\"0\",IF(F93=\"DQ\",\"0\",IF(F93=\"\",\"\",IF(F93=\"DNF\",\"0\",LOOKUP(H93,Valeurs!$A$4:'Valeurs'!$A$46,Valeurs!$B$4:'Valeurs'!$B$46)))))","v":""}]
[{"$f":"Inscription!A23","v":0},{"$f":"Inscription!B23","v":0},null,null,null,"",null,"",{"$f":"IF(F94=\"DNS\",\"0\",IF(F94=\"DQ\",\"0\",IF(F94=\"\",\"\",IF(F94=\"DNF\",\"0\",LOOKUP(H94,Valeurs!$A$4:'Valeurs'!$A$46,Valeurs!$B$4:'Valeurs'!$B$46)))))","v":""}]
[{"$f":"Inscription!A24","v":0},{"$f":"Inscription!B24","v":0},null,null,null,"",null,"",{"$f":"IF(F95=\"DNS\",\"0\",IF(F95=\"DQ\",\"0\",IF(F95=\"\",\"\",IF(F95=\"DNF\",\"0\",LOOKUP(H95,Valeurs!$A$4:'Valeurs'!$A$46,Valeurs!$B$4:'Valeurs'!$B$46)))))","v":""}]
[{"$f":"Inscription!A25","v":0},{"$f":"Inscription!B25","v":0},null,null,null,"",null,"",{"$f":"IF(F96=\"DNS\",\"0\",IF(F96=\"DQ\",\"0\",IF(F96=\"\",\"\",IF(F96=\"DNF\",\"0\",LOOKUP(H96,Valeurs!$A$4:'Valeurs'!$A$46,Valeurs!$B$4:'Valeurs'!$B$46)))))","v":""}]
[{"$f":"Inscription!A26","v":0},{"$f":"Inscription!B26","v":0},null,null,null,"",null,"",{"$f":"IF(F97=\"DNS\",\"0\",IF(F97=\"DQ\",\"0\",IF(F97=\"\",\"\",IF(F97=\"DNF\",\"0\",LOOKUP(H97,Valeurs!$A$4:'Valeurs'!$A$46,Valeurs!$B$4:'Valeurs'!$B$46)))))","v":""}]
[{"$f":"Inscription!A27","v":0},{"$f":"Inscription!B27","v":0},null,null,null,"",null,"",{"$f":"IF(F98=\"DNS\",\"0\",IF(F98=\"DQ\",\"0\",IF(F98=\"\",\"\",IF(F98=\"DNF\",\"0\",LOOKUP(H98,Valeurs!$A$4:'Valeurs'!$A$46,Valeurs!$B$4:'Valeurs'!$B$46)))))","v":""}]
[{"$f":"Inscription!A28","v":0},{"$f":"Inscription!B28","v":0},null,null,null,"",null,"",{"$f":"IF(F99=\"DNS\",\"0\",IF(F99=\"DQ\",\"0\",IF(F99=\"\",\"\",IF(F99=\"DNF\",\"0\",LOOKUP(H99,Valeurs!$A$4:'Valeurs'!$A$46,Valeurs!$B$4:'Valeurs'!$B$46)))))","v":""}]
[{"$f":"Inscription!A29","v":0},{"$f":"Inscription!B29","v":0},null,null,null,"",null,"",{"$f":"IF(F100=\"DNS\",\"0\",IF(F100=\"DQ\",\"0\",IF(F100=\"\",\"\",IF(F100=\"DNF\",\"0\",LOOKUP(H100,Valeurs!$A$4:'Valeurs'!$A$46,Valeurs!$B$4:'Valeurs'!$B$46)))))","v":""}]
[{"$f":"Inscription!A30","v":0},{"$f":"Inscription!B30","v":0},null,null,null,"",null,"",{"$f":"IF(F101=\"DNS\",\"0\",IF(F101=\"DQ\",\"0\",IF(F101=\"\",\"\",IF(F101=\"DNF\",\"0\",LOOKUP(H101,Valeurs!$A$4:'Valeurs'!$A$46,Valeurs!$B$4:'Valeurs'!$B$46)))))","v":""}]
[{"$f":"Inscription!A31","v":0},{"$f":"Inscription!B31","v":0},null,null,null,{"$f":"IF(D102=\"\",\"\",IF(D102=\"DQ\",\"DQ\",IF(D102=\"DNF\",\"DNF\",IF(D102=\"DNS\",\"DNS\",AVERAGE(D102,E102)))))","v":""},null,"",{"$f":"IF(F102=\"DNS\",\"0\",IF(F102=\"DQ\",\"0\",IF(F102=\"\",\"\",IF(F102=\"DNF\",\"0\",LOOKUP(H102,Valeurs!$A$4:'Valeurs'!$A$46,Valeurs!$B$4:'Valeurs'!$B$46)))))","v":""}]
[]
["Portage mannequin 1/2 plein avec palmes - 11 ans et moins\nÉPREUVE PORTAGE MANNEQUIN + PALMES"]
[]
["Club","Nom",null,"Chrono 1","Chrono 2","Temps final",null,"R","Points"]
[{"$f":"Inscription!A2","v":"SSSL"},{"$f":"Inscription!B2","v":"Missy Roy"},null,"00:00:45.250","00:00:45.120",{"$f":"IF(D107=\"\",\"\",IF(D107=\"DQ\",\"DQ\",IF(D107=\"DNF\",\"DNF\",IF(D107=\"DNS\",\"DNS\",AVERAGE(D107,E107)))))","v":"00:00:45.185"},null,{"$f":"IF(F107=\"DNS\",\"DNS\",IF(F107=\"DQ\",\"DQ\",IF(F107=\"\",\"\",IF(F107=\"DNF\",\"DNF\",RANK(F107,$F$107:$F$136,1)))))","v":6},{"$f":"IF(F107=\"DNS\",\"0\",IF(F107=\"DQ\",\"0\",IF(F107=\"\",\"\",IF(F107=\"DNF\",\"0\",LOOKUP(H107,Valeurs!$A$4:'Valeurs'!$A$46,Valeurs!$B$4:'Valeurs'!$B$46)))))","v":12}]
[{"$f":"Inscription!A3","v":"CASO"},{"$f":"Inscription!B3","v":"Étienne Roy"},null,"00:00:41.440","00:00:42.130",{"$f":"IF(D108=\"\",\"\",IF(D108=\"DQ\",\"DQ\",IF(D108=\"DNF\",\"DNF\",IF(D108=\"DNS\",\"DNS\",AVERAGE(D108,E108)))))","v":"00:00:41.785"},null,{"$f":"IF(F108=\"DNS\",\"DNS\",IF(F108=\"DQ\",\"DQ\",IF(F108=\"\",\"\",IF(F108=\"DNF\",\"DNF\",RANK(F108,$F$107:$F$136,1)))))","v":3},{"$f":"IF(F108=\"DNS\",\"0\",IF(F108=\"DQ\",\"0\",IF(F108=\"\",\"\",IF(F108=\"DNF\",\"0\",LOOKUP(H108,Valeurs!$A$4:'Valeurs'!$A$46,Valeurs!$B$4:'Valeurs'!$B$46)))))","v":16}]
[{"$f":"Inscription!A4","v":"CAEM"},{"$f":"Inscription!B4","v":"Emmy Mastrovito"},null,"00:00:38.750","00:00:38.630","00:00:38.690",null,{"$f":"IF(F109=\"DNS\",\"DNS\",IF(F109=\"DQ\",\"DQ\",IF(F109=\"\",\"\",IF(F109=\"DNF\",\"DNF\",RANK(F109,$F$107:$F$136,1)))))","v":2},{"$f":"IF(F109=\"DNS\",\"0\",IF(F109=\"DQ\",\"0\",IF(F109=\"\",\"\",IF(F109=\"DNF\",\"0\",LOOKUP(H109,Valeurs!$A$4:'Valeurs'!$A$46,Valeurs!$B$4:'Valeurs'!$B$46)))))","v":18}]
[{"$f":"Inscription!A5","v":"Dam'eauclès"},{"$f":"Inscription!B5","v":"Katherine Gaulin"},null,"00:00:47.590","00:00:47.660","00:00:47.625",null,10,{"$f":"IF(F110=\"DNS\",\"0\",IF(F110=\"DQ\",\"0\",IF(F110=\"\",\"\",IF(F110=\"DNF\",\"0\",LOOKUP(H110,Valeurs!$A$4:'Valeurs'!$A$46,Valeurs!$B$4:'Valeurs'!$B$46)))))","v":7}]
[{"$f":"Inscription!A6","v":"Dam'eauclès"},{"$f":"Inscription!B6","v":"Théodore Turgeon"},null,"00:00:55.280","00:00:55.310","00:00:55.295",null,15,{"$f":"IF(F111=\"DNS\",\"0\",IF(F111=\"DQ\",\"0\",IF(F111=\"\",\"\",IF(F111=\"DNF\",\"0\",LOOKUP(H111,Valeurs!$A$4:'Valeurs'!$A$46,Valeurs!$B$4:'Valeurs'!$B$46)))))","v":2}]
[{"$f":"Inscription!A7","v":"30deux"},{"$f":"Inscription!B7","v":"Émilie Tessier"},null,"00:00:45.280","00:00:45.250","00:00:45.265",null,7,{"$f":"IF(F112=\"DNS\",\"0\",IF(F112=\"DQ\",\"0\",IF(F112=\"\",\"\",IF(F112=\"DNF\",\"0\",LOOKUP(H112,Valeurs!$A$4:'Valeurs'!$A$46,Valeurs!$B$4:'Valeurs'!$B$46)))))","v":11}]
[{"$f":"Inscription!A8","v":"30deux"},{"$f":"Inscription!B8","v":"Ève-Marie Bell"},null,"00:00:48.690","00:00:48.720","00:00:48.705",null,11,{"$f":"IF(F113=\"DNS\",\"0\",IF(F113=\"DQ\",\"0\",IF(F113=\"\",\"\",IF(F113=\"DNF\",\"0\",LOOKUP(H113,Valeurs!$A$4:'Valeurs'!$A$46,Valeurs!$B$4:'Valeurs'!$B$46)))))","v":6}]
[{"$f":"Inscription!A9","v":"CSRN"},{"$f":"Inscription!B9","v":"Samya Chakir"},null,"00:00:46.410","00:00:46.590","00:00:46.500",null,8,{"$f":"IF(F114=\"DNS\",\"0\",IF(F114=\"DQ\",\"0\",IF(F114=\"\",\"\",IF(F114=\"DNF\",\"0\",LOOKUP(H114,Valeurs!$A$4:'Valeurs'!$A$46,Valeurs!$B$4:'Valeurs'!$B$46)))))","v":10}]
[{"$f":"Inscription!A10","v":"CSRN"},{"$f":"Inscription!B10","v":"Zoé Martin"},null,"00:00:46.970","00:00:47.090","00:00:47.030",null,9,{"$f":"IF(F115=\"DNS\",\"0\",IF(F115=\"DQ\",\"0\",IF(F115=\"\",\"\",IF(F115=\"DNF\",\"0\",LOOKUP(H115,Valeurs!$A$4:'Valeurs'!$A$46,Valeurs!$B$4:'Valeurs'!$B$46)))))","v":8}]
[{"$f":"Inscription!A11","v":"CSRN"},{"$f":"Inscription!B11","v":"Gabriel Martin"},null,"00:00:53.310","00:00:52.930","00:00:53.120",null,14,{"$f":"IF(F116=\"DNS\",\"0\",IF(F116=\"DQ\",\"0\",IF(F116=\"\",\"\",IF(F116=\"DNF\",\"0\",LOOKUP(H116,Valeurs!$A$4:'Valeurs'!$A$46,Valeurs!$B$4:'Valeurs'!$B$46)))))","v":3}]
[{"$f":"Inscription!A12","v":"CSRN"},{"$f":"Inscription!B12","v":"Justin Gauthier"},null,"00:00:37.530","00:00:37.510","00:00:37.520",null,1,{"$f":"IF(F117=\"DNS\",\"0\",IF(F117=\"DQ\",\"0\",IF(F117=\"\",\"\",IF(F117=\"DNF\",\"0\",LOOKUP(H117,Valeurs!$A$4:'Valeurs'!$A$46,Valeurs!$B$4:'Valeurs'!$B$46)))))","v":20}]
[{"$f":"Inscription!A13","v":"CSRN"},{"$f":"Inscription!B13","v":"Annabelle Rhéaume"},null,"00:00:52.780","00:00:52.720","00:00:52.750",null,12,{"$f":"IF(F118=\"DNS\",\"0\",IF(F118=\"DQ\",\"0\",IF(F118=\"\",\"\",IF(F118=\"DNF\",\"0\",LOOKUP(H118,Valeurs!$A$4:'Valeurs'!$A$46,Valeurs!$B$4:'Valeurs'!$B$46)))))","v":5}]
[{"$f":"Inscription!A14","v":"Gatineau"},{"$f":"Inscription!B14","v":"Andréanne Pichette"},null,"00:00:52.660","00:00:53.530","00:00:53.095",null,13,{"$f":"IF(F119=\"DNS\",\"0\",IF(F119=\"DQ\",\"0\",IF(F119=\"\",\"\",IF(F119=\"DNF\",\"0\",LOOKUP(H119,Valeurs!$A$4:'Valeurs'!$A$46,Valeurs!$B$4:'Valeurs'!$B$46)))))","v":4}]
[{"$f":"Inscription!A15","v":"Narval"},{"$f":"Inscription!B15","v":"GabriellePotvin"},null,"00:00:43.500","001:43,53","00:00:43.500",null,5,{"$f":"IF(F120=\"DNS\",\"0\",IF(F120=\"DQ\",\"0\",IF(F120=\"\",\"\",IF(F120=\"DNF\",\"0\",LOOKUP(H120,Valeurs!$A$4:'Valeurs'!$A$46,Valeurs!$B$4:'Valeurs'!$B$46)))))","v":13}]
[{"$f":"Inscription!A16","v":"CASO"},{"$f":"Inscription!B16","v":"Zacharie Taillefer"},null,"00:00:44.560","00:00:39.970","00:00:42.265",null,4,{"$f":"IF(F121=\"DNS\",\"0\",IF(F121=\"DQ\",\"0\",IF(F121=\"\",\"\",IF(F121=\"DNF\",\"0\",LOOKUP(H121,Valeurs!$A$4:'Valeurs'!$A$46,Valeurs!$B$4:'Valeurs'!$B$46)))))","v":14}]
[{"$f":"Inscription!A17","v":0},{"$f":"Inscription!B17","v":0},null,null,null,"",null,"",{"$f":"IF(F122=\"DNS\",\"0\",IF(F122=\"DQ\",\"0\",IF(F122=\"\",\"\",IF(F122=\"DNF\",\"0\",LOOKUP(H122,Valeurs!$A$4:'Valeurs'!$A$46,Valeurs!$B$4:'Valeurs'!$B$46)))))","v":""}]
[{"$f":"Inscription!A18","v":0},{"$f":"Inscription!B18","v":0},null,null,null,"",null,"",{"$f":"IF(F123=\"DNS\",\"0\",IF(F123=\"DQ\",\"0\",IF(F123=\"\",\"\",IF(F123=\"DNF\",\"0\",LOOKUP(H123,Valeurs!$A$4:'Valeurs'!$A$46,Valeurs!$B$4:'Valeurs'!$B$46)))))","v":""}]
[{"$f":"Inscription!A19","v":0},{"$f":"Inscription!B19","v":0},null,null,null,"",null,"",{"$f":"IF(F124=\"DNS\",\"0\",IF(F124=\"DQ\",\"0\",IF(F124=\"\",\"\",IF(F124=\"DNF\",\"0\",LOOKUP(H124,Valeurs!$A$4:'Valeurs'!$A$46,Valeurs!$B$4:'Valeurs'!$B$46)))))","v":""}]
[{"$f":"Inscription!A20","v":0},{"$f":"Inscription!B20","v":0},null,null,null,"",null,"",{"$f":"IF(F125=\"DNS\",\"0\",IF(F125=\"DQ\",\"0\",IF(F125=\"\",\"\",IF(F125=\"DNF\",\"0\",LOOKUP(H125,Valeurs!$A$4:'Valeurs'!$A$46,Valeurs!$B$4:'Valeurs'!$B$46)))))","v":""}]
[{"$f":"Inscription!A21","v":0},{"$f":"Inscription!B21","v":0},null,null,null,"",null,"",{"$f":"IF(F126=\"DNS\",\"0\",IF(F126=\"DQ\",\"0\",IF(F126=\"\",\"\",IF(F126=\"DNF\",\"0\",LOOKUP(H126,Valeurs!$A$4:'Valeurs'!$A$46,Valeurs!$B$4:'Valeurs'!$B$46)))))","v":""}]
[{"$f":"Inscription!A22","v":0},{"$f":"Inscription!B22","v":0},null,null,null,"",null,"",{"$f":"IF(F127=\"DNS\",\"0\",IF(F127=\"DQ\",\"0\",IF(F127=\"\",\"\",IF(F127=\"DNF\",\"0\",LOOKUP(H127,Valeurs!$A$4:'Valeurs'!$A$46,Valeurs!$B$4:'Valeurs'!$B$46)))))","v":""}]
[{"$f":"Inscription!A23","v":0},{"$f":"Inscription!B23","v":0},null,null,null,"",null,"",{"$f":"IF(F128=\"DNS\",\"0\",IF(F128=\"DQ\",\"0\",IF(F128=\"\",\"\",IF(F128=\"DNF\",\"0\",LOOKUP(H128,Valeurs!$A$4:'Valeurs'!$A$46,Valeurs!$B$4:'Valeurs'!$B$46)))))","v":""}]
[{"$f":"Inscription!A24","v":0},{"$f":"Inscription!B24","v":0},null,null,null,"",null,"",{"$f":"IF(F129=\"DNS\",\"0\",IF(F129=\"DQ\",\"0\",IF(F129=\"\",\"\",IF(F129=\"DNF\",\"0\",LOOKUP(H129,Valeurs!$A$4:'Valeurs'!$A$46,Valeurs!$B$4:'Valeurs'!$B$46)))))","v":""}]
[{"$f":"Inscription!A25","v":0},{"$f":"Inscription!B25","v":0},null,null,null,"",null,"",{"$f":"IF(F130=\"DNS\",\"0\",IF(F130=\"DQ\",\"0\",IF(F130=\"\",\"\",IF(F130=\"DNF\",\"0\",LOOKUP(H130,Valeurs!$A$4:'Valeurs'!$A$46,Valeurs!$B$4:'Valeurs'!$B$46)))))","v":""}]
[{"$f":"Inscription!A26","v":0},{"$f":"Inscription!B26","v":0},null,null,null,"",null,"",{"$f":"IF(F131=\"DNS\",\"0\",IF(F131=\"DQ\",\"0\",IF(F131=\"\",\"\",IF(F131=\"DNF\",\"0\",LOOKUP(H131,Valeurs!$A$4:'Valeurs'!$A$46,Valeurs!$B$4:'Valeurs'!$B$46)))))","v":""}]
[{"$f":"Inscription!A27","v":0},{"$f":"Inscription!B27","v":0},null,null,null,"",null,"",{"$f":"IF(F132=\"DNS\",\"0\",IF(F132=\"DQ\",\"0\",IF(F132=\"\",\"\",IF(F132=\"DNF\",\"0\",LOOKUP(H132,Valeurs!$A$4:'Valeurs'!$A$46,Valeurs!$B$4:'Valeurs'!$B$46)))))","v":""}]
[{"$f":"Inscription!A28","v":0},{"$f":"Inscription!B28","v":0},null,null,null,"",null,"",{"$f":"IF(F133=\"DNS\",\"0\",IF(F133=\"DQ\",\"0\",IF(F133=\"\",\"\",IF(F133=\"DNF\",\"0\",LOOKUP(H133,Valeurs!$A$4:'Valeurs'!$A$46,Valeurs!$B$4:'Valeurs'!$B$46)))))","v":""}]
[{"$f":"Inscription!A29","v":0},{"$f":"Inscription!B29","v":0},null,null,null,"",null,"",{"$f":"IF(F134=\"DNS\",\"0\",IF(F134=\"DQ\",\"0\",IF(F134=\"\",\"\",IF(F134=\"DNF\",\"0\",LOOKUP(H134,Valeurs!$A$4:'Valeurs'!$A$46,Valeurs!$B$4:'Valeurs'!$B$46)))))","v":""}]
[{"$f":"Inscription!A30","v":0},{"$f":"Inscription!B30","v":0},null,null,null,"",null,"",{"$f":"IF(F135=\"DNS\",\"0\",IF(F135=\"DQ\",\"0\",IF(F135=\"\",\"\",IF(F135=\"DNF\",\"0\",LOOKUP(H135,Valeurs!$A$4:'Valeurs'!$A$46,Valeurs!$B$4:'Valeurs'!$B$46)))))","v":""}]
[{"$f":"Inscription!A31","v":0},{"$f":"Inscription!B31","v":0},null,null,null,{"$f":"IF(D136=\"\",\"\",IF(D136=\"DQ\",\"DQ\",IF(D136=\"DNF\",\"DNF\",IF(D136=\"DNS\",\"DNS\",AVERAGE(D136,E136)))))","v":""},null,"",{"$f":"IF(F136=\"DNS\",\"0\",IF(F136=\"DQ\",\"0\",IF(F136=\"\",\"\",IF(F136=\"DNF\",\"0\",LOOKUP(H136,Valeurs!$A$4:'Valeurs'!$A$46,Valeurs!$B$4:'Valeurs'!$B$46)))))","v":""}]
[]
["Portage mannequin 1/2 plein - 11 ans et moins\nÉPREUVE PORTAGE MANNEQUIN"]
[]
["Club","Nom",null,"Chrono 1","Chrono 2","Temps final",null,"R","Points"]
[{"$f":"Inscription!A2","v":"SSSL"},{"$f":"Inscription!B2","v":"Missy Roy"},null,"00:01:04.810","00:01:04.840",{"$f":"IF(D141=\"\",\"\",IF(D141=\"DQ\",\"DQ\",IF(D141=\"DNF\",\"DNF\",IF(D141=\"DNS\",\"DNS\",AVERAGE(D141,E141)))))","v":"00:01:04.825"},null,{"$f":"IF(F141=\"DNS\",\"DNS\",IF(F141=\"DQ\",\"DQ\",IF(F141=\"\",\"\",IF(F141=\"DNF\",\"DNF\",RANK(F141,$F$141:$F$170,1)))))","v":8},{"$f":"IF(F141=\"DNS\",\"0\",IF(F141=\"DQ\",\"0\",IF(F141=\"\",\"\",IF(F141=\"DNF\",\"0\",LOOKUP(H141,Valeurs!$A$4:'Valeurs'!$A$46,Valeurs!$B$4:'Valeurs'!$B$46)))))","v":10}]
[{"$f":"Inscription!A3","v":"CASO"},{"$f":"Inscription!B3","v":"Étienne Roy"},null,"00:00:54.150","00:00:54.160",{"$f":"IF(D142=\"\",\"\",IF(D142=\"DQ\",\"DQ\",IF(D142=\"DNF\",\"DNF\",IF(D142=\"DNS\",\"DNS\",AVERAGE(D142,E142)))))","v":"00:00:54.155"},null,{"$f":"IF(F142=\"DNS\",\"DNS\",IF(F142=\"DQ\",\"DQ\",IF(F142=\"\",\"\",IF(F142=\"DNF\",\"DNF\",RANK(F142,$F$141:$F$170,1)))))","v":4},{"$f":"IF(F142=\"DNS\",\"0\",IF(F142=\"DQ\",\"0\",IF(F142=\"\",\"\",IF(F142=\"DNF\",\"0\",LOOKUP(H142,Valeurs!$A$4:'Valeurs'!$A$46,Valeurs!$B$4:'Valeurs'!$B$46)))))","v":14}]
[{"$f":"Inscription!A4","v":"CAEM"},{"$f":"Inscription!B4","v":"Emmy Mastrovito"},null,"00:00:49.600","00:00:49.720","00:00:49.660",null,{"$f":"IF(F143=\"DNS\",\"DNS\",IF(F143=\"DQ\",\"DQ\",IF(F143=\"\",\"\",IF(F143=\"DNF\",\"DNF\",RANK(F143,$F$141:$F$170,1)))))","v":2},{"$f":"IF(F143=\"DNS\",\"0\",IF(F143=\"DQ\",\"0\",IF(F143=\"\",\"\",IF(F143=\"DNF\",\"0\",LOOKUP(H143,Valeurs!$A$4:'Valeurs'!$A$46,Valeurs!$B$4:'Valeurs'!$B$46)))))","v":18}]
[{"$f":"Inscription!A5","v":"Dam'eauclès"},{"$f":"Inscription!B5","v":"Katherine Gaulin"},null,"00:01:09.500","00:01:09.530","00:01:09.515",null,12,{"$f":"IF(F144=\"DNS\",\"0\",IF(F144=\"DQ\",\"0\",IF(F144=\"\",\"\",IF(F144=\"DNF\",\"0\",LOOKUP(H144,Valeurs!$A$4:'Valeurs'!$A$46,Valeurs!$B$4:'Valeurs'!$B$46)))))","v":5}]
[{"$f":"Inscription!A6","v":"Dam'eauclès"},{"$f":"Inscription!B6","v":"Théodore Turgeon"},null,"00:01:19.430","00:01:19.560","00:01:19.495",null,14,{"$f":"IF(F145=\"DNS\",\"0\",IF(F145=\"DQ\",\"0\",IF(F145=\"\",\"\",IF(F145=\"DNF\",\"0\",LOOKUP(H145,Valeurs!$A$4:'Valeurs'!$A$46,Valeurs!$B$4:'Valeurs'!$B$46)))))","v":3}]
[{"$f":"Inscription!A7","v":"30deux"},{"$f":"Inscription!B7","v":"Émilie Tessier"},null,"00:00:52.660","00:00:52.620","00:00:52.640",null,3,{"$f":"IF(F146=\"DNS\",\"0\",IF(F146=\"DQ\",\"0\",IF(F146=\"\",\"\",IF(F146=\"DNF\",\"0\",LOOKUP(H146,Valeurs!$A$4:'Valeurs'!$A$46,Valeurs!$B$4:'Valeurs'!$B$46)))))","v":16}]
[{"$f":"Inscription!A8","v":"30deux"},{"$f":"Inscription!B8","v":"Ève-Marie Bell"},null,"00:01:09.220","00:01:09.310","00:01:09.265",null,11,{"$f":"IF(F147=\"DNS\",\"0\",IF(F147=\"DQ\",\"0\",IF(F147=\"\",\"\",IF(F147=\"DNF\",\"0\",LOOKUP(H147,Valeurs!$A$4:'Valeurs'!$A$46,Valeurs!$B$4:'Valeurs'!$B$46)))))","v":6}]
[{"$f":"Inscription!A9","v":"CSRN"},{"$f":"Inscription!B9","v":"Samya Chakir"},null,"00:01:06.030","00:01:05.650","00:01:05.840",null,10,{"$f":"IF(F148=\"DNS\",\"0\",IF(F148=\"DQ\",\"0\",IF(F148=\"\",\"\",IF(F148=\"DNF\",\"0\",LOOKUP(H148,Valeurs!$A$4:'Valeurs'!$A$46,Valeurs!$B$4:'Valeurs'!$B$46)))))","v":7}]
[{"$f":"Inscription!A10","v":"CSRN"},{"$f":"Inscription!B10","v":"Zoé Martin"},null,"00:01:05.130","00:01:05.040","00:01:05.085",null,9,{"$f":"IF(F149=\"DNS\",\"0\",IF(F149=\"DQ\",\"0\",IF(F149=\"\",\"\",IF(F149=\"DNF\",\"0\",LOOKUP(H149,Valeurs!$A$4:'Valeurs'!$A$46,Valeurs!$B$4:'Valeurs'!$B$46)))))","v":8}]
[{"$f":"Inscription!A11","v":"CSRN"},{"$f":"Inscription!B11","v":"Gabriel Martin"},null,"00:01:20.690","00:01:20.650","00:01:20.670",null,15,{"$f":"IF(F150=\"DNS\",\"0\",IF(F150=\"DQ\",\"0\",IF(F150=\"\",\"\",IF(F150=\"DNF\",\"0\",LOOKUP(H150,Valeurs!$A$4:'Valeurs'!$A$46,Valeurs!$B$4:'Valeurs'!$B$46)))))","v":2}]
[{"$f":"Inscription!A12","v":"CSRN"},{"$f":"Inscription!B12","v":"Justin Gauthier"},null,"00:00:48.850","00:00:48.940","00:00:48.895",null,1,{"$f":"IF(F151=\"DNS\",\"0\",IF(F151=\"DQ\",\"0\",IF(F151=\"\",\"\",IF(F151=\"DNF\",\"0\",LOOKUP(H151,Valeurs!$A$4:'Valeurs'!$A$46,Valeurs!$B$4:'Valeurs'!$B$46)))))","v":20}]
[{"$f":"Inscription!A13","v":"CSRN"},{"$f":"Inscription!B13","v":"Annabelle Rhéaume"},null,"00:01:17.840","00:01:17.780","00:01:17.810",null,13,{"$f":"IF(F152=\"DNS\",\"0\",IF(F152=\"DQ\",\"0\",IF(F152=\"\",\"\",IF(F152=\"DNF\",\"0\",LOOKUP(H152,Valeurs!$A$4:'Valeurs'!$A$46,Valeurs!$B$4:'Valeurs'!$B$46)))))","v":4}]
[{"$f":"Inscription!A14","v":"Gatineau"},{"$f":"Inscription!B14","v":"Andréanne Pichette"},null,"00:01:00.810","00:01:00.780","00:01:00.795",null,7,{"$f":"IF(F153=\"DNS\",\"0\",IF(F153=\"DQ\",\"0\",IF(F153=\"\",\"\",IF(F153=\"DNF\",\"0\",LOOKUP(H153,Valeurs!$A$4:'Valeurs'!$A$46,Valeurs!$B$4:'Valeurs'!$B$46)))))","v":11}]
[{"$f":"Inscription!A15","v":"Narval"},{"$f":"Inscription!B15","v":"GabriellePotvin"},null,"00:00:55.810","00:00:55.850","00:00:55.830",null,6,{"$f":"IF(F154=\"DNS\",\"0\",IF(F154=\"DQ\",\"0\",IF(F154=\"\",\"\",IF(F154=\"DNF\",\"0\",LOOKUP(H154,Valeurs!$A$4:'Valeurs'!$A$46,Valeurs!$B$4:'Valeurs'!$B$46)))))","v":12}]
[{"$f":"Inscription!A16","v":"CASO"},{"$f":"Inscription!B16","v":"Zacharie Taillefer"},null,"00:00:55.620","00:00:55.500","00:00:55.560",null,5,{"$f":"IF(F155=\"DNS\",\"0\",IF(F155=\"DQ\",\"0\",IF(F155=\"\",\"\",IF(F155=\"DNF\",\"0\",LOOKUP(H155,Valeurs!$A$4:'Valeurs'!$A$46,Valeurs!$B$4:'Valeurs'!$B$46)))))","v":13}]
[{"$f":"Inscription!A17","v":0},{"$f":"Inscription!B17","v":0},null,null,null,"",null,"",{"$f":"IF(F156=\"DNS\",\"0\",IF(F156=\"DQ\",\"0\",IF(F156=\"\",\"\",IF(F156=\"DNF\",\"0\",LOOKUP(H156,Valeurs!$A$4:'Valeurs'!$A$46,Valeurs!$B$4:'Valeurs'!$B$46)))))","v":""}]
[{"$f":"Inscription!A18","v":0},{"$f":"Inscription!B18","v":0},null,null,null,"",null,"",{"$f":"IF(F157=\"DNS\",\"0\",IF(F157=\"DQ\",\"0\",IF(F157=\"\",\"\",IF(F157=\"DNF\",\"0\",LOOKUP(H157,Valeurs!$A$4:'Valeurs'!$A$46,Valeurs!$B$4:'Valeurs'!$B$46)))))","v":""}]
[{"$f":"Inscription!A19","v":0},{"$f":"Inscription!B19","v":0},null,null,null,"",null,"",{"$f":"IF(F158=\"DNS\",\"0\",IF(F158=\"DQ\",\"0\",IF(F158=\"\",\"\",IF(F158=\"DNF\",\"0\",LOOKUP(H158,Valeurs!$A$4:'Valeurs'!$A$46,Valeurs!$B$4:'Valeurs'!$B$46)))))","v":""}]
[{"$f":"Inscription!A20","v":0},{"$f":"Inscription!B20","v":0},null,null,null,"",null,"",{"$f":"IF(F159=\"DNS\",\"0\",IF(F159=\"DQ\",\"0\",IF(F159=\"\",\"\",IF(F159=\"DNF\",\"0\",LOOKUP(H159,Valeurs!$A$4:'Valeurs'!$A$46,Valeurs!$B$4:'Valeurs'!$B$46)))))","v":""}]
[{"$f":"Inscription!A21","v":0},{"$f":"Inscription!B21","v":0},null,null,null,"",null,"",{"$f":"IF(F160=\"DNS\",\"0\",IF(F160=\"DQ\",\"0\",IF(F160=\"\",\"\",IF(F160=\"DNF\",\"0\",LOOKUP(H160,Valeurs!$A$4:'Valeurs'!$A$46,Valeurs!$B$4:'Valeurs'!$B$46)))))","v":""}]
[{"$f":"Inscription!A22","v":0},{"$f":"Inscription!B22","v":0},null,null,null,"",null,"",{"$f":"IF(F161=\"DNS\",\"0\",IF(F161=\"DQ\",\"0\",IF(F161=\"\",\"\",IF(F161=\"DNF\",\"0\",LOOKUP(H161,Valeurs!$A$4:'Valeurs'!$A$46,Valeurs!$B$4:'Valeurs'!$B$46)))))","v":""}]
[{"$f":"Inscription!A23","v":0},{"$f":"Inscription!B23","v":0},null,null,null,"",null,"",{"$f":"IF(F162=\"DNS\",\"0\",IF(F162=\"DQ\",\"0\",IF(F162=\"\",\"\",IF(F162=\"DNF\",\"0\",LOOKUP(H162,Valeurs!$A$4:'Valeurs'!$A$46,Valeurs!$B$4:'Valeurs'!$B$46)))))","v":""}]
[{"$f":"Inscription!A24","v":0},{"$f":"Inscription!B24","v":0},null,null,null,"",null,"",{"$f":"IF(F163=\"DNS\",\"0\",IF(F163=\"DQ\",\"0\",IF(F163=\"\",\"\",IF(F163=\"DNF\",\"0\",LOOKUP(H163,Valeurs!$A$4:'Valeurs'!$A$46,Valeurs!$B$4:'Valeurs'!$B$46)))))","v":""}]
[{"$f":"Inscription!A25","v":0},{"$f":"Inscription!B25","v":0},null,null,null,"",null,"",{"$f":"IF(F164=\"DNS\",\"0\",IF(F164=\"DQ\",\"0\",IF(F164=\"\",\"\",IF(F164=\"DNF\",\"0\",LOOKUP(H164,Valeurs!$A$4:'Valeurs'!$A$46,Valeurs!$B$4:'Valeurs'!$B$46)))))","v":""}]
[{"$f":"Inscription!A26","v":0},{"$f":"Inscription!B26","v":0},null,null,null,"",null,"",{"$f":"IF(F165=\"DNS\",\"0\",IF(F165=\"DQ\",\"0\",IF(F165=\"\",\"\",IF(F165=\"DNF\",\"0\",LOOKUP(H165,Valeurs!$A$4:'Valeurs'!$A$46,Valeurs!$B$4:'Valeurs'!$B$46)))))","v":""}]
[{"$f":"Inscription!A27","v":0},{"$f":"Inscription!B27","v":0},null,null,null,"",null,"",{"$f":"IF(F166=\"DNS\",\"0\",IF(F166=\"DQ\",\"0\",IF(F166=\"\",\"\",IF(F166=\"DNF\",\"0\",LOOKUP(H166,Valeurs!$A$4:'Valeurs'!$A$46,Valeurs!$B$4:'Valeurs'!$B$46)))))","v":""}]
[{"$f":"Inscription!A28","v":0},{"$f":"Inscription!B28","v":0},null,null,null,"",null,"",{"$f":"IF(F167=\"DNS\",\"0\",IF(F167=\"DQ\",\"0\",IF(F167=\"\",\"\",IF(F167=\"DNF\",\"0\",LOOKUP(H167,Valeurs!$A$4:'Valeurs'!$A$46,Valeurs!$B$4:'Valeurs'!$B$46)))))","v":""}]
[{"$f":"Inscription!A29","v":0},{"$f":"Inscription!B29","v":0},null,null,null,"",null,"",{"$f":"IF(F168=\"DNS\",\"0\",IF(F168=\"DQ\",\"0\",IF(F168=\"\",\"\",IF(F168=\"DNF\",\"0\",LOOKUP(H168,Valeurs!$A$4:'Valeurs'!$A$46,Valeurs!$B$4:'Valeurs'!$B$46)))))","v":""}]
[{"$f":"Inscription!A30","v":0},{"$f":"Inscription!B30","v":0},null,null,null,"",null,"",{"$f":"IF(F169=\"DNS\",\"0\",IF(F169=\"DQ\",\"0\",IF(F169=\"\",\"\",IF(F169=\"DNF\",\"0\",LOOKUP(H169,Valeurs!$A$4:'Valeurs'!$A$46,Valeurs!$B$4:'Valeurs'!$B$46)))))","v":""}]
[{"$f":"Inscription!A31","v":0},{"$f":"Inscription!B31","v":0},null,null,null,"",null,"",{"$f":"IF(F170=\"DNS\",\"0\",IF(F170=\"DQ\",\"0\",IF(F170=\"\",\"\",IF(F170=\"DNF\",\"0\",LOOKUP(H170,Valeurs!$A$4:'Valeurs'!$A$46,Valeurs!$B$4:'Valeurs'!$B$46)))))","v":""}]

{"sheet":"12 - 13 ans","index":3,"n_rows":238,"n_cols":14,"rows_kept":238,"cut":false,"hidden":false,"merged":[[205,0,206,8],[1,0,2,8],[35,0,36,8],[69,0,70,8],[103,0,104,8],[137,0,138,8],[171,0,172,8]]}
[]
["Lancer de précision - 12 - 13 ans\nÉPREUVE DE LA CORDE"]
[]
["Club","Nom",null,"Chrono 1","Chrono 2","Temps final",null,"R","Points"]
[{"$f":"Inscription!C2","v":"SSSL"},{"$f":"Inscription!D2","v":"Sybel Roy"},null,null,null,{"$f":"IF(D5=\"\",\"\",IF(D5=\"DQ\",\"DQ\",IF(D5=\"DNF\",\"DNF\",IF(D5=\"DNS\",\"DNS\",AVERAGE(D5,E5)))))","v":""},null,{"$f":"IF(F5=\"DNS\",\"DNS\",IF(F5=\"DQ\",\"DQ\",IF(F5=\"\",\"\",IF(F5=\"DNF\",\"DNF\",RANK(F5,$F$5:$F$34,1)))))","v":""},{"$f":"IF(F5=\"DNS\",\"0\",IF(F5=\"DQ\",\"0\",IF(F5=\"\",\"\",IF(F5=\"DNF\",\"0\",LOOKUP(H5,Valeurs!$A$4:'Valeurs'!$A$46,Valeurs!$B$4:'Valeurs'!$B$46)))))","v":""}]
[{"$f":"Inscription!C3","v":"CAEM"},{"$f":"Inscription!D3","v":"Ariane St-Denis"},null,null,null,{"$f":"IF(D6=\"\",\"\",IF(D6=\"DQ\",\"DQ\",IF(D6=\"DNF\",\"DNF\",IF(D6=\"DNS\",\"DNS\",AVERAGE(D6,E6)))))","v":""},null,{"$f":"IF(F6=\"DNS\",\"DNS\",IF(F6=\"DQ\",\"DQ\",IF(F6=\"\",\"\",IF(F6=\"DNF\",\"DNF\",RANK(F6,$F$5:$F$34,1)))))","v":""},{"$f":"IF(F6=\"DNS\",\"0\",IF(F6=\"DQ\",\"0\",IF(F6=\"\",\"\",IF(F6=\"DNF\",\"0\",LOOKUP(H6,Valeurs!$A$4:'Valeurs'!$A$46,Valeurs!$B$4:'Valeurs'!$B$46)))))","v":""}]
[{"$f":"Inscription!C4","v":"Dam'eauclès"},{"$f":"Inscription!D4","v":"Émile Turgeon"},null,null,null,"",null,{"$f":"IF(F7=\"DNS\",\"DNS\",IF(F7=\"DQ\",\"DQ\",IF(F7=\"\",\"\",IF(F7=\"DNF\",\"DNF\",RANK(F7,$F$5:$F$34,1)))))","v":""},{"$f":"IF(F7=\"DNS\",\"0\",IF(F7=\"DQ\",\"0\",IF(F7=\"\",\"\",IF(F7=\"DNF\",\"0\",LOOKUP(H7,Valeurs!$A$4:'Valeurs'!$A$46,Valeurs!$B$4:'Valeurs'!$B$46)))))","v":""}]
[{"$f":"Inscription!C5","v":"CSRAD"},{"$f":"Inscription!D5","v":"Malory Boisclair"},null,null,null,"",null,"",{"$f":"IF(F8=\"DNS\",\"0\",IF(F8=\"DQ\",\"0\",IF(F8=\"\",\"\",IF(F8=\"DNF\",\"0\",LOOKUP(H8,Valeurs!$A$4:'Valeurs'!$A$46,Valeurs!$B$4:'Valeurs'!$B$46)))))","v":""}]
[{"$f":"Inscription!C6","v":"30deux"},{"$f":"Inscription!D6","v":"Ariane Trudel"},null,null,null,"",null,"",{"$f":"IF(F9=\"DNS\",\"0\",IF(F9=\"DQ\",\"0\",IF(F9=\"\",\"\",IF(F9=\"DNF\",\"0\",LOOKUP(H9,Valeurs!$A$4:'Valeurs'!$A$46,Valeurs!$B$4:'Valeurs'!$B$46)))))","v":""}]
[{"$f":"Inscription!C7","v":"CSRN"},{"$f":"Inscription!D7","v":"Thomas Martin"},null,null,null,"",null,"",{"$f":"IF(F10=\"DNS\",\"0\",IF(F10=\"DQ\",\"0\",IF(F10=\"\",\"\",IF(F10=\"DNF\",\"0\",LOOKUP(H10,Valeurs!$A$4:'Valeurs'!$A$46,Valeurs!$B$4:'Valeurs'!$B$46)))))","v":""}]
[{"$f":"Inscription!C8","v":"CSRN"},{"$f":"Inscription!D8","v":"Maxime Laurence"},null,null,null,"",null,"",{"$f":"IF(F11=\"DNS\",\"0\",IF(F11=\"DQ\",\"0\",IF(F11=\"\",\"\",IF(F11=\"DNF\",\"0\",LOOKUP(H11,Valeurs!$A$4:'Valeurs'!$A$46,Valeurs!$B$4:'Valeurs'!$B$46)))))","v":""}]
[{"$f":"Inscription!C9","v":"CSRN"},{"$f":"Inscription!D9","v":"Eugénie Tétreault"},null,null,null,"",null,"",{"$f":"IF(F12=\"DNS\",\"0\",IF(F12=\"DQ\",\"0\",IF(F12=\"\",\"\",IF(F12=\"DNF\",\"0\",LOOKUP(H12,Valeurs!$A$4:'Valeurs'!$A$46,Valeurs!$B$4:'Valeurs'!$B$46)))))","v":""}]
[{"$f":"Inscription!C10","v":"CSRN"},{"$f":"Inscription!D10","v":"Justin Gauthier"},null,null,null,"",null,"",{"$f":"IF(F13=\"DNS\",\"0\",IF(F13=\"DQ\",\"0\",IF(F13=\"\",\"\",IF(F13=\"DNF\",\"0\",LOOKUP(H13,Valeurs!$A$4:'Valeurs'!$A$46,Valeurs!$B$4:'Valeurs'!$B$46)))))","v":""}]
[{"$f":"Inscription!C11","v":"Gatineau"},{"$f":"Inscription!D11","v":"Justin Pichette"},null,null,null,"",null,"",{"$f":"IF(F14=\"DNS\",\"0\",IF(F14=\"DQ\",\"0\",IF(F14=\"\",\"\",IF(F14=\"DNF\",\"0\",LOOKUP(H14,Valeurs!$A$4:'Valeurs'!$A$46,Valeurs!$B$4:'Valeurs'!$B$46)))))","v":""}]
[{"$f":"Inscription!C12","v":"Gatineau"},{"$f":"Inscription!D12","v":"Marianne Caplette"},null,null,null,"",null,"",{"$f":"IF(F15=\"DNS\",\"0\",IF(F15=\"DQ\",\"0\",IF(F15=\"\",\"\",IF(F15=\"DNF\",\"0\",LOOKUP(H15,Valeurs!$A$4:'Valeurs'!$A$46,Valeurs!$B$4:'Valeurs'!$B$46)))))","v":""}]
[{"$f":"Inscription!C13","v":"Narval"},{"$f":"Inscription!D13","v":"Joelle Gauthier-Drapeau"},null,null,null,"",null,"",{"$f":"IF(F16=\"DNS\",\"0\",IF(F16=\"DQ\",\"0\",IF(F16=\"\",\"\",IF(F16=\"DNF\",\"0\",LOOKUP(H16,Valeurs!$A$4:'Valeurs'!$A$46,Valeurs!$B$4:'Valeurs'!$B$46)))))","v":""}]
[{"$f":"Inscription!C14","v":"Narval"},{"$f":"Inscription!D14","v":"Léony Gobeil"},null,null,null,"",null,"",{"$f":"IF(F17=\"DNS\",\"0\",IF(F17=\"DQ\",\"0\",IF(F17=\"\",\"\",IF(F17=\"DNF\",\"0\",LOOKUP(H17,Valeurs!$A$4:'Valeurs'!$A$46,Valeurs!$B$4:'Valeurs'!$B$46)))))","v":""}]
[{"$f":"Inscription!C15","v":0},{"$f":"Inscription!D15","v":0},null,null,null,"",null,"",{"$f":"IF(F18=\"DNS\",\"0\",IF(F18=\"DQ\",\"0\",IF(F18=\"\",\"\",IF(F18=\"DNF\",\"0\",LOOKUP(H18,Valeurs!$A$4:'Valeurs'!$A$46,Valeurs!$B$4:'Valeurs'!$B$46)))))","v":""}]
[{"$f":"Inscription!C16","v":0},{"$f":"Inscription!D16","v":0},null,null,null,"",null,"",{"$f":"IF(F19=\"DNS\",\"0\",IF(F19=\"DQ\",\"0\",IF(F19=\"\",\"\",IF(F19=\"DNF\",\"0\",LOOKUP(H19,Valeurs!$A$4:'Valeurs'!$A$46,Valeurs!$B$4:'Valeurs'!$B$46)))))","v":""}]
[{"$f":"Inscription!C17","v":0},{"$f":"Inscription!D17","v":0},null,null,null,"",null,"",{"$f":"IF(F20=\"DNS\",\"0\",IF(F20=\"DQ\",\"0\",IF(F20=\"\",\"\",IF(F20=\"DNF\",\"0\",LOOKUP(H20,Valeurs!$A$4:'Valeurs'!$A$46,Valeurs!$B$4:'Valeurs'!$B$46)))))","v":""}]
[{"$f":"Inscription!C18","v":0},{"$f":"Inscription!D18","v":0},null,null,null,"",null,"",{"$f":"IF(F21=\"DNS\",\"0\",IF(F21=\"DQ\",\"0\",IF(F21=\"\",\"\",IF(F21=\"DNF\",\"0\",LOOKUP(H21,Valeurs!$A$4:'Valeurs'!$A$46,Valeurs!$B$4:'Valeurs'!$B$46)))))","v":""}]
[{"$f":"Inscription!C19","v":0},{"$f":"Inscription!D19","v":0},null,null,null,"",null,"",{"$f":"IF(F22=\"DNS\",\"0\",IF(F22=\"DQ\",\"0\",IF(F22=\"\",\"\",IF(F22=\"DNF\",\"0\",LOOKUP(H22,Valeurs!$A$4:'Valeurs'!$A$46,Valeurs!$B$4:'Valeurs'!$B$46)))))","v":""}]
[{"$f":"Inscription!C20","v":0},{"$f":"Inscription!D20","v":0},null,null,null,"",null,"",{"$f":"IF(F23=\"DNS\",\"0\",IF(F23=\"DQ\",\"0\",IF(F23=\"\",\"\",IF(F23=\"DNF\",\"0\",LOOKUP(H23,Valeurs!$A$4:'Valeurs'!$A$46,Valeurs!$B$4:'Valeurs'!$B$46)))))","v":""}]
[{"$f":"Inscription!C21","v":0},{"$f":"Inscription!D21","v":0},null,null,null,"",null,"",{"$f":"IF(F24=\"DNS\",\"0\",IF(F24=\"DQ\",\"0\",IF(F24=\"\",\"\",IF(F24=\"DNF\",\"0\",LOOKUP(H24,Valeurs!$A$4:'Valeurs'!$A$46,Valeurs!$B$4:'Valeurs'!$B$46)))))","v":""}]
[{"$f":"Inscription!C22","v":0},{"$f":"Inscription!D22","v":0},null,null,null,"",null,"",{"$f":"IF(F25=\"DNS\",\"0\",IF(F25=\"DQ\",\"0\",IF(F25=\"\",\"\",IF(F25=\"DNF\",\"0\",LOOKUP(H25,Valeurs!$A$4:'Valeurs'!$A$46,Valeurs!$B$4:'Valeurs'!$B$46)))))","v":""}]
[{"$f":"Inscription!C23","v":0},{"$f":"Inscription!D23","v":0},null,null,null,"",null,"",{"$f":"IF(F26=\"DNS\",\"0\",IF(F26=\"DQ\",\"0\",IF(F26=\"\",\"\",IF(F26=\"DNF\",\"0\",LOOKUP(H26,Valeurs!$A$4:'Valeurs'!$A$46,Valeurs!$B$4:'Valeurs'!$B$46)))))","v":""}]
[{"$f":"Inscription!C24","v":0},{"$f":"Inscription!D24","v":0},null,null,null,"",null,"",{"$f":"IF(F27=\"DNS\",\"0\",IF(F27=\"DQ\",\"0\",IF(F27=\"\",\"\",IF(F27=\"DNF\",\"0\",LOOKUP(H27,Valeurs!$A$4:'Valeurs'!$A$46,Valeurs!$B$4:'Valeurs'!$B$46)))))","v":""}]
[{"$f":"Inscription!C25","v":0},{"$f":"Inscription!D25","v":0},null,null,null,"",null,"",{"$f":"IF(F28=\"DNS\",\"0\",IF(F28=\"DQ\",\"0\",IF(F28=\"\",\"\",IF(F28=\"DNF\",\"0\",LOOKUP(H28,Valeurs!$A$4:'Valeurs'!$A$46,Valeurs!$B$4:'Valeurs'!$B$46)))))","v":""}]
[{"$f":"Inscription!C26","v":0},{"$f":"Inscription!D26","v":0},null,null,null,"",null,"",{"$f":"IF(F29=\"DNS\",\"0\",IF(F29=\"DQ\",\"0\",IF(F29=\"\",\"\",IF(F29=\"DNF\",\"0\",LOOKUP(H29,Valeurs!$A$4:'Valeurs'!$A$46,Valeurs!$B$4:'Valeurs'!$B$46)))))","v":""}]
[{"$f":"Inscription!C27","v":0},{"$f":"Inscription!D27","v":0},null,null,null,"",null,"",{"$f":"IF(F30=\"DNS\",\"0\",IF(F30=\"DQ\",\"0\",IF(F30=\"\",\"\",IF(F30=\"DNF\",\"0\",LOOKUP(H30,Valeurs!$A$4:'Valeurs'!$A$46,Valeurs!$B$4:'Valeurs'!$B$46)))))","v":""}]
[{"$f":"Inscription!C28","v":0},{"$f":"Inscription!D28","v":0},null,null,null,"",null,"",{"$f":"IF(F31=\"DNS\",\"0\",IF(F31=\"DQ\",\"0\",IF(F31=\"\",\"\",IF(F31=\"DNF\",\"0\",LOOKUP(H31,Valeurs!$A$4:'Valeurs'!$A$46,Valeurs!$B$4:'Valeurs'!$B$46)))))","v":""}]
[{"$f":"Inscription!C29","v":0},{"$f":"Inscription!D29","v":0},null,null,null,"",null,"",{"$f":"IF(F32=\"DNS\",\"0\",IF(F32=\"DQ\",\"0\",IF(F32=\"\",\"\",IF(F32=\"DNF\",\"0\",LOOKUP(H32,Valeurs!$A$4:'Valeurs'!$A$46,Valeurs!$B$4:'Valeurs'!$B$46)))))","v":""}]
[{"$f":"Inscription!C30","v":0},{"$f":"Inscription!D30","v":0},null,null,null,"",null,"",{"$f":"IF(F33=\"DNS\",\"0\",IF(F33=\"DQ\",\"0\",IF(F33=\"\",\"\",IF(F33=\"DNF\",\"0\",LOOKUP(H33,Valeurs!$A$4:'Valeurs'!$A$46,Valeurs!$B$4:'Valeurs'!$B$46)))))","v":""}]
[{"$f":"Inscription!C31","v":0},{"$f":"Inscription!D31","v":0},null,null,null,{"$f":"IF(D34=\"\",\"\",IF(D34=\"DQ\",\"DQ\",IF(D34=\"DNF\",\"DNF\",IF(D34=\"DNS\",\"DNS\",AVERAGE(D34,E34)))))","v":""},null,"",{"$f":"IF(F34=\"DNS\",\"0\",IF(F34=\"DQ\",\"0\",IF(F34=\"\",\"\",IF(F34=\"DNF\",\"0\",LOOKUP(H34,Valeurs!$A$4:'Valeurs'!$A$46,Valeurs!$B$4:'Valeurs'!$B$46)))))","v":""}]
[]
["Remorquage mannequin 1/2 plein avec palmes - 12 - 13 ans\nÉPREUVE REMORQUAGE MANNEQUIN + PALMES"]
[]
["Club","Nom",null,"Chrono 1","Chrono 2","Temps final",null,"R","Points"]
[{"$f":"Inscription!C2","v":"SSSL"},{"$f":"Inscription!D2","v":"Sybel Roy"},null,"00:00:43.030","00:00:42.890",{"$f":"IF(D39=\"\",\"\",IF(D39=\"DQ\",\"DQ\",IF(D39=\"DNF\",\"DNF\",IF(D39=\"DNS\",\"DNS\",AVERAGE(D39,E39)))))","v":"00:00:42.960"},null,{"$f":"IF(F39=\"DNS\",\"DNS\",IF(F39=\"DQ\",\"DQ\",IF(F39=\"\",\"\",IF(F39=\"DNF\",\"DNF\",RANK(F39,$F$39:$F$68,1)))))","v":6},{"$f":"IF(F39=\"DNS\",\"0\",IF(F39=\"DQ\",\"0\",IF(F39=\"\",\"\",IF(F39=\"DNF\",\"0\",LOOKUP(H39,Valeurs!$A$4:'Valeurs'!$A$46,Valeurs!$B$4:'Valeurs'!$B$46)))))","v":12}]
[{"$f":"Inscription!C3","v":"CAEM"},{"$f":"Inscription!D3","v":"Ariane St-Denis"},null,"00:00:38.690","00:00:38.620",{"$f":"IF(D40=\"\",\"\",IF(D40=\"DQ\",\"DQ\",IF(D40=\"DNF\",\"DNF\",IF(D40=\"DNS\",\"DNS\",AVERAGE(D40,E40)))))","v":"00:00:38.655"},null,{"$f":"IF(F40=\"DNS\",\"DNS\",IF(F40=\"DQ\",\"DQ\",IF(F40=\"\",\"\",IF(F40=\"DNF\",\"DNF\",RANK(F40,$F$39:$F$68,1)))))","v":1},{"$f":"IF(F40=\"DNS\",\"0\",IF(F40=\"DQ\",\"0\",IF(F40=\"\",\"\",IF(F40=\"DNF\",\"0\",LOOKUP(H40,Valeurs!$A$4:'Valeurs'!$A$46,Valeurs!$B$4:'Valeurs'!$B$46)))))","v":20}]
[{"$f":"Inscription!C4","v":"Dam'eauclès"},{"$f":"Inscription!D4","v":"Émile Turgeon"},null,"00:00:47.660","00:00:47.880","00:00:47.770",null,10,{"$f":"IF(F41=\"DNS\",\"0\",IF(F41=\"DQ\",\"0\",IF(F41=\"\",\"\",IF(F41=\"DNF\",\"0\",LOOKUP(H41,Valeurs!$A$4:'Valeurs'!$A$46,Valeurs!$B$4:'Valeurs'!$B$46)))))","v":7}]
[{"$f":"Inscription!C5","v":"CSRAD"},{"$f":"Inscription!D5","v":"Malory Boisclair"},null,"00:00:42.380","00:00:42.410","00:00:42.395",null,5,{"$f":"IF(F42=\"DNS\",\"0\",IF(F42=\"DQ\",\"0\",IF(F42=\"\",\"\",IF(F42=\"DNF\",\"0\",LOOKUP(H42,Valeurs!$A$4:'Valeurs'!$A$46,Valeurs!$B$4:'Valeurs'!$B$46)))))","v":13}]
[{"$f":"Inscription!C6","v":"30deux"},{"$f":"Inscription!D6","v":"Ariane Trudel"},null,"00:00:39.880","00:00:39.780","00:00:39.830",null,3,{"$f":"IF(F43=\"DNS\",\"0\",IF(F43=\"DQ\",\"0\",IF(F43=\"\",\"\",IF(F43=\"DNF\",\"0\",LOOKUP(H43,Valeurs!$A$4:'Valeurs'!$A$46,Valeurs!$B$4:'Valeurs'!$B$46)))))","v":16}]
[{"$f":"Inscription!C7","v":"CSRN"},{"$f":"Inscription!D7","v":"Thomas Martin"},null,"00:00:39.030","00:00:38.940","00:00:38.985",null,2,{"$f":"IF(F44=\"DNS\",\"0\",IF(F44=\"DQ\",\"0\",IF(F44=\"\",\"\",IF(F44=\"DNF\",\"0\",LOOKUP(H44,Valeurs!$A$4:'Valeurs'!$A$46,Valeurs!$B$4:'Valeurs'!$B$46)))))","v":18}]
[{"$f":"Inscription!C8","v":"CSRN"},{"$f":"Inscription!D8","v":"Maxime Laurence"},null,"00:00:44.250","00:00:44.440","00:00:44.345",null,7,{"$f":"IF(F45=\"DNS\",\"0\",IF(F45=\"DQ\",\"0\",IF(F45=\"\",\"\",IF(F45=\"DNF\",\"0\",LOOKUP(H45,Valeurs!$A$4:'Valeurs'!$A$46,Valeurs!$B$4:'Valeurs'!$B$46)))))","v":11}]
[{"$f":"Inscription!C9","v":"CSRN"},{"$f":"Inscription!D9","v":"Eugénie Tétreault"},null,"00:00:45.720","00:00:45.750","00:00:45.735",null,8,{"$f":"IF(F46=\"DNS\",\"0\",IF(F46=\"DQ\",\"0\",IF(F46=\"\",\"\",IF(F46=\"DNF\",\"0\",LOOKUP(H46,Valeurs!$A$4:'Valeurs'!$A$46,Valeurs!$B$4:'Valeurs'!$B$46)))))","v":10}]
[{"$f":"Inscription!C10","v":"CSRN"},{"$f":"Inscription!D10","v":"Justin Gauthier"},null,"DNS","DNS","DNS",null,"DNS",{"$f":"IF(F47=\"DNS\",\"0\",IF(F47=\"DQ\",\"0\",IF(F47=\"\",\"\",IF(F47=\"DNF\",\"0\",LOOKUP(H47,Valeurs!$A$4:'Valeurs'!$A$46,Valeurs!$B$4:'Valeurs'!$B$46)))))","v":"0"}]
[{"$f":"Inscription!C11","v":"Gatineau"},{"$f":"Inscription!D11","v":"Justin Pichette"},null,"00:00:58.840","00:00:59.030","00:00:58.935",null,11,{"$f":"IF(F48=\"DNS\",\"0\",IF(F48=\"DQ\",\"0\",IF(F48=\"\",\"\",IF(F48=\"DNF\",\"0\",LOOKUP(H48,Valeurs!$A$4:'Valeurs'!$A$46,Valeurs!$B$4:'Valeurs'!$B$46)))))","v":6}]
[{"$f":"Inscription!C12","v":"Gatineau"},{"$f":"Inscription!D12","v":"Marianne Caplette"},null,"00:01:01.190","00:01:01.120","00:01:01.155",null,12,{"$f":"IF(F49=\"DNS\",\"0\",IF(F49=\"DQ\",\"0\",IF(F49=\"\",\"\",IF(F49=\"DNF\",\"0\",LOOKUP(H49,Valeurs!$A$4:'Valeurs'!$A$46,Valeurs!$B$4:'Valeurs'!$B$46)))))","v":5}]
[{"$f":"Inscription!C13","v":"Narval"},{"$f":"Inscription!D13","v":"Joelle Gauthier-Drapeau"},null,"00:00:46.720","00:00:46.680","00:00:46.700",null,9,{"$f":"IF(F50=\"DNS\",\"0\",IF(F50=\"DQ\",\"0\",IF(F50=\"\",\"\",IF(F50=\"DNF\",\"0\",LOOKUP(H50,Valeurs!$A$4:'Valeurs'!$A$46,Valeurs!$B$4:'Valeurs'!$B$46)))))","v":8}]
[{"$f":"Inscription!C14","v":"Narval"},{"$f":"Inscription!D14","v":"Léony Gobeil"},null,"00:00:40.130","00:00:39.820","00:00:39.975",null,4,{"$f":"IF(F51=\"DNS\",\"0\",IF(F51=\"DQ\",\"0\",IF(F51=\"\",\"\",IF(F51=\"DNF\",\"0\",LOOKUP(H51,Valeurs!$A$4:'Valeurs'!$A$46,Valeurs!$B$4:'Valeurs'!$B$46)))))","v":14}]
[{"$f":"Inscription!C15","v":0},{"$f":"Inscription!D15","v":0},null,null,null,"",null,"",{"$f":"IF(F52=\"DNS\",\"0\",IF(F52=\"DQ\",\"0\",IF(F52=\"\",\"\",IF(F52=\"DNF\",\"0\",LOOKUP(H52,Valeurs!$A$4:'Valeurs'!$A$46,Valeurs!$B$4:'Valeurs'!$B$46)))))","v":""}]
[{"$f":"Inscription!C16","v":0},{"$f":"Inscription!D16","v":0},null,null,null,"",null,"",{"$f":"IF(F53=\"DNS\",\"0\",IF(F53=\"DQ\",\"0\",IF(F53=\"\",\"\",IF(F53=\"DNF\",\"0\",LOOKUP(H53,Valeurs!$A$4:'Valeurs'!$A$46,Valeurs!$B$4:'Valeurs'!$B$46)))))","v":""}]
[{"$f":"Inscription!C17","v":0},{"$f":"Inscription!D17","v":0},null,null,null,"",null,"",{"$f":"IF(F54=\"DNS\",\"0\",IF(F54=\"DQ\",\"0\",IF(F54=\"\",\"\",IF(F54=\"DNF\",\"0\",LOOKUP(H54,Valeurs!$A$4:'Valeurs'!$A$46,Valeurs!$B$4:'Valeurs'!$B$46)))))","v":""}]
[{"$f":"Inscription!C18","v":0},{"$f":"Inscription!D18","v":0},null,null,null,"",null,"",{"$f":"IF(F55=\"DNS\",\"0\",IF(F55=\"DQ\",\"0\",IF(F55=\"\",\"\",IF(F55=\"DNF\",\"0\",LOOKUP(H55,Valeurs!$A$4:'Valeurs'!$A$46,Valeurs!$B$4:'Valeurs'!$B$46)))))","v":""}]
[{"$f":"Inscription!C19","v":0},{"$f":"Inscription!D19","v":0},null,null,null,"",null,"",{"$f":"IF(F56=\"DNS\",\"0\",IF(F56=\"DQ\",\"0\",IF(F56=\"\",\"\",IF(F56=\"DNF\",\"0\",LOOKUP(H56,Valeurs!$A$4:'Valeurs'!$A$46,Valeurs!$B$4:'Valeurs'!$B$46)))))","v":""}]
[{"$f":"Inscription!C20","v":0},{"$f":"Inscription!D20","v":0},null,null,null,"",null,"",{"$f":"IF(F57=\"DNS\",\"0\",IF(F57=\"DQ\",\"0\",IF(F57=\"\",\"\",IF(F57=\"DNF\",\"0\",LOOKUP(H57,Valeurs!$A$4:'Valeurs'!$A$46,Valeurs!$B$4:'Valeurs'!$B$46)))))","v":""}]
[{"$f":"Inscription!C21","v":0},{"$f":"Inscription!D21","v":0},null,null,null,"",null,"",{"$f":"IF(F58=\"DNS\",\"0\",IF(F58=\"DQ\",\"0\",IF(F58=\"\",\"\",IF(F58=\"DNF\",\"0\",LOOKUP(H58,Valeurs!$A$4:'Valeurs'!$A$46,Valeurs!$B$4:'Valeurs'!$B$46)))))","v":""}]
[{"$f":"Inscription!C22","v":0},{"$f":"Inscription!D22","v":0},null,null,null,"",null,"",{"$f":"IF(F59=\"DNS\",\"0\",IF(F59=\"DQ\",\"0\",IF(F59=\"\",\"\",IF(F59=\"DNF\",\"0\",LOOKUP(H59,Valeurs!$A$4:'Valeurs'!$A$46,Valeurs!$B$4:'Valeurs'!$B$46)))))","v":""}]
[{"$f":"Inscription!C23","v":0},{"$f":"Inscription!D23","v":0},null,null,null,"",null,"",{"$f":"IF(F60=\"DNS\",\"0\",IF(F60=\"DQ\",\"0\",IF(F60=\"\",\"\",IF(F60=\"DNF\",\"0\",LOOKUP(H60,Valeurs!$A$4:'Valeurs'!$A$46,Valeurs!$B$4:'Valeurs'!$B$46)))))","v":""}]
[{"$f":"Inscription!C24","v":0},{"$f":"Inscription!D24","v":0},null,null,null,"",null,"",{"$f":"IF(F61=\"DNS\",\"0\",IF(F61=\"DQ\",\"0\",IF(F61=\"\",\"\",IF(F61=\"DNF\",\"0\",LOOKUP(H61,Valeurs!$A$4:'Valeurs'!$A$46,Valeurs!$B$4:'Valeurs'!$B$46)))))","v":""}]
[{"$f":"Inscription!C25","v":0},{"$f":"Inscription!D25","v":0},null,null,null,"",null,"",{"$f":"IF(F62=\"DNS\",\"0\",IF(F62=\"DQ\",\"0\",IF(F62=\"\",\"\",IF(F62=\"DNF\",\"0\",LOOKUP(H62,Valeurs!$A$4:'Valeurs'!$A$46,Valeurs!$B$4:'Valeurs'!$B$46)))))","v":""}]
[{"$f":"Inscription!C26","v":0},{"$f":"Inscription!D26","v":0},null,null,null,"",null,"",{"$f":"IF(F63=\"DNS\",\"0\",IF(F63=\"DQ\",\"0\",IF(F63=\"\",\"\",IF(F63=\"DNF\",\"0\",LOOKUP(H63,Valeurs!$A$4:'Valeurs'!$A$46,Valeurs!$B$4:'Valeurs'!$B$46)))))","v":""}]
[{"$f":"Inscription!C27","v":0},{"$f":"Inscription!D27","v":0},null,null,null,"",null,"",{"$f":"IF(F64=\"DNS\",\"0\",IF(F64=\"DQ\",\"0\",IF(F64=\"\",\"\",IF(F64=\"DNF\",\"0\",LOOKUP(H64,Valeurs!$A$4:'Valeurs'!$A$46,Valeurs!$B$4:'Valeurs'!$B$46)))))","v":""}]
[{"$f":"Inscription!C28","v":0},{"$f":"Inscription!D28","v":0},null,null,null,"",null,"",{"$f":"IF(F65=\"DNS\",\"0\",IF(F65=\"DQ\",\"0\",IF(F65=\"\",\"\",IF(F65=\"DNF\",\"0\",LOOKUP(H65,Valeurs!$A$4:'Valeurs'!$A$46,Valeurs!$B$4:'Valeurs'!$B$46)))))","v":""}]
[{"$f":"Inscription!C29","v":0},{"$f":"Inscription!D29","v":0},null,null,null,"",null,"",{"$f":"IF(F66=\"DNS\",\"0\",IF(F66=\"DQ\",\"0\",IF(F66=\"\",\"\",IF(F66=\"DNF\",\"0\",LOOKUP(H66,Valeurs!$A$4:'Valeurs'!$A$46,Valeurs!$B$4:'Valeurs'!$B$46)))))","v":""}]
[{"$f":"Inscription!C30","v":0},{"$f":"Inscription!D30","v":0},null,null,null,"",null,"",{"$f":"IF(F67=\"DNS\",\"0\",IF(F67=\"DQ\",\"0\",IF(F67=\"\",\"\",IF(F67=\"DNF\",\"0\",LOOKUP(H67,Valeurs!$A$4:'Valeurs'!$A$46,Valeurs!$B$4:'Valeurs'!$B$46)))))","v":""}]
[{"$f":"Inscription!C31","v":0},{"$f":"Inscription!D31","v":0},null,null,null,{"$f":"IF(D68=\"\",\"\",IF(D68=\"DQ\",\"DQ\",IF(D68=\"DNF\",\"DNF\",IF(D68=\"DNS\",\"DNS\",AVERAGE(D68,E68)))))","v":""},null,"",{"$f":"IF(F68=\"DNS\",\"0\",IF(F68=\"DQ\",\"0\",IF(F68=\"\",\"\",IF(F68=\"DNF\",\"0\",LOOKUP(H68,Valeurs!$A$4:'Valeurs'!$A$46,Valeurs!$B$4:'Valeurs'!$B$46)))))","v":""}]
[]
["Obstacle - 12 - 13 ans\nÉPREUVE OBSTACLES"]
[]
["Club","Nom",null,"Chrono 1","Chrono 2","Temps final",null,"R","Points"]
[{"$f":"Inscription!C2","v":"SSSL"},{"$f":"Inscription!D2","v":"Sybel Roy"},null,"00:00:41.360","00:00:41.360",{"$f":"IF(D73=\"\",\"\",IF(D73=\"DQ\",\"DQ\",IF(D73=\"DNF\",\"DNF\",IF(D73=\"DNS\",\"DNS\",AVERAGE(D73,E73)))))","v":"00:00:41.360"},null,{"$f":"IF(F73=\"DNS\",\"DNS\",IF(F73=\"DQ\",\"DQ\",IF(F73=\"\",\"\",IF(F73=\"DNF\",\"DNF\",RANK(F73,$F$73:$F$102,1)))))","v":6},{"$f":"IF(F73=\"DNS\",\"0\",IF(F73=\"DQ\",\"0\",IF(F73=\"\",\"\",IF(F73=\"DNF\",\"0\",LOOKUP(H73,Valeurs!$A$4:'Valeurs'!$A$46,Valeurs!$B$4:'Valeurs'!$B$46)))))","v":12}]
[{"$f":"Inscription!C3","v":"CAEM"},{"$f":"Inscription!D3","v":"Ariane St-Denis"},null,"00:00:37.220","00:00:37.310",{"$f":"IF(D74=\"\",\"\",IF(D74=\"DQ\",\"DQ\",IF(D74=\"DNF\",\"DNF\",IF(D74=\"DNS\",\"DNS\",AVERAGE(D74,E74)))))","v":"00:00:37.265"},null,{"$f":"IF(F74=\"DNS\",\"DNS\",IF(F74=\"DQ\",\"DQ\",IF(F74=\"\",\"\",IF(F74=\"DNF\",\"DNF\",RANK(F74,$F$73:$F$102,1)))))","v":4},{"$f":"IF(F74=\"DNS\",\"0\",IF(F74=\"DQ\",\"0\",IF(F74=\"\",\"\",IF(F74=\"DNF\",\"0\",LOOKUP(H74,Valeurs!$A$4:'Valeurs'!$A$46,Valeurs!$B$4:'Valeurs'!$B$46)))))","v":14},null,"00:00:45.220","00:00:45.090",{"$f":"IF(K74=\"\",\"\",IF(K74=\"DQ\",\"DQ\",IF(K74=\"DNF\",\"DNF\",IF(K74=\"DNS\",\"DNS\",AVERAGE(K74,L74)))))","v":"00:00:45.155"},45.26]
[{"$f":"Inscription!C4","v":"Dam'eauclès"},{"$f":"Inscription!D4","v":"Émile Turgeon"},null,"00:00:41.360","00:00:41.360","00:00:41.360",null,6,{"$f":"IF(F75=\"DNS\",\"0\",IF(F75=\"DQ\",\"0\",IF(F75=\"\",\"\",IF(F75=\"DNF\",\"0\",LOOKUP(H75,Valeurs!$A$4:'Valeurs'!$A$46,Valeurs!$B$4:'Valeurs'!$B$46)))))","v":12},null,"00:00:39.130","00:00:39.120",{"$f":"IF(K75=\"\",\"\",IF(K75=\"DQ\",\"DQ\",IF(K75=\"DNF\",\"DNF\",IF(K75=\"DNS\",\"DNS\",AVERAGE(K75,L75)))))","v":"00:00:39.125"},39.200000000000003]
[{"$f":"Inscription!C5","v":"CSRAD"},{"$f":"Inscription!D5","v":"Malory Boisclair"},null,"00:00:34.750","00:00:34.570","00:00:34.660",null,2,{"$f":"IF(F76=\"DNS\",\"0\",IF(F76=\"DQ\",\"0\",IF(F76=\"\",\"\",IF(F76=\"DNF\",\"0\",LOOKUP(H76,Valeurs!$A$4:'Valeurs'!$A$46,Valeurs!$B$4:'Valeurs'!$B$46)))))","v":18},null,"00:00:40.180","00:00:40.220","00:00:40.200",40.33]
[{"$f":"Inscription!C6","v":"30deux"},{"$f":"Inscription!D6","v":"Ariane Trudel"},null,"00:00:38.820","00:00:38.970","00:00:38.895",null,5,{"$f":"IF(F77=\"DNS\",\"0\",IF(F77=\"DQ\",\"0\",IF(F77=\"\",\"\",IF(F77=\"DNF\",\"0\",LOOKUP(H77,Valeurs!$A$4:'Valeurs'!$A$46,Valeurs!$B$4:'Valeurs'!$B$46)))))","v":13},null,null,null,41.36,{"$f":"(N74+N75+N76)/3","v":41.596666666666671}]
[{"$f":"Inscription!C7","v":"CSRN"},{"$f":"Inscription!D7","v":"Thomas Martin"},null,"00:00:33.160","00:00:33.190","00:00:33.175",null,1,{"$f":"IF(F78=\"DNS\",\"0\",IF(F78=\"DQ\",\"0\",IF(F78=\"\",\"\",IF(F78=\"DNF\",\"0\",LOOKUP(H78,Valeurs!$A$4:'Valeurs'!$A$46,Valeurs!$B$4:'Valeurs'!$B$46)))))","v":20}]
[{"$f":"Inscription!C8","v":"CSRN"},{"$f":"Inscription!D8","v":"Maxime Laurence"},null,"DQ","DQ","DQ",null,"DQ",{"$f":"IF(F79=\"DNS\",\"0\",IF(F79=\"DQ\",\"0\",IF(F79=\"\",\"\",IF(F79=\"DNF\",\"0\",LOOKUP(H79,Valeurs!$A$4:'Valeurs'!$A$46,Valeurs!$B$4:'Valeurs'!$B$46)))))","v":"0"}]
[{"$f":"Inscription!C9","v":"CSRN"},{"$f":"Inscription!D9","v":"Eugénie Tétreault"},null,"00:00:41.360","00:00:41.360","00:00:41.360",null,6,{"$f":"IF(F80=\"DNS\",\"0\",IF(F80=\"DQ\",\"0\",IF(F80=\"\",\"\",IF(F80=\"DNF\",\"0\",LOOKUP(H80,Valeurs!$A$4:'Valeurs'!$A$46,Valeurs!$B$4:'Valeurs'!$B$46)))))","v":12}]
[{"$f":"Inscription!C10","v":"CSRN"},{"$f":"Inscription!D10","v":"Justin Gauthier"},null,"DNS","DNS","DNS",null,"DNS",{"$f":"IF(F81=\"DNS\",\"0\",IF(F81=\"DQ\",\"0\",IF(F81=\"\",\"\",IF(F81=\"DNF\",\"0\",LOOKUP(H81,Valeurs!$A$4:'Valeurs'!$A$46,Valeurs!$B$4:'Valeurs'!$B$46)))))","v":"0"}]
[{"$f":"Inscription!C11","v":"Gatineau"},{"$f":"Inscription!D11","v":"Justin Pichette"},null,"00:00:49.040","00:00:48.750","00:00:48.895",null,11,{"$f":"IF(F82=\"DNS\",\"0\",IF(F82=\"DQ\",\"0\",IF(F82=\"\",\"\",IF(F82=\"DNF\",\"0\",LOOKUP(H82,Valeurs!$A$4:'Valeurs'!$A$46,Valeurs!$B$4:'Valeurs'!$B$46)))))","v":6}]
[{"$f":"Inscription!C12","v":"Gatineau"},{"$f":"Inscription!D12","v":"Marianne Caplette"},null,"00:00:48.280","00:00:48.340","00:00:48.310",null,10,{"$f":"IF(F83=\"DNS\",\"0\",IF(F83=\"DQ\",\"0\",IF(F83=\"\",\"\",IF(F83=\"DNF\",\"0\",LOOKUP(H83,Valeurs!$A$4:'Valeurs'!$A$46,Valeurs!$B$4:'Valeurs'!$B$46)))))","v":7}]
[{"$f":"Inscription!C13","v":"Narval"},{"$f":"Inscription!D13","v":"Joelle Gauthier-Drapeau"},null,"00:00:45.910","00:00:45.650","00:00:45.780",null,9,{"$f":"IF(F84=\"DNS\",\"0\",IF(F84=\"DQ\",\"0\",IF(F84=\"\",\"\",IF(F84=\"DNF\",\"0\",LOOKUP(H84,Valeurs!$A$4:'Valeurs'!$A$46,Valeurs!$B$4:'Valeurs'!$B$46)))))","v":8}]
[{"$f":"Inscription!C14","v":"Narval"},{"$f":"Inscription!D14","v":"Léony Gobeil"},null,"00:00:35.750","00:00:35.500","00:00:35.625",null,3,{"$f":"IF(F85=\"DNS\",\"0\",IF(F85=\"DQ\",\"0\",IF(F85=\"\",\"\",IF(F85=\"DNF\",\"0\",LOOKUP(H85,Valeurs!$A$4:'Valeurs'!$A$46,Valeurs!$B$4:'Valeurs'!$B$46)))))","v":16}]
[{"$f":"Inscription!C15","v":0},{"$f":"Inscription!D15","v":0},null,null,null,"",null,"",{"$f":"IF(F86=\"DNS\",\"0\",IF(F86=\"DQ\",\"0\",IF(F86=\"\",\"\",IF(F86=\"DNF\",\"0\",LOOKUP(H86,Valeurs!$A$4:'Valeurs'!$A$46,Valeurs!$B$4:'Valeurs'!$B$46)))))","v":""}]
[{"$f":"Inscription!C16","v":0},{"$f":"Inscription!D16","v":0},null,null,null,"",null,"",{"$f":"IF(F87=\"DNS\",\"0\",IF(F87=\"DQ\",\"0\",IF(F87=\"\",\"\",IF(F87=\"DNF\",\"0\",LOOKUP(H87,Valeurs!$A$4:'Valeurs'!$A$46,Valeurs!$B$4:'Valeurs'!$B$46)))))","v":""}]
[{"$f":"Inscription!C17","v":0},{"$f":"Inscription!D17","v":0},null,null,null,"",null,"",{"$f":"IF(F88=\"DNS\",\"0\",IF(F88=\"DQ\",\"0\",IF(F88=\"\",\"\",IF(F88=\"DNF\",\"0\",LOOKUP(H88,Valeurs!$A$4:'Valeurs'!$A$46,Valeurs!$B$4:'Valeurs'!$B$46)))))","v":""}]
[{"$f":"Inscription!C18","v":0},{"$f":"Inscription!D18","v":0},null,null,null,"",null,"",{"$f":"IF(F89=\"DNS\",\"0\",IF(F89=\"DQ\",\"0\",IF(F89=\"\",\"\",IF(F89=\"DNF\",\"0\",LOOKUP(H89,Valeurs!$A$4:'Valeurs'!$A$46,Valeurs!$B$4:'Valeurs'!$B$46)))))","v":""}]
[{"$f":"Inscription!C19","v":0},{"$f":"Inscription!D19","v":0},null,null,null,"",null,"",{"$f":"IF(F90=\"DNS\",\"0\",IF(F90=\"DQ\",\"0\",IF(F90=\"\",\"\",IF(F90=\"DNF\",\"0\",LOOKUP(H90,Valeurs!$A$4:'Valeurs'!$A$46,Valeurs!$B$4:'Valeurs'!$B$46)))))","v":""}]
[{"$f":"Inscription!C20","v":0},{"$f":"Inscription!D20","v":0},null,null,null,"",null,"",{"$f":"IF(F91=\"DNS\",\"0\",IF(F91=\"DQ\",\"0\",IF(F91=\"\",\"\",IF(F91=\"DNF\",\"0\",LOOKUP(H91,Valeurs!$A$4:'Valeurs'!$A$46,Valeurs!$B$4:'Valeurs'!$B$46)))))","v":""}]
[{"$f":"Inscription!C21","v":0},{"$f":"Inscription!D21","v":0},null,null,null,"",null,"",{"$f":"IF(F92=\"DNS\",\"0\",IF(F92=\"DQ\",\"0\",IF(F92=\"\",\"\",IF(F92=\"DNF\",\"0\",LOOKUP(H92,Valeurs!$A$4:'Valeurs'!$A$46,Valeurs!$B$4:'Valeurs'!$B$46)))))","v":""}]
[{"$f":"Inscription!C22","v":0},{"$f":"Inscription!D22","v":0},null,null,null,"",null,"",{"$f":"IF(F93=\"DNS\",\"0\",IF(F93=\"DQ\",\"0\",IF(F93=\"\",\"\",IF(F93=\"DNF\",\"0\",LOOKUP(H93,Valeurs!$A$4:'Valeurs'!$A$46,Valeurs!$B$4:'Valeurs'!$B$46)))))","v":""}]
[{"$f":"Inscription!C23","v":0},{"$f":"Inscription!D23","v":0},null,null,null,"",null,"",{"$f":"IF(F94=\"DNS\",\"0\",IF(F94=\"DQ\",\"0\",IF(F94=\"\",\"\",IF(F94=\"DNF\",\"0\",LOOKUP(H94,Valeurs!$A$4:'Valeurs'!$A$46,Valeurs!$B$4:'Valeurs'!$B$46)))))","v":""}]
[{"$f":"Inscription!C24","v":0},{"$f":"Inscription!D24","v":0},null,null,null,"",null,"",{"$f":"IF(F95=\"DNS\",\"0\",IF(F95=\"DQ\",\"0\",IF(F95=\"\",\"\",IF(F95=\"DNF\",\"0\",LOOKUP(H95,Valeurs!$A$4:'Valeurs'!$A$46,Valeurs!$B$4:'Valeurs'!$B$46)))))","v":""}]
[{"$f":"Inscription!C25","v":0},{"$f":"Inscription!D25","v":0},null,null,null,"",null,"",{"$f":"IF(F96=\"DNS\",\"0\",IF(F96=\"DQ\",\"0\",IF(F96=\"\",\"\",IF(F96=\"DNF\",\"0\",LOOKUP(H96,Valeurs!$A$4:'Valeurs'!$A$46,Valeurs!$B$4:'Valeurs'!$B$46)))))","v":""}]
[{"$f":"Inscription!C26","v":0},{"$f":"Inscription!D26","v":0},null,null,null,"",null,"",{"$f":"IF(F97=\"DNS\",\"0\",IF(F97=\"DQ\",\"0\",IF(F97=\"\",\"\",IF(F97=\"DNF\",\"0\",LOOKUP(H97,Valeurs!$A$4:'Valeurs'!$A$46,Valeurs!$B$4:'Valeurs'!$B$46)))))","v":""}]
[{"$f":"Inscription!C27","v":0},{"$f":"Inscription!D27","v":0},null,null,null,"",null,"",{"$f":"IF(F98=\"DNS\",\"0\",IF(F98=\"DQ\",\"0\",IF(F98=\"\",\"\",IF(F98=\"DNF\",\"0\",LOOKUP(H98,Valeurs!$A$4:'Valeurs'!$A$46,Valeurs!$B$4:'Valeurs'!$B$46)))))","v":""}]
[{"$f":"Inscription!C28","v":0},{"$f":"Inscription!D28","v":0},null,null,null,"",null,"",{"$f":"IF(F99=\"DNS\",\"0\",IF(F99=\"DQ\",\"0\",IF(F99=\"\",\"\",IF(F99=\"DNF\",\"0\",LOOKUP(H99,Valeurs!$A$4:'Valeurs'!$A$46,Valeurs!$B$4:'Valeurs'!$B$46)))))","v":""}]
[{"$f":"Inscription!C29","v":0},{"$f":"Inscription!D29","v":0},null,null,null,"",null,"",{"$f":"IF(F100=\"DNS\",\"0\",IF(F100=\"DQ\",\"0\",IF(F100=\"\",\"\",IF(F100=\"DNF\",\"0\",LOOKUP(H100,Valeurs!$A$4:'Valeurs'!$A$46,Valeurs!$B$4:'Valeurs'!$B$46)))))","v":""}]
[{"$f":"Inscription!C30","v":0},{"$f":"Inscription!D30","v":0},null,null,null,"",null,"",{"$f":"IF(F101=\"DNS\",\"0\",IF(F101=\"DQ\",\"0\",IF(F101=\"\",\"\",IF(F101=\"DNF\",\"0\",LOOKUP(H101,Valeurs!$A$4:'Valeurs'!$A$46,Valeurs!$B$4:'Valeurs'!$B$46)))))","v":""}]
[{"$f":"Inscription!C31","v":0},{"$f":"Inscription!D31","v":0},null,null,null,{"$f":"IF(D102=\"\",\"\",IF(D102=\"DQ\",\"DQ\",IF(D102=\"DNF\",\"DNF\",IF(D102=\"DNS\",\"DNS\",AVERAGE(D102,E102)))))","v":""},null,"",{"$f":"IF(F102=\"DNS\",\"0\",IF(F102=\"DQ\",\"0\",IF(F102=\"\",\"\",IF(F102=\"DNF\",\"0\",LOOKUP(H102,Valeurs!$A$4:'Valeurs'!$A$46,Valeurs!$B$4:'Valeurs'!$B$46)))))","v":""}]
[]
["Portage mannequin 1/2 plein avec palmes - 12 - 13 ans\nÉPREUVE PORTAGE MANNEQUIN + PALMES"]
[]
["Club","Nom",null,"Chrono 1","Chrono 2","Temps final",null,"R","Points"]
[{"$f":"Inscription!C2","v":"SSSL"},{"$f":"Inscription!D2","v":"Sybel Roy"},null,"00:01:21.780","00:01:22.280",{"$f":"IF(D107=\"\",\"\",IF(D107=\"DQ\",\"DQ\",IF(D107=\"DNF\",\"DNF\",IF(D107=\"DNS\",\"DNS\",AVERAGE(D107,E107)))))","v":"00:01:22.030"},null,{"$f":"IF(F107=\"DNS\",\"DNS\",IF(F107=\"DQ\",\"DQ\",IF(F107=\"\",\"\",IF(F107=\"DNF\",\"DNF\",RANK(F107,$F$107:$F$136,1)))))","v":7},{"$f":"IF(F107=\"DNS\",\"0\",IF(F107=\"DQ\",\"0\",IF(F107=\"\",\"\",IF(F107=\"DNF\",\"0\",LOOKUP(H107,Valeurs!$A$4:'Valeurs'!$A$46,Valeurs!$B$4:'Valeurs'!$B$46)))))","v":11}]
[{"$f":"Inscription!C3","v":"CAEM"},{"$f":"Inscription!D3","v":"Ariane St-Denis"},null,"00:01:14.470","00:01:14.150",{"$f":"IF(D108=\"\",\"\",IF(D108=\"DQ\",\"DQ\",IF(D108=\"DNF\",\"DNF\",IF(D108=\"DNS\",\"DNS\",AVERAGE(D108,E108)))))","v":"00:01:14.310"},null,{"$f":"IF(F108=\"DNS\",\"DNS\",IF(F108=\"DQ\",\"DQ\",IF(F108=\"\",\"\",IF(F108=\"DNF\",\"DNF\",RANK(F108,$F$107:$F$136,1)))))","v":4},{"$f":"IF(F108=\"DNS\",\"0\",IF(F108=\"DQ\",\"0\",IF(F108=\"\",\"\",IF(F108=\"DNF\",\"0\",LOOKUP(H108,Valeurs!$A$4:'Valeurs'!$A$46,Valeurs!$B$4:'Valeurs'!$B$46)))))","v":14}]
[{"$f":"Inscription!C4","v":"Dam'eauclès"},{"$f":"Inscription!D4","v":"Émile Turgeon"},null,"00:01:19.130","00:01:18.880","00:01:19.005",null,6,{"$f":"IF(F109=\"DNS\",\"0\",IF(F109=\"DQ\",\"0\",IF(F109=\"\",\"\",IF(F109=\"DNF\",\"0\",LOOKUP(H109,Valeurs!$A$4:'Valeurs'!$A$46,Valeurs!$B$4:'Valeurs'!$B$46)))))","v":12}]
[{"$f":"Inscription!C5","v":"CSRAD"},{"$f":"Inscription!D5","v":"Malory Boisclair"},null,"00:01:10.220","00:01:09.900","00:01:10.060",null,2,{"$f":"IF(F110=\"DNS\",\"0\",IF(F110=\"DQ\",\"0\",IF(F110=\"\",\"\",IF(F110=\"DNF\",\"0\",LOOKUP(H110,Valeurs!$A$4:'Valeurs'!$A$46,Valeurs!$B$4:'Valeurs'!$B$46)))))","v":18}]
[{"$f":"Inscription!C6","v":"30deux"},{"$f":"Inscription!D6","v":"Ariane Trudel"},null,"00:01:12.660","00:01:12.320","00:01:12.490",null,3,{"$f":"IF(F111=\"DNS\",\"0\",IF(F111=\"DQ\",\"0\",IF(F111=\"\",\"\",IF(F111=\"DNF\",\"0\",LOOKUP(H111,Valeurs!$A$4:'Valeurs'!$A$46,Valeurs!$B$4:'Valeurs'!$B$46)))))","v":16}]
[{"$f":"Inscription!C7","v":"CSRN"},{"$f":"Inscription!D7","v":"Thomas Martin"},null,"00:01:06.970","00:01:06.540","00:01:06.755",null,1,{"$f":"IF(F112=\"DNS\",\"0\",IF(F112=\"DQ\",\"0\",IF(F112=\"\",\"\",IF(F112=\"DNF\",\"0\",LOOKUP(H112,Valeurs!$A$4:'Valeurs'!$A$46,Valeurs!$B$4:'Valeurs'!$B$46)))))","v":20}]
[{"$f":"Inscription!C8","v":"CSRN"},{"$f":"Inscription!D8","v":"Maxime Laurence"},null,"00:01:29.370","00:01:29.280","00:01:29.325",null,10,{"$f":"IF(F113=\"DNS\",\"0\",IF(F113=\"DQ\",\"0\",IF(F113=\"\",\"\",IF(F113=\"DNF\",\"0\",LOOKUP(H113,Valeurs!$A$4:'Valeurs'!$A$46,Valeurs!$B$4:'Valeurs'!$B$46)))))","v":7}]
[{"$f":"Inscription!C9","v":"CSRN"},{"$f":"Inscription!D9","v":"Eugénie Tétreault"},null,"00:01:23.280","00:01:23.340","00:01:23.310",null,9,{"$f":"IF(F114=\"DNS\",\"0\",IF(F114=\"DQ\",\"0\",IF(F114=\"\",\"\",IF(F114=\"DNF\",\"0\",LOOKUP(H114,Valeurs!$A$4:'Valeurs'!$A$46,Valeurs!$B$4:'Valeurs'!$B$46)))))","v":8}]
[{"$f":"Inscription!C10","v":"CSRN"},{"$f":"Inscription!D10","v":"Justin Gauthier"},null,"DNS","DNS","DNS",null,"DNS",{"$f":"IF(F115=\"DNS\",\"0\",IF(F115=\"DQ\",\"0\",IF(F115=\"\",\"\",IF(F115=\"DNF\",\"0\",LOOKUP(H115,Valeurs!$A$4:'Valeurs'!$A$46,Valeurs!$B$4:'Valeurs'!$B$46)))))","v":"0"}]
[{"$f":"Inscription!C11","v":"Gatineau"},{"$f":"Inscription!D11","v":"Justin Pichette"},null,"00:01:35.410","00:01:35.720","00:01:35.565",null,12,{"$f":"IF(F116=\"DNS\",\"0\",IF(F116=\"DQ\",\"0\",IF(F116=\"\",\"\",IF(F116=\"DNF\",\"0\",LOOKUP(H116,Valeurs!$A$4:'Valeurs'!$A$46,Valeurs!$B$4:'Valeurs'!$B$46)))))","v":5}]
[{"$f":"Inscription!C12","v":"Gatineau"},{"$f":"Inscription!D12","v":"Marianne Caplette"},null,"00:01:34.750","00:01:34.940","00:01:34.845",null,11,{"$f":"IF(F117=\"DNS\",\"0\",IF(F117=\"DQ\",\"0\",IF(F117=\"\",\"\",IF(F117=\"DNF\",\"0\",LOOKUP(H117,Valeurs!$A$4:'Valeurs'!$A$46,Valeurs!$B$4:'Valeurs'!$B$46)))))","v":6}]
[{"$f":"Inscription!C13","v":"Narval"},{"$f":"Inscription!D13","v":"Joelle Gauthier-Drapeau"},null,"00:01:22.810","00:01:22.250","00:01:22.530",null,8,{"$f":"IF(F118=\"DNS\",\"0\",IF(F118=\"DQ\",\"0\",IF(F118=\"\",\"\",IF(F118=\"DNF\",\"0\",LOOKUP(H118,Valeurs!$A$4:'Valeurs'!$A$46,Valeurs!$B$4:'Valeurs'!$B$46)))))","v":10}]
[{"$f":"Inscription!C14","v":"Narval"},{"$f":"Inscription!D14","v":"Léony Gobeil"},null,"00:01:16.780","00:01:16.440","00:01:16.610",null,5,{"$f":"IF(F119=\"DNS\",\"0\",IF(F119=\"DQ\",\"0\",IF(F119=\"\",\"\",IF(F119=\"DNF\",\"0\",LOOKUP(H119,Valeurs!$A$4:'Valeurs'!$A$46,Valeurs!$B$4:'Valeurs'!$B$46)))))","v":13}]
[{"$f":"Inscription!C15","v":0},{"$f":"Inscription!D15","v":0},null,null,null,"",null,"",{"$f":"IF(F120=\"DNS\",\"0\",IF(F120=\"DQ\",\"0\",IF(F120=\"\",\"\",IF(F120=\"DNF\",\"0\",LOOKUP(H120,Valeurs!$A$4:'Valeurs'!$A$46,Valeurs!$B$4:'Valeurs'!$B$46)))))","v":""}]
[{"$f":"Inscription!C16","v":0},{"$f":"Inscription!D16","v":0},null,null,null,"",null,"",{"$f":"IF(F121=\"DNS\",\"0\",IF(F121=\"DQ\",\"0\",IF(F121=\"\",\"\",IF(F121=\"DNF\",\"0\",LOOKUP(H121,Valeurs!$A$4:'Valeurs'!$A$46,Valeurs!$B$4:'Valeurs'!$B$46)))))","v":""}]
[{"$f":"Inscription!C17","v":0},{"$f":"Inscription!D17","v":0},null,null,null,"",null,"",{"$f":"IF(F122=\"DNS\",\"0\",IF(F122=\"DQ\",\"0\",IF(F122=\"\",\"\",IF(F122=\"DNF\",\"0\",LOOKUP(H122,Valeurs!$A$4:'Valeurs'!$A$46,Valeurs!$B$4:'Valeurs'!$B$46)))))","v":""}]
[{"$f":"Inscription!C18","v":0},{"$f":"Inscription!D18","v":0},null,null,null,"",null,"",{"$f":"IF(F123=\"DNS\",\"0\",IF(F123=\"DQ\",\"0\",IF(F123=\"\",\"\",IF(F123=\"DNF\",\"0\",LOOKUP(H123,Valeurs!$A$4:'Valeurs'!$A$46,Valeurs!$B$4:'Valeurs'!$B$46)))))","v":""}]
[{"$f":"Inscription!C19","v":0},{"$f":"Inscription!D19","v":0},null,null,null,"",null,"",{"$f":"IF(F124=\"DNS\",\"0\",IF(F124=\"DQ\",\"0\",IF(F124=\"\",\"\",IF(F124=\"DNF\",\"0\",LOOKUP(H124,Valeurs!$A$4:'Valeurs'!$A$46,Valeurs!$B$4:'Valeurs'!$B$46)))))","v":""}]
[{"$f":"Inscription!C20","v":0},{"$f":"Inscription!D20","v":0},null,null,null,"",null,"",{"$f":"IF(F125=\"DNS\",\"0\",IF(F125=\"DQ\",\"0\",IF(F125=\"\",\"\",IF(F125=\"DNF\",\"0\",LOOKUP(H125,Valeurs!$A$4:'Valeurs'!$A$46,Valeurs!$B$4:'Valeurs'!$B$46)))))","v":""}]
[{"$f":"Inscription!C21","v":0},{"$f":"Inscription!D21","v":0},null,null,null,"",null,"",{"$f":"IF(F126=\"DNS\",\"0\",IF(F126=\"DQ\",\"0\",IF(F126=\"\",\"\",IF(F126=\"DNF\",\"0\",LOOKUP(H126,Valeurs!$A$4:'Valeurs'!$A$46,Valeurs!$B$4:'Valeurs'!$B$46)))))","v":""}]
[{"$f":"Inscription!C22","v":0},{"$f":"Inscription!D22","v":0},null,null,null,"",null,"",{"$f":"IF(F127=\"DNS\",\"0\",IF(F127=\"DQ\",\"0\",IF(F127=\"\",\"\",IF(F127=\"DNF\",\"0\",LOOKUP(H127,Valeurs!$A$4:'Valeurs'!$A$46,Valeurs!$B$4:'Valeurs'!$B$46)))))","v":""}]
[{"$f":"Inscription!C23","v":0},{"$f":"Inscription!D23","v":0},null,null,null,"",null,"",{"$f":"IF(F128=\"DNS\",\"0\",IF(F128=\"DQ\",\"0\",IF(F128=\"\",\"\",IF(F128=\"DNF\",\"0\",LOOKUP(H128,Valeurs!$A$4:'Valeurs'!$A$46,Valeurs!$B$4:'Valeurs'!$B$46)))))","v":""}]
[{"$f":"Inscription!C24","v":0},{"$f":"Inscription!D24","v":0},null,null,null,"",null,"",{"$f":"IF(F129=\"DNS\",\"0\",IF(F129=\"DQ\",\"0\",IF(F129=\"\",\"\",IF(F129=\"DNF\",\"0\",LOOKUP(H129,Valeurs!$A$4:'Valeurs'!$A$46,Valeurs!$B$4:'Valeurs'!$B$46)))))","v":""}]
[{"$f":"Inscription!C25","v":0},{"$f":"Inscription!D25","v":0},null,null,null,"",null,"",{"$f":"IF(F130=\"DNS\",\"0\",IF(F130=\"DQ\",\"0\",IF(F130=\"\",\"\",IF(F130=\"DNF\",\"0\",LOOKUP(H130,Valeurs!$A$4:'Valeurs'!$A$46,Valeurs!$B$4:'Valeurs'!$B$46)))))","v":""}]
[{"$f":"Inscription!C26","v":0},{"$f":"Inscription!D26","v":0},null,null,null,"",null,"",{"$f":"IF(F131=\"DNS\",\"0\",IF(F131=\"DQ\",\"0\",IF(F131=\"\",\"\",IF(F131=\"DNF\",\"0\",LOOKUP(H131,Valeurs!$A$4:'Valeurs'!$A$46,Valeurs!$B$4:'Valeurs'!$B$46)))))","v":""}]
[{"$f":"Inscription!C27","v":0},{"$f":"Inscription!D27","v":0},null,null,null,"",null,"",{"$f":"IF(F132=\"DNS\",\"0\",IF(F132=\"DQ\",\"0\",IF(F132=\"\",\"\",IF(F132=\"DNF\",\"0\",LOOKUP(H132,Valeurs!$A$4:'Valeurs'!$A$46,Valeurs!$B$4:'Valeurs'!$B$46)))))","v":""}]
[{"$f":"Inscription!C28","v":0},{"$f":"Inscription!D28","v":0},null,null,null,"",null,"",{"$f":"IF(F133=\"DNS\",\"0\",IF(F133=\"DQ\",\"0\",IF(F133=\"\",\"\",IF(F133=\"DNF\",\"0\",LOOKUP(H133,Valeurs!$A$4:'Valeurs'!$A$46,Valeurs!$B$4:'Valeurs'!$B$46)))))","v":""}]
[{"$f":"Inscription!C29","v":0},{"$f":"Inscription!D29","v":0},null,null,null,"",null,"",{"$f":"IF(F134=\"DNS\",\"0\",IF(F134=\"DQ\",\"0\",IF(F134=\"\",\"\",IF(F134=\"DNF\",\"0\",LOOKUP(H134,Valeurs!$A$4:'Valeurs'!$A$46,Valeurs!$B$4:'Valeurs'!$B$46)))))","v":""}]
[{"$f":"Inscription!C30","v":0},{"$f":"Inscription!D30","v":0},null,null,null,"",null,"",{"$f":"IF(F135=\"DNS\",\"0\",IF(F135=\"DQ\",\"0\",IF(F135=\"\",\"\",IF(F135=\"DNF\",\"0\",LOOKUP(H135,Valeurs!$A$4:'Valeurs'!$A$46,Valeurs!$B$4:'Valeurs'!$B$46)))))","v":""}]
[{"$f":"Inscription!C31","v":0},{"$f":"Inscription!D31","v":0},null,null,null,"",null,"",{"$f":"IF(F136=\"DNS\",\"0\",IF(F136=\"DQ\",\"0\",IF(F136=\"\",\"\",IF(F136=\"DNF\",\"0\",LOOKUP(H136,Valeurs!$A$4:'Valeurs'!$A$46,Valeurs!$B$4:'Valeurs'!$B$46)))))","v":""}]
[]
["Portage mannequin 1/2 plein - 12 - 13 ans\nÉPREUVE PORTAGE MANNEQUIN"]
[]
["Club","Nom",null,"Chrono 1","Chrono 2","Temps final",null,"R","Points"]
[{"$f":"Inscription!C2","v":"SSSL"},{"$f":"Inscription!D2","v":"Sybel Roy"},null,"00:00:45.120","00:00:45.120",{"$f":"IF(D141=\"\",\"\",IF(D141=\"DQ\",\"DQ\",IF(D141=\"DNF\",\"DNF\",IF(D141=\"DNS\",\"DNS\",AVERAGE(D141,E141)))))","v":"00:00:45.120"},null,{"$f":"IF(F141=\"DNS\",\"DNS\",IF(F141=\"DQ\",\"DQ\",IF(F141=\"\",\"\",IF(F141=\"DNF\",\"DNF\",RANK(F141,$F$141:$F$170,1)))))","v":6},{"$f":"IF(F141=\"DNS\",\"0\",IF(F141=\"DQ\",\"0\",IF(F141=\"\",\"\",IF(F141=\"DNF\",\"0\",LOOKUP(H141,Valeurs!$A$4:'Valeurs'!$A$46,Valeurs!$B$4:'Valeurs'!$B$46)))))","v":12}]
[{"$f":"Inscription!C3","v":"CAEM"},{"$f":"Inscription!D3","v":"Ariane St-Denis"},null,"00:00:44.280","00:00:44.310",{"$f":"IF(D142=\"\",\"\",IF(D142=\"DQ\",\"DQ\",IF(D142=\"DNF\",\"DNF\",IF(D142=\"DNS\",\"DNS\",AVERAGE(D142,E142)))))","v":"00:00:44.295"},null,{"$f":"IF(F142=\"DNS\",\"DNS\",IF(F142=\"DQ\",\"DQ\",IF(F142=\"\",\"\",IF(F142=\"DNF\",\"DNF\",RANK(F142,$F$141:$F$170,1)))))","v":5},{"$f":"IF(F142=\"DNS\",\"0\",IF(F142=\"DQ\",\"0\",IF(F142=\"\",\"\",IF(F142=\"DNF\",\"0\",LOOKUP(H142,Valeurs!$A$4:'Valeurs'!$A$46,Valeurs!$B$4:'Valeurs'!$B$46)))))","v":13}]
[{"$f":"Inscription!C4","v":"Dam'eauclès"},{"$f":"Inscription!D4","v":"Émile Turgeon"},null,"00:00:50.970","00:00:51","00:00:50.985",null,8,{"$f":"IF(F143=\"DNS\",\"0\",IF(F143=\"DQ\",\"0\",IF(F143=\"\",\"\",IF(F143=\"DNF\",\"0\",LOOKUP(H143,Valeurs!$A$4:'Valeurs'!$A$46,Valeurs!$B$4:'Valeurs'!$B$46)))))","v":10}]
[{"$f":"Inscription!C5","v":"CSRAD"},{"$f":"Inscription!D5","v":"Malory Boisclair"},null,"00:00:41.690","00:00:41.810","00:00:41.750",null,2,{"$f":"IF(F144=\"DNS\",\"0\",IF(F144=\"DQ\",\"0\",IF(F144=\"\",\"\",IF(F144=\"DNF\",\"0\",LOOKUP(H144,Valeurs!$A$4:'Valeurs'!$A$46,Valeurs!$B$4:'Valeurs'!$B$46)))))","v":18}]
[{"$f":"Inscription!C6","v":"30deux"},{"$f":"Inscription!D6","v":"Ariane Trudel"},null,"00:00:43.810","00:00:43.680","00:00:43.745",null,4,{"$f":"IF(F145=\"DNS\",\"0\",IF(F145=\"DQ\",\"0\",IF(F145=\"\",\"\",IF(F145=\"DNF\",\"0\",LOOKUP(H145,Valeurs!$A$4:'Valeurs'!$A$46,Valeurs!$B$4:'Valeurs'!$B$46)))))","v":14}]
[{"$f":"Inscription!C7","v":"CSRN"},{"$f":"Inscription!D7","v":"Thomas Martin"},null,"00:00:41.280","00:00:41.250","00:00:41.265",null,1,{"$f":"IF(F146=\"DNS\",\"0\",IF(F146=\"DQ\",\"0\",IF(F146=\"\",\"\",IF(F146=\"DNF\",\"0\",LOOKUP(H146,Valeurs!$A$4:'Valeurs'!$A$46,Valeurs!$B$4:'Valeurs'!$B$46)))))","v":20}]
[{"$f":"Inscription!C8","v":"CSRN"},{"$f":"Inscription!D8","v":"Maxime Laurence"},null,"DNS","DNS","DNS",null,"DNS",{"$f":"IF(F147=\"DNS\",\"0\",IF(F147=\"DQ\",\"0\",IF(F147=\"\",\"\",IF(F147=\"DNF\",\"0\",LOOKUP(H147,Valeurs!$A$4:'Valeurs'!$A$46,Valeurs!$B$4:'Valeurs'!$B$46)))))","v":"0"}]
[{"$f":"Inscription!C9","v":"CSRN"},{"$f":"Inscription!D9","v":"Eugénie Tétreault"},null,"00:00:47.280","00:00:47.130","00:00:47.205",null,7,{"$f":"IF(F148=\"DNS\",\"0\",IF(F148=\"DQ\",\"0\",IF(F148=\"\",\"\",IF(F148=\"DNF\",\"0\",LOOKUP(H148,Valeurs!$A$4:'Valeurs'!$A$46,Valeurs!$B$4:'Valeurs'!$B$46)))))","v":11}]
[{"$f":"Inscription!C10","v":"CSRN"},{"$f":"Inscription!D10","v":"Justin Gauthier"},null,"DNS","DNS","DNS",null,"DNS",{"$f":"IF(F149=\"DNS\",\"0\",IF(F149=\"DQ\",\"0\",IF(F149=\"\",\"\",IF(F149=\"DNF\",\"0\",LOOKUP(H149,Valeurs!$A$4:'Valeurs'!$A$46,Valeurs!$B$4:'Valeurs'!$B$46)))))","v":"0"}]
[{"$f":"Inscription!C11","v":"Gatineau"},{"$f":"Inscription!D11","v":"Justin Pichette"},null,"00:01:07.180","00:01:07.220","00:01:07.200",null,10,{"$f":"IF(F150=\"DNS\",\"0\",IF(F150=\"DQ\",\"0\",IF(F150=\"\",\"\",IF(F150=\"DNF\",\"0\",LOOKUP(H150,Valeurs!$A$4:'Valeurs'!$A$46,Valeurs!$B$4:'Valeurs'!$B$46)))))","v":7}]
[{"$f":"Inscription!C12","v":"Gatineau"},{"$f":"Inscription!D12","v":"Marianne Caplette"},null,"DQ","DQ","DQ",null,"DQ",{"$f":"IF(F151=\"DNS\",\"0\",IF(F151=\"DQ\",\"0\",IF(F151=\"\",\"\",IF(F151=\"DNF\",\"0\",LOOKUP(H151,Valeurs!$A$4:'Valeurs'!$A$46,Valeurs!$B$4:'Valeurs'!$B$46)))))","v":"0"}]
[{"$f":"Inscription!C13","v":"Narval"},{"$f":"Inscription!D13","v":"Joelle Gauthier-Drapeau"},null,"00:00:53.440","00:00:53.530","00:00:53.485",null,9,{"$f":"IF(F152=\"DNS\",\"0\",IF(F152=\"DQ\",\"0\",IF(F152=\"\",\"\",IF(F152=\"DNF\",\"0\",LOOKUP(H152,Valeurs!$A$4:'Valeurs'!$A$46,Valeurs!$B$4:'Valeurs'!$B$46)))))","v":8}]
[{"$f":"Inscription!C14","v":"Narval"},{"$f":"Inscription!D14","v":"Léony Gobeil"},null,"00:00:42.590","00:00:42.540","00:00:42.565",null,3,{"$f":"IF(F153=\"DNS\",\"0\",IF(F153=\"DQ\",\"0\",IF(F153=\"\",\"\",IF(F153=\"DNF\",\"0\",LOOKUP(H153,Valeurs!$A$4:'Valeurs'!$A$46,Valeurs!$B$4:'Valeurs'!$B$46)))))","v":16}]
[{"$f":"Inscription!C15","v":0},{"$f":"Inscription!D15","v":0},null,null,null,"",null,"",{"$f":"IF(F154=\"DNS\",\"0\",IF(F154=\"DQ\",\"0\",IF(F154=\"\",\"\",IF(F154=\"DNF\",\"0\",LOOKUP(H154,Valeurs!$A$4:'Valeurs'!$A$46,Valeurs!$B$4:'Valeurs'!$B$46)))))","v":""}]
[{"$f":"Inscription!C16","v":0},{"$f":"Inscription!D16","v":0},null,null,null,"",null,"",{"$f":"IF(F155=\"DNS\",\"0\",IF(F155=\"DQ\",\"0\",IF(F155=\"\",\"\",IF(F155=\"DNF\",\"0\",LOOKUP(H155,Valeurs!$A$4:'Valeurs'!$A$46,Valeurs!$B$4:'Valeurs'!$B$46)))))","v":""}]
[{"$f":"Inscription!C17","v":0},{"$f":"Inscription!D17","v":0},null,null,null,"",null,"",{"$f":"IF(F156=\"DNS\",\"0\",IF(F156=\"DQ\",\"0\",IF(F156=\"\",\"\",IF(F156=\"DNF\",\"0\",LOOKUP(H156,Valeurs!$A$4:'Valeurs'!$A$46,Valeurs!$B$4:'Valeurs'!$B$46)))))","v":""}]
[{"$f":"Inscription!C18","v":0},{"$f":"Inscription!D18","v":0},null,null,null,"",null,"",{"$f":"IF(F157=\"DNS\",\"0\",IF(F157=\"DQ\",\"0\",IF(F157=\"\",\"\",IF(F157=\"DNF\",\"0\",LOOKUP(H157,Valeurs!$A$4:'Valeurs'!$A$46,Valeurs!$B$4:'Valeurs'!$B$46)))))","v":""}]
[{"$f":"Inscription!C19","v":0},{"$f":"Inscription!D19","v":0},null,null,null,"",null,"",{"$f":"IF(F158=\"DNS\",\"0\",IF(F158=\"DQ\",\"0\",IF(F158=\"\",\"\",IF(F158=\"DNF\",\"0\",LOOKUP(H158,Valeurs!$A$4:'Valeurs'!$A$46,Valeurs!$B$4:'Valeurs'!$B$46)))))","v":""}]
[{"$f":"Inscription!C20","v":0},{"$f":"Inscription!D20","v":0},null,null,null,"",null,"",{"$f":"IF(F159=\"DNS\",\"0\",IF(F159=\"DQ\",\"0\",IF(F159=\"\",\"\",IF(F159=\"DNF\",\"0\",LOOKUP(H159,Valeurs!$A$4:'Valeurs'!$A$46,Valeurs!$B$4:'Valeurs'!$B$46)))))","v":""}]
[{"$f":"Inscription!C21","v":0},{"$f":"Inscription!D21","v":0},null,null,null,"",null,"",{"$f":"IF(F160=\"DNS\",\"0\",IF(F160=\"DQ\",\"0\",IF(F160=\"\",\"\",IF(F160=\"DNF\",\"0\",LOOKUP(H160,Valeurs!$A$4:'Valeurs'!$A$46,Valeurs!$B$4:'Valeurs'!$B$46)))))","v":""}]
[{"$f":"Inscription!C22","v":0},{"$f":"Inscription!D22","v":0},null,null,null,"",null,"",{"$f":"IF(F161=\"DNS\",\"0\",IF(F161=\"DQ\",\"0\",IF(F161=\"\",\"\",IF(F161=\"DNF\",\"0\",LOOKUP(H161,Valeurs!$A$4:'Valeurs'!$A$46,Valeurs!$B$4:'Valeurs'!$B$46)))))","v":""}]
[{"$f":"Inscription!C23","v":0},{"$f":"Inscription!D23","v":0},null,null,null,"",null,"",{"$f":"IF(F162=\"DNS\",\"0\",IF(F162=\"DQ\",\"0\",IF(F162=\"\",\"\",IF(F162=\"DNF\",\"0\",LOOKUP(H162,Valeurs!$A$4:'Valeurs'!$A$46,Valeurs!$B$4:'Valeurs'!$B$46)))))","v":""}]
[{"$f":"Inscription!C24","v":0},{"$f":"Inscription!D24","v":0},null,null,null,"",null,"",{"$f":"IF(F163=\"DNS\",\"0\",IF(F163=\"DQ\",\"0\",IF(F163=\"\",\"\",IF(F163=\"DNF\",\"0\",LOOKUP(H163,Valeurs!$A$4:'Valeurs'!$A$46,Valeurs!$B$4:'Valeurs'!$B$46)))))","v":""}]
[{"$f":"Inscription!C25","v":0},{"$f":"Inscription!D25","v":0},null,null,null,"",null,"",{"$f":"IF(F164=\"DNS\",\"0\",IF(F164=\"DQ\",\"0\",IF(F164=\"\",\"\",IF(F164=\"DNF\",\"0\",LOOKUP(H164,Valeurs!$A$4:'Valeurs'!$A$46,Valeurs!$B$4:'Valeurs'!$B$46)))))","v":""}]
[{"$f":"Inscription!C26","v":0},{"$f":"Inscription!D26","v":0},null,null,null,"",null,"",{"$f":"IF(F165=\"DNS\",\"0\",IF(F165=\"DQ\",\"0\",IF(F165=\"\",\"\",IF(F165=\"DNF\",\"0\",LOOKUP(H165,Valeurs!$A$4:'Valeurs'!$A$46,Valeurs!$B$4:'Valeurs'!$B$46)))))","v":""}]
[{"$f":"Inscription!C27","v":0},{"$f":"Inscription!D27","v":0},null,null,null,"",null,"",{"$f":"IF(F166=\"DNS\",\"0\",IF(F166=\"DQ\",\"0\",IF(F166=\"\",\"\",IF(F166=\"DNF\",\"0\",LOOKUP(H166,Valeurs!$A$4:'Valeurs'!$A$46,Valeurs!$B$4:'Valeurs'!$B$46)))))","v":""}]
[{"$f":"Inscription!C28","v":0},{"$f":"Inscription!D28","v":0},null,null,null,"",null,"",{"$f":"IF(F167=\"DNS\",\"0\",IF(F167=\"DQ\",\"0\",IF(F167=\"\",\"\",IF(F167=\"DNF\",\"0\",LOOKUP(H167,Valeurs!$A$4:'Valeurs'!$A$46,Valeurs!$B$4:'Valeurs'!$B$46)))))","v":""}]
[{"$f":"Inscription!C29","v":0},{"$f":"Inscription!D29","v":0},null,null,null,"",null,"",{"$f":"IF(F168=\"DNS\",\"0\",IF(F168=\"DQ\",\"0\",IF(F168=\"\",\"\",IF(F168=\"DNF\",\"0\",LOOKUP(H168,Valeurs!$A$4:'Valeurs'!$A$46,Valeurs!$B$4:'Valeurs'!$B$46)))))","v":""}]
[{"$f":"Inscription!C30","v":0},{"$f":"Inscription!D30","v":0},null,null,null,"",null,"",{"$f":"IF(F169=\"DNS\",\"0\",IF(F169=\"DQ\",\"0\",IF(F169=\"\",\"\",IF(F169=\"DNF\",\"0\",LOOKUP(H169,Valeurs!$A$4:'Valeurs'!$A$46,Valeurs!$B$4:'Valeurs'!$B$46)))))","v":""}]
[{"$f":"Inscription!C31","v":0},{"$f":"Inscription!D31","v":0},null,null,null,"",null,"",{"$f":"IF(F170=\"DNS\",\"0\",IF(F170=\"DQ\",\"0\",IF(F170=\"\",\"\",IF(F170=\"DNF\",\"0\",LOOKUP(H170,Valeurs!$A$4:'Valeurs'!$A$46,Valeurs!$B$4:'Valeurs'!$B$46)))))","v":""}]
[]
["Sauveteur d'acier - 12 - 13 ans\nÉPREUVE SAUVETEUR D'ACIER"]
[]
["Club","Nom",null,"Chrono 1","Chrono 2","Temps final",null,"R","Points"]
[{"$f":"Inscription!C2","v":"SSSL"},{"$f":"Inscription!D2","v":"Sybel Roy"},null,"00:01:52.500","00:01:52.900",{"$f":"IF(D175=\"\",\"\",IF(D175=\"DQ\",\"DQ\",IF(D175=\"DNF\",\"DNF\",IF(D175=\"DNS\",\"DNS\",AVERAGE(D175,E175)))))","v":"00:01:52.700"},null,{"$f":"IF(F175=\"DNS\",\"DNS\",IF(F175=\"DQ\",\"DQ\",IF(F175=\"\",\"\",IF(F175=\"DNF\",\"DNF\",RANK(F175,$F$174:$F$204,1)))))","v":6},{"$f":"IF(F175=\"DNS\",\"0\",IF(F175=\"DQ\",\"0\",IF(F175=\"\",\"\",IF(F175=\"DNF\",\"0\",LOOKUP(H175,Valeurs!$A$4:'Valeurs'!$A$46,Valeurs!$B$4:'Valeurs'!$B$46)))))","v":12}]
[{"$f":"Inscription!C3","v":"CAEM"},{"$f":"Inscription!D3","v":"Ariane St-Denis"},null,"00:01:35.560","00:01:35.310",{"$f":"IF(D176=\"\",\"\",IF(D176=\"DQ\",\"DQ\",IF(D176=\"DNF\",\"DNF\",IF(D176=\"DNS\",\"DNS\",AVERAGE(D176,E176)))))","v":"00:01:35.435"},null,{"$f":"IF(F176=\"DNS\",\"DNS\",IF(F176=\"DQ\",\"DQ\",IF(F176=\"\",\"\",IF(F176=\"DNF\",\"DNF\",RANK(F176,$F$174:$F$204,1)))))","v":1},{"$f":"IF(F176=\"DNS\",\"0\",IF(F176=\"DQ\",\"0\",IF(F176=\"\",\"\",IF(F176=\"DNF\",\"0\",LOOKUP(H176,Valeurs!$A$4:'Valeurs'!$A$46,Valeurs!$B$4:'Valeurs'!$B$46)))))","v":20}]
[{"$f":"Inscription!C4","v":"Dam'eauclès"},{"$f":"Inscription!D4","v":"Émile Turgeon"},null,"00:02:00.020","00:01:59.750","00:01:59.885",null,7,{"$f":"IF(F177=\"DNS\",\"0\",IF(F177=\"DQ\",\"0\",IF(F177=\"\",\"\",IF(F177=\"DNF\",\"0\",LOOKUP(H177,Valeurs!$A$4:'Valeurs'!$A$46,Valeurs!$B$4:'Valeurs'!$B$46)))))","v":11}]
[{"$f":"Inscription!C5","v":"CSRAD"},{"$f":"Inscription!D5","v":"Malory Boisclair"},null,"DQ","DQ","DQ",null,"DQ",{"$f":"IF(F178=\"DNS\",\"0\",IF(F178=\"DQ\",\"0\",IF(F178=\"\",\"\",IF(F178=\"DNF\",\"0\",LOOKUP(H178,Valeurs!$A$4:'Valeurs'!$A$46,Valeurs!$B$4:'Valeurs'!$B$46)))))","v":"0"}]
[{"$f":"Inscription!C6","v":"30deux"},{"$f":"Inscription!D6","v":"Ariane Trudel"},null,"00:01:39.910","00:01:38.870","00:01:39.390",null,3,{"$f":"IF(F179=\"DNS\",\"0\",IF(F179=\"DQ\",\"0\",IF(F179=\"\",\"\",IF(F179=\"DNF\",\"0\",LOOKUP(H179,Valeurs!$A$4:'Valeurs'!$A$46,Valeurs!$B$4:'Valeurs'!$B$46)))))","v":16}]
[{"$f":"Inscription!C7","v":"CSRN"},{"$f":"Inscription!D7","v":"Thomas Martin"},null,"00:01:37.560","00:01:37.570","00:01:37.565",null,2,{"$f":"IF(F180=\"DNS\",\"0\",IF(F180=\"DQ\",\"0\",IF(F180=\"\",\"\",IF(F180=\"DNF\",\"0\",LOOKUP(H180,Valeurs!$A$4:'Valeurs'!$A$46,Valeurs!$B$4:'Valeurs'!$B$46)))))","v":18}]
[{"$f":"Inscription!C8","v":"CSRN"},{"$f":"Inscription!D8","v":"Maxime Laurence"},null,"DNS","DNS","DNS",null,"DNS",{"$f":"IF(F181=\"DNS\",\"0\",IF(F181=\"DQ\",\"0\",IF(F181=\"\",\"\",IF(F181=\"DNF\",\"0\",LOOKUP(H181,Valeurs!$A$4:'Valeurs'!$A$46,Valeurs!$B$4:'Valeurs'!$B$46)))))","v":"0"}]
[{"$f":"Inscription!C9","v":"CSRN"},{"$f":"Inscription!D9","v":"Eugénie Tétreault"},null,"00:01:52.440","00:01:52.500","00:01:52.470",null,5,{"$f":"IF(F182=\"DNS\",\"0\",IF(F182=\"DQ\",\"0\",IF(F182=\"\",\"\",IF(F182=\"DNF\",\"0\",LOOKUP(H182,Valeurs!$A$4:'Valeurs'!$A$46,Valeurs!$B$4:'Valeurs'!$B$46)))))","v":13}]
[{"$f":"Inscription!C10","v":"CSRN"},{"$f":"Inscription!D10","v":"Justin Gauthier"},null,"DNS","DNS","DNS",null,"DNS",{"$f":"IF(F183=\"DNS\",\"0\",IF(F183=\"DQ\",\"0\",IF(F183=\"\",\"\",IF(F183=\"DNF\",\"0\",LOOKUP(H183,Valeurs!$A$4:'Valeurs'!$A$46,Valeurs!$B$4:'Valeurs'!$B$46)))))","v":"0"}]
[{"$f":"Inscription!C11","v":"Gatineau"},{"$f":"Inscription!D11","v":"Justin Pichette"},null,"DQ","DQ","DQ",null,"DQ",{"$f":"IF(F184=\"DNS\",\"0\",IF(F184=\"DQ\",\"0\",IF(F184=\"\",\"\",IF(F184=\"DNF\",\"0\",LOOKUP(H184,Valeurs!$A$4:'Valeurs'!$A$46,Valeurs!$B$4:'Valeurs'!$B$46)))))","v":"0"}]
[{"$f":"Inscription!C12","v":"Gatineau"},{"$f":"Inscription!D12","v":"Marianne Caplette"},null,"DQ","DQ","DQ",null,"DQ",{"$f":"IF(F185=\"DNS\",\"0\",IF(F185=\"DQ\",\"0\",IF(F185=\"\",\"\",IF(F185=\"DNF\",\"0\",LOOKUP(H185,Valeurs!$A$4:'Valeurs'!$A$46,Valeurs!$B$4:'Valeurs'!$B$46)))))","v":"0"}]
[{"$f":"Inscription!C13","v":"Narval"},{"$f":"Inscription!D13","v":"Joelle Gauthier-Drapeau"},null,"00:02:02.840","00:02:02.690","00:02:02.765",null,8,{"$f":"IF(F186=\"DNS\",\"0\",IF(F186=\"DQ\",\"0\",IF(F186=\"\",\"\",IF(F186=\"DNF\",\"0\",LOOKUP(H186,Valeurs!$A$4:'Valeurs'!$A$46,Valeurs!$B$4:'Valeurs'!$B$46)))))","v":10}]
[{"$f":"Inscription!C14","v":"Narval"},{"$f":"Inscription!D14","v":"Léony Gobeil"},null,"00:01:45.560","00:01:46.500","00:01:46.030",null,4,{"$f":"IF(F187=\"DNS\",\"0\",IF(F187=\"DQ\",\"0\",IF(F187=\"\",\"\",IF(F187=\"DNF\",\"0\",LOOKUP(H187,Valeurs!$A$4:'Valeurs'!$A$46,Valeurs!$B$4:'Valeurs'!$B$46)))))","v":14}]
[{"$f":"Inscription!C15","v":0},{"$f":"Inscription!D15","v":0},null,null,null,"",null,"",{"$f":"IF(F188=\"DNS\",\"0\",IF(F188=\"DQ\",\"0\",IF(F188=\"\",\"\",IF(F188=\"DNF\",\"0\",LOOKUP(H188,Valeurs!$A$4:'Valeurs'!$A$46,Valeurs!$B$4:'Valeurs'!$B$46)))))","v":""}]
[{"$f":"Inscription!C16","v":0},{"$f":"Inscription!D16","v":0},null,null,null,"",null,"",{"$f":"IF(F189=\"DNS\",\"0\",IF(F189=\"DQ\",\"0\",IF(F189=\"\",\"\",IF(F189=\"DNF\",\"0\",LOOKUP(H189,Valeurs!$A$4:'Valeurs'!$A$46,Valeurs!$B$4:'Valeurs'!$B$46)))))","v":""}]
[{"$f":"Inscription!C17","v":0},{"$f":"Inscription!D17","v":0},null,null,null,"",null,"",{"$f":"IF(F190=\"DNS\",\"0\",IF(F190=\"DQ\",\"0\",IF(F190=\"\",\"\",IF(F190=\"DNF\",\"0\",LOOKUP(H190,Valeurs!$A$4:'Valeurs'!$A$46,Valeurs!$B$4:'Valeurs'!$B$46)))))","v":""}]
[{"$f":"Inscription!C18","v":0},{"$f":"Inscription!D18","v":0},null,null,null,"",null,"",{"$f":"IF(F191=\"DNS\",\"0\",IF(F191=\"DQ\",\"0\",IF(F191=\"\",\"\",IF(F191=\"DNF\",\"0\",LOOKUP(H191,Valeurs!$A$4:'Valeurs'!$A$46,Valeurs!$B$4:'Valeurs'!$B$46)))))","v":""}]
[{"$f":"Inscription!C19","v":0},{"$f":"Inscription!D19","v":0},null,null,null,"",null,"",{"$f":"IF(F192=\"DNS\",\"0\",IF(F192=\"DQ\",\"0\",IF(F192=\"\",\"\",IF(F192=\"DNF\",\"0\",LOOKUP(H192,Valeurs!$A$4:'Valeurs'!$A$46,Valeurs!$B$4:'Valeurs'!$B$46)))))","v":""}]
[{"$f":"Inscription!C20","v":0},{"$f":"Inscription!D20","v":0},null,null,null,"",null,"",{"$f":"IF(F193=\"DNS\",\"0\",IF(F193=\"DQ\",\"0\",IF(F193=\"\",\"\",IF(F193=\"DNF\",\"0\",LOOKUP(H193,Valeurs!$A$4:'Valeurs'!$A$46,Valeurs!$B$4:'Valeurs'!$B$46)))))","v":""}]
[{"$f":"Inscription!C21","v":0},{"$f":"Inscription!D21","v":0},null,null,null,"",null,"",{"$f":"IF(F194=\"DNS\",\"0\",IF(F194=\"DQ\",\"0\",IF(F194=\"\",\"\",IF(F194=\"DNF\",\"0\",LOOKUP(H194,Valeurs!$A$4:'Valeurs'!$A$46,Valeurs!$B$4:'Valeurs'!$B$46)))))","v":""}]
[{"$f":"Inscription!C22","v":0},{"$f":"Inscription!D22","v":0},null,null,null,"",null,"",{"$f":"IF(F195=\"DNS\",\"0\",IF(F195=\"DQ\",\"0\",IF(F195=\"\",\"\",IF(F195=\"DNF\",\"0\",LOOKUP(H195,Valeurs!$A$4:'Valeurs'!$A$46,Valeurs!$B$4:'Valeurs'!$B$46)))))","v":""}]
[{"$f":"Inscription!C23","v":0},{"$f":"Inscription!D23","v":0},null,null,null,"",null,"",{"$f":"IF(F196=\"DNS\",\"0\",IF(F196=\"DQ\",\"0\",IF(F196=\"\",\"\",IF(F196=\"DNF\",\"0\",LOOKUP(H196,Valeurs!$A$4:'Valeurs'!$A$46,Valeurs!$B$4:'Valeurs'!$B$46)))))","v":""}]
[{"$f":"Inscription!C24","v":0},{"$f":"Inscription!D24","v":0},null,null,null,"",null,"",{"$f":"IF(F197=\"DNS\",\"0\",IF(F197=\"DQ\",\"0\",IF(F197=\"\",\"\",IF(F197=\"DNF\",\"0\",LOOKUP(H197,Valeurs!$A$4:'Valeurs'!$A$46,Valeurs!$B$4:'Valeurs'!$B$46)))))","v":""}]
[{"$f":"Inscription!C25","v":0},{"$f":"Inscription!D25","v":0},null,null,null,"",null,"",{"$f":"IF(F198=\"DNS\",\"0\",IF(F198=\"DQ\",\"0\",IF(F198=\"\",\"\",IF(F198=\"DNF\",\"0\",LOOKUP(H198,Valeurs!$A$4:'Valeurs'!$A$46,Valeurs!$B$4:'Valeurs'!$B$46)))))","v":""}]
[{"$f":"Inscription!C26","v":0},{"$f":"Inscription!D26","v":0},null,null,null,"",null,"",{"$f":"IF(F199=\"DNS\",\"0\",IF(F199=\"DQ\",\"0\",IF(F199=\"\",\"\",IF(F199=\"DNF\",\"0\",LOOKUP(H199,Valeurs!$A$4:'Valeurs'!$A$46,Valeurs!$B$4:'Valeurs'!$B$46)))))","v":""}]
[{"$f":"Inscription!C27","v":0},{"$f":"Inscription!D27","v":0},null,null,null,"",null,"",{"$f":"IF(F200=\"DNS\",\"0\",IF(F200=\"DQ\",\"0\",IF(F200=\"\",\"\",IF(F200=\"DNF\",\"0\",LOOKUP(H200,Valeurs!$A$4:'Valeurs'!$A$46,Valeurs!$B$4:'Valeurs'!$B$46)))))","v":""}]
[{"$f":"Inscription!C28","v":0},{"$f":"Inscription!D28","v":0},null,null,null,"",null,"",{"$f":"IF(F201=\"DNS\",\"0\",IF(F201=\"DQ\",\"0\",IF(F201=\"\",\"\",IF(F201=\"DNF\",\"0\",LOOKUP(H201,Valeurs!$A$4:'Valeurs'!$A$46,Valeurs!$B$4:'Valeurs'!$B$46)))))","v":""}]
[{"$f":"Inscription!C29","v":0},{"$f":"Inscription!D29","v":0},null,null,null,"",null,"",{"$f":"IF(F202=\"DNS\",\"0\",IF(F202=\"DQ\",\"0\",IF(F202=\"\",\"\",IF(F202=\"DNF\",\"0\",LOOKUP(H202,Valeurs!$A$4:'Valeurs'!$A$46,Valeurs!$B$4:'Valeurs'!$B$46)))))","v":""}]
[{"$f":"Inscription!C30","v":0},{"$f":"Inscription!D30","v":0},null,null,null,"",null,"",{"$f":"IF(F203=\"DNS\",\"0\",IF(F203=\"DQ\",\"0\",IF(F203=\"\",\"\",IF(F203=\"DNF\",\"0\",LOOKUP(H203,Valeurs!$A$4:'Valeurs'!$A$46,Valeurs!$B$4:'Valeurs'!$B$46)))))","v":""}]
[{"$f":"Inscription!C31","v":0},{"$f":"Inscription!D31","v":0},null,null,null,"",null,"",{"$f":"IF(F204=\"DNS\",\"0\",IF(F204=\"DQ\",\"0\",IF(F204=\"\",\"\",IF(F204=\"DNF\",\"0\",LOOKUP(H204,Valeurs!$A$4:'Valeurs'!$A$46,Valeurs!$B$4:'Valeurs'!$B$46)))))","v":""}]
[]
["Medley de sauvetage - 12 - 13 ans\nÉPREUVE MEDLEY SAUVETAGE"]
[]
["Club","Nom",null,"Chrono 1","Chrono 2","Temps final",null,"R","Points"]
[{"$f":"Inscription!C2","v":"SSSL"},{"$f":"Inscription!D2","v":"Sybel Roy"},null,null,null,{"$f":"IF(D209=\"\",\"\",IF(D209=\"DQ\",\"DQ\",IF(D209=\"DNF\",\"DNF\",IF(D209=\"DNS\",\"DNS\",AVERAGE(D209,E209)))))","v":""},null,{"$f":"IF(F209=\"DNS\",\"DNS\",IF(F209=\"DQ\",\"DQ\",IF(F209=\"\",\"\",IF(F209=\"DNF\",\"DNF\",RANK(F209,$F$209:$F$238,1)))))","v":""},{"$f":"IF(F209=\"\",\"\",LOOKUP(H209,Valeurs!$A$4:'Valeurs'!$A$46,Valeurs!$B$4:'Valeurs'!$B$46))","v":""}]
[{"$f":"Inscription!C3","v":"CAEM"},{"$f":"Inscription!D3","v":"Ariane St-Denis"},null,null,null,{"$f":"IF(D210=\"\",\"\",IF(D210=\"DQ\",\"DQ\",IF(D210=\"DNF\",\"DNF\",IF(D210=\"DNS\",\"DNS\",AVERAGE(D210,E210)))))","v":""},null,{"$f":"IF(F210=\"DNS\",\"DNS\",IF(F210=\"DQ\",\"DQ\",IF(F210=\"\",\"\",IF(F210=\"DNF\",\"DNF\",RANK(F210,$F$209:$F$238,1)))))","v":""},{"$f":"IF(F210=\"\",\"\",LOOKUP(H210,Valeurs!$A$4:'Valeurs'!$A$46,Valeurs!$B$4:'Valeurs'!$B$46))","v":""}]
[{"$f":"Inscription!C4","v":"Dam'eauclès"},{"$f":"Inscription!D4","v":"Émile Turgeon"},null,null,null,"",null,"",{"$f":"IF(F211=\"\",\"\",LOOKUP(H211,Valeurs!$A$4:'Valeurs'!$A$46,Valeurs!$B$4:'Valeurs'!$B$46))","v":""}]
[{"$f":"Inscription!C5","v":"CSRAD"},{"$f":"Inscription!D5","v":"Malory Boisclair"},null,null,null,"",null,"",{"$f":"IF(F212=\"\",\"\",LOOKUP(H212,Valeurs!$A$4:'Valeurs'!$A$46,Valeurs!$B$4:'Valeurs'!$B$46))","v":""}]
[{"$f":"Inscription!C6","v":"30deux"},{"$f":"Inscription!D6","v":"Ariane Trudel"},null,null,null,"",null,"",{"$f":"IF(F213=\"\",\"\",LOOKUP(H213,Valeurs!$A$4:'Valeurs'!$A$46,Valeurs!$B$4:'Valeurs'!$B$46))","v":""}]
[{"$f":"Inscription!C7","v":"CSRN"},{"$f":"Inscription!D7","v":"Thomas Martin"},null,null,null,"",null,"",{"$f":"IF(F214=\"\",\"\",LOOKUP(H214,Valeurs!$A$4:'Valeurs'!$A$46,Valeurs!$B$4:'Valeurs'!$B$46))","v":""}]
[{"$f":"Inscription!C8","v":"CSRN"},{"$f":"Inscription!D8","v":"Maxime Laurence"},null,null,null,"",null,"",{"$f":"IF(F215=\"\",\"\",LOOKUP(H215,Valeurs!$A$4:'Valeurs'!$A$46,Valeurs!$B$4:'Valeurs'!$B$46))","v":""}]
[{"$f":"Inscription!C9","v":"CSRN"},{"$f":"Inscription!D9","v":"Eugénie Tétreault"},null,null,null,"",null,"",{"$f":"IF(F216=\"\",\"\",LOOKUP(H216,Valeurs!$A$4:'Valeurs'!$A$46,Valeurs!$B$4:'Valeurs'!$B$46))","v":""}]
[{"$f":"Inscription!C10","v":"CSRN"},{"$f":"Inscription!D10","v":"Justin Gauthier"},null,null,null,"",null,"",{"$f":"IF(F217=\"\",\"\",LOOKUP(H217,Valeurs!$A$4:'Valeurs'!$A$46,Valeurs!$B$4:'Valeurs'!$B$46))","v":""}]
[{"$f":"Inscription!C11","v":"Gatineau"},{"$f":"Inscription!D11","v":"Justin Pichette"},null,null,null,"",null,"",{"$f":"IF(F218=\"\",\"\",LOOKUP(H218,Valeurs!$A$4:'Valeurs'!$A$46,Valeurs!$B$4:'Valeurs'!$B$46))","v":""}]
[{"$f":"Inscription!C12","v":"Gatineau"},{"$f":"Inscription!D12","v":"Marianne Caplette"},null,null,null,"",null,"",{"$f":"IF(F219=\"\",\"\",LOOKUP(H219,Valeurs!$A$4:'Valeurs'!$A$46,Valeurs!$B$4:'Valeurs'!$B$46))","v":""}]
[{"$f":"Inscription!C13","v":"Narval"},{"$f":"Inscription!D13","v":"Joelle Gauthier-Drapeau"},null,null,null,"",null,"",{"$f":"IF(F220=\"\",\"\",LOOKUP(H220,Valeurs!$A$4:'Valeurs'!$A$46,Valeurs!$B$4:'Valeurs'!$B$46))","v":""}]
[{"$f":"Inscription!C14","v":"Narval"},{"$f":"Inscription!D14","v":"Léony Gobeil"},null,null,null,"",null,"",{"$f":"IF(F221=\"\",\"\",LOOKUP(H221,Valeurs!$A$4:'Valeurs'!$A$46,Valeurs!$B$4:'Valeurs'!$B$46))","v":""}]
[{"$f":"Inscription!C15","v":0},{"$f":"Inscription!D15","v":0},null,null,null,"",null,"",{"$f":"IF(F222=\"\",\"\",LOOKUP(H222,Valeurs!$A$4:'Valeurs'!$A$46,Valeurs!$B$4:'Valeurs'!$B$46))","v":""}]
[{"$f":"Inscription!C16","v":0},{"$f":"Inscription!D16","v":0},null,null,null,"",null,"",{"$f":"IF(F223=\"\",\"\",LOOKUP(H223,Valeurs!$A$4:'Valeurs'!$A$46,Valeurs!$B$4:'Valeurs'!$B$46))","v":""}]
[{"$f":"Inscription!C17","v":0},{"$f":"Inscription!D17","v":0},null,null,null,"",null,"",{"$f":"IF(F224=\"\",\"\",LOOKUP(H224,Valeurs!$A$4:'Valeurs'!$A$46,Valeurs!$B$4:'Valeurs'!$B$46))","v":""}]
[{"$f":"Inscription!C18","v":0},{"$f":"Inscription!D18","v":0},null,null,null,"",null,"",{"$f":"IF(F225=\"\",\"\",LOOKUP(H225,Valeurs!$A$4:'Valeurs'!$A$46,Valeurs!$B$4:'Valeurs'!$B$46))","v":""}]
[{"$f":"Inscription!C19","v":0},{"$f":"Inscription!D19","v":0},null,null,null,"",null,"",{"$f":"IF(F226=\"\",\"\",LOOKUP(H226,Valeurs!$A$4:'Valeurs'!$A$46,Valeurs!$B$4:'Valeurs'!$B$46))","v":""}]
[{"$f":"Inscription!C20","v":0},{"$f":"Inscription!D20","v":0},null,null,null,"",null,"",{"$f":"IF(F227=\"\",\"\",LOOKUP(H227,Valeurs!$A$4:'Valeurs'!$A$46,Valeurs!$B$4:'Valeurs'!$B$46))","v":""}]
[{"$f":"Inscription!C21","v":0},{"$f":"Inscription!D21","v":0},null,null,null,"",null,"",{"$f":"IF(F228=\"\",\"\",LOOKUP(H228,Valeurs!$A$4:'Valeurs'!$A$46,Valeurs!$B$4:'Valeurs'!$B$46))","v":""}]
[{"$f":"Inscription!C22","v":0},{"$f":"Inscription!D22","v":0},null,null,null,"",null,"",{"$f":"IF(F229=\"\",\"\",LOOKUP(H229,Valeurs!$A$4:'Valeurs'!$A$46,Valeurs!$B$4:'Valeurs'!$B$46))","v":""}]
[{"$f":"Inscription!C23","v":0},{"$f":"Inscription!D23","v":0},null,null,null,"",null,"",{"$f":"IF(F230=\"\",\"\",LOOKUP(H230,Valeurs!$A$4:'Valeurs'!$A$46,Valeurs!$B$4:'Valeurs'!$B$46))","v":""}]
[{"$f":"Inscription!C24","v":0},{"$f":"Inscription!D24","v":0},null,null,null,"",null,"",{"$f":"IF(F231=\"\",\"\",LOOKUP(H231,Valeurs!$A$4:'Valeurs'!$A$46,Valeurs!$B$4:'Valeurs'!$B$46))","v":""}]
[{"$f":"Inscription!C25","v":0},{"$f":"Inscription!D25","v":0},null,null,null,"",null,"",{"$f":"IF(F232=\"\",\"\",LOOKUP(H232,Valeurs!$A$4:'Valeurs'!$A$46,Valeurs!$B$4:'Valeurs'!$B$46))","v":""}]
[{"$f":"Inscription!C26","v":0},{"$f":"Inscription!D26","v":0},null,null,null,"",null,"",{"$f":"IF(F233=\"\",\"\",LOOKUP(H233,Valeurs!$A$4:'Valeurs'!$A$46,Valeurs!$B$4:'Valeurs'!$B$46))","v":""}]
[{"$f":"Inscription!C27","v":0},{"$f":"Inscription!D27","v":0},null,null,null,"",null,"",{"$f":"IF(F234=\"\",\"\",LOOKUP(H234,Valeurs!$A$4:'Valeurs'!$A$46,Valeurs!$B$4:'Valeurs'!$B$46))","v":""}]
[{"$f":"Inscription!C28","v":0},{"$f":"Inscription!D28","v":0},null,null,null,"",null,"",{"$f":"IF(F235=\"\",\"\",LOOKUP(H235,Valeurs!$A$4:'Valeurs'!$A$46,Valeurs!$B$4:'Valeurs'!$B$46))","v":""}]
[{"$f":"Inscription!C29","v":0},{"$f":"Inscription!D29","v":0},null,null,null,"",null,"",{"$f":"IF(F236=\"\",\"\",LOOKUP(H236,Valeurs!$A$4:'Valeurs'!$A$46,Valeurs!$B$4:'Valeurs'!$B$46))","v":""}]
[{"$f":"Inscription!C30","v":0},{"$f":"Inscription!D30","v":0},null,null,null,"",null,"",{"$f":"IF(F237=\"\",\"\",LOOKUP(H237,Valeurs!$A$4:'Valeurs'!$A$46,Valeurs!$B$4:'Valeurs'!$B$46))","v":""}]
[{"$f":"Inscription!C31","v":0},{"$f":"Inscription!D31","v":0},null,null,null,"",null,"",{"$f":"IF(F238=\"\",\"\",LOOKUP(H238,Valeurs!$A$4:'Valeurs'!$A$46,Valeurs!$B$4:'Valeurs'!$B$46))","v":""}]

{"sheet":"14 - 15 ans F","index":4,"n_rows":238,"n_cols":9,"rows_kept":238,"cut":false,"hidden":false,"merged":[[205,0,206,8],[1,0,2,8],[35,0,36,8],[69,0,70,8],[103,0,104,8],[137,0,138,8],[171,0,172,8]]}
[]
["Lancer de la corde - 14 - 15 ans Femme\nÉPREUVE DE LA CORDE"]
[]
["Club","Nom",null,"Chrono 1","Chrono 2","Temps final",null,"R","Points"]
[null,null,null,null,null,{"$f":"IF(D5=\"\",\"\",IF(D5=\"DQ\",\"DQ\",IF(D5=\"DNF\",\"DNF\",IF(D5=\"DNS\",\"DNS\",AVERAGE(D5,E5)))))","v":""},null,{"$f":"IF(F5=\"DNS\",\"DNS\",IF(F5=\"DQ\",\"DQ\",IF(F5=\"\",\"\",IF(F5=\"DNF\",\"DNF\",RANK(F5,$F$5:$F$34,1)))))","v":""},{"$f":"IF(F5=\"DNS\",\"0\",IF(F5=\"DQ\",\"0\",IF(F5=\"\",\"\",IF(F5=\"DNF\",\"0\",LOOKUP(H5,Valeurs!$A$4:'Valeurs'!$A$46,Valeurs!$B$4:'Valeurs'!$B$46)))))","v":""}]
[null,null,null,null,null,null,null,null,{"$f":"I5","v":""}]
[null,null,null,null,null,{"$f":"IF(D7=\"\",\"\",IF(D7=\"DQ\",\"DQ\",IF(D7=\"DNF\",\"DNF\",IF(D7=\"DNS\",\"DNS\",AVERAGE(D7,E7)))))","v":""},null,{"$f":"IF(F7=\"DNS\",\"DNS\",IF(F7=\"DQ\",\"DQ\",IF(F7=\"\",\"\",IF(F7=\"DNF\",\"DNF\",RANK(F7,$F$5:$F$34,1)))))","v":""},{"$f":"IF(F7=\"DNS\",\"0\",IF(F7=\"DQ\",\"0\",IF(F7=\"\",\"\",IF(F7=\"DNF\",\"0\",LOOKUP(H7,Valeurs!$A$4:'Valeurs'!$A$46,Valeurs!$B$4:'Valeurs'!$B$46)))))","v":""}]
[null,null,null,null,null,null,null,null,{"$f":"I7","v":""}]
[null,null,null,null,null,{"$f":"IF(D9=\"\",\"\",IF(D9=\"DQ\",\"DQ\",IF(D9=\"DNF\",\"DNF\",IF(D9=\"DNS\",\"DNS\",AVERAGE(D9,E9)))))","v":""},null,{"$f":"IF(F9=\"DNS\",\"DNS\",IF(F9=\"DQ\",\"DQ\",IF(F9=\"\",\"\",IF(F9=\"DNF\",\"DNF\",RANK(F9,$F$5:$F$34,1)))))","v":""},{"$f":"IF(F9=\"DNS\",\"0\",IF(F9=\"DQ\",\"0\",IF(F9=\"\",\"\",IF(F9=\"DNF\",\"0\",LOOKUP(H9,Valeurs!$A$4:'Valeurs'!$A$46,Valeurs!$B$4:'Valeurs'!$B$46)))))","v":""}]
[null,null,null,null,null,null,null,null,{"$f":"I9","v":""}]
[null,null,null,null,null,{"$f":"IF(D11=\"\",\"\",IF(D11=\"DQ\",\"DQ\",IF(D11=\"DNF\",\"DNF\",IF(D11=\"DNS\",\"DNS\",AVERAGE(D11,E11)))))","v":""},null,{"$f":"IF(F11=\"DNS\",\"DNS\",IF(F11=\"DQ\",\"DQ\",IF(F11=\"\",\"\",IF(F11=\"DNF\",\"DNF\",RANK(F11,$F$5:$F$34,1)))))","v":""},{"$f":"IF(F11=\"DNS\",\"0\",IF(F11=\"DQ\",\"0\",IF(F11=\"\",\"\",IF(F11=\"DNF\",\"0\",LOOKUP(H11,Valeurs!$A$4:'Valeurs'!$A$46,Valeurs!$B$4:'Valeurs'!$B$46)))))","v":""}]
[null,null,null,null,null,null,null,null,{"$f":"I11","v":""}]
[null,null,null,null,null,{"$f":"IF(D13=\"\",\"\",IF(D13=\"DQ\",\"DQ\",IF(D13=\"DNF\",\"DNF\",IF(D13=\"DNS\",\"DNS\",AVERAGE(D13,E13)))))","v":""},null,{"$f":"IF(F13=\"DNS\",\"DNS\",IF(F13=\"DQ\",\"DQ\",IF(F13=\"\",\"\",IF(F13=\"DNF\",\"DNF\",RANK(F13,$F$5:$F$34,1)))))","v":""},{"$f":"IF(F13=\"DNS\",\"0\",IF(F13=\"DQ\",\"0\",IF(F13=\"\",\"\",IF(F13=\"DNF\",\"0\",LOOKUP(H13,Valeurs!$A$4:'Valeurs'!$A$46,Valeurs!$B$4:'Valeurs'!$B$46)))))","v":""}]
[null,null,null,null,null,null,null,null,{"$f":"I13","v":""}]
[null,null,null,null,null,{"$f":"IF(D15=\"\",\"\",IF(D15=\"DQ\",\"DQ\",IF(D15=\"DNF\",\"DNF\",IF(D15=\"DNS\",\"DNS\",AVERAGE(D15,E15)))))","v":""},null,{"$f":"IF(F15=\"DNS\",\"DNS\",IF(F15=\"DQ\",\"DQ\",IF(F15=\"\",\"\",IF(F15=\"DNF\",\"DNF\",RANK(F15,$F$5:$F$34,1)))))","v":""},{"$f":"IF(F15=\"DNS\",\"0\",IF(F15=\"DQ\",\"0\",IF(F15=\"\",\"\",IF(F15=\"DNF\",\"0\",LOOKUP(H15,Valeurs!$A$4:'Valeurs'!$A$46,Valeurs!$B$4:'Valeurs'!$B$46)))))","v":""}]
[null,null,null,null,null,null,null,null,{"$f":"I15","v":""}]
[null,null,null,null,null,{"$f":"IF(D17=\"\",\"\",IF(D17=\"DQ\",\"DQ\",IF(D17=\"DNF\",\"DNF\",IF(D17=\"DNS\",\"DNS\",AVERAGE(D17,E17)))))","v":""},null,{"$f":"IF(F17=\"DNS\",\"DNS\",IF(F17=\"DQ\",\"DQ\",IF(F17=\"\",\"\",IF(F17=\"DNF\",\"DNF\",RANK(F17,$F$5:$F$34,1)))))","v":""},{"$f":"IF(F17=\"DNS\",\"0\",IF(F17=\"DQ\",\"0\",IF(F17=\"\",\"\",IF(F17=\"DNF\",\"0\",LOOKUP(H17,Valeurs!$A$4:'Valeurs'!$A$46,Valeurs!$B$4:'Valeurs'!$B$46)))))","v":""}]
[null,null,null,null,null,null,null,null,{"$f":"I17","v":""}]
[null,null,null,null,null,{"$f":"IF(D19=\"\",\"\",IF(D19=\"DQ\",\"DQ\",IF(D19=\"DNF\",\"DNF\",IF(D19=\"DNS\",\"DNS\",AVERAGE(D19,E19)))))","v":""},null,{"$f":"IF(F19=\"DNS\",\"DNS\",IF(F19=\"DQ\",\"DQ\",IF(F19=\"\",\"\",IF(F19=\"DNF\",\"DNF\",RANK(F19,$F$5:$F$34,1)))))","v":""},{"$f":"IF(F19=\"DNS\",\"0\",IF(F19=\"DQ\",\"0\",IF(F19=\"\",\"\",IF(F19=\"DNF\",\"0\",LOOKUP(H19,Valeurs!$A$4:'Valeurs'!$A$46,Valeurs!$B$4:'Valeurs'!$B$46)))))","v":""}]
[null,null,null,null,null,null,null,null,{"$f":"I19","v":""}]
[null,null,null,null,null,{"$f":"IF(D21=\"\",\"\",IF(D21=\"DQ\",\"DQ\",IF(D21=\"DNF\",\"DNF\",IF(D21=\"DNS\",\"DNS\",AVERAGE(D21,E21)))))","v":""},null,{"$f":"IF(F21=\"DNS\",\"DNS\",IF(F21=\"DQ\",\"DQ\",IF(F21=\"\",\"\",IF(F21=\"DNF\",\"DNF\",RANK(F21,$F$5:$F$34,1)))))","v":""},{"$f":"IF(F21=\"DNS\",\"0\",IF(F21=\"DQ\",\"0\",IF(F21=\"\",\"\",IF(F21=\"DNF\",\"0\",LOOKUP(H21,Valeurs!$A$4:'Valeurs'!$A$46,Valeurs!$B$4:'Valeurs'!$B$46)))))","v":""}]
[null,null,null,null,null,null,null,null,{"$f":"I21","v":""}]
[null,null,null,null,null,{"$f":"IF(D23=\"\",\"\",IF(D23=\"DQ\",\"DQ\",IF(D23=\"DNF\",\"DNF\",IF(D23=\"DNS\",\"DNS\",AVERAGE(D23,E23)))))","v":""},null,{"$f":"IF(F23=\"DNS\",\"DNS\",IF(F23=\"DQ\",\"DQ\",IF(F23=\"\",\"\",IF(F23=\"DNF\",\"DNF\",RANK(F23,$F$5:$F$34,1)))))","v":""},{"$f":"IF(F23=\"DNS\",\"0\",IF(F23=\"DQ\",\"0\",IF(F23=\"\",\"\",IF(F23=\"DNF\",\"0\",LOOKUP(H23,Valeurs!$A$4:'Valeurs'!$A$46,Valeurs!$B$4:'Valeurs'!$B$46)))))","v":""}]
[null,null,null,null,null,null,null,null,{"$f":"I23","v":""}]
[null,null,null,null,null,{"$f":"IF(D25=\"\",\"\",IF(D25=\"DQ\",\"DQ\",IF(D25=\"DNF\",\"DNF\",IF(D25=\"DNS\",\"DNS\",AVERAGE(D25,E25)))))","v":""},null,{"$f":"IF(F25=\"DNS\",\"DNS\",IF(F25=\"DQ\",\"DQ\",IF(F25=\"\",\"\",IF(F25=\"DNF\",\"DNF\",RANK(F25,$F$5:$F$34,1)))))","v":""},{"$f":"IF(F25=\"DNS\",\"0\",IF(F25=\"DQ\",\"0\",IF(F25=\"\",\"\",IF(F25=\"DNF\",\"0\",LOOKUP(H25,Valeurs!$A$4:'Valeurs'!$A$46,Valeurs!$B$4:'Valeurs'!$B$46)))))","v":""}]
[null,null,null,null,null,null,null,null,{"$f":"I25","v":""}]
[null,null,null,null,null,{"$f":"IF(D27=\"\",\"\",IF(D27=\"DQ\",\"DQ\",IF(D27=\"DNF\",\"DNF\",IF(D27=\"DNS\",\"DNS\",AVERAGE(D27,E27)))))","v":""},null,{"$f":"IF(F27=\"DNS\",\"DNS\",IF(F27=\"DQ\",\"DQ\",IF(F27=\"\",\"\",IF(F27=\"DNF\",\"DNF\",RANK(F27,$F$5:$F$34,1)))))","v":""},{"$f":"IF(F27=\"DNS\",\"0\",IF(F27=\"DQ\",\"0\",IF(F27=\"\",\"\",IF(F27=\"DNF\",\"0\",LOOKUP(H27,Valeurs!$A$4:'Valeurs'!$A$46,Valeurs!$B$4:'Valeurs'!$B$46)))))","v":""}]
[null,null,null,null,null,null,null,null,{"$f":"I27","v":""}]
[null,null,null,null,null,{"$f":"IF(D29=\"\",\"\",IF(D29=\"DQ\",\"DQ\",IF(D29=\"DNF\",\"DNF\",IF(D29=\"DNS\",\"DNS\",AVERAGE(D29,E29)))))","v":""},null,{"$f":"IF(F29=\"DNS\",\"DNS\",IF(F29=\"DQ\",\"DQ\",IF(F29=\"\",\"\",IF(F29=\"DNF\",\"DNF\",RANK(F29,$F$5:$F$34,1)))))","v":""},{"$f":"IF(F29=\"DNS\",\"0\",IF(F29=\"DQ\",\"0\",IF(F29=\"\",\"\",IF(F29=\"DNF\",\"0\",LOOKUP(H29,Valeurs!$A$4:'Valeurs'!$A$46,Valeurs!$B$4:'Valeurs'!$B$46)))))","v":""}]
[null,null,null,null,null,null,null,null,{"$f":"I29","v":""}]
[null,null,null,null,null,{"$f":"IF(D31=\"\",\"\",IF(D31=\"DQ\",\"DQ\",IF(D31=\"DNF\",\"DNF\",IF(D31=\"DNS\",\"DNS\",AVERAGE(D31,E31)))))","v":""},null,{"$f":"IF(F31=\"DNS\",\"DNS\",IF(F31=\"DQ\",\"DQ\",IF(F31=\"\",\"\",IF(F31=\"DNF\",\"DNF\",RANK(F31,$F$5:$F$34,1)))))","v":""},{"$f":"IF(F31=\"DNS\",\"0\",IF(F31=\"DQ\",\"0\",IF(F31=\"\",\"\",IF(F31=\"DNF\",\"0\",LOOKUP(H31,Valeurs!$A$4:'Valeurs'!$A$46,Valeurs!$B$4:'Valeurs'!$B$46)))))","v":""}]
[null,null,null,null,null,null,null,null,{"$f":"I31","v":""}]
[null,null,null,null,null,{"$f":"IF(D33=\"\",\"\",IF(D33=\"DQ\",\"DQ\",IF(D33=\"DNF\",\"DNF\",IF(D33=\"DNS\",\"DNS\",AVERAGE(D33,E33)))))","v":""},null,{"$f":"IF(F33=\"DNS\",\"DNS\",IF(F33=\"DQ\",\"DQ\",IF(F33=\"\",\"\",IF(F33=\"DNF\",\"DNF\",RANK(F33,$F$5:$F$34,1)))))","v":""},{"$f":"IF(F33=\"DNS\",\"0\",IF(F33=\"DQ\",\"0\",IF(F33=\"\",\"\",IF(F33=\"DNF\",\"0\",LOOKUP(H33,Valeurs!$A$4:'Valeurs'!$A$46,Valeurs!$B$4:'Valeurs'!$B$46)))))","v":""}]
[null,null,null,null,null,null,null,null,{"$f":"I33","v":""}]
[]
["Remorquage mannequin 1/2 plein avec palmes - 14 - 15 ans Femme\nÉPREUVE REMORQUAGE MANNEQUIN + PALMES"]
[]
["Club","Nom",null,"Chrono 1","Chrono 2","Temps final",null,"R","Points"]
[{"$f":"Inscription!E2","v":"SSSL"},{"$f":"Inscription!F2","v":"Paula Loaiza"},null,"00:01:33.380","00:01:33.370",{"$f":"IF(D39=\"\",\"\",IF(D39=\"DQ\",\"DQ\",IF(D39=\"DNF\",\"DNF\",IF(D39=\"DNS\",\"DNS\",AVERAGE(D39,E39)))))","v":"00:01:33.375"},null,{"$f":"IF(F39=\"DNS\",\"DNS\",IF(F39=\"DQ\",\"DQ\",IF(F39=\"\",\"\",IF(F39=\"DNF\",\"DNF\",RANK(F39,$F$39:$F$68,1)))))","v":8},{"$f":"IF(F39=\"DNS\",\"0\",IF(F39=\"DQ\",\"0\",IF(F39=\"\",\"\",IF(F39=\"DNF\",\"0\",LOOKUP(H39,Valeurs!$A$4:'Valeurs'!$A$46,Valeurs!$B$4:'Valeurs'!$B$46)))))","v":10}]
[{"$f":"Inscription!E3","v":"CAEM"},{"$f":"Inscription!F3","v":"Audrey Desroches"},null,"00:01:28.560","00:01:28.880",{"$f":"IF(D40=\"\",\"\",IF(D40=\"DQ\",\"DQ\",IF(D40=\"DNF\",\"DNF\",IF(D40=\"DNS\",\"DNS\",AVERAGE(D40,E40)))))","v":"00:01:28.720"},null,{"$f":"IF(F40=\"DNS\",\"DNS\",IF(F40=\"DQ\",\"DQ\",IF(F40=\"\",\"\",IF(F40=\"DNF\",\"DNF\",RANK(F40,$F$39:$F$68,1)))))","v":6},{"$f":"IF(F40=\"DNS\",\"0\",IF(F40=\"DQ\",\"0\",IF(F40=\"\",\"\",IF(F40=\"DNF\",\"0\",LOOKUP(H40,Valeurs!$A$4:'Valeurs'!$A$46,Valeurs!$B$4:'Valeurs'!$B$46)))))","v":12}]
[{"$f":"Inscription!E4","v":"Dam'eauclès"},{"$f":"Inscription!F4","v":"Manuelle Charbonneau"},null,"00:01:16.090","00:01:16.110","00:01:16.100",null,{"$f":"IF(F41=\"DNS\",\"DNS\",IF(F41=\"DQ\",\"DQ\",IF(F41=\"\",\"\",IF(F41=\"DNF\",\"DNF\",RANK(F41,$F$39:$F$68,1)))))","v":1},{"$f":"IF(F41=\"DNS\",\"0\",IF(F41=\"DQ\",\"0\",IF(F41=\"\",\"\",IF(F41=\"DNF\",\"0\",LOOKUP(H41,Valeurs!$A$4:'Valeurs'!$A$46,Valeurs!$B$4:'Valeurs'!$B$46)))))","v":20}]
[{"$f":"Inscription!E5","v":"Dam'eauclès"},{"$f":"Inscription!F5","v":"Myriam Jacques"},null,"00:01:35.250","00:01:35.030","00:01:35.140",null,9,{"$f":"IF(F42=\"DNS\",\"0\",IF(F42=\"DQ\",\"0\",IF(F42=\"\",\"\",IF(F42=\"DNF\",\"0\",LOOKUP(H42,Valeurs!$A$4:'Valeurs'!$A$46,Valeurs!$B$4:'Valeurs'!$B$46)))))","v":8}]
[{"$f":"Inscription!E6","v":"Dam'eauclès"},{"$f":"Inscription!F6","v":"Emma Lajeunesse"},null,"00:01:20.900","00:01:20.940","00:01:20.920",null,2,{"$f":"IF(F43=\"DNS\",\"0\",IF(F43=\"DQ\",\"0\",IF(F43=\"\",\"\",IF(F43=\"DNF\",\"0\",LOOKUP(H43,Valeurs!$A$4:'Valeurs'!$A$46,Valeurs!$B$4:'Valeurs'!$B$46)))))","v":18}]
[{"$f":"Inscription!E7","v":"CSRAD"},{"$f":"Inscription!F7","v":"Sarah-Claude Lampron"},null,"00:01:29.900","00:01:30.090","00:01:29.995",null,7,{"$f":"IF(F44=\"DNS\",\"0\",IF(F44=\"DQ\",\"0\",IF(F44=\"\",\"\",IF(F44=\"DNF\",\"0\",LOOKUP(H44,Valeurs!$A$4:'Valeurs'!$A$46,Valeurs!$B$4:'Valeurs'!$B$46)))))","v":11}]
[{"$f":"Inscription!E8","v":"O'méga"},{"$f":"Inscription!F8","v":"AnnabelleDuquet"},null,"00:01:24.650","00:01:24.870","00:01:24.760",null,4,{"$f":"IF(F45=\"DNS\",\"0\",IF(F45=\"DQ\",\"0\",IF(F45=\"\",\"\",IF(F45=\"DNF\",\"0\",LOOKUP(H45,Valeurs!$A$4:'Valeurs'!$A$46,Valeurs!$B$4:'Valeurs'!$B$46)))))","v":14}]
[{"$f":"Inscription!E9","v":"O'méga"},{"$f":"Inscription!F9","v":"Odette Côté"},null,"00:01:42.250","00:01:42.220","00:01:42.235",null,10,{"$f":"IF(F46=\"DNS\",\"0\",IF(F46=\"DQ\",\"0\",IF(F46=\"\",\"\",IF(F46=\"DNF\",\"0\",LOOKUP(H46,Valeurs!$A$4:'Valeurs'!$A$46,Valeurs!$B$4:'Valeurs'!$B$46)))))","v":7}]
[{"$f":"Inscription!E10","v":"30deux"},{"$f":"Inscription!F10","v":"Alexane Thibeault"},null,"00:01:26.590","00:01:26.560","00:01:26.575",null,5,{"$f":"IF(F47=\"DNS\",\"0\",IF(F47=\"DQ\",\"0\",IF(F47=\"\",\"\",IF(F47=\"DNF\",\"0\",LOOKUP(H47,Valeurs!$A$4:'Valeurs'!$A$46,Valeurs!$B$4:'Valeurs'!$B$46)))))","v":13}]
[{"$f":"Inscription!E11","v":"CSRN"},{"$f":"Inscription!F11","v":"Rosanne Trépanier"},null,"00:01:24.030","00:01:23.690","00:01:23.860",null,3,{"$f":"IF(F48=\"DNS\",\"0\",IF(F48=\"DQ\",\"0\",IF(F48=\"\",\"\",IF(F48=\"DNF\",\"0\",LOOKUP(H48,Valeurs!$A$4:'Valeurs'!$A$46,Valeurs!$B$4:'Valeurs'!$B$46)))))","v":16}]
[{"$f":"Inscription!E12","v":0},{"$f":"Inscription!F12","v":0},null,null,null,"",null,"",{"$f":"IF(F49=\"DNS\",\"0\",IF(F49=\"DQ\",\"0\",IF(F49=\"\",\"\",IF(F49=\"DNF\",\"0\",LOOKUP(H49,Valeurs!$A$4:'Valeurs'!$A$46,Valeurs!$B$4:'Valeurs'!$B$46)))))","v":""}]
[{"$f":"Inscription!E13","v":0},{"$f":"Inscription!F13","v":0},null,null,null,"",null,"",{"$f":"IF(F50=\"DNS\",\"0\",IF(F50=\"DQ\",\"0\",IF(F50=\"\",\"\",IF(F50=\"DNF\",\"0\",LOOKUP(H50,Valeurs!$A$4:'Valeurs'!$A$46,Valeurs!$B$4:'Valeurs'!$B$46)))))","v":""}]
[{"$f":"Inscription!E14","v":0},{"$f":"Inscription!F14","v":0},null,null,null,"",null,"",{"$f":"IF(F51=\"DNS\",\"0\",IF(F51=\"DQ\",\"0\",IF(F51=\"\",\"\",IF(F51=\"DNF\",\"0\",LOOKUP(H51,Valeurs!$A$4:'Valeurs'!$A$46,Valeurs!$B$4:'Valeurs'!$B$46)))))","v":""}]
[{"$f":"Inscription!E15","v":0},{"$f":"Inscription!F15","v":0},null,null,null,"",null,"",{"$f":"IF(F52=\"DNS\",\"0\",IF(F52=\"DQ\",\"0\",IF(F52=\"\",\"\",IF(F52=\"DNF\",\"0\",LOOKUP(H52,Valeurs!$A$4:'Valeurs'!$A$46,Valeurs!$B$4:'Valeurs'!$B$46)))))","v":""}]
[{"$f":"Inscription!E16","v":0},{"$f":"Inscription!F16","v":0},null,null,null,"",null,"",{"$f":"IF(F53=\"DNS\",\"0\",IF(F53=\"DQ\",\"0\",IF(F53=\"\",\"\",IF(F53=\"DNF\",\"0\",LOOKUP(H53,Valeurs!$A$4:'Valeurs'!$A$46,Valeurs!$B$4:'Valeurs'!$B$46)))))","v":""}]
[{"$f":"Inscription!E17","v":0},{"$f":"Inscription!F17","v":0},null,null,null,"",null,"",{"$f":"IF(F54=\"DNS\",\"0\",IF(F54=\"DQ\",\"0\",IF(F54=\"\",\"\",IF(F54=\"DNF\",\"0\",LOOKUP(H54,Valeurs!$A$4:'Valeurs'!$A$46,Valeurs!$B$4:'Valeurs'!$B$46)))))","v":""}]
[{"$f":"Inscription!E18","v":0},{"$f":"Inscription!F18","v":0},null,null,null,"",null,"",{"$f":"IF(F55=\"DNS\",\"0\",IF(F55=\"DQ\",\"0\",IF(F55=\"\",\"\",IF(F55=\"DNF\",\"0\",LOOKUP(H55,Valeurs!$A$4:'Valeurs'!$A$46,Valeurs!$B$4:'Valeurs'!$B$46)))))","v":""}]
[{"$f":"Inscription!E19","v":0},{"$f":"Inscription!F19","v":0},null,null,null,"",null,"",{"$f":"IF(F56=\"DNS\",\"0\",IF(F56=\"DQ\",\"0\",IF(F56=\"\",\"\",IF(F56=\"DNF\",\"0\",LOOKUP(H56,Valeurs!$A$4:'Valeurs'!$A$46,Valeurs!$B$4:'Valeurs'!$B$46)))))","v":""}]
[{"$f":"Inscription!E20","v":0},{"$f":"Inscription!F20","v":0},null,null,null,"",null,"",{"$f":"IF(F57=\"DNS\",\"0\",IF(F57=\"DQ\",\"0\",IF(F57=\"\",\"\",IF(F57=\"DNF\",\"0\",LOOKUP(H57,Valeurs!$A$4:'Valeurs'!$A$46,Valeurs!$B$4:'Valeurs'!$B$46)))))","v":""}]
[{"$f":"Inscription!E21","v":0},{"$f":"Inscription!F21","v":0},null,null,null,"",null,"",{"$f":"IF(F58=\"DNS\",\"0\",IF(F58=\"DQ\",\"0\",IF(F58=\"\",\"\",IF(F58=\"DNF\",\"0\",LOOKUP(H58,Valeurs!$A$4:'Valeurs'!$A$46,Valeurs!$B$4:'Valeurs'!$B$46)))))","v":""}]
[{"$f":"Inscription!E22","v":0},{"$f":"Inscription!F22","v":0},null,null,null,"",null,"",{"$f":"IF(F59=\"DNS\",\"0\",IF(F59=\"DQ\",\"0\",IF(F59=\"\",\"\",IF(F59=\"DNF\",\"0\",LOOKUP(H59,Valeurs!$A$4:'Valeurs'!$A$46,Valeurs!$B$4:'Valeurs'!$B$46)))))","v":""}]
[{"$f":"Inscription!E23","v":0},{"$f":"Inscription!F23","v":0},null,null,null,"",null,"",{"$f":"IF(F60=\"DNS\",\"0\",IF(F60=\"DQ\",\"0\",IF(F60=\"\",\"\",IF(F60=\"DNF\",\"0\",LOOKUP(H60,Valeurs!$A$4:'Valeurs'!$A$46,Valeurs!$B$4:'Valeurs'!$B$46)))))","v":""}]
[{"$f":"Inscription!E24","v":0},{"$f":"Inscription!F24","v":0},null,null,null,"",null,"",{"$f":"IF(F61=\"DNS\",\"0\",IF(F61=\"DQ\",\"0\",IF(F61=\"\",\"\",IF(F61=\"DNF\",\"0\",LOOKUP(H61,Valeurs!$A$4:'Valeurs'!$A$46,Valeurs!$B$4:'Valeurs'!$B$46)))))","v":""}]
[{"$f":"Inscription!E25","v":0},{"$f":"Inscription!F25","v":0},null,null,null,"",null,"",{"$f":"IF(F62=\"DNS\",\"0\",IF(F62=\"DQ\",\"0\",IF(F62=\"\",\"\",IF(F62=\"DNF\",\"0\",LOOKUP(H62,Valeurs!$A$4:'Valeurs'!$A$46,Valeurs!$B$4:'Valeurs'!$B$46)))))","v":""}]
[{"$f":"Inscription!E26","v":0},{"$f":"Inscription!F26","v":0},null,null,null,"",null,"",{"$f":"IF(F63=\"DNS\",\"0\",IF(F63=\"DQ\",\"0\",IF(F63=\"\",\"\",IF(F63=\"DNF\",\"0\",LOOKUP(H63,Valeurs!$A$4:'Valeurs'!$A$46,Valeurs!$B$4:'Valeurs'!$B$46)))))","v":""}]
[{"$f":"Inscription!E27","v":0},{"$f":"Inscription!F27","v":0},null,null,null,"",null,"",{"$f":"IF(F64=\"DNS\",\"0\",IF(F64=\"DQ\",\"0\",IF(F64=\"\",\"\",IF(F64=\"DNF\",\"0\",LOOKUP(H64,Valeurs!$A$4:'Valeurs'!$A$46,Valeurs!$B$4:'Valeurs'!$B$46)))))","v":""}]
[{"$f":"Inscription!E28","v":0},{"$f":"Inscription!F28","v":0},null,null,null,"",null,"",{"$f":"IF(F65=\"DNS\",\"0\",IF(F65=\"DQ\",\"0\",IF(F65=\"\",\"\",IF(F65=\"DNF\",\"0\",LOOKUP(H65,Valeurs!$A$4:'Valeurs'!$A$46,Valeurs!$B$4:'Valeurs'!$B$46)))))","v":""}]
[{"$f":"Inscription!E29","v":0},{"$f":"Inscription!F29","v":0},null,null,null,"",null,"",{"$f":"IF(F66=\"DNS\",\"0\",IF(F66=\"DQ\",\"0\",IF(F66=\"\",\"\",IF(F66=\"DNF\",\"0\",LOOKUP(H66,Valeurs!$A$4:'Valeurs'!$A$46,Valeurs!$B$4:'Valeurs'!$B$46)))))","v":""}]
[{"$f":"Inscription!E30","v":0},{"$f":"Inscription!F30","v":0},null,null,null,"",null,"",{"$f":"IF(F67=\"DNS\",\"0\",IF(F67=\"DQ\",\"0\",IF(F67=\"\",\"\",IF(F67=\"DNF\",\"0\",LOOKUP(H67,Valeurs!$A$4:'Valeurs'!$A$46,Valeurs!$B$4:'Valeurs'!$B$46)))))","v":""}]
[{"$f":"Inscription!E31","v":0},{"$f":"Inscription!F31","v":0},null,null,null,{"$f":"IF(D68=\"\",\"\",IF(D68=\"DQ\",\"DQ\",IF(D68=\"DNF\",\"DNF\",IF(D68=\"DNS\",\"DNS\",AVERAGE(D68,E68)))))","v":""},null,"",{"$f":"IF(F68=\"DNS\",\"0\",IF(F68=\"DQ\",\"0\",IF(F68=\"\",\"\",IF(F68=\"DNF\",\"0\",LOOKUP(H68,Valeurs!$A$4:'Valeurs'!$A$46,Valeurs!$B$4:'Valeurs'!$B$46)))))","v":""}]
[]
["Obstacle - 14 - 15 ans Femme\nÉPREUVE OBSTACLES"]
[]
["Club","Nom",null,"Chrono 1","Chrono 2","Temps final",null,"R","Points"]
[{"$f":"Inscription!E2","v":"SSSL"},{"$f":"Inscription!F2","v":"Paula Loaiza"},null,"00:01:31.690","00:01:32.220",{"$f":"IF(D73=\"\",\"\",IF(D73=\"DQ\",\"DQ\",IF(D73=\"DNF\",\"DNF\",IF(D73=\"DNS\",\"DNS\",AVERAGE(D73,E73)))))","v":"00:01:31.955"},null,{"$f":"IF(F73=\"DNS\",\"DNS\",IF(F73=\"DQ\",\"DQ\",IF(F73=\"\",\"\",IF(F73=\"DNF\",\"DNF\",RANK(F73,$F$73:$F$102,1)))))","v":6},{"$f":"IF(F73=\"DNS\",\"0\",IF(F73=\"DQ\",\"0\",IF(F73=\"\",\"\",IF(F73=\"DNF\",\"0\",LOOKUP(H73,Valeurs!$A$4:'Valeurs'!$A$46,Valeurs!$B$4:'Valeurs'!$B$46)))))","v":12}]
[{"$f":"Inscription!E3","v":"CAEM"},{"$f":"Inscription!F3","v":"Audrey Desroches"},null,"00:01:33.210","00:01:34.870",{"$f":"IF(D74=\"\",\"\",IF(D74=\"DQ\",\"DQ\",IF(D74=\"DNF\",\"DNF\",IF(D74=\"DNS\",\"DNS\",AVERAGE(D74,E74)))))","v":"00:01:34.040"},null,{"$f":"IF(F74=\"DNS\",\"DNS\",IF(F74=\"DQ\",\"DQ\",IF(F74=\"\",\"\",IF(F74=\"DNF\",\"DNF\",RANK(F74,$F$73:$F$102,1)))))","v":9},{"$f":"IF(F74=\"DNS\",\"0\",IF(F74=\"DQ\",\"0\",IF(F74=\"\",\"\",IF(F74=\"DNF\",\"0\",LOOKUP(H74,Valeurs!$A$4:'Valeurs'!$A$46,Valeurs!$B$4:'Valeurs'!$B$46)))))","v":8}]
[{"$f":"Inscription!E4","v":"Dam'eauclès"},{"$f":"Inscription!F4","v":"Manuelle Charbonneau"},null,"00:01:19.930","00:01:20","00:01:19.965",null,{"$f":"IF(F75=\"DNS\",\"DNS\",IF(F75=\"DQ\",\"DQ\",IF(F75=\"\",\"\",IF(F75=\"DNF\",\"DNF\",RANK(F75,$F$73:$F$102,1)))))","v":1},{"$f":"IF(F75=\"DNS\",\"0\",IF(F75=\"DQ\",\"0\",IF(F75=\"\",\"\",IF(F75=\"DNF\",\"0\",LOOKUP(H75,Valeurs!$A$4:'Valeurs'!$A$46,Valeurs!$B$4:'Valeurs'!$B$46)))))","v":20}]
[{"$f":"Inscription!E5","v":"Dam'eauclès"},{"$f":"Inscription!F5","v":"Myriam Jacques"},null,"00:01:25.370","00:01:25.370","00:01:25.370",null,4,{"$f":"IF(F76=\"DNS\",\"0\",IF(F76=\"DQ\",\"0\",IF(F76=\"\",\"\",IF(F76=\"DNF\",\"0\",LOOKUP(H76,Valeurs!$A$4:'Valeurs'!$A$46,Valeurs!$B$4:'Valeurs'!$B$46)))))","v":14}]
[{"$f":"Inscription!E6","v":"Dam'eauclès"},{"$f":"Inscription!F6","v":"Emma Lajeunesse"},null,"00:01:21.240","00:01:21.410","00:01:21.325",null,3,{"$f":"IF(F77=\"DNS\",\"0\",IF(F77=\"DQ\",\"0\",IF(F77=\"\",\"\",IF(F77=\"DNF\",\"0\",LOOKUP(H77,Valeurs!$A$4:'Valeurs'!$A$46,Valeurs!$B$4:'Valeurs'!$B$46)))))","v":16}]
[{"$f":"Inscription!E7","v":"CSRAD"},{"$f":"Inscription!F7","v":"Sarah-Claude Lampron"},null,"00:01:29.750","00:01:29.810","00:01:29.780",null,5,{"$f":"IF(F78=\"DNS\",\"0\",IF(F78=\"DQ\",\"0\",IF(F78=\"\",\"\",IF(F78=\"DNF\",\"0\",LOOKUP(H78,Valeurs!$A$4:'Valeurs'!$A$46,Valeurs!$B$4:'Valeurs'!$B$46)))))","v":13}]
[{"$f":"Inscription!E8","v":"O'méga"},{"$f":"Inscription!F8","v":"AnnabelleDuquet"},null,"00:01:32.540","00:01:32.500","00:01:32.520",null,8,{"$f":"IF(F79=\"DNS\",\"0\",IF(F79=\"DQ\",\"0\",IF(F79=\"\",\"\",IF(F79=\"DNF\",\"0\",LOOKUP(H79,Valeurs!$A$4:'Valeurs'!$A$46,Valeurs!$B$4:'Valeurs'!$B$46)))))","v":10}]
[{"$f":"Inscription!E9","v":"O'méga"},{"$f":"Inscription!F9","v":"Odette Côté"},null,"DQ","DQ","DQ",null,"DQ",{"$f":"IF(F80=\"DNS\",\"0\",IF(F80=\"DQ\",\"0\",IF(F80=\"\",\"\",IF(F80=\"DNF\",\"0\",LOOKUP(H80,Valeurs!$A$4:'Valeurs'!$A$46,Valeurs!$B$4:'Valeurs'!$B$46)))))","v":"0"}]
[{"$f":"Inscription!E10","v":"30deux"},{"$f":"Inscription!F10","v":"Alexane Thibeault"},null,"00:01:31.710","00:01:32.500","00:01:32.105",null,7,{"$f":"IF(F81=\"DNS\",\"0\",IF(F81=\"DQ\",\"0\",IF(F81=\"\",\"\",IF(F81=\"DNF\",\"0\",LOOKUP(H81,Valeurs!$A$4:'Valeurs'!$A$46,Valeurs!$B$4:'Valeurs'!$B$46)))))","v":11}]
[{"$f":"Inscription!E11","v":"CSRN"},{"$f":"Inscription!F11","v":"Rosanne Trépanier"},null,"00:01:21.090","00:01:21.370","00:01:21.230",null,2,{"$f":"IF(F82=\"DNS\",\"0\",IF(F82=\"DQ\",\"0\",IF(F82=\"\",\"\",IF(F82=\"DNF\",\"0\",LOOKUP(H82,Valeurs!$A$4:'Valeurs'!$A$46,Valeurs!$B$4:'Valeurs'!$B$46)))))","v":18}]
[{"$f":"Inscription!E12","v":0},{"$f":"Inscription!F12","v":0},null,null,null,"",null,"",{"$f":"IF(F83=\"DNS\",\"0\",IF(F83=\"DQ\",\"0\",IF(F83=\"\",\"\",IF(F83=\"DNF\",\"0\",LOOKUP(H83,Valeurs!$A$4:'Valeurs'!$A$46,Valeurs!$B$4:'Valeurs'!$B$46)))))","v":""}]
[{"$f":"Inscription!E13","v":0},{"$f":"Inscription!F13","v":0},null,null,null,"",null,"",{"$f":"IF(F84=\"DNS\",\"0\",IF(F84=\"DQ\",\"0\",IF(F84=\"\",\"\",IF(F84=\"DNF\",\"0\",LOOKUP(H84,Valeurs!$A$4:'Valeurs'!$A$46,Valeurs!$B$4:'Valeurs'!$B$46)))))","v":""}]
[{"$f":"Inscription!E14","v":0},{"$f":"Inscription!F14","v":0},null,null,null,"",null,"",{"$f":"IF(F85=\"DNS\",\"0\",IF(F85=\"DQ\",\"0\",IF(F85=\"\",\"\",IF(F85=\"DNF\",\"0\",LOOKUP(H85,Valeurs!$A$4:'Valeurs'!$A$46,Valeurs!$B$4:'Valeurs'!$B$46)))))","v":""}]
[{"$f":"Inscription!E15","v":0},{"$f":"Inscription!F15","v":0},null,null,null,"",null,"",{"$f":"IF(F86=\"DNS\",\"0\",IF(F86=\"DQ\",\"0\",IF(F86=\"\",\"\",IF(F86=\"DNF\",\"0\",LOOKUP(H86,Valeurs!$A$4:'Valeurs'!$A$46,Valeurs!$B$4:'Valeurs'!$B$46)))))","v":""}]
[{"$f":"Inscription!E16","v":0},{"$f":"Inscription!F16","v":0},null,null,null,"",null,"",{"$f":"IF(F87=\"DNS\",\"0\",IF(F87=\"DQ\",\"0\",IF(F87=\"\",\"\",IF(F87=\"DNF\",\"0\",LOOKUP(H87,Valeurs!$A$4:'Valeurs'!$A$46,Valeurs!$B$4:'Valeurs'!$B$46)))))","v":""}]
[{"$f":"Inscription!E17","v":0},{"$f":"Inscription!F17","v":0},null,null,null,"",null,"",{"$f":"IF(F88=\"DNS\",\"0\",IF(F88=\"DQ\",\"0\",IF(F88=\"\",\"\",IF(F88=\"DNF\",\"0\",LOOKUP(H88,Valeurs!$A$4:'Valeurs'!$A$46,Valeurs!$B$4:'Valeurs'!$B$46)))))","v":""}]
[{"$f":"Inscription!E18","v":0},{"$f":"Inscription!F18","v":0},null,null,null,"",null,"",{"$f":"IF(F89=\"DNS\",\"0\",IF(F89=\"DQ\",\"0\",IF(F89=\"\",\"\",IF(F89=\"DNF\",\"0\",LOOKUP(H89,Valeurs!$A$4:'Valeurs'!$A$46,Valeurs!$B$4:'Valeurs'!$B$46)))))","v":""}]
[{"$f":"Inscription!E19","v":0},{"$f":"Inscription!F19","v":0},null,null,null,"",null,"",{"$f":"IF(F90=\"DNS\",\"0\",IF(F90=\"DQ\",\"0\",IF(F90=\"\",\"\",IF(F90=\"DNF\",\"0\",LOOKUP(H90,Valeurs!$A$4:'Valeurs'!$A$46,Valeurs!$B$4:'Valeurs'!$B$46)))))","v":""}]
[{"$f":"Inscription!E20","v":0},{"$f":"Inscription!F20","v":0},null,null,null,"",null,"",{"$f":"IF(F91=\"DNS\",\"0\",IF(F91=\"DQ\",\"0\",IF(F91=\"\",\"\",IF(F91=\"DNF\",\"0\",LOOKUP(H91,Valeurs!$A$4:'Valeurs'!$A$46,Valeurs!$B$4:'Valeurs'!$B$46)))))","v":""}]
[{"$f":"Inscription!E21","v":0},{"$f":"Inscription!F21","v":0},null,null,null,"",null,"",{"$f":"IF(F92=\"DNS\",\"0\",IF(F92=\"DQ\",\"0\",IF(F92=\"\",\"\",IF(F92=\"DNF\",\"0\",LOOKUP(H92,Valeurs!$A$4:'Valeurs'!$A$46,Valeurs!$B$4:'Valeurs'!$B$46)))))","v":""}]
[{"$f":"Inscription!E22","v":0},{"$f":"Inscription!F22","v":0},null,null,null,"",null,"",{"$f":"IF(F93=\"DNS\",\"0\",IF(F93=\"DQ\",\"0\",IF(F93=\"\",\"\",IF(F93=\"DNF\",\"0\",LOOKUP(H93,Valeurs!$A$4:'Valeurs'!$A$46,Valeurs!$B$4:'Valeurs'!$B$46)))))","v":""}]
[{"$f":"Inscription!E23","v":0},{"$f":"Inscription!F23","v":0},null,null,null,"",null,"",{"$f":"IF(F94=\"DNS\",\"0\",IF(F94=\"DQ\",\"0\",IF(F94=\"\",\"\",IF(F94=\"DNF\",\"0\",LOOKUP(H94,Valeurs!$A$4:'Valeurs'!$A$46,Valeurs!$B$4:'Valeurs'!$B$46)))))","v":""}]
[{"$f":"Inscription!E24","v":0},{"$f":"Inscription!F24","v":0},null,null,null,"",null,"",{"$f":"IF(F95=\"DNS\",\"0\",IF(F95=\"DQ\",\"0\",IF(F95=\"\",\"\",IF(F95=\"DNF\",\"0\",LOOKUP(H95,Valeurs!$A$4:'Valeurs'!$A$46,Valeurs!$B$4:'Valeurs'!$B$46)))))","v":""}]
[{"$f":"Inscription!E25","v":0},{"$f":"Inscription!F25","v":0},null,null,null,"",null,"",{"$f":"IF(F96=\"DNS\",\"0\",IF(F96=\"DQ\",\"0\",IF(F96=\"\",\"\",IF(F96=\"DNF\",\"0\",LOOKUP(H96,Valeurs!$A$4:'Valeurs'!$A$46,Valeurs!$B$4:'Valeurs'!$B$46)))))","v":""}]
[{"$f":"Inscription!E26","v":0},{"$f":"Inscription!F26","v":0},null,null,null,"",null,"",{"$f":"IF(F97=\"DNS\",\"0\",IF(F97=\"DQ\",\"0\",IF(F97=\"\",\"\",IF(F97=\"DNF\",\"0\",LOOKUP(H97,Valeurs!$A$4:'Valeurs'!$A$46,Valeurs!$B$4:'Valeurs'!$B$46)))))","v":""}]
[{"$f":"Inscription!E27","v":0},{"$f":"Inscription!F27","v":0},null,null,null,"",null,"",{"$f":"IF(F98=\"DNS\",\"0\",IF(F98=\"DQ\",\"0\",IF(F98=\"\",\"\",IF(F98=\"DNF\",\"0\",LOOKUP(H98,Valeurs!$A$4:'Valeurs'!$A$46,Valeurs!$B$4:'Valeurs'!$B$46)))))","v":""}]
[{"$f":"Inscription!E28","v":0},{"$f":"Inscription!F28","v":0},null,null,null,"",null,"",{"$f":"IF(F99=\"DNS\",\"0\",IF(F99=\"DQ\",\"0\",IF(F99=\"\",\"\",IF(F99=\"DNF\",\"0\",LOOKUP(H99,Valeurs!$A$4:'Valeurs'!$A$46,Valeurs!$B$4:'Valeurs'!$B$46)))))","v":""}]
[{"$f":"Inscription!E29","v":0},{"$f":"Inscription!F29","v":0},null,null,null,"",null,"",{"$f":"IF(F100=\"DNS\",\"0\",IF(F100=\"DQ\",\"0\",IF(F100=\"\",\"\",IF(F100=\"DNF\",\"0\",LOOKUP(H100,Valeurs!$A$4:'Valeurs'!$A$46,Valeurs!$B$4:'Valeurs'!$B$46)))))","v":""}]
[{"$f":"Inscription!E30","v":0},{"$f":"Inscription!F30","v":0},null,null,null,"",null,"",{"$f":"IF(F101=\"DNS\",\"0\",IF(F101=\"DQ\",\"0\",IF(F101=\"\",\"\",IF(F101=\"DNF\",\"0\",LOOKUP(H101,Valeurs!$A$4:'Valeurs'!$A$46,Valeurs!$B$4:'Valeurs'!$B$46)))))","v":""}]
[{"$f":"Inscription!E31","v":0},{"$f":"Inscription!F31","v":0},null,null,null,{"$f":"IF(D102=\"\",\"\",IF(D102=\"DQ\",\"DQ\",IF(D102=\"DNF\",\"DNF\",IF(D102=\"DNS\",\"DNS\",AVERAGE(D102,E102)))))","v":""},null,"",{"$f":"IF(F102=\"DNS\",\"0\",IF(F102=\"DQ\",\"0\",IF(F102=\"\",\"\",IF(F102=\"DNF\",\"0\",LOOKUP(H102,Valeurs!$A$4:'Valeurs'!$A$46,Valeurs!$B$4:'Valeurs'!$B$46)))))","v":""}]
[]
["Portage mannequin plein avec palmes - 14 - 15 ans Femme\nÉPREUVE PORTAGE MANNEQUIN + PALMES"]
[]
["Club","Nom",null,"Chrono 1","Chrono 2","Temps final",null,"R","Points"]
[{"$f":"Inscription!E2","v":"SSSL"},{"$f":"Inscription!F2","v":"Paula Loaiza"},null,"00:01:30.530","00:01:30.690",{"$f":"IF(D107=\"\",\"\",IF(D107=\"DQ\",\"DQ\",IF(D107=\"DNF\",\"DNF\",IF(D107=\"DNS\",\"DNS\",AVERAGE(D107,E107)))))","v":"00:01:30.610"},null,{"$f":"IF(F107=\"DNS\",\"DNS\",IF(F107=\"DQ\",\"DQ\",IF(F107=\"\",\"\",IF(F107=\"DNF\",\"DNF\",RANK(F107,$F$107:$F$136,1)))))","v":9},{"$f":"IF(F107=\"DNS\",\"0\",IF(F107=\"DQ\",\"0\",IF(F107=\"\",\"\",IF(F107=\"DNF\",\"0\",LOOKUP(H107,Valeurs!$A$4:'Valeurs'!$A$46,Valeurs!$B$4:'Valeurs'!$B$46)))))","v":8}]
[{"$f":"Inscription!E3","v":"CAEM"},{"$f":"Inscription!F3","v":"Audrey Desroches"},null,"00:01:23.880","00:01:24.350",{"$f":"IF(D108=\"\",\"\",IF(D108=\"DQ\",\"DQ\",IF(D108=\"DNF\",\"DNF\",IF(D108=\"DNS\",\"DNS\",AVERAGE(D108,E108)))))","v":"00:01:24.115"},null,{"$f":"IF(F108=\"DNS\",\"DNS\",IF(F108=\"DQ\",\"DQ\",IF(F108=\"\",\"\",IF(F108=\"DNF\",\"DNF\",RANK(F108,$F$107:$F$136,1)))))","v":6},{"$f":"IF(F108=\"DNS\",\"0\",IF(F108=\"DQ\",\"0\",IF(F108=\"\",\"\",IF(F108=\"DNF\",\"0\",LOOKUP(H108,Valeurs!$A$4:'Valeurs'!$A$46,Valeurs!$B$4:'Valeurs'!$B$46)))))","v":12}]
[{"$f":"Inscription!E4","v":"Dam'eauclès"},{"$f":"Inscription!F4","v":"Manuelle Charbonneau"},null,"00:01:10.190","00:01:10.060","00:01:10.125",null,{"$f":"IF(F109=\"DNS\",\"DNS\",IF(F109=\"DQ\",\"DQ\",IF(F109=\"\",\"\",IF(F109=\"DNF\",\"DNF\",RANK(F109,$F$107:$F$136,1)))))","v":1},{"$f":"IF(F109=\"DNS\",\"0\",IF(F109=\"DQ\",\"0\",IF(F109=\"\",\"\",IF(F109=\"DNF\",\"0\",LOOKUP(H109,Valeurs!$A$4:'Valeurs'!$A$46,Valeurs!$B$4:'Valeurs'!$B$46)))))","v":20}]
[{"$f":"Inscription!E5","v":"Dam'eauclès"},{"$f":"Inscription!F5","v":"Myriam Jacques"},null,"00:01:24.660","00:01:25","00:01:24.830",null,8,{"$f":"IF(F110=\"DNS\",\"0\",IF(F110=\"DQ\",\"0\",IF(F110=\"\",\"\",IF(F110=\"DNF\",\"0\",LOOKUP(H110,Valeurs!$A$4:'Valeurs'!$A$46,Valeurs!$B$4:'Valeurs'!$B$46)))))","v":10}]
[{"$f":"Inscription!E6","v":"Dam'eauclès"},{"$f":"Inscription!F6","v":"Emma Lajeunesse"},null,"00:01:18.810","01;18,69","00:01:18.810",null,3,{"$f":"IF(F111=\"DNS\",\"0\",IF(F111=\"DQ\",\"0\",IF(F111=\"\",\"\",IF(F111=\"DNF\",\"0\",LOOKUP(H111,Valeurs!$A$4:'Valeurs'!$A$46,Valeurs!$B$4:'Valeurs'!$B$46)))))","v":16}]
[{"$f":"Inscription!E7","v":"CSRAD"},{"$f":"Inscription!F7","v":"Sarah-Claude Lampron"},null,"00:01:21.750","00:01:21.690","00:01:21.720",null,5,{"$f":"IF(F112=\"DNS\",\"0\",IF(F112=\"DQ\",\"0\",IF(F112=\"\",\"\",IF(F112=\"DNF\",\"0\",LOOKUP(H112,Valeurs!$A$4:'Valeurs'!$A$46,Valeurs!$B$4:'Valeurs'!$B$46)))))","v":13}]
[{"$f":"Inscription!E8","v":"O'méga"},{"$f":"Inscription!F8","v":"AnnabelleDuquet"},null,"00:01:17.220","00:01:17.280","00:01:17.250",null,2,{"$f":"IF(F113=\"DNS\",\"0\",IF(F113=\"DQ\",\"0\",IF(F113=\"\",\"\",IF(F113=\"DNF\",\"0\",LOOKUP(H113,Valeurs!$A$4:'Valeurs'!$A$46,Valeurs!$B$4:'Valeurs'!$B$46)))))","v":18}]
[{"$f":"Inscription!E9","v":"O'méga"},{"$f":"Inscription!F9","v":"Odette Côté"},null,"DQ","DQ","DQ",null,"DQ",{"$f":"IF(F114=\"DNS\",\"0\",IF(F114=\"DQ\",\"0\",IF(F114=\"\",\"\",IF(F114=\"DNF\",\"0\",LOOKUP(H114,Valeurs!$A$4:'Valeurs'!$A$46,Valeurs!$B$4:'Valeurs'!$B$46)))))","v":"0"}]
[{"$f":"Inscription!E10","v":"30deux"},{"$f":"Inscription!F10","v":"Alexane Thibeault"},null,"00:01:24.590","00:01:24.560","00:01:24.575",null,7,{"$f":"IF(F115=\"DNS\",\"0\",IF(F115=\"DQ\",\"0\",IF(F115=\"\",\"\",IF(F115=\"DNF\",\"0\",LOOKUP(H115,Valeurs!$A$4:'Valeurs'!$A$46,Valeurs!$B$4:'Valeurs'!$B$46)))))","v":11}]
[{"$f":"Inscription!E11","v":"CSRN"},{"$f":"Inscription!F11","v":"Rosanne Trépanier"},null,"00:01:20","00:01:19.940","00:01:19.970",null,4,{"$f":"IF(F116=\"DNS\",\"0\",IF(F116=\"DQ\",\"0\",IF(F116=\"\",\"\",IF(F116=\"DNF\",\"0\",LOOKUP(H116,Valeurs!$A$4:'Valeurs'!$A$46,Valeurs!$B$4:'Valeurs'!$B$46)))))","v":14}]
[{"$f":"Inscription!E12","v":0},{"$f":"Inscription!F12","v":0},null,null,null,"",null,"",{"$f":"IF(F117=\"DNS\",\"0\",IF(F117=\"DQ\",\"0\",IF(F117=\"\",\"\",IF(F117=\"DNF\",\"0\",LOOKUP(H117,Valeurs!$A$4:'Valeurs'!$A$46,Valeurs!$B$4:'Valeurs'!$B$46)))))","v":""}]
[{"$f":"Inscription!E13","v":0},{"$f":"Inscription!F13","v":0},null,null,null,"",null,"",{"$f":"IF(F118=\"DNS\",\"0\",IF(F118=\"DQ\",\"0\",IF(F118=\"\",\"\",IF(F118=\"DNF\",\"0\",LOOKUP(H118,Valeurs!$A$4:'Valeurs'!$A$46,Valeurs!$B$4:'Valeurs'!$B$46)))))","v":""}]
[{"$f":"Inscription!E14","v":0},{"$f":"Inscription!F14","v":0},null,null,null,"",null,"",{"$f":"IF(F119=\"DNS\",\"0\",IF(F119=\"DQ\",\"0\",IF(F119=\"\",\"\",IF(F119=\"DNF\",\"0\",LOOKUP(H119,Valeurs!$A$4:'Valeurs'!$A$46,Valeurs!$B$4:'Valeurs'!$B$46)))))","v":""}]
[{"$f":"Inscription!E15","v":0},{"$f":"Inscription!F15","v":0},null,null,null,"",null,"",{"$f":"IF(F120=\"DNS\",\"0\",IF(F120=\"DQ\",\"0\",IF(F120=\"\",\"\",IF(F120=\"DNF\",\"0\",LOOKUP(H120,Valeurs!$A$4:'Valeurs'!$A$46,Valeurs!$B$4:'Valeurs'!$B$46)))))","v":""}]
[{"$f":"Inscription!E16","v":0},{"$f":"Inscription!F16","v":0},null,null,null,"",null,"",{"$f":"IF(F121=\"DNS\",\"0\",IF(F121=\"DQ\",\"0\",IF(F121=\"\",\"\",IF(F121=\"DNF\",\"0\",LOOKUP(H121,Valeurs!$A$4:'Valeurs'!$A$46,Valeurs!$B$4:'Valeurs'!$B$46)))))","v":""}]
[{"$f":"Inscription!E17","v":0},{"$f":"Inscription!F17","v":0},null,null,null,"",null,"",{"$f":"IF(F122=\"DNS\",\"0\",IF(F122=\"DQ\",\"0\",IF(F122=\"\",\"\",IF(F122=\"DNF\",\"0\",LOOKUP(H122,Valeurs!$A$4:'Valeurs'!$A$46,Valeurs!$B$4:'Valeurs'!$B$46)))))","v":""}]
[{"$f":"Inscription!E18","v":0},{"$f":"Inscription!F18","v":0},null,null,null,"",null,"",{"$f":"IF(F123=\"DNS\",\"0\",IF(F123=\"DQ\",\"0\",IF(F123=\"\",\"\",IF(F123=\"DNF\",\"0\",LOOKUP(H123,Valeurs!$A$4:'Valeurs'!$A$46,Valeurs!$B$4:'Valeurs'!$B$46)))))","v":""}]
[{"$f":"Inscription!E19","v":0},{"$f":"Inscription!F19","v":0},null,null,null,"",null,"",{"$f":"IF(F124=\"DNS\",\"0\",IF(F124=\"DQ\",\"0\",IF(F124=\"\",\"\",IF(F124=\"DNF\",\"0\",LOOKUP(H124,Valeurs!$A$4:'Valeurs'!$A$46,Valeurs!$B$4:'Valeurs'!$B$46)))))","v":""}]
[{"$f":"Inscription!E20","v":0},{"$f":"Inscription!F20","v":0},null,null,null,"",null,"",{"$f":"IF(F125=\"DNS\",\"0\",IF(F125=\"DQ\",\"0\",IF(F125=\"\",\"\",IF(F125=\"DNF\",\"0\",LOOKUP(H125,Valeurs!$A$4:'Valeurs'!$A$46,Valeurs!$B$4:'Valeurs'!$B$46)))))","v":""}]
[{"$f":"Inscription!E21","v":0},{"$f":"Inscription!F21","v":0},null,null,null,"",null,"",{"$f":"IF(F126=\"DNS\",\"0\",IF(F126=\"DQ\",\"0\",IF(F126=\"\",\"\",IF(F126=\"DNF\",\"0\",LOOKUP(H126,Valeurs!$A$4:'Valeurs'!$A$46,Valeurs!$B$4:'Valeurs'!$B$46)))))","v":""}]
[{"$f":"Inscription!E22","v":0},{"$f":"Inscription!F22","v":0},null,null,null,"",null,"",{"$f":"IF(F127=\"DNS\",\"0\",IF(F127=\"DQ\",\"0\",IF(F127=\"\",\"\",IF(F127=\"DNF\",\"0\",LOOKUP(H127,Valeurs!$A$4:'Valeurs'!$A$46,Valeurs!$B$4:'Valeurs'!$B$46)))))","v":""}]
[{"$f":"Inscription!E23","v":0},{"$f":"Inscription!F23","v":0},null,null,null,"",null,"",{"$f":"IF(F128=\"DNS\",\"0\",IF(F128=\"DQ\",\"0\",IF(F128=\"\",\"\",IF(F128=\"DNF\",\"0\",LOOKUP(H128,Valeurs!$A$4:'Valeurs'!$A$46,Valeurs!$B$4:'Valeurs'!$B$46)))))","v":""}]
[{"$f":"Inscription!E24","v":0},{"$f":"Inscription!F24","v":0},null,null,null,"",null,"",{"$f":"IF(F129=\"DNS\",\"0\",IF(F129=\"DQ\",\"0\",IF(F129=\"\",\"\",IF(F129=\"DNF\",\"0\",LOOKUP(H129,Valeurs!$A$4:'Valeurs'!$A$46,Valeurs!$B$4:'Valeurs'!$B$46)))))","v":""}]
[{"$f":"Inscription!E25","v":0},{"$f":"Inscription!F25","v":0},null,null,null,"",null,"",{"$f":"IF(F130=\"DNS\",\"0\",IF(F130=\"DQ\",\"0\",IF(F130=\"\",\"\",IF(F130=\"DNF\",\"0\",LOOKUP(H130,Valeurs!$A$4:'Valeurs'!$A$46,Valeurs!$B$4:'Valeurs'!$B$46)))))","v":""}]
[{"$f":"Inscription!E26","v":0},{"$f":"Inscription!F26","v":0},null,null,null,"",null,"",{"$f":"IF(F131=\"DNS\",\"0\",IF(F131=\"DQ\",\"0\",IF(F131=\"\",\"\",IF(F131=\"DNF\",\"0\",LOOKUP(H131,Valeurs!$A$4:'Valeurs'!$A$46,Valeurs!$B$4:'Valeurs'!$B$46)))))","v":""}]
[{"$f":"Inscription!E27","v":0},{"$f":"Inscription!F27","v":0},null,null,null,"",null,"",{"$f":"IF(F132=\"DNS\",\"0\",IF(F132=\"DQ\",\"0\",IF(F132=\"\",\"\",IF(F132=\"DNF\",\"0\",LOOKUP(H132,Valeurs!$A$4:'Valeurs'!$A$46,Valeurs!$B$4:'Valeurs'!$B$46)))))","v":""}]
[{"$f":"Inscription!E28","v":0},{"$f":"Inscription!F28","v":0},null,null,null,"",null,"",{"$f":"IF(F133=\"DNS\",\"0\",IF(F133=\"DQ\",\"0\",IF(F133=\"\",\"\",IF(F133=\"DNF\",\"0\",LOOKUP(H133,Valeurs!$A$4:'Valeurs'!$A$46,Valeurs!$B$4:'Valeurs'!$B$46)))))","v":""}]
[{"$f":"Inscription!E29","v":0},{"$f":"Inscription!F29","v":0},null,null,null,"",null,"",{"$f":"IF(F134=\"DNS\",\"0\",IF(F134=\"DQ\",\"0\",IF(F134=\"\",\"\",IF(F134=\"DNF\",\"0\",LOOKUP(H134,Valeurs!$A$4:'Valeurs'!$A$46,Valeurs!$B$4:'Valeurs'!$B$46)))))","v":""}]
[{"$f":"Inscription!E30","v":0},{"$f":"Inscription!F30","v":0},null,null,null,"",null,"",{"$f":"IF(F135=\"DNS\",\"0\",IF(F135=\"DQ\",\"0\",IF(F135=\"\",\"\",IF(F135=\"DNF\",\"0\",LOOKUP(H135,Valeurs!$A$4:'Valeurs'!$A$46,Valeurs!$B$4:'Valeurs'!$B$46)))))","v":""}]
[{"$f":"Inscription!E31","v":0},{"$f":"Inscription!F31","v":0},null,null,null,"",null,"",{"$f":"IF(F136=\"DNS\",\"0\",IF(F136=\"DQ\",\"0\",IF(F136=\"\",\"\",IF(F136=\"DNF\",\"0\",LOOKUP(H136,Valeurs!$A$4:'Valeurs'!$A$46,Valeurs!$B$4:'Valeurs'!$B$46)))))","v":""}]
[]
["Portage mannequin plein - 14 - 15 ans Femme\nÉPREUVE PORTAGE MANNEQUIN"]
[]
["Club","Nom",null,"Chrono 1","Chrono 2","Temps final",null,"R","Points"]
[{"$f":"Inscription!E2","v":"SSSL"},{"$f":"Inscription!F2","v":"Paula Loaiza"},null,"00:00:57.470","00:00:57.280",{"$f":"IF(D141=\"\",\"\",IF(D141=\"DQ\",\"DQ\",IF(D141=\"DNF\",\"DNF\",IF(D141=\"DNS\",\"DNS\",AVERAGE(D141,E141)))))","v":"00:00:57.375"},null,{"$f":"IF(F141=\"DNS\",\"DNS\",IF(F141=\"DQ\",\"DQ\",IF(F141=\"\",\"\",IF(F141=\"DNF\",\"DNF\",RANK(F141,$F$141:$F$170,1)))))","v":6},{"$f":"IF(F141=\"DNS\",\"0\",IF(F141=\"DQ\",\"0\",IF(F141=\"\",\"\",IF(F141=\"DNF\",\"0\",LOOKUP(H141,Valeurs!$A$4:'Valeurs'!$A$46,Valeurs!$B$4:'Valeurs'!$B$46)))))","v":12}]
[{"$f":"Inscription!E3","v":"CAEM"},{"$f":"Inscription!F3","v":"Audrey Desroches"},null,"00:00:56.910","00:00:56.750",{"$f":"IF(D142=\"\",\"\",IF(D142=\"DQ\",\"DQ\",IF(D142=\"DNF\",\"DNF\",IF(D142=\"DNS\",\"DNS\",AVERAGE(D142,E142)))))","v":"00:00:56.830"},null,{"$f":"IF(F142=\"DNS\",\"DNS\",IF(F142=\"DQ\",\"DQ\",IF(F142=\"\",\"\",IF(F142=\"DNF\",\"DNF\",RANK(F142,$F$141:$F$170,1)))))","v":5},{"$f":"IF(F142=\"DNS\",\"0\",IF(F142=\"DQ\",\"0\",IF(F142=\"\",\"\",IF(F142=\"DNF\",\"0\",LOOKUP(H142,Valeurs!$A$4:'Valeurs'!$A$46,Valeurs!$B$4:'Valeurs'!$B$46)))))","v":13}]
[{"$f":"Inscription!E4","v":"Dam'eauclès"},{"$f":"Inscription!F4","v":"Manuelle Charbonneau"},null,"00:00:46.190","00:00:46.220","00:00:46.205",null,{"$f":"IF(F143=\"DNS\",\"DNS\",IF(F143=\"DQ\",\"DQ\",IF(F143=\"\",\"\",IF(F143=\"DNF\",\"DNF\",RANK(F143,$F$141:$F$170,1)))))","v":1},{"$f":"IF(F143=\"DNS\",\"0\",IF(F143=\"DQ\",\"0\",IF(F143=\"\",\"\",IF(F143=\"DNF\",\"0\",LOOKUP(H143,Valeurs!$A$4:'Valeurs'!$A$46,Valeurs!$B$4:'Valeurs'!$B$46)))))","v":20}]
[{"$f":"Inscription!E5","v":"Dam'eauclès"},{"$f":"Inscription!F5","v":"Myriam Jacques"},null,"00:00:55","00:00:55.190","00:00:55.095",null,4,{"$f":"IF(F144=\"DNS\",\"0\",IF(F144=\"DQ\",\"0\",IF(F144=\"\",\"\",IF(F144=\"DNF\",\"0\",LOOKUP(H144,Valeurs!$A$4:'Valeurs'!$A$46,Valeurs!$B$4:'Valeurs'!$B$46)))))","v":14}]
[{"$f":"Inscription!E6","v":"Dam'eauclès"},{"$f":"Inscription!F6","v":"Emma Lajeunesse"},null,"00:00:48.970","00:00:48.810","00:00:48.890",null,2,{"$f":"IF(F145=\"DNS\",\"0\",IF(F145=\"DQ\",\"0\",IF(F145=\"\",\"\",IF(F145=\"DNF\",\"0\",LOOKUP(H145,Valeurs!$A$4:'Valeurs'!$A$46,Valeurs!$B$4:'Valeurs'!$B$46)))))","v":18}]
[{"$f":"Inscription!E7","v":"CSRAD"},{"$f":"Inscription!F7","v":"Sarah-Claude Lampron"},null,"00:01:02.220","00:01:01.900","00:01:02.060",null,7,{"$f":"IF(F146=\"DNS\",\"0\",IF(F146=\"DQ\",\"0\",IF(F146=\"\",\"\",IF(F146=\"DNF\",\"0\",LOOKUP(H146,Valeurs!$A$4:'Valeurs'!$A$46,Valeurs!$B$4:'Valeurs'!$B$46)))))","v":11}]
[{"$f":"Inscription!E8","v":"O'méga"},{"$f":"Inscription!F8","v":"AnnabelleDuquet"},null,"00:00:54.100","00:09:24.030","00:05:09.065",null,9,{"$f":"IF(F147=\"DNS\",\"0\",IF(F147=\"DQ\",\"0\",IF(F147=\"\",\"\",IF(F147=\"DNF\",\"0\",LOOKUP(H147,Valeurs!$A$4:'Valeurs'!$A$46,Valeurs!$B$4:'Valeurs'!$B$46)))))","v":8}]
[{"$f":"Inscription!E9","v":"O'méga"},{"$f":"Inscription!F9","v":"Odette Côté"},null,"00:01:21.100","00:01:21.220","00:01:21.160",null,8,{"$f":"IF(F148=\"DNS\",\"0\",IF(F148=\"DQ\",\"0\",IF(F148=\"\",\"\",IF(F148=\"DNF\",\"0\",LOOKUP(H148,Valeurs!$A$4:'Valeurs'!$A$46,Valeurs!$B$4:'Valeurs'!$B$46)))))","v":10}]
[{"$f":"Inscription!E10","v":"30deux"},{"$f":"Inscription!F10","v":"Alexane Thibeault"},null,"DQ","DQ","DQ",null,"DQ",{"$f":"IF(F149=\"DNS\",\"0\",IF(F149=\"DQ\",\"0\",IF(F149=\"\",\"\",IF(F149=\"DNF\",\"0\",LOOKUP(H149,Valeurs!$A$4:'Valeurs'!$A$46,Valeurs!$B$4:'Valeurs'!$B$46)))))","v":"0"}]
[{"$f":"Inscription!E11","v":"CSRN"},{"$f":"Inscription!F11","v":"Rosanne Trépanier"},null,"00:00:54.250","00:00:54.280","00:00:54.265",null,3,{"$f":"IF(F150=\"DNS\",\"0\",IF(F150=\"DQ\",\"0\",IF(F150=\"\",\"\",IF(F150=\"DNF\",\"0\",LOOKUP(H150,Valeurs!$A$4:'Valeurs'!$A$46,Valeurs!$B$4:'Valeurs'!$B$46)))))","v":16}]
[{"$f":"Inscription!E12","v":0},{"$f":"Inscription!F12","v":0},null,null,null,"",null,"",{"$f":"IF(F151=\"DNS\",\"0\",IF(F151=\"DQ\",\"0\",IF(F151=\"\",\"\",IF(F151=\"DNF\",\"0\",LOOKUP(H151,Valeurs!$A$4:'Valeurs'!$A$46,Valeurs!$B$4:'Valeurs'!$B$46)))))","v":""}]
[{"$f":"Inscription!E13","v":0},{"$f":"Inscription!F13","v":0},null,null,null,"",null,"",{"$f":"IF(F152=\"DNS\",\"0\",IF(F152=\"DQ\",\"0\",IF(F152=\"\",\"\",IF(F152=\"DNF\",\"0\",LOOKUP(H152,Valeurs!$A$4:'Valeurs'!$A$46,Valeurs!$B$4:'Valeurs'!$B$46)))))","v":""}]
[{"$f":"Inscription!E14","v":0},{"$f":"Inscription!F14","v":0},null,null,null,"",null,"",{"$f":"IF(F153=\"DNS\",\"0\",IF(F153=\"DQ\",\"0\",IF(F153=\"\",\"\",IF(F153=\"DNF\",\"0\",LOOKUP(H153,Valeurs!$A$4:'Valeurs'!$A$46,Valeurs!$B$4:'Valeurs'!$B$46)))))","v":""}]
[{"$f":"Inscription!E15","v":0},{"$f":"Inscription!F15","v":0},null,null,null,"",null,"",{"$f":"IF(F154=\"DNS\",\"0\",IF(F154=\"DQ\",\"0\",IF(F154=\"\",\"\",IF(F154=\"DNF\",\"0\",LOOKUP(H154,Valeurs!$A$4:'Valeurs'!$A$46,Valeurs!$B$4:'Valeurs'!$B$46)))))","v":""}]
[{"$f":"Inscription!E16","v":0},{"$f":"Inscription!F16","v":0},null,null,null,"",null,"",{"$f":"IF(F155=\"DNS\",\"0\",IF(F155=\"DQ\",\"0\",IF(F155=\"\",\"\",IF(F155=\"DNF\",\"0\",LOOKUP(H155,Valeurs!$A$4:'Valeurs'!$A$46,Valeurs!$B$4:'Valeurs'!$B$46)))))","v":""}]
[{"$f":"Inscription!E17","v":0},{"$f":"Inscription!F17","v":0},null,null,null,"",null,"",{"$f":"IF(F156=\"DNS\",\"0\",IF(F156=\"DQ\",\"0\",IF(F156=\"\",\"\",IF(F156=\"DNF\",\"0\",LOOKUP(H156,Valeurs!$A$4:'Valeurs'!$A$46,Valeurs!$B$4:'Valeurs'!$B$46)))))","v":""}]
[{"$f":"Inscription!E18","v":0},{"$f":"Inscription!F18","v":0},null,null,null,"",null,"",{"$f":"IF(F157=\"DNS\",\"0\",IF(F157=\"DQ\",\"0\",IF(F157=\"\",\"\",IF(F157=\"DNF\",\"0\",LOOKUP(H157,Valeurs!$A$4:'Valeurs'!$A$46,Valeurs!$B$4:'Valeurs'!$B$46)))))","v":""}]
[{"$f":"Inscription!E19","v":0},{"$f":"Inscription!F19","v":0},null,null,null,"",null,"",{"$f":"IF(F158=\"DNS\",\"0\",IF(F158=\"DQ\",\"0\",IF(F158=\"\",\"\",IF(F158=\"DNF\",\"0\",LOOKUP(H158,Valeurs!$A$4:'Valeurs'!$A$46,Valeurs!$B$4:'Valeurs'!$B$46)))))","v":""}]
[{"$f":"Inscription!E20","v":0},{"$f":"Inscription!F20","v":0},null,null,null,"",null,"",{"$f":"IF(F159=\"DNS\",\"0\",IF(F159=\"DQ\",\"0\",IF(F159=\"\",\"\",IF(F159=\"DNF\",\"0\",LOOKUP(H159,Valeurs!$A$4:'Valeurs'!$A$46,Valeurs!$B$4:'Valeurs'!$B$46)))))","v":""}]
[{"$f":"Inscription!E21","v":0},{"$f":"Inscription!F21","v":0},null,null,null,"",null,"",{"$f":"IF(F160=\"DNS\",\"0\",IF(F160=\"DQ\",\"0\",IF(F160=\"\",\"\",IF(F160=\"DNF\",\"0\",LOOKUP(H160,Valeurs!$A$4:'Valeurs'!$A$46,Valeurs!$B$4:'Valeurs'!$B$46)))))","v":""}]
[{"$f":"Inscription!E22","v":0},{"$f":"Inscription!F22","v":0},null,null,null,"",null,"",{"$f":"IF(F161=\"DNS\",\"0\",IF(F161=\"DQ\",\"0\",IF(F161=\"\",\"\",IF(F161=\"DNF\",\"0\",LOOKUP(H161,Valeurs!$A$4:'Valeurs'!$A$46,Valeurs!$B$4:'Valeurs'!$B$46)))))","v":""}]
[{"$f":"Inscription!E23","v":0},{"$f":"Inscription!F23","v":0},null,null,null,"",null,"",{"$f":"IF(F162=\"DNS\",\"0\",IF(F162=\"DQ\",\"0\",IF(F162=\"\",\"\",IF(F162=\"DNF\",\"0\",LOOKUP(H162,Valeurs!$A$4:'Valeurs'!$A$46,Valeurs!$B$4:'Valeurs'!$B$46)))))","v":""}]
[{"$f":"Inscription!E24","v":0},{"$f":"Inscription!F24","v":0},null,null,null,"",null,"",{"$f":"IF(F163=\"DNS\",\"0\",IF(F163=\"DQ\",\"0\",IF(F163=\"\",\"\",IF(F163=\"DNF\",\"0\",LOOKUP(H163,Valeurs!$A$4:'Valeurs'!$A$46,Valeurs!$B$4:'Valeurs'!$B$46)))))","v":""}]
[{"$f":"Inscription!E25","v":0},{"$f":"Inscription!F25","v":0},null,null,null,"",null,"",{"$f":"IF(F164=\"DNS\",\"0\",IF(F164=\"DQ\",\"0\",IF(F164=\"\",\"\",IF(F164=\"DNF\",\"0\",LOOKUP(H164,Valeurs!$A$4:'Valeurs'!$A$46,Valeurs!$B$4:'Valeurs'!$B$46)))))","v":""}]
[{"$f":"Inscription!E26","v":0},{"$f":"Inscription!F26","v":0},null,null,null,"",null,"",{"$f":"IF(F165=\"DNS\",\"0\",IF(F165=\"DQ\",\"0\",IF(F165=\"\",\"\",IF(F165=\"DNF\",\"0\",LOOKUP(H165,Valeurs!$A$4:'Valeurs'!$A$46,Valeurs!$B$4:'Valeurs'!$B$46)))))","v":""}]
[{"$f":"Inscription!E27","v":0},{"$f":"Inscription!F27","v":0},null,null,null,"",null,"",{"$f":"IF(F166=\"DNS\",\"0\",IF(F166=\"DQ\",\"0\",IF(F166=\"\",\"\",IF(F166=\"DNF\",\"0\",LOOKUP(H166,Valeurs!$A$4:'Valeurs'!$A$46,Valeurs!$B$4:'Valeurs'!$B$46)))))","v":""}]
[{"$f":"Inscription!E28","v":0},{"$f":"Inscription!F28","v":0},null,null,null,"",null,"",{"$f":"IF(F167=\"DNS\",\"0\",IF(F167=\"DQ\",\"0\",IF(F167=\"\",\"\",IF(F167=\"DNF\",\"0\",LOOKUP(H167,Valeurs!$A$4:'Valeurs'!$A$46,Valeurs!$B$4:'Valeurs'!$B$46)))))","v":""}]
[{"$f":"Inscription!E29","v":0},{"$f":"Inscription!F29","v":0},null,null,null,"",null,"",{"$f":"IF(F168=\"DNS\",\"0\",IF(F168=\"DQ\",\"0\",IF(F168=\"\",\"\",IF(F168=\"DNF\",\"0\",LOOKUP(H168,Valeurs!$A$4:'Valeurs'!$A$46,Valeurs!$B$4:'Valeurs'!$B$46)))))","v":""}]
[{"$f":"Inscription!E30","v":0},{"$f":"Inscription!F30","v":0},null,null,null,"",null,"",{"$f":"IF(F169=\"DNS\",\"0\",IF(F169=\"DQ\",\"0\",IF(F169=\"\",\"\",IF(F169=\"DNF\",\"0\",LOOKUP(H169,Valeurs!$A$4:'Valeurs'!$A$46,Valeurs!$B$4:'Valeurs'!$B$46)))))","v":""}]
[{"$f":"Inscription!E31","v":0},{"$f":"Inscription!F31","v":0},null,null,null,"",null,"",{"$f":"IF(F170=\"DNS\",\"0\",IF(F170=\"DQ\",\"0\",IF(F170=\"\",\"\",IF(F170=\"DNF\",\"0\",LOOKUP(H170,Valeurs!$A$4:'Valeurs'!$A$46,Valeurs!$B$4:'Valeurs'!$B$46)))))","v":""}]
[]
["Sauveteur d'acier - 14 - 15 ans Femme\nÉPREUVE SAUVETEUR D'ACIER"]
[]
["Club","Nom",null,"Chrono 1","Chrono 2","Temps final",null,"R","Points"]
[{"$f":"Inscription!E2","v":"SSSL"},{"$f":"Inscription!F2","v":"Paula Loaiza"},null,"00:03:49.810","00:03:49.780",{"$f":"IF(D175=\"\",\"\",IF(D175=\"DQ\",\"DQ\",IF(D175=\"DNF\",\"DNF\",IF(D175=\"DNS\",\"DNS\",AVERAGE(D175,E175)))))","v":"00:03:49.795"},null,{"$f":"IF(F175=\"DNS\",\"DNS\",IF(F175=\"DQ\",\"DQ\",IF(F175=\"\",\"\",IF(F175=\"DNF\",\"DNF\",RANK(F175,$F$174:$F$204,1)))))","v":7},{"$f":"IF(F175=\"DNS\",\"0\",IF(F175=\"DQ\",\"0\",IF(F175=\"\",\"\",IF(F175=\"DNF\",\"0\",LOOKUP(H175,Valeurs!$A$4:'Valeurs'!$A$46,Valeurs!$B$4:'Valeurs'!$B$46)))))","v":11}]
[{"$f":"Inscription!E3","v":"CAEM"},{"$f":"Inscription!F3","v":"Audrey Desroches"},null,"00:03:44.470","00:03:44.440",{"$f":"IF(D176=\"\",\"\",IF(D176=\"DQ\",\"DQ\",IF(D176=\"DNF\",\"DNF\",IF(D176=\"DNS\",\"DNS\",AVERAGE(D176,E176)))))","v":"00:03:44.455"},null,{"$f":"IF(F176=\"DNS\",\"DNS\",IF(F176=\"DQ\",\"DQ\",IF(F176=\"\",\"\",IF(F176=\"DNF\",\"DNF\",RANK(F176,$F$174:$F$204,1)))))","v":5},{"$f":"IF(F176=\"DNS\",\"0\",IF(F176=\"DQ\",\"0\",IF(F176=\"\",\"\",IF(F176=\"DNF\",\"0\",LOOKUP(H176,Valeurs!$A$4:'Valeurs'!$A$46,Valeurs!$B$4:'Valeurs'!$B$46)))))","v":13}]
[{"$f":"Inscription!E4","v":"Dam'eauclès"},{"$f":"Inscription!F4","v":"Manuelle Charbonneau"},null,"00:03:18.370","00:03:18.440","00:03:18.405",null,{"$f":"IF(F177=\"DNS\",\"DNS\",IF(F177=\"DQ\",\"DQ\",IF(F177=\"\",\"\",IF(F177=\"DNF\",\"DNF\",RANK(F177,$F$174:$F$204,1)))))","v":1},{"$f":"IF(F177=\"DNS\",\"0\",IF(F177=\"DQ\",\"0\",IF(F177=\"\",\"\",IF(F177=\"DNF\",\"0\",LOOKUP(H177,Valeurs!$A$4:'Valeurs'!$A$46,Valeurs!$B$4:'Valeurs'!$B$46)))))","v":20}]
[{"$f":"Inscription!E5","v":"Dam'eauclès"},{"$f":"Inscription!F5","v":"Myriam Jacques"},null,"00:03:42.470","00:03:42.620","00:03:42.545",null,3,{"$f":"IF(F178=\"DNS\",\"0\",IF(F178=\"DQ\",\"0\",IF(F178=\"\",\"\",IF(F178=\"DNF\",\"0\",LOOKUP(H178,Valeurs!$A$4:'Valeurs'!$A$46,Valeurs!$B$4:'Valeurs'!$B$46)))))","v":16}]
[{"$f":"Inscription!E6","v":"Dam'eauclès"},{"$f":"Inscription!F6","v":"Emma Lajeunesse"},null,"DQ","DQ","DQ",null,"DQ",{"$f":"IF(F179=\"DNS\",\"0\",IF(F179=\"DQ\",\"0\",IF(F179=\"\",\"\",IF(F179=\"DNF\",\"0\",LOOKUP(H179,Valeurs!$A$4:'Valeurs'!$A$46,Valeurs!$B$4:'Valeurs'!$B$46)))))","v":"0"}]
[{"$f":"Inscription!E7","v":"CSRAD"},{"$f":"Inscription!F7","v":"Sarah-Claude Lampron"},null,"00:03:45.500","00:03:45.060","00:03:45.280",null,6,{"$f":"IF(F180=\"DNS\",\"0\",IF(F180=\"DQ\",\"0\",IF(F180=\"\",\"\",IF(F180=\"DNF\",\"0\",LOOKUP(H180,Valeurs!$A$4:'Valeurs'!$A$46,Valeurs!$B$4:'Valeurs'!$B$46)))))","v":12}]
[{"$f":"Inscription!E8","v":"O'méga"},{"$f":"Inscription!F8","v":"AnnabelleDuquet"},null,"00:03:43.070","00:03:43.160","00:03:43.115",null,4,{"$f":"IF(F181=\"DNS\",\"0\",IF(F181=\"DQ\",\"0\",IF(F181=\"\",\"\",IF(F181=\"DNF\",\"0\",LOOKUP(H181,Valeurs!$A$4:'Valeurs'!$A$46,Valeurs!$B$4:'Valeurs'!$B$46)))))","v":14}]
[{"$f":"Inscription!E9","v":"O'méga"},{"$f":"Inscription!F9","v":"Odette Côté"},null,"DQ","DQ","DQ",null,"DQ",{"$f":"IF(F182=\"DNS\",\"0\",IF(F182=\"DQ\",\"0\",IF(F182=\"\",\"\",IF(F182=\"DNF\",\"0\",LOOKUP(H182,Valeurs!$A$4:'Valeurs'!$A$46,Valeurs!$B$4:'Valeurs'!$B$46)))))","v":"0"}]
[{"$f":"Inscription!E10","v":"30deux"},{"$f":"Inscription!F10","v":"Alexane Thibeault"},null,"DQ","DQ","DQ",null,"DQ",{"$f":"IF(F183=\"DNS\",\"0\",IF(F183=\"DQ\",\"0\",IF(F183=\"\",\"\",IF(F183=\"DNF\",\"0\",LOOKUP(H183,Valeurs!$A$4:'Valeurs'!$A$46,Valeurs!$B$4:'Valeurs'!$B$46)))))","v":"0"}]
[{"$f":"Inscription!E11","v":"CSRN"},{"$f":"Inscription!F11","v":"Rosanne Trépanier"},null,"00:03:34.660","00:03:34.570","00:03:34.615",null,2,{"$f":"IF(F184=\"DNS\",\"0\",IF(F184=\"DQ\",\"0\",IF(F184=\"\",\"\",IF(F184=\"DNF\",\"0\",LOOKUP(H184,Valeurs!$A$4:'Valeurs'!$A$46,Valeurs!$B$4:'Valeurs'!$B$46)))))","v":18}]
[{"$f":"Inscription!E12","v":0},{"$f":"Inscription!F12","v":0},null,null,null,"",null,"",{"$f":"IF(F185=\"DNS\",\"0\",IF(F185=\"DQ\",\"0\",IF(F185=\"\",\"\",IF(F185=\"DNF\",\"0\",LOOKUP(H185,Valeurs!$A$4:'Valeurs'!$A$46,Valeurs!$B$4:'Valeurs'!$B$46)))))","v":""}]
[{"$f":"Inscription!E13","v":0},{"$f":"Inscription!F13","v":0},null,null,null,"",null,"",{"$f":"IF(F186=\"DNS\",\"0\",IF(F186=\"DQ\",\"0\",IF(F186=\"\",\"\",IF(F186=\"DNF\",\"0\",LOOKUP(H186,Valeurs!$A$4:'Valeurs'!$A$46,Valeurs!$B$4:'Valeurs'!$B$46)))))","v":""}]
[{"$f":"Inscription!E14","v":0},{"$f":"Inscription!F14","v":0},null,null,null,"",null,"",{"$f":"IF(F187=\"DNS\",\"0\",IF(F187=\"DQ\",\"0\",IF(F187=\"\",\"\",IF(F187=\"DNF\",\"0\",LOOKUP(H187,Valeurs!$A$4:'Valeurs'!$A$46,Valeurs!$B$4:'Valeurs'!$B$46)))))","v":""}]
[{"$f":"Inscription!E15","v":0},{"$f":"Inscription!F15","v":0},null,null,null,"",null,"",{"$f":"IF(F188=\"DNS\",\"0\",IF(F188=\"DQ\",\"0\",IF(F188=\"\",\"\",IF(F188=\"DNF\",\"0\",LOOKUP(H188,Valeurs!$A$4:'Valeurs'!$A$46,Valeurs!$B$4:'Valeurs'!$B$46)))))","v":""}]
[{"$f":"Inscription!E16","v":0},{"$f":"Inscription!F16","v":0},null,null,null,"",null,"",{"$f":"IF(F189=\"DNS\",\"0\",IF(F189=\"DQ\",\"0\",IF(F189=\"\",\"\",IF(F189=\"DNF\",\"0\",LOOKUP(H189,Valeurs!$A$4:'Valeurs'!$A$46,Valeurs!$B$4:'Valeurs'!$B$46)))))","v":""}]
[{"$f":"Inscription!E17","v":0},{"$f":"Inscription!F17","v":0},null,null,null,"",null,"",{"$f":"IF(F190=\"DNS\",\"0\",IF(F190=\"DQ\",\"0\",IF(F190=\"\",\"\",IF(F190=\"DNF\",\"0\",LOOKUP(H190,Valeurs!$A$4:'Valeurs'!$A$46,Valeurs!$B$4:'Valeurs'!$B$46)))))","v":""}]
[{"$f":"Inscription!E18","v":0},{"$f":"Inscription!F18","v":0},null,null,null,"",null,"",{"$f":"IF(F191=\"DNS\",\"0\",IF(F191=\"DQ\",\"0\",IF(F191=\"\",\"\",IF(F191=\"DNF\",\"0\",LOOKUP(H191,Valeurs!$A$4:'Valeurs'!$A$46,Valeurs!$B$4:'Valeurs'!$B$46)))))","v":""}]
[{"$f":"Inscription!E19","v":0},{"$f":"Inscription!F19","v":0},null,null,null,"",null,"",{"$f":"IF(F192=\"DNS\",\"0\",IF(F192=\"DQ\",\"0\",IF(F192=\"\",\"\",IF(F192=\"DNF\",\"0\",LOOKUP(H192,Valeurs!$A$4:'Valeurs'!$A$46,Valeurs!$B$4:'Valeurs'!$B$46)))))","v":""}]
[{"$f":"Inscription!E20","v":0},{"$f":"Inscription!F20","v":0},null,null,null,"",null,"",{"$f":"IF(F193=\"DNS\",\"0\",IF(F193=\"DQ\",\"0\",IF(F193=\"\",\"\",IF(F193=\"DNF\",\"0\",LOOKUP(H193,Valeurs!$A$4:'Valeurs'!$A$46,Valeurs!$B$4:'Valeurs'!$B$46)))))","v":""}]
[{"$f":"Inscription!E21","v":0},{"$f":"Inscription!F21","v":0},null,null,null,"",null,"",{"$f":"IF(F194=\"DNS\",\"0\",IF(F194=\"DQ\",\"0\",IF(F194=\"\",\"\",IF(F194=\"DNF\",\"0\",LOOKUP(H194,Valeurs!$A$4:'Valeurs'!$A$46,Valeurs!$B$4:'Valeurs'!$B$46)))))","v":""}]
[{"$f":"Inscription!E22","v":0},{"$f":"Inscription!F22","v":0},null,null,null,"",null,"",{"$f":"IF(F195=\"DNS\",\"0\",IF(F195=\"DQ\",\"0\",IF(F195=\"\",\"\",IF(F195=\"DNF\",\"0\",LOOKUP(H195,Valeurs!$A$4:'Valeurs'!$A$46,Valeurs!$B$4:'Valeurs'!$B$46)))))","v":""}]
[{"$f":"Inscription!E23","v":0},{"$f":"Inscription!F23","v":0},null,null,null,"",null,"",{"$f":"IF(F196=\"DNS\",\"0\",IF(F196=\"DQ\",\"0\",IF(F196=\"\",\"\",IF(F196=\"DNF\",\"0\",LOOKUP(H196,Valeurs!$A$4:'Valeurs'!$A$46,Valeurs!$B$4:'Valeurs'!$B$46)))))","v":""}]
[{"$f":"Inscription!E24","v":0},{"$f":"Inscription!F24","v":0},null,null,null,"",null,"",{"$f":"IF(F197=\"DNS\",\"0\",IF(F197=\"DQ\",\"0\",IF(F197=\"\",\"\",IF(F197=\"DNF\",\"0\",LOOKUP(H197,Valeurs!$A$4:'Valeurs'!$A$46,Valeurs!$B$4:'Valeurs'!$B$46)))))","v":""}]
[{"$f":"Inscription!E25","v":0},{"$f":"Inscription!F25","v":0},null,null,null,"",null,"",{"$f":"IF(F198=\"DNS\",\"0\",IF(F198=\"DQ\",\"0\",IF(F198=\"\",\"\",IF(F198=\"DNF\",\"0\",LOOKUP(H198,Valeurs!$A$4:'Valeurs'!$A$46,Valeurs!$B$4:'Valeurs'!$B$46)))))","v":""}]
[{"$f":"Inscription!E26","v":0},{"$f":"Inscription!F26","v":0},null,null,null,"",null,"",{"$f":"IF(F199=\"DNS\",\"0\",IF(F199=\"DQ\",\"0\",IF(F199=\"\",\"\",IF(F199=\"DNF\",\"0\",LOOKUP(H199,Valeurs!$A$4:'Valeurs'!$A$46,Valeurs!$B$4:'Valeurs'!$B$46)))))","v":""}]
[{"$f":"Inscription!E27","v":0},{"$f":"Inscription!F27","v":0},null,null,null,"",null,"",{"$f":"IF(F200=\"DNS\",\"0\",IF(F200=\"DQ\",\"0\",IF(F200=\"\",\"\",IF(F200=\"DNF\",\"0\",LOOKUP(H200,Valeurs!$A$4:'Valeurs'!$A$46,Valeurs!$B$4:'Valeurs'!$B$46)))))","v":""}]
[{"$f":"Inscription!E28","v":0},{"$f":"Inscription!F28","v":0},null,null,null,"",null,"",{"$f":"IF(F201=\"DNS\",\"0\",IF(F201=\"DQ\",\"0\",IF(F201=\"\",\"\",IF(F201=\"DNF\",\"0\",LOOKUP(H201,Valeurs!$A$4:'Valeurs'!$A$46,Valeurs!$B$4:'Valeurs'!$B$46)))))","v":""}]
[{"$f":"Inscription!E29","v":0},{"$f":"Inscription!F29","v":0},null,null,null,"",null,"",{"$f":"IF(F202=\"DNS\",\"0\",IF(F202=\"DQ\",\"0\",IF(F202=\"\",\"\",IF(F202=\"DNF\",\"0\",LOOKUP(H202,Valeurs!$A$4:'Valeurs'!$A$46,Valeurs!$B$4:'Valeurs'!$B$46)))))","v":""}]
[{"$f":"Inscription!E30","v":0},{"$f":"Inscription!F30","v":0},null,null,null,"",null,"",{"$f":"IF(F203=\"DNS\",\"0\",IF(F203=\"DQ\",\"0\",IF(F203=\"\",\"\",IF(F203=\"DNF\",\"0\",LOOKUP(H203,Valeurs!$A$4:'Valeurs'!$A$46,Valeurs!$B$4:'Valeurs'!$B$46)))))","v":""}]
[{"$f":"Inscription!E31","v":0},{"$f":"Inscription!F31","v":0},null,null,null,"",null,"",{"$f":"IF(F204=\"DNS\",\"0\",IF(F204=\"DQ\",\"0\",IF(F204=\"\",\"\",IF(F204=\"DNF\",\"0\",LOOKUP(H204,Valeurs!$A$4:'Valeurs'!$A$46,Valeurs!$B$4:'Valeurs'!$B$46)))))","v":""}]
[]
["Medley de sauvetage - 14 - 15 ans Femme\nÉPREUVE MEDLEY SAUVETAGE"]
[]
["Club","Nom",null,"Chrono 1","Chrono 2","Temps final",null,"R","Points"]
[{"$f":"Inscription!E2","v":"SSSL"},{"$f":"Inscription!F2","v":"Paula Loaiza"},null,null,null,{"$f":"IF(D209=\"\",\"\",IF(D209=\"DQ\",\"DQ\",IF(D209=\"DNF\",\"DNF\",IF(D209=\"DNS\",\"DNS\",AVERAGE(D209,E209)))))","v":""},null,{"$f":"IF(F209=\"DNS\",\"DNS\",IF(F209=\"DQ\",\"DQ\",IF(F209=\"\",\"\",IF(F209=\"DNF\",\"DNF\",RANK(F209,$F$209:$F$238,1)))))","v":""},{"$f":"IF(F209=\"\",\"\",LOOKUP(H209,Valeurs!$A$4:'Valeurs'!$A$46,Valeurs!$B$4:'Valeurs'!$B$46))","v":""}]
[{"$f":"Inscription!E3","v":"CAEM"},{"$f":"Inscription!F3","v":"Audrey Desroches"},null,null,null,{"$f":"IF(D210=\"\",\"\",IF(D210=\"DQ\",\"DQ\",IF(D210=\"DNF\",\"DNF\",IF(D210=\"DNS\",\"DNS\",AVERAGE(D210,E210)))))","v":""},null,{"$f":"IF(F210=\"DNS\",\"DNS\",IF(F210=\"DQ\",\"DQ\",IF(F210=\"\",\"\",IF(F210=\"DNF\",\"DNF\",RANK(F210,$F$209:$F$238,1)))))","v":""},{"$f":"IF(F210=\"\",\"\",LOOKUP(H210,Valeurs!$A$4:'Valeurs'!$A$46,Valeurs!$B$4:'Valeurs'!$B$46))","v":""}]
[{"$f":"Inscription!E4","v":"Dam'eauclès"},{"$f":"Inscription!F4","v":"Manuelle Charbonneau"},null,null,null,"",null,{"$f":"IF(F211=\"DNS\",\"DNS\",IF(F211=\"DQ\",\"DQ\",IF(F211=\"\",\"\",IF(F211=\"DNF\",\"DNF\",RANK(F211,$F$209:$F$238,1)))))","v":""},{"$f":"IF(F211=\"\",\"\",LOOKUP(H211,Valeurs!$A$4:'Valeurs'!$A$46,Valeurs!$B$4:'Valeurs'!$B$46))","v":""}]
[{"$f":"Inscription!E5","v":"Dam'eauclès"},{"$f":"Inscription!F5","v":"Myriam Jacques"},null,null,null,"",null,"",{"$f":"IF(F212=\"\",\"\",LOOKUP(H212,Valeurs!$A$4:'Valeurs'!$A$46,Valeurs!$B$4:'Valeurs'!$B$46))","v":""}]
[{"$f":"Inscription!E6","v":"Dam'eauclès"},{"$f":"Inscription!F6","v":"Emma Lajeunesse"},null,null,null,"",null,"",{"$f":"IF(F213=\"\",\"\",LOOKUP(H213,Valeurs!$A$4:'Valeurs'!$A$46,Valeurs!$B$4:'Valeurs'!$B$46))","v":""}]
[{"$f":"Inscription!E7","v":"CSRAD"},{"$f":"Inscription!F7","v":"Sarah-Claude Lampron"},null,null,null,"",null,"",{"$f":"IF(F214=\"\",\"\",LOOKUP(H214,Valeurs!$A$4:'Valeurs'!$A$46,Valeurs!$B$4:'Valeurs'!$B$46))","v":""}]
[{"$f":"Inscription!E8","v":"O'méga"},{"$f":"Inscription!F8","v":"AnnabelleDuquet"},null,null,null,"",null,"",{"$f":"IF(F215=\"\",\"\",LOOKUP(H215,Valeurs!$A$4:'Valeurs'!$A$46,Valeurs!$B$4:'Valeurs'!$B$46))","v":""}]
[{"$f":"Inscription!E9","v":"O'méga"},{"$f":"Inscription!F9","v":"Odette Côté"},null,null,null,"",null,"",{"$f":"IF(F216=\"\",\"\",LOOKUP(H216,Valeurs!$A$4:'Valeurs'!$A$46,Valeurs!$B$4:'Valeurs'!$B$46))","v":""}]
[{"$f":"Inscription!E10","v":"30deux"},{"$f":"Inscription!F10","v":"Alexane Thibeault"},null,null,null,"",null,"",{"$f":"IF(F217=\"\",\"\",LOOKUP(H217,Valeurs!$A$4:'Valeurs'!$A$46,Valeurs!$B$4:'Valeurs'!$B$46))","v":""}]
[{"$f":"Inscription!E11","v":"CSRN"},{"$f":"Inscription!F11","v":"Rosanne Trépanier"},null,null,null,"",null,"",{"$f":"IF(F218=\"\",\"\",LOOKUP(H218,Valeurs!$A$4:'Valeurs'!$A$46,Valeurs!$B$4:'Valeurs'!$B$46))","v":""}]
[{"$f":"Inscription!E12","v":0},{"$f":"Inscription!F12","v":0},null,null,null,"",null,"",{"$f":"IF(F219=\"\",\"\",LOOKUP(H219,Valeurs!$A$4:'Valeurs'!$A$46,Valeurs!$B$4:'Valeurs'!$B$46))","v":""}]
[{"$f":"Inscription!E13","v":0},{"$f":"Inscription!F13","v":0},null,null,null,"",null,"",{"$f":"IF(F220=\"\",\"\",LOOKUP(H220,Valeurs!$A$4:'Valeurs'!$A$46,Valeurs!$B$4:'Valeurs'!$B$46))","v":""}]
[{"$f":"Inscription!E14","v":0},{"$f":"Inscription!F14","v":0},null,null,null,"",null,"",{"$f":"IF(F221=\"\",\"\",LOOKUP(H221,Valeurs!$A$4:'Valeurs'!$A$46,Valeurs!$B$4:'Valeurs'!$B$46))","v":""}]
[{"$f":"Inscription!E15","v":0},{"$f":"Inscription!F15","v":0},null,null,null,"",null,"",{"$f":"IF(F222=\"\",\"\",LOOKUP(H222,Valeurs!$A$4:'Valeurs'!$A$46,Valeurs!$B$4:'Valeurs'!$B$46))","v":""}]
[{"$f":"Inscription!E16","v":0},{"$f":"Inscription!F16","v":0},null,null,null,"",null,"",{"$f":"IF(F223=\"\",\"\",LOOKUP(H223,Valeurs!$A$4:'Valeurs'!$A$46,Valeurs!$B$4:'Valeurs'!$B$46))","v":""}]
[{"$f":"Inscription!E17","v":0},{"$f":"Inscription!F17","v":0},null,null,null,"",null,"",{"$f":"IF(F224=\"\",\"\",LOOKUP(H224,Valeurs!$A$4:'Valeurs'!$A$46,Valeurs!$B$4:'Valeurs'!$B$46))","v":""}]
[{"$f":"Inscription!E18","v":0},{"$f":"Inscription!F18","v":0},null,null,null,"",null,"",{"$f":"IF(F225=\"\",\"\",LOOKUP(H225,Valeurs!$A$4:'Valeurs'!$A$46,Valeurs!$B$4:'Valeurs'!$B$46))","v":""}]
[{"$f":"Inscription!E19","v":0},{"$f":"Inscription!F19","v":0},null,null,null,"",null,"",{"$f":"IF(F226=\"\",\"\",LOOKUP(H226,Valeurs!$A$4:'Valeurs'!$A$46,Valeurs!$B$4:'Valeurs'!$B$46))","v":""}]
[{"$f":"Inscription!E20","v":0},{"$f":"Inscription!F20","v":0},null,null,null,"",null,"",{"$f":"IF(F227=\"\",\"\",LOOKUP(H227,Valeurs!$A$4:'Valeurs'!$A$46,Valeurs!$B$4:'Valeurs'!$B$46))","v":""}]
[{"$f":"Inscription!E21","v":0},{"$f":"Inscription!F21","v":0},null,null,null,"",null,"",{"$f":"IF(F228=\"\",\"\",LOOKUP(H228,Valeurs!$A$4:'Valeurs'!$A$46,Valeurs!$B$4:'Valeurs'!$B$46))","v":""}]
[{"$f":"Inscription!E22","v":0},{"$f":"Inscription!F22","v":0},null,null,null,"",null,"",{"$f":"IF(F229=\"\",\"\",LOOKUP(H229,Valeurs!$A$4:'Valeurs'!$A$46,Valeurs!$B$4:'Valeurs'!$B$46))","v":""}]
[{"$f":"Inscription!E23","v":0},{"$f":"Inscription!F23","v":0},null,null,null,"",null,"",{"$f":"IF(F230=\"\",\"\",LOOKUP(H230,Valeurs!$A$4:'Valeurs'!$A$46,Valeurs!$B$4:'Valeurs'!$B$46))","v":""}]
[{"$f":"Inscription!E24","v":0},{"$f":"Inscription!F24","v":0},null,null,null,"",null,"",{"$f":"IF(F231=\"\",\"\",LOOKUP(H231,Valeurs!$A$4:'Valeurs'!$A$46,Valeurs!$B$4:'Valeurs'!$B$46))","v":""}]
[{"$f":"Inscription!E25","v":0},{"$f":"Inscription!F25","v":0},null,null,null,"",null,"",{"$f":"IF(F232=\"\",\"\",LOOKUP(H232,Valeurs!$A$4:'Valeurs'!$A$46,Valeurs!$B$4:'Valeurs'!$B$46))","v":""}]
[{"$f":"Inscription!E26","v":0},{"$f":"Inscription!F26","v":0},null,null,null,"",null,"",{"$f":"IF(F233=\"\",\"\",LOOKUP(H233,Valeurs!$A$4:'Valeurs'!$A$46,Valeurs!$B$4:'Valeurs'!$B$46))","v":""}]
[{"$f":"Inscription!E27","v":0},{"$f":"Inscription!F27","v":0},null,null,null,"",null,"",{"$f":"IF(F234=\"\",\"\",LOOKUP(H234,Valeurs!$A$4:'Valeurs'!$A$46,Valeurs!$B$4:'Valeurs'!$B$46))","v":""}]
[{"$f":"Inscription!E28","v":0},{"$f":"Inscription!F28","v":0},null,null,null,"",null,"",{"$f":"IF(F235=\"\",\"\",LOOKUP(H235,Valeurs!$A$4:'Valeurs'!$A$46,Valeurs!$B$4:'Valeurs'!$B$46))","v":""}]
[{"$f":"Inscription!E29","v":0},{"$f":"Inscription!F29","v":0},null,null,null,"",null,"",{"$f":"IF(F236=\"\",\"\",LOOKUP(H236,Valeurs!$A$4:'Valeurs'!$A$46,Valeurs!$B$4:'Valeurs'!$B$46))","v":""}]
[{"$f":"Inscription!E30","v":0},{"$f":"Inscription!F30","v":0},null,null,null,"",null,"",{"$f":"IF(F237=\"\",\"\",LOOKUP(H237,Valeurs!$A$4:'Valeurs'!$A$46,Valeurs!$B$4:'Valeurs'!$B$46))","v":""}]
[{"$f":"Inscription!E31","v":0},{"$f":"Inscription!F31","v":0},null,null,null,"",null,"",{"$f":"IF(F238=\"\",\"\",LOOKUP(H238,Valeurs!$A$4:'Valeurs'!$A$46,Valeurs!$B$4:'Valeurs'!$B$46))","v":""}]

{"sheet":"14 - 15 ans H","index":5,"n_rows":238,"n_cols":9,"rows_kept":238,"cut":false,"hidden":false,"merged":[[205,0,206,8],[1,0,2,8],[35,0,36,8],[69,0,70,8],[103,0,104,8],[137,0,138,8],[171,0,172,8]]}
[]
["Lancer de la corde - 14 - 15 ans Homme\nÉPREUVE DE LA CORDE"]
[]
["Club","Nom",null,"Chrono 1","Chrono 2","Temps final",null,"R","Points"]
[null,null,null,null,null,{"$f":"IF(D5=\"\",\"\",IF(D5=\"DQ\",\"DQ\",IF(D5=\"DNF\",\"DNF\",IF(D5=\"DNS\",\"DNS\",AVERAGE(D5,E5)))))","v":""},null,{"$f":"IF(F5=\"DNS\",\"DNS\",IF(F5=\"DQ\",\"DQ\",IF(F5=\"\",\"\",IF(F5=\"DNF\",\"DNF\",RANK(F5,$F$5:$F$34,1)))))","v":""},{"$f":"IF(F5=\"DNS\",\"0\",IF(F5=\"DQ\",\"0\",IF(F5=\"\",\"\",IF(F5=\"DNF\",\"0\",LOOKUP(H5,Valeurs!$A$4:'Valeurs'!$A$46,Valeurs!$B$4:'Valeurs'!$B$46)))))","v":""}]
[null,null,null,null,null,null,null,null,{"$f":"I5","v":""}]
[null,null,null,null,null,{"$f":"IF(D7=\"\",\"\",IF(D7=\"DQ\",\"DQ\",IF(D7=\"DNF\",\"DNF\",IF(D7=\"DNS\",\"DNS\",AVERAGE(D7,E7)))))","v":""},null,{"$f":"IF(F7=\"DNS\",\"DNS\",IF(F7=\"DQ\",\"DQ\",IF(F7=\"\",\"\",IF(F7=\"DNF\",\"DNF\",RANK(F7,$F$5:$F$34,1)))))","v":""},{"$f":"IF(F7=\"DNS\",\"0\",IF(F7=\"DQ\",\"0\",IF(F7=\"\",\"\",IF(F7=\"DNF\",\"0\",LOOKUP(H7,Valeurs!$A$4:'Valeurs'!$A$46,Valeurs!$B$4:'Valeurs'!$B$46)))))","v":""}]
[null,null,null,null,null,null,null,null,{"$f":"I7","v":""}]
[null,null,null,null,null,{"$f":"IF(D9=\"\",\"\",IF(D9=\"DQ\",\"DQ\",IF(D9=\"DNF\",\"DNF\",IF(D9=\"DNS\",\"DNS\",AVERAGE(D9,E9)))))","v":""},null,{"$f":"IF(F9=\"DNS\",\"DNS\",IF(F9=\"DQ\",\"DQ\",IF(F9=\"\",\"\",IF(F9=\"DNF\",\"DNF\",RANK(F9,$F$5:$F$34,1)))))","v":""},{"$f":"IF(F9=\"DNS\",\"0\",IF(F9=\"DQ\",\"0\",IF(F9=\"\",\"\",IF(F9=\"DNF\",\"0\",LOOKUP(H9,Valeurs!$A$4:'Valeurs'!$A$46,Valeurs!$B$4:'Valeurs'!$B$46)))))","v":""}]
[null,null,null,null,null,null,null,null,{"$f":"I9","v":""}]
[null,null,null,null,null,{"$f":"IF(D11=\"\",\"\",IF(D11=\"DQ\",\"DQ\",IF(D11=\"DNF\",\"DNF\",IF(D11=\"DNS\",\"DNS\",AVERAGE(D11,E11)))))","v":""},null,{"$f":"IF(F11=\"DNS\",\"DNS\",IF(F11=\"DQ\",\"DQ\",IF(F11=\"\",\"\",IF(F11=\"DNF\",\"DNF\",RANK(F11,$F$5:$F$34,1)))))","v":""},{"$f":"IF(F11=\"DNS\",\"0\",IF(F11=\"DQ\",\"0\",IF(F11=\"\",\"\",IF(F11=\"DNF\",\"0\",LOOKUP(H11,Valeurs!$A$4:'Valeurs'!$A$46,Valeurs!$B$4:'Valeurs'!$B$46)))))","v":""}]
[null,null,null,null,null,null,null,null,{"$f":"I11","v":""}]
[null,null,null,null,null,{"$f":"IF(D13=\"\",\"\",IF(D13=\"DQ\",\"DQ\",IF(D13=\"DNF\",\"DNF\",IF(D13=\"DNS\",\"DNS\",AVERAGE(D13,E13)))))","v":""},null,{"$f":"IF(F13=\"DNS\",\"DNS\",IF(F13=\"DQ\",\"DQ\",IF(F13=\"\",\"\",IF(F13=\"DNF\",\"DNF\",RANK(F13,$F$5:$F$34,1)))))","v":""},{"$f":"IF(F13=\"DNS\",\"0\",IF(F13=\"DQ\",\"0\",IF(F13=\"\",\"\",IF(F13=\"DNF\",\"0\",LOOKUP(H13,Valeurs!$A$4:'Valeurs'!$A$46,Valeurs!$B$4:'Valeurs'!$B$46)))))","v":""}]
[null,null,null,null,null,null,null,null,{"$f":"I13","v":""}]
[null,null,null,null,null,{"$f":"IF(D15=\"\",\"\",IF(D15=\"DQ\",\"DQ\",IF(D15=\"DNF\",\"DNF\",IF(D15=\"DNS\",\"DNS\",AVERAGE(D15,E15)))))","v":""},null,{"$f":"IF(F15=\"DNS\",\"DNS\",IF(F15=\"DQ\",\"DQ\",IF(F15=\"\",\"\",IF(F15=\"DNF\",\"DNF\",RANK(F15,$F$5:$F$34,1)))))","v":""},{"$f":"IF(F15=\"DNS\",\"0\",IF(F15=\"DQ\",\"0\",IF(F15=\"\",\"\",IF(F15=\"DNF\",\"0\",LOOKUP(H15,Valeurs!$A$4:'Valeurs'!$A$46,Valeurs!$B$4:'Valeurs'!$B$46)))))","v":""}]
[null,null,null,null,null,null,null,null,{"$f":"I15","v":""}]
[null,null,null,null,null,{"$f":"IF(D17=\"\",\"\",IF(D17=\"DQ\",\"DQ\",IF(D17=\"DNF\",\"DNF\",IF(D17=\"DNS\",\"DNS\",AVERAGE(D17,E17)))))","v":""},null,{"$f":"IF(F17=\"DNS\",\"DNS\",IF(F17=\"DQ\",\"DQ\",IF(F17=\"\",\"\",IF(F17=\"DNF\",\"DNF\",RANK(F17,$F$5:$F$34,1)))))","v":""},{"$f":"IF(F17=\"DNS\",\"0\",IF(F17=\"DQ\",\"0\",IF(F17=\"\",\"\",IF(F17=\"DNF\",\"0\",LOOKUP(H17,Valeurs!$A$4:'Valeurs'!$A$46,Valeurs!$B$4:'Valeurs'!$B$46)))))","v":""}]
[null,null,null,null,null,null,null,null,{"$f":"I17","v":""}]
[null,null,null,null,null,{"$f":"IF(D19=\"\",\"\",IF(D19=\"DQ\",\"DQ\",IF(D19=\"DNF\",\"DNF\",IF(D19=\"DNS\",\"DNS\",AVERAGE(D19,E19)))))","v":""},null,{"$f":"IF(F19=\"DNS\",\"DNS\",IF(F19=\"DQ\",\"DQ\",IF(F19=\"\",\"\",IF(F19=\"DNF\",\"DNF\",RANK(F19,$F$5:$F$34,1)))))","v":""},{"$f":"IF(F19=\"DNS\",\"0\",IF(F19=\"DQ\",\"0\",IF(F19=\"\",\"\",IF(F19=\"DNF\",\"0\",LOOKUP(H19,Valeurs!$A$4:'Valeurs'!$A$46,Valeurs!$B$4:'Valeurs'!$B$46)))))","v":""}]
[null,null,null,null,null,null,null,null,{"$f":"I19","v":""}]
[null,null,null,null,null,{"$f":"IF(D21=\"\",\"\",IF(D21=\"DQ\",\"DQ\",IF(D21=\"DNF\",\"DNF\",IF(D21=\"DNS\",\"DNS\",AVERAGE(D21,E21)))))","v":""},null,{"$f":"IF(F21=\"DNS\",\"DNS\",IF(F21=\"DQ\",\"DQ\",IF(F21=\"\",\"\",IF(F21=\"DNF\",\"DNF\",RANK(F21,$F$5:$F$34,1)))))","v":""},{"$f":"IF(F21=\"DNS\",\"0\",IF(F21=\"DQ\",\"0\",IF(F21=\"\",\"\",IF(F21=\"DNF\",\"0\",LOOKUP(H21,Valeurs!$A$4:'Valeurs'!$A$46,Valeurs!$B$4:'Valeurs'!$B$46)))))","v":""}]
[null,null,null,null,null,null,null,null,{"$f":"I21","v":""}]
[null,null,null,null,null,{"$f":"IF(D23=\"\",\"\",IF(D23=\"DQ\",\"DQ\",IF(D23=\"DNF\",\"DNF\",IF(D23=\"DNS\",\"DNS\",AVERAGE(D23,E23)))))","v":""},null,{"$f":"IF(F23=\"DNS\",\"DNS\",IF(F23=\"DQ\",\"DQ\",IF(F23=\"\",\"\",IF(F23=\"DNF\",\"DNF\",RANK(F23,$F$5:$F$34,1)))))","v":""},{"$f":"IF(F23=\"DNS\",\"0\",IF(F23=\"DQ\",\"0\",IF(F23=\"\",\"\",IF(F23=\"DNF\",\"0\",LOOKUP(H23,Valeurs!$A$4:'Valeurs'!$A$46,Valeurs!$B$4:'Valeurs'!$B$46)))))","v":""}]
[null,null,null,null,null,null,null,null,{"$f":"I23","v":""}]
[null,null,null,null,null,{"$f":"IF(D25=\"\",\"\",IF(D25=\"DQ\",\"DQ\",IF(D25=\"DNF\",\"DNF\",IF(D25=\"DNS\",\"DNS\",AVERAGE(D25,E25)))))","v":""},null,{"$f":"IF(F25=\"DNS\",\"DNS\",IF(F25=\"DQ\",\"DQ\",IF(F25=\"\",\"\",IF(F25=\"DNF\",\"DNF\",RANK(F25,$F$5:$F$34,1)))))","v":""},{"$f":"IF(F25=\"DNS\",\"0\",IF(F25=\"DQ\",\"0\",IF(F25=\"\",\"\",IF(F25=\"DNF\",\"0\",LOOKUP(H25,Valeurs!$A$4:'Valeurs'!$A$46,Valeurs!$B$4:'Valeurs'!$B$46)))))","v":""}]
[null,null,null,null,null,null,null,null,{"$f":"I25","v":""}]
[null,null,null,null,null,{"$f":"IF(D27=\"\",\"\",IF(D27=\"DQ\",\"DQ\",IF(D27=\"DNF\",\"DNF\",IF(D27=\"DNS\",\"DNS\",AVERAGE(D27,E27)))))","v":""},null,{"$f":"IF(F27=\"DNS\",\"DNS\",IF(F27=\"DQ\",\"DQ\",IF(F27=\"\",\"\",IF(F27=\"DNF\",\"DNF\",RANK(F27,$F$5:$F$34,1)))))","v":""},{"$f":"IF(F27=\"DNS\",\"0\",IF(F27=\"DQ\",\"0\",IF(F27=\"\",\"\",IF(F27=\"DNF\",\"0\",LOOKUP(H27,Valeurs!$A$4:'Valeurs'!$A$46,Valeurs!$B$4:'Valeurs'!$B$46)))))","v":""}]
[null,null,null,null,null,null,null,null,{"$f":"I27","v":""}]
[null,null,null,null,null,{"$f":"IF(D29=\"\",\"\",IF(D29=\"DQ\",\"DQ\",IF(D29=\"DNF\",\"DNF\",IF(D29=\"DNS\",\"DNS\",AVERAGE(D29,E29)))))","v":""},null,{"$f":"IF(F29=\"DNS\",\"DNS\",IF(F29=\"DQ\",\"DQ\",IF(F29=\"\",\"\",IF(F29=\"DNF\",\"DNF\",RANK(F29,$F$5:$F$34,1)))))","v":""},{"$f":"IF(F29=\"DNS\",\"0\",IF(F29=\"DQ\",\"0\",IF(F29=\"\",\"\",IF(F29=\"DNF\",\"0\",LOOKUP(H29,Valeurs!$A$4:'Valeurs'!$A$46,Valeurs!$B$4:'Valeurs'!$B$46)))))","v":""}]
[null,null,null,null,null,null,null,null,{"$f":"I29","v":""}]
[null,null,null,null,null,{"$f":"IF(D31=\"\",\"\",IF(D31=\"DQ\",\"DQ\",IF(D31=\"DNF\",\"DNF\",IF(D31=\"DNS\",\"DNS\",AVERAGE(D31,E31)))))","v":""},null,{"$f":"IF(F31=\"DNS\",\"DNS\",IF(F31=\"DQ\",\"DQ\",IF(F31=\"\",\"\",IF(F31=\"DNF\",\"DNF\",RANK(F31,$F$5:$F$34,1)))))","v":""},{"$f":"IF(F31=\"DNS\",\"0\",IF(F31=\"DQ\",\"0\",IF(F31=\"\",\"\",IF(F31=\"DNF\",\"0\",LOOKUP(H31,Valeurs!$A$4:'Valeurs'!$A$46,Valeurs!$B$4:'Valeurs'!$B$46)))))","v":""}]
[null,null,null,null,null,null,null,null,{"$f":"I31","v":""}]
[null,null,null,null,null,{"$f":"IF(D33=\"\",\"\",IF(D33=\"DQ\",\"DQ\",IF(D33=\"DNF\",\"DNF\",IF(D33=\"DNS\",\"DNS\",AVERAGE(D33,E33)))))","v":""},null,{"$f":"IF(F33=\"DNS\",\"DNS\",IF(F33=\"DQ\",\"DQ\",IF(F33=\"\",\"\",IF(F33=\"DNF\",\"DNF\",RANK(F33,$F$5:$F$34,1)))))","v":""},{"$f":"IF(F33=\"DNS\",\"0\",IF(F33=\"DQ\",\"0\",IF(F33=\"\",\"\",IF(F33=\"DNF\",\"0\",LOOKUP(H33,Valeurs!$A$4:'Valeurs'!$A$46,Valeurs!$B$4:'Valeurs'!$B$46)))))","v":""}]
[null,null,null,null,null,null,null,null,{"$f":"I33","v":""}]
[]
["Remorquage mannequin 1/2 plein avec palmes - 14 - 15 ans Homme\nÉPREUVE REMORQUAGE MANNEQUIN + PALMES"]
[]
["Club","Nom",null,"Chrono 1","Chrono 2","Temps final",null,"R","Points"]
[{"$f":"Inscription!G2","v":"Dam'eauclès"},{"$f":"Inscription!H2","v":"Jacob Rousson"},null,"00:01:17.810","00:01:17.970",{"$f":"IF(D39=\"\",\"\",IF(D39=\"DQ\",\"DQ\",IF(D39=\"DNF\",\"DNF\",IF(D39=\"DNS\",\"DNS\",AVERAGE(D39,E39)))))","v":"00:01:17.890"},null,{"$f":"IF(F39=\"DNS\",\"DNS\",IF(F39=\"DQ\",\"DQ\",IF(F39=\"\",\"\",IF(F39=\"DNF\",\"DNF\",RANK(F39,$F$39:$F$68,1)))))","v":2},{"$f":"IF(F39=\"DNS\",\"0\",IF(F39=\"DQ\",\"0\",IF(F39=\"\",\"\",IF(F39=\"DNF\",\"0\",LOOKUP(H39,Valeurs!$A$4:'Valeurs'!$A$46,Valeurs!$B$4:'Valeurs'!$B$46)))))","v":18}]
[{"$f":"Inscription!G3","v":"Dam'eauclès"},{"$f":"Inscription!H3","v":"Julien Turgeon"},null,"00:01:15.400","00:01:15.870",{"$f":"IF(D40=\"\",\"\",IF(D40=\"DQ\",\"DQ\",IF(D40=\"DNF\",\"DNF\",IF(D40=\"DNS\",\"DNS\",AVERAGE(D40,E40)))))","v":"00:01:15.635"},null,{"$f":"IF(F40=\"DNS\",\"DNS\",IF(F40=\"DQ\",\"DQ\",IF(F40=\"\",\"\",IF(F40=\"DNF\",\"DNF\",RANK(F40,$F$39:$F$68,1)))))","v":1},{"$f":"IF(F40=\"DNS\",\"0\",IF(F40=\"DQ\",\"0\",IF(F40=\"\",\"\",IF(F40=\"DNF\",\"0\",LOOKUP(H40,Valeurs!$A$4:'Valeurs'!$A$46,Valeurs!$B$4:'Valeurs'!$B$46)))))","v":20}]
[{"$f":"Inscription!G4","v":"Dam'eauclès"},{"$f":"Inscription!H4","v":"James Willamson"},null,"00:01:47.150","00:01:47.210","00:01:47.180",null,{"$f":"IF(F41=\"DNS\",\"DNS\",IF(F41=\"DQ\",\"DQ\",IF(F41=\"\",\"\",IF(F41=\"DNF\",\"DNF\",RANK(F41,$F$39:$F$68,1)))))","v":5},{"$f":"IF(F41=\"DNS\",\"0\",IF(F41=\"DQ\",\"0\",IF(F41=\"\",\"\",IF(F41=\"DNF\",\"0\",LOOKUP(H41,Valeurs!$A$4:'Valeurs'!$A$46,Valeurs!$B$4:'Valeurs'!$B$46)))))","v":13}]
[{"$f":"Inscription!G5","v":"CSRAD"},{"$f":"Inscription!H5","v":"Alexandre Vincent"},null,"00:01:27.310","00:01:21.700","00:01:24.505",null,4,{"$f":"IF(F42=\"DNS\",\"0\",IF(F42=\"DQ\",\"0\",IF(F42=\"\",\"\",IF(F42=\"DNF\",\"0\",LOOKUP(H42,Valeurs!$A$4:'Valeurs'!$A$46,Valeurs!$B$4:'Valeurs'!$B$46)))))","v":14}]
[{"$f":"Inscription!G6","v":"CSRN"},{"$f":"Inscription!H6","v":"Malik Romdhani"},null,"00:01:19.400","00:01:19.220","00:01:19.310",null,3,{"$f":"IF(F43=\"DNS\",\"0\",IF(F43=\"DQ\",\"0\",IF(F43=\"\",\"\",IF(F43=\"DNF\",\"0\",LOOKUP(H43,Valeurs!$A$4:'Valeurs'!$A$46,Valeurs!$B$4:'Valeurs'!$B$46)))))","v":16}]
[{"$f":"Inscription!G7","v":"CSRN"},{"$f":"Inscription!H7","v":"Jonathan St-Roch"},null,"DQ","DQ","DQ",null,"DQ",{"$f":"IF(F44=\"DNS\",\"0\",IF(F44=\"DQ\",\"0\",IF(F44=\"\",\"\",IF(F44=\"DNF\",\"0\",LOOKUP(H44,Valeurs!$A$4:'Valeurs'!$A$46,Valeurs!$B$4:'Valeurs'!$B$46)))))","v":"0"}]
[{"$f":"Inscription!G8","v":"Gatineau"},{"$f":"Inscription!H8","v":"Vincent Marsclais"},null,"DNS","DNS","DNS",null,"DNS",{"$f":"IF(F45=\"DNS\",\"0\",IF(F45=\"DQ\",\"0\",IF(F45=\"\",\"\",IF(F45=\"DNF\",\"0\",LOOKUP(H45,Valeurs!$A$4:'Valeurs'!$A$46,Valeurs!$B$4:'Valeurs'!$B$46)))))","v":"0"}]
[{"$f":"Inscription!G9","v":"Gatineau"},{"$f":"Inscription!H9","v":"Benjamin Lapointe"},null,"DQ","DQ","DQ",null,"DQ",{"$f":"IF(F46=\"DNS\",\"0\",IF(F46=\"DQ\",\"0\",IF(F46=\"\",\"\",IF(F46=\"DNF\",\"0\",LOOKUP(H46,Valeurs!$A$4:'Valeurs'!$A$46,Valeurs!$B$4:'Valeurs'!$B$46)))))","v":"0"}]
[{"$f":"Inscription!G10","v":0},{"$f":"Inscription!H10","v":0},null,null,null,"",null,"",{"$f":"IF(F47=\"DNS\",\"0\",IF(F47=\"DQ\",\"0\",IF(F47=\"\",\"\",IF(F47=\"DNF\",\"0\",LOOKUP(H47,Valeurs!$A$4:'Valeurs'!$A$46,Valeurs!$B$4:'Valeurs'!$B$46)))))","v":""}]
[{"$f":"Inscription!G11","v":0},{"$f":"Inscription!H11","v":0},null,null,null,"",null,"",{"$f":"IF(F48=\"DNS\",\"0\",IF(F48=\"DQ\",\"0\",IF(F48=\"\",\"\",IF(F48=\"DNF\",\"0\",LOOKUP(H48,Valeurs!$A$4:'Valeurs'!$A$46,Valeurs!$B$4:'Valeurs'!$B$46)))))","v":""}]
[{"$f":"Inscription!G12","v":0},{"$f":"Inscription!H12","v":0},null,null,null,"",null,"",{"$f":"IF(F49=\"DNS\",\"0\",IF(F49=\"DQ\",\"0\",IF(F49=\"\",\"\",IF(F49=\"DNF\",\"0\",LOOKUP(H49,Valeurs!$A$4:'Valeurs'!$A$46,Valeurs!$B$4:'Valeurs'!$B$46)))))","v":""}]
[{"$f":"Inscription!G13","v":0},{"$f":"Inscription!H13","v":0},null,null,null,"",null,"",{"$f":"IF(F50=\"DNS\",\"0\",IF(F50=\"DQ\",\"0\",IF(F50=\"\",\"\",IF(F50=\"DNF\",\"0\",LOOKUP(H50,Valeurs!$A$4:'Valeurs'!$A$46,Valeurs!$B$4:'Valeurs'!$B$46)))))","v":""}]
[{"$f":"Inscription!G14","v":0},{"$f":"Inscription!H14","v":0},null,null,null,"",null,"",{"$f":"IF(F51=\"DNS\",\"0\",IF(F51=\"DQ\",\"0\",IF(F51=\"\",\"\",IF(F51=\"DNF\",\"0\",LOOKUP(H51,Valeurs!$A$4:'Valeurs'!$A$46,Valeurs!$B$4:'Valeurs'!$B$46)))))","v":""}]
[{"$f":"Inscription!G15","v":0},{"$f":"Inscription!H15","v":0},null,null,null,"",null,"",{"$f":"IF(F52=\"DNS\",\"0\",IF(F52=\"DQ\",\"0\",IF(F52=\"\",\"\",IF(F52=\"DNF\",\"0\",LOOKUP(H52,Valeurs!$A$4:'Valeurs'!$A$46,Valeurs!$B$4:'Valeurs'!$B$46)))))","v":""}]
[{"$f":"Inscription!G16","v":0},{"$f":"Inscription!H16","v":0},null,null,null,"",null,"",{"$f":"IF(F53=\"DNS\",\"0\",IF(F53=\"DQ\",\"0\",IF(F53=\"\",\"\",IF(F53=\"DNF\",\"0\",LOOKUP(H53,Valeurs!$A$4:'Valeurs'!$A$46,Valeurs!$B$4:'Valeurs'!$B$46)))))","v":""}]
[{"$f":"Inscription!G17","v":0},{"$f":"Inscription!H17","v":0},null,null,null,"",null,"",{"$f":"IF(F54=\"DNS\",\"0\",IF(F54=\"DQ\",\"0\",IF(F54=\"\",\"\",IF(F54=\"DNF\",\"0\",LOOKUP(H54,Valeurs!$A$4:'Valeurs'!$A$46,Valeurs!$B$4:'Valeurs'!$B$46)))))","v":""}]
[{"$f":"Inscription!G18","v":0},{"$f":"Inscription!H18","v":0},null,null,null,"",null,"",{"$f":"IF(F55=\"DNS\",\"0\",IF(F55=\"DQ\",\"0\",IF(F55=\"\",\"\",IF(F55=\"DNF\",\"0\",LOOKUP(H55,Valeurs!$A$4:'Valeurs'!$A$46,Valeurs!$B$4:'Valeurs'!$B$46)))))","v":""}]
[{"$f":"Inscription!G19","v":0},{"$f":"Inscription!H19","v":0},null,null,null,"",null,"",{"$f":"IF(F56=\"DNS\",\"0\",IF(F56=\"DQ\",\"0\",IF(F56=\"\",\"\",IF(F56=\"DNF\",\"0\",LOOKUP(H56,Valeurs!$A$4:'Valeurs'!$A$46,Valeurs!$B$4:'Valeurs'!$B$46)))))","v":""}]
[{"$f":"Inscription!G20","v":0},{"$f":"Inscription!H20","v":0},null,null,null,"",null,"",{"$f":"IF(F57=\"DNS\",\"0\",IF(F57=\"DQ\",\"0\",IF(F57=\"\",\"\",IF(F57=\"DNF\",\"0\",LOOKUP(H57,Valeurs!$A$4:'Valeurs'!$A$46,Valeurs!$B$4:'Valeurs'!$B$46)))))","v":""}]
[{"$f":"Inscription!G21","v":0},{"$f":"Inscription!H21","v":0},null,null,null,"",null,"",{"$f":"IF(F58=\"DNS\",\"0\",IF(F58=\"DQ\",\"0\",IF(F58=\"\",\"\",IF(F58=\"DNF\",\"0\",LOOKUP(H58,Valeurs!$A$4:'Valeurs'!$A$46,Valeurs!$B$4:'Valeurs'!$B$46)))))","v":""}]
[{"$f":"Inscription!G22","v":0},{"$f":"Inscription!H22","v":0},null,null,null,"",null,"",{"$f":"IF(F59=\"DNS\",\"0\",IF(F59=\"DQ\",\"0\",IF(F59=\"\",\"\",IF(F59=\"DNF\",\"0\",LOOKUP(H59,Valeurs!$A$4:'Valeurs'!$A$46,Valeurs!$B$4:'Valeurs'!$B$46)))))","v":""}]
[{"$f":"Inscription!G23","v":0},{"$f":"Inscription!H23","v":0},null,null,null,"",null,"",{"$f":"IF(F60=\"DNS\",\"0\",IF(F60=\"DQ\",\"0\",IF(F60=\"\",\"\",IF(F60=\"DNF\",\"0\",LOOKUP(H60,Valeurs!$A$4:'Valeurs'!$A$46,Valeurs!$B$4:'Valeurs'!$B$46)))))","v":""}]
[{"$f":"Inscription!G24","v":0},{"$f":"Inscription!H24","v":0},null,null,null,"",null,"",{"$f":"IF(F61=\"DNS\",\"0\",IF(F61=\"DQ\",\"0\",IF(F61=\"\",\"\",IF(F61=\"DNF\",\"0\",LOOKUP(H61,Valeurs!$A$4:'Valeurs'!$A$46,Valeurs!$B$4:'Valeurs'!$B$46)))))","v":""}]
[{"$f":"Inscription!G25","v":0},{"$f":"Inscription!H25","v":0},null,null,null,"",null,"",{"$f":"IF(F62=\"DNS\",\"0\",IF(F62=\"DQ\",\"0\",IF(F62=\"\",\"\",IF(F62=\"DNF\",\"0\",LOOKUP(H62,Valeurs!$A$4:'Valeurs'!$A$46,Valeurs!$B$4:'Valeurs'!$B$46)))))","v":""}]
[{"$f":"Inscription!G26","v":0},{"$f":"Inscription!H26","v":0},null,null,null,"",null,"",{"$f":"IF(F63=\"DNS\",\"0\",IF(F63=\"DQ\",\"0\",IF(F63=\"\",\"\",IF(F63=\"DNF\",\"0\",LOOKUP(H63,Valeurs!$A$4:'Valeurs'!$A$46,Valeurs!$B$4:'Valeurs'!$B$46)))))","v":""}]
[{"$f":"Inscription!G27","v":0},{"$f":"Inscription!H27","v":0},null,null,null,"",null,"",{"$f":"IF(F64=\"DNS\",\"0\",IF(F64=\"DQ\",\"0\",IF(F64=\"\",\"\",IF(F64=\"DNF\",\"0\",LOOKUP(H64,Valeurs!$A$4:'Valeurs'!$A$46,Valeurs!$B$4:'Valeurs'!$B$46)))))","v":""}]
[{"$f":"Inscription!G28","v":0},{"$f":"Inscription!H28","v":0},null,null,null,"",null,"",{"$f":"IF(F65=\"DNS\",\"0\",IF(F65=\"DQ\",\"0\",IF(F65=\"\",\"\",IF(F65=\"DNF\",\"0\",LOOKUP(H65,Valeurs!$A$4:'Valeurs'!$A$46,Valeurs!$B$4:'Valeurs'!$B$46)))))","v":""}]
[{"$f":"Inscription!G29","v":0},{"$f":"Inscription!H29","v":0},null,null,null,"",null,"",{"$f":"IF(F66=\"DNS\",\"0\",IF(F66=\"DQ\",\"0\",IF(F66=\"\",\"\",IF(F66=\"DNF\",\"0\",LOOKUP(H66,Valeurs!$A$4:'Valeurs'!$A$46,Valeurs!$B$4:'Valeurs'!$B$46)))))","v":""}]
[{"$f":"Inscription!G30","v":0},{"$f":"Inscription!H30","v":0},null,null,null,"",null,"",{"$f":"IF(F67=\"DNS\",\"0\",IF(F67=\"DQ\",\"0\",IF(F67=\"\",\"\",IF(F67=\"DNF\",\"0\",LOOKUP(H67,Valeurs!$A$4:'Valeurs'!$A$46,Valeurs!$B$4:'Valeurs'!$B$46)))))","v":""}]
[{"$f":"Inscription!G31","v":0},{"$f":"Inscription!H31","v":0},null,null,null,{"$f":"IF(D68=\"\",\"\",IF(D68=\"DQ\",\"DQ\",IF(D68=\"DNF\",\"DNF\",IF(D68=\"DNS\",\"DNS\",AVERAGE(D68,E68)))))","v":""},null,"",{"$f":"IF(F68=\"DNS\",\"0\",IF(F68=\"DQ\",\"0\",IF(F68=\"\",\"\",IF(F68=\"DNF\",\"0\",LOOKUP(H68,Valeurs!$A$4:'Valeurs'!$A$46,Valeurs!$B$4:'Valeurs'!$B$46)))))","v":""}]
[]
["Obstacle - 14 - 15 ans Homme\nÉPREUVE OBSTACLES"]
[]
["Club","Nom",null,"Chrono 1","Chrono 2","Temps final",null,"R","Points"]
[{"$f":"Inscription!G2","v":"Dam'eauclès"},{"$f":"Inscription!H2","v":"Jacob Rousson"},null,"00:01:16.410","00:01:16.350",{"$f":"IF(D73=\"\",\"\",IF(D73=\"DQ\",\"DQ\",IF(D73=\"DNF\",\"DNF\",IF(D73=\"DNS\",\"DNS\",AVERAGE(D73,E73)))))","v":"00:01:16.380"},null,{"$f":"IF(F73=\"DNS\",\"DNS\",IF(F73=\"DQ\",\"DQ\",IF(F73=\"\",\"\",IF(F73=\"DNF\",\"DNF\",RANK(F73,$F$73:$F$102,1)))))","v":3},{"$f":"IF(F73=\"DNS\",\"0\",IF(F73=\"DQ\",\"0\",IF(F73=\"\",\"\",IF(F73=\"DNF\",\"0\",LOOKUP(H73,Valeurs!$A$4:'Valeurs'!$A$46,Valeurs!$B$4:'Valeurs'!$B$46)))))","v":16}]
[{"$f":"Inscription!G3","v":"Dam'eauclès"},{"$f":"Inscription!H3","v":"Julien Turgeon"},null,"00:01:14.840","00:01:15.030",{"$f":"IF(D74=\"\",\"\",IF(D74=\"DQ\",\"DQ\",IF(D74=\"DNF\",\"DNF\",IF(D74=\"DNS\",\"DNS\",AVERAGE(D74,E74)))))","v":"00:01:14.935"},null,{"$f":"IF(F74=\"DNS\",\"DNS\",IF(F74=\"DQ\",\"DQ\",IF(F74=\"\",\"\",IF(F74=\"DNF\",\"DNF\",RANK(F74,$F$73:$F$102,1)))))","v":1},{"$f":"IF(F74=\"DNS\",\"0\",IF(F74=\"DQ\",\"0\",IF(F74=\"\",\"\",IF(F74=\"DNF\",\"0\",LOOKUP(H74,Valeurs!$A$4:'Valeurs'!$A$46,Valeurs!$B$4:'Valeurs'!$B$46)))))","v":20}]
[{"$f":"Inscription!G4","v":"Dam'eauclès"},{"$f":"Inscription!H4","v":"James Willamson"},null,"00:01:42.350","00:01:42.380","00:01:42.365",null,{"$f":"IF(F75=\"DNS\",\"DNS\",IF(F75=\"DQ\",\"DQ\",IF(F75=\"\",\"\",IF(F75=\"DNF\",\"DNF\",RANK(F75,$F$73:$F$102,1)))))","v":7},{"$f":"IF(F75=\"DNS\",\"0\",IF(F75=\"DQ\",\"0\",IF(F75=\"\",\"\",IF(F75=\"DNF\",\"0\",LOOKUP(H75,Valeurs!$A$4:'Valeurs'!$A$46,Valeurs!$B$4:'Valeurs'!$B$46)))))","v":11}]
[{"$f":"Inscription!G5","v":"CSRAD"},{"$f":"Inscription!H5","v":"Alexandre Vincent"},null,"00:01:28.560","00:01:28.410","00:01:28.485",null,6,{"$f":"IF(F76=\"DNS\",\"0\",IF(F76=\"DQ\",\"0\",IF(F76=\"\",\"\",IF(F76=\"DNF\",\"0\",LOOKUP(H76,Valeurs!$A$4:'Valeurs'!$A$46,Valeurs!$B$4:'Valeurs'!$B$46)))))","v":12}]
[{"$f":"Inscription!G6","v":"CSRN"},{"$f":"Inscription!H6","v":"Malik Romdhani"},null,"00:01:17.936","00:01:17.970","00:01:17.953",null,4,{"$f":"IF(F77=\"DNS\",\"0\",IF(F77=\"DQ\",\"0\",IF(F77=\"\",\"\",IF(F77=\"DNF\",\"0\",LOOKUP(H77,Valeurs!$A$4:'Valeurs'!$A$46,Valeurs!$B$4:'Valeurs'!$B$46)))))","v":14}]
[{"$f":"Inscription!G7","v":"CSRN"},{"$f":"Inscription!H7","v":"Jonathan St-Roch"},null,"00:01:15.430","00:01:15.530","00:01:15.480",null,2,{"$f":"IF(F78=\"DNS\",\"0\",IF(F78=\"DQ\",\"0\",IF(F78=\"\",\"\",IF(F78=\"DNF\",\"0\",LOOKUP(H78,Valeurs!$A$4:'Valeurs'!$A$46,Valeurs!$B$4:'Valeurs'!$B$46)))))","v":18}]
[{"$f":"Inscription!G8","v":"Gatineau"},{"$f":"Inscription!H8","v":"Vincent Marsclais"},null,"DNS","DNS","DNS",null,"DNS",{"$f":"IF(F79=\"DNS\",\"0\",IF(F79=\"DQ\",\"0\",IF(F79=\"\",\"\",IF(F79=\"DNF\",\"0\",LOOKUP(H79,Valeurs!$A$4:'Valeurs'!$A$46,Valeurs!$B$4:'Valeurs'!$B$46)))))","v":"0"}]
[{"$f":"Inscription!G9","v":"Gatineau"},{"$f":"Inscription!H9","v":"Benjamin Lapointe"},null,"00:01:19.350","00:01:19.780","00:01:19.565",null,5,{"$f":"IF(F80=\"DNS\",\"0\",IF(F80=\"DQ\",\"0\",IF(F80=\"\",\"\",IF(F80=\"DNF\",\"0\",LOOKUP(H80,Valeurs!$A$4:'Valeurs'!$A$46,Valeurs!$B$4:'Valeurs'!$B$46)))))","v":13}]
[{"$f":"Inscription!G10","v":0},{"$f":"Inscription!H10","v":0},null,null,null,"",null,"",{"$f":"IF(F81=\"DNS\",\"0\",IF(F81=\"DQ\",\"0\",IF(F81=\"\",\"\",IF(F81=\"DNF\",\"0\",LOOKUP(H81,Valeurs!$A$4:'Valeurs'!$A$46,Valeurs!$B$4:'Valeurs'!$B$46)))))","v":""}]
[{"$f":"Inscription!G11","v":0},{"$f":"Inscription!H11","v":0},null,null,null,"",null,"",{"$f":"IF(F82=\"DNS\",\"0\",IF(F82=\"DQ\",\"0\",IF(F82=\"\",\"\",IF(F82=\"DNF\",\"0\",LOOKUP(H82,Valeurs!$A$4:'Valeurs'!$A$46,Valeurs!$B$4:'Valeurs'!$B$46)))))","v":""}]
[{"$f":"Inscription!G12","v":0},{"$f":"Inscription!H12","v":0},null,null,null,"",null,"",{"$f":"IF(F83=\"DNS\",\"0\",IF(F83=\"DQ\",\"0\",IF(F83=\"\",\"\",IF(F83=\"DNF\",\"0\",LOOKUP(H83,Valeurs!$A$4:'Valeurs'!$A$46,Valeurs!$B$4:'Valeurs'!$B$46)))))","v":""}]
[{"$f":"Inscription!G13","v":0},{"$f":"Inscription!H13","v":0},null,null,null,"",null,"",{"$f":"IF(F84=\"DNS\",\"0\",IF(F84=\"DQ\",\"0\",IF(F84=\"\",\"\",IF(F84=\"DNF\",\"0\",LOOKUP(H84,Valeurs!$A$4:'Valeurs'!$A$46,Valeurs!$B$4:'Valeurs'!$B$46)))))","v":""}]
[{"$f":"Inscription!G14","v":0},{"$f":"Inscription!H14","v":0},null,null,null,"",null,"",{"$f":"IF(F85=\"DNS\",\"0\",IF(F85=\"DQ\",\"0\",IF(F85=\"\",\"\",IF(F85=\"DNF\",\"0\",LOOKUP(H85,Valeurs!$A$4:'Valeurs'!$A$46,Valeurs!$B$4:'Valeurs'!$B$46)))))","v":""}]
[{"$f":"Inscription!G15","v":0},{"$f":"Inscription!H15","v":0},null,null,null,"",null,"",{"$f":"IF(F86=\"DNS\",\"0\",IF(F86=\"DQ\",\"0\",IF(F86=\"\",\"\",IF(F86=\"DNF\",\"0\",LOOKUP(H86,Valeurs!$A$4:'Valeurs'!$A$46,Valeurs!$B$4:'Valeurs'!$B$46)))))","v":""}]
[{"$f":"Inscription!G16","v":0},{"$f":"Inscription!H16","v":0},null,null,null,"",null,"",{"$f":"IF(F87=\"DNS\",\"0\",IF(F87=\"DQ\",\"0\",IF(F87=\"\",\"\",IF(F87=\"DNF\",\"0\",LOOKUP(H87,Valeurs!$A$4:'Valeurs'!$A$46,Valeurs!$B$4:'Valeurs'!$B$46)))))","v":""}]
[{"$f":"Inscription!G17","v":0},{"$f":"Inscription!H17","v":0},null,null,null,"",null,"",{"$f":"IF(F88=\"DNS\",\"0\",IF(F88=\"DQ\",\"0\",IF(F88=\"\",\"\",IF(F88=\"DNF\",\"0\",LOOKUP(H88,Valeurs!$A$4:'Valeurs'!$A$46,Valeurs!$B$4:'Valeurs'!$B$46)))))","v":""}]
[{"$f":"Inscription!G18","v":0},{"$f":"Inscription!H18","v":0},null,null,null,"",null,"",{"$f":"IF(F89=\"DNS\",\"0\",IF(F89=\"DQ\",\"0\",IF(F89=\"\",\"\",IF(F89=\"DNF\",\"0\",LOOKUP(H89,Valeurs!$A$4:'Valeurs'!$A$46,Valeurs!$B$4:'Valeurs'!$B$46)))))","v":""}]
[{"$f":"Inscription!G19","v":0},{"$f":"Inscription!H19","v":0},null,null,null,"",null,"",{"$f":"IF(F90=\"DNS\",\"0\",IF(F90=\"DQ\",\"0\",IF(F90=\"\",\"\",IF(F90=\"DNF\",\"0\",LOOKUP(H90,Valeurs!$A$4:'Valeurs'!$A$46,Valeurs!$B$4:'Valeurs'!$B$46)))))","v":""}]
[{"$f":"Inscription!G20","v":0},{"$f":"Inscription!H20","v":0},null,null,null,"",null,"",{"$f":"IF(F91=\"DNS\",\"0\",IF(F91=\"DQ\",\"0\",IF(F91=\"\",\"\",IF(F91=\"DNF\",\"0\",LOOKUP(H91,Valeurs!$A$4:'Valeurs'!$A$46,Valeurs!$B$4:'Valeurs'!$B$46)))))","v":""}]
[{"$f":"Inscription!G21","v":0},{"$f":"Inscription!H21","v":0},null,null,null,"",null,"",{"$f":"IF(F92=\"DNS\",\"0\",IF(F92=\"DQ\",\"0\",IF(F92=\"\",\"\",IF(F92=\"DNF\",\"0\",LOOKUP(H92,Valeurs!$A$4:'Valeurs'!$A$46,Valeurs!$B$4:'Valeurs'!$B$46)))))","v":""}]
[{"$f":"Inscription!G22","v":0},{"$f":"Inscription!H22","v":0},null,null,null,"",null,"",{"$f":"IF(F93=\"DNS\",\"0\",IF(F93=\"DQ\",\"0\",IF(F93=\"\",\"\",IF(F93=\"DNF\",\"0\",LOOKUP(H93,Valeurs!$A$4:'Valeurs'!$A$46,Valeurs!$B$4:'Valeurs'!$B$46)))))","v":""}]
[{"$f":"Inscription!G23","v":0},{"$f":"Inscription!H23","v":0},null,null,null,"",null,"",{"$f":"IF(F94=\"DNS\",\"0\",IF(F94=\"DQ\",\"0\",IF(F94=\"\",\"\",IF(F94=\"DNF\",\"0\",LOOKUP(H94,Valeurs!$A$4:'Valeurs'!$A$46,Valeurs!$B$4:'Valeurs'!$B$46)))))","v":""}]
[{"$f":"Inscription!G24","v":0},{"$f":"Inscription!H24","v":0},null,null,null,"",null,"",{"$f":"IF(F95=\"DNS\",\"0\",IF(F95=\"DQ\",\"0\",IF(F95=\"\",\"\",IF(F95=\"DNF\",\"0\",LOOKUP(H95,Valeurs!$A$4:'Valeurs'!$A$46,Valeurs!$B$4:'Valeurs'!$B$46)))))","v":""}]
[{"$f":"Inscription!G25","v":0},{"$f":"Inscription!H25","v":0},null,null,null,"",null,"",{"$f":"IF(F96=\"DNS\",\"0\",IF(F96=\"DQ\",\"0\",IF(F96=\"\",\"\",IF(F96=\"DNF\",\"0\",LOOKUP(H96,Valeurs!$A$4:'Valeurs'!$A$46,Valeurs!$B$4:'Valeurs'!$B$46)))))","v":""}]
[{"$f":"Inscription!G26","v":0},{"$f":"Inscription!H26","v":0},null,null,null,"",null,"",{"$f":"IF(F97=\"DNS\",\"0\",IF(F97=\"DQ\",\"0\",IF(F97=\"\",\"\",IF(F97=\"DNF\",\"0\",LOOKUP(H97,Valeurs!$A$4:'Valeurs'!$A$46,Valeurs!$B$4:'Valeurs'!$B$46)))))","v":""}]
[{"$f":"Inscription!G27","v":0},{"$f":"Inscription!H27","v":0},null,null,null,"",null,"",{"$f":"IF(F98=\"DNS\",\"0\",IF(F98=\"DQ\",\"0\",IF(F98=\"\",\"\",IF(F98=\"DNF\",\"0\",LOOKUP(H98,Valeurs!$A$4:'Valeurs'!$A$46,Valeurs!$B$4:'Valeurs'!$B$46)))))","v":""}]
[{"$f":"Inscription!G28","v":0},{"$f":"Inscription!H28","v":0},null,null,null,"",null,"",{"$f":"IF(F99=\"DNS\",\"0\",IF(F99=\"DQ\",\"0\",IF(F99=\"\",\"\",IF(F99=\"DNF\",\"0\",LOOKUP(H99,Valeurs!$A$4:'Valeurs'!$A$46,Valeurs!$B$4:'Valeurs'!$B$46)))))","v":""}]
[{"$f":"Inscription!G29","v":0},{"$f":"Inscription!H29","v":0},null,null,null,"",null,"",{"$f":"IF(F100=\"DNS\",\"0\",IF(F100=\"DQ\",\"0\",IF(F100=\"\",\"\",IF(F100=\"DNF\",\"0\",LOOKUP(H100,Valeurs!$A$4:'Valeurs'!$A$46,Valeurs!$B$4:'Valeurs'!$B$46)))))","v":""}]
[{"$f":"Inscription!G30","v":0},{"$f":"Inscription!H30","v":0},null,null,null,"",null,"",{"$f":"IF(F101=\"DNS\",\"0\",IF(F101=\"DQ\",\"0\",IF(F101=\"\",\"\",IF(F101=\"DNF\",\"0\",LOOKUP(H101,Valeurs!$A$4:'Valeurs'!$A$46,Valeurs!$B$4:'Valeurs'!$B$46)))))","v":""}]
[{"$f":"Inscription!G31","v":0},{"$f":"Inscription!H31","v":0},null,null,null,{"$f":"IF(D102=\"\",\"\",IF(D102=\"DQ\",\"DQ\",IF(D102=\"DNF\",\"DNF\",IF(D102=\"DNS\",\"DNS\",AVERAGE(D102,E102)))))","v":""},null,"",{"$f":"IF(F102=\"DNS\",\"0\",IF(F102=\"DQ\",\"0\",IF(F102=\"\",\"\",IF(F102=\"DNF\",\"0\",LOOKUP(H102,Valeurs!$A$4:'Valeurs'!$A$46,Valeurs!$B$4:'Valeurs'!$B$46)))))","v":""}]
[]
["Portage mannequin plein avec palmes - 14 - 15 ans Homme\nÉPREUVE PORTAGE MANNEQUIN + PALMES"]
[]
["Club","Nom",null,"Chrono 1","Chrono 2","Temps final",null,"R","Points"]
[{"$f":"Inscription!G2","v":"Dam'eauclès"},{"$f":"Inscription!H2","v":"Jacob Rousson"},null,"00:01:18.660","00:01:18.680",{"$f":"IF(D107=\"\",\"\",IF(D107=\"DQ\",\"DQ\",IF(D107=\"DNF\",\"DNF\",IF(D107=\"DNS\",\"DNS\",AVERAGE(D107,E107)))))","v":"00:01:18.670"},null,{"$f":"IF(F107=\"DNS\",\"DNS\",IF(F107=\"DQ\",\"DQ\",IF(F107=\"\",\"\",IF(F107=\"DNF\",\"DNF\",RANK(F107,$F$107:$F$136,1)))))","v":6},{"$f":"IF(F107=\"DNS\",\"0\",IF(F107=\"DQ\",\"0\",IF(F107=\"\",\"\",IF(F107=\"DNF\",\"0\",LOOKUP(H107,Valeurs!$A$4:'Valeurs'!$A$46,Valeurs!$B$4:'Valeurs'!$B$46)))))","v":12}]
[{"$f":"Inscription!G3","v":"Dam'eauclès"},{"$f":"Inscription!H3","v":"Julien Turgeon"},null,"00:01:09.500","00:01:09.500",{"$f":"IF(D108=\"\",\"\",IF(D108=\"DQ\",\"DQ\",IF(D108=\"DNF\",\"DNF\",IF(D108=\"DNS\",\"DNS\",AVERAGE(D108,E108)))))","v":"00:01:09.500"},null,{"$f":"IF(F108=\"DNS\",\"DNS\",IF(F108=\"DQ\",\"DQ\",IF(F108=\"\",\"\",IF(F108=\"DNF\",\"DNF\",RANK(F108,$F$107:$F$136,1)))))","v":1},{"$f":"IF(F108=\"DNS\",\"0\",IF(F108=\"DQ\",\"0\",IF(F108=\"\",\"\",IF(F108=\"DNF\",\"0\",LOOKUP(H108,Valeurs!$A$4:'Valeurs'!$A$46,Valeurs!$B$4:'Valeurs'!$B$46)))))","v":20}]
[{"$f":"Inscription!G4","v":"Dam'eauclès"},{"$f":"Inscription!H4","v":"James Willamson"},null,"00:01:40.720","00:01:40.780","00:01:40.750",null,{"$f":"IF(F109=\"DNS\",\"DNS\",IF(F109=\"DQ\",\"DQ\",IF(F109=\"\",\"\",IF(F109=\"DNF\",\"DNF\",RANK(F109,$F$107:$F$136,1)))))","v":7},{"$f":"IF(F109=\"DNS\",\"0\",IF(F109=\"DQ\",\"0\",IF(F109=\"\",\"\",IF(F109=\"DNF\",\"0\",LOOKUP(H109,Valeurs!$A$4:'Valeurs'!$A$46,Valeurs!$B$4:'Valeurs'!$B$46)))))","v":11}]
[{"$f":"Inscription!G5","v":"CSRAD"},{"$f":"Inscription!H5","v":"Alexandre Vincent"},null,"00:01:16.690","00:01:16.470","00:01:16.580",59,5,{"$f":"IF(F110=\"DNS\",\"0\",IF(F110=\"DQ\",\"0\",IF(F110=\"\",\"\",IF(F110=\"DNF\",\"0\",LOOKUP(H110,Valeurs!$A$4:'Valeurs'!$A$46,Valeurs!$B$4:'Valeurs'!$B$46)))))","v":13}]
[{"$f":"Inscription!G6","v":"CSRN"},{"$f":"Inscription!H6","v":"Malik Romdhani"},null,"00:01:12.100","00:01:12.060","00:01:12.080",null,3,{"$f":"IF(F111=\"DNS\",\"0\",IF(F111=\"DQ\",\"0\",IF(F111=\"\",\"\",IF(F111=\"DNF\",\"0\",LOOKUP(H111,Valeurs!$A$4:'Valeurs'!$A$46,Valeurs!$B$4:'Valeurs'!$B$46)))))","v":16}]
[{"$f":"Inscription!G7","v":"CSRN"},{"$f":"Inscription!H7","v":"Jonathan St-Roch"},null,"00:01:11.790","00:01:11.690","00:01:11.740",null,2,{"$f":"IF(F112=\"DNS\",\"0\",IF(F112=\"DQ\",\"0\",IF(F112=\"\",\"\",IF(F112=\"DNF\",\"0\",LOOKUP(H112,Valeurs!$A$4:'Valeurs'!$A$46,Valeurs!$B$4:'Valeurs'!$B$46)))))","v":18}]
[{"$f":"Inscription!G8","v":"Gatineau"},{"$f":"Inscription!H8","v":"Vincent Marsclais"},null,"DNS","DNS","DNS",null,"DNS",{"$f":"IF(F113=\"DNS\",\"0\",IF(F113=\"DQ\",\"0\",IF(F113=\"\",\"\",IF(F113=\"DNF\",\"0\",LOOKUP(H113,Valeurs!$A$4:'Valeurs'!$A$46,Valeurs!$B$4:'Valeurs'!$B$46)))))","v":"0"}]
[{"$f":"Inscription!G9","v":"Gatineau"},{"$f":"Inscription!H9","v":"Benjamin Lapointe"},null,"00:01:14","00:01:13.940","00:01:13.970",null,4,{"$f":"IF(F114=\"DNS\",\"0\",IF(F114=\"DQ\",\"0\",IF(F114=\"\",\"\",IF(F114=\"DNF\",\"0\",LOOKUP(H114,Valeurs!$A$4:'Valeurs'!$A$46,Valeurs!$B$4:'Valeurs'!$B$46)))))","v":14}]
[{"$f":"Inscription!G10","v":0},{"$f":"Inscription!H10","v":0},null,null,null,"",null,"",{"$f":"IF(F115=\"DNS\",\"0\",IF(F115=\"DQ\",\"0\",IF(F115=\"\",\"\",IF(F115=\"DNF\",\"0\",LOOKUP(H115,Valeurs!$A$4:'Valeurs'!$A$46,Valeurs!$B$4:'Valeurs'!$B$46)))))","v":""}]
[{"$f":"Inscription!G11","v":0},{"$f":"Inscription!H11","v":0},null,null,null,"",null,"",{"$f":"IF(F116=\"DNS\",\"0\",IF(F116=\"DQ\",\"0\",IF(F116=\"\",\"\",IF(F116=\"DNF\",\"0\",LOOKUP(H116,Valeurs!$A$4:'Valeurs'!$A$46,Valeurs!$B$4:'Valeurs'!$B$46)))))","v":""}]
[{"$f":"Inscription!G12","v":0},{"$f":"Inscription!H12","v":0},null,null,null,"",null,"",{"$f":"IF(F117=\"DNS\",\"0\",IF(F117=\"DQ\",\"0\",IF(F117=\"\",\"\",IF(F117=\"DNF\",\"0\",LOOKUP(H117,Valeurs!$A$4:'Valeurs'!$A$46,Valeurs!$B$4:'Valeurs'!$B$46)))))","v":""}]
[{"$f":"Inscription!G13","v":0},{"$f":"Inscription!H13","v":0},null,null,null,"",null,"",{"$f":"IF(F118=\"DNS\",\"0\",IF(F118=\"DQ\",\"0\",IF(F118=\"\",\"\",IF(F118=\"DNF\",\"0\",LOOKUP(H118,Valeurs!$A$4:'Valeurs'!$A$46,Valeurs!$B$4:'Valeurs'!$B$46)))))","v":""}]
[{"$f":"Inscription!G14","v":0},{"$f":"Inscription!H14","v":0},null,null,null,"",null,"",{"$f":"IF(F119=\"DNS\",\"0\",IF(F119=\"DQ\",\"0\",IF(F119=\"\",\"\",IF(F119=\"DNF\",\"0\",LOOKUP(H119,Valeurs!$A$4:'Valeurs'!$A$46,Valeurs!$B$4:'Valeurs'!$B$46)))))","v":""}]
[{"$f":"Inscription!G15","v":0},{"$f":"Inscription!H15","v":0},null,null,null,"",null,"",{"$f":"IF(F120=\"DNS\",\"0\",IF(F120=\"DQ\",\"0\",IF(F120=\"\",\"\",IF(F120=\"DNF\",\"0\",LOOKUP(H120,Valeurs!$A$4:'Valeurs'!$A$46,Valeurs!$B$4:'Valeurs'!$B$46)))))","v":""}]
[{"$f":"Inscription!G16","v":0},{"$f":"Inscription!H16","v":0},null,null,null,"",null,"",{"$f":"IF(F121=\"DNS\",\"0\",IF(F121=\"DQ\",\"0\",IF(F121=\"\",\"\",IF(F121=\"DNF\",\"0\",LOOKUP(H121,Valeurs!$A$4:'Valeurs'!$A$46,Valeurs!$B$4:'Valeurs'!$B$46)))))","v":""}]
[{"$f":"Inscription!G17","v":0},{"$f":"Inscription!H17","v":0},null,null,null,"",null,"",{"$f":"IF(F122=\"DNS\",\"0\",IF(F122=\"DQ\",\"0\",IF(F122=\"\",\"\",IF(F122=\"DNF\",\"0\",LOOKUP(H122,Valeurs!$A$4:'Valeurs'!$A$46,Valeurs!$B$4:'Valeurs'!$B$46)))))","v":""}]
[{"$f":"Inscription!G18","v":0},{"$f":"Inscription!H18","v":0},null,null,null,"",null,"",{"$f":"IF(F123=\"DNS\",\"0\",IF(F123=\"DQ\",\"0\",IF(F123=\"\",\"\",IF(F123=\"DNF\",\"0\",LOOKUP(H123,Valeurs!$A$4:'Valeurs'!$A$46,Valeurs!$B$4:'Valeurs'!$B$46)))))","v":""}]
[{"$f":"Inscription!G19","v":0},{"$f":"Inscription!H19","v":0},null,null,null,"",null,"",{"$f":"IF(F124=\"DNS\",\"0\",IF(F124=\"DQ\",\"0\",IF(F124=\"\",\"\",IF(F124=\"DNF\",\"0\",LOOKUP(H124,Valeurs!$A$4:'Valeurs'!$A$46,Valeurs!$B$4:'Valeurs'!$B$46)))))","v":""}]
[{"$f":"Inscription!G20","v":0},{"$f":"Inscription!H20","v":0},null,null,null,"",null,"",{"$f":"IF(F125=\"DNS\",\"0\",IF(F125=\"DQ\",\"0\",IF(F125=\"\",\"\",IF(F125=\"DNF\",\"0\",LOOKUP(H125,Valeurs!$A$4:'Valeurs'!$A$46,Valeurs!$B$4:'Valeurs'!$B$46)))))","v":""}]
[{"$f":"Inscription!G21","v":0},{"$f":"Inscription!H21","v":0},null,null,null,"",null,"",{"$f":"IF(F126=\"DNS\",\"0\",IF(F126=\"DQ\",\"0\",IF(F126=\"\",\"\",IF(F126=\"DNF\",\"0\",LOOKUP(H126,Valeurs!$A$4:'Valeurs'!$A$46,Valeurs!$B$4:'Valeurs'!$B$46)))))","v":""}]
[{"$f":"Inscription!G22","v":0},{"$f":"Inscription!H22","v":0},null,null,null,"",null,"",{"$f":"IF(F127=\"DNS\",\"0\",IF(F127=\"DQ\",\"0\",IF(F127=\"\",\"\",IF(F127=\"DNF\",\"0\",LOOKUP(H127,Valeurs!$A$4:'Valeurs'!$A$46,Valeurs!$B$4:'Valeurs'!$B$46)))))","v":""}]
[{"$f":"Inscription!G23","v":0},{"$f":"Inscription!H23","v":0},null,null,null,"",null,"",{"$f":"IF(F128=\"DNS\",\"0\",IF(F128=\"DQ\",\"0\",IF(F128=\"\",\"\",IF(F128=\"DNF\",\"0\",LOOKUP(H128,Valeurs!$A$4:'Valeurs'!$A$46,Valeurs!$B$4:'Valeurs'!$B$46)))))","v":""}]
[{"$f":"Inscription!G24","v":0},{"$f":"Inscription!H24","v":0},null,null,null,"",null,"",{"$f":"IF(F129=\"DNS\",\"0\",IF(F129=\"DQ\",\"0\",IF(F129=\"\",\"\",IF(F129=\"DNF\",\"0\",LOOKUP(H129,Valeurs!$A$4:'Valeurs'!$A$46,Valeurs!$B$4:'Valeurs'!$B$46)))))","v":""}]
[{"$f":"Inscription!G25","v":0},{"$f":"Inscription!H25","v":0},null,null,null,"",null,"",{"$f":"IF(F130=\"DNS\",\"0\",IF(F130=\"DQ\",\"0\",IF(F130=\"\",\"\",IF(F130=\"DNF\",\"0\",LOOKUP(H130,Valeurs!$A$4:'Valeurs'!$A$46,Valeurs!$B$4:'Valeurs'!$B$46)))))","v":""}]
[{"$f":"Inscription!G26","v":0},{"$f":"Inscription!H26","v":0},null,null,null,"",null,"",{"$f":"IF(F131=\"DNS\",\"0\",IF(F131=\"DQ\",\"0\",IF(F131=\"\",\"\",IF(F131=\"DNF\",\"0\",LOOKUP(H131,Valeurs!$A$4:'Valeurs'!$A$46,Valeurs!$B$4:'Valeurs'!$B$46)))))","v":""}]
[{"$f":"Inscription!G27","v":0},{"$f":"Inscription!H27","v":0},null,null,null,"",null,"",{"$f":"IF(F132=\"DNS\",\"0\",IF(F132=\"DQ\",\"0\",IF(F132=\"\",\"\",IF(F132=\"DNF\",\"0\",LOOKUP(H132,Valeurs!$A$4:'Valeurs'!$A$46,Valeurs!$B$4:'Valeurs'!$B$46)))))","v":""}]
[{"$f":"Inscription!G28","v":0},{"$f":"Inscription!H28","v":0},null,null,null,"",null,"",{"$f":"IF(F133=\"DNS\",\"0\",IF(F133=\"DQ\",\"0\",IF(F133=\"\",\"\",IF(F133=\"DNF\",\"0\",LOOKUP(H133,Valeurs!$A$4:'Valeurs'!$A$46,Valeurs!$B$4:'Valeurs'!$B$46)))))","v":""}]
[{"$f":"Inscription!G29","v":0},{"$f":"Inscription!H29","v":0},null,null,null,"",null,"",{"$f":"IF(F134=\"DNS\",\"0\",IF(F134=\"DQ\",\"0\",IF(F134=\"\",\"\",IF(F134=\"DNF\",\"0\",LOOKUP(H134,Valeurs!$A$4:'Valeurs'!$A$46,Valeurs!$B$4:'Valeurs'!$B$46)))))","v":""}]
[{"$f":"Inscription!G30","v":0},{"$f":"Inscription!H30","v":0},null,null,null,"",null,"",{"$f":"IF(F135=\"DNS\",\"0\",IF(F135=\"DQ\",\"0\",IF(F135=\"\",\"\",IF(F135=\"DNF\",\"0\",LOOKUP(H135,Valeurs!$A$4:'Valeurs'!$A$46,Valeurs!$B$4:'Valeurs'!$B$46)))))","v":""}]
[{"$f":"Inscription!G31","v":0},{"$f":"Inscription!H31","v":0},null,null,null,"",null,"",{"$f":"IF(F136=\"DNS\",\"0\",IF(F136=\"DQ\",\"0\",IF(F136=\"\",\"\",IF(F136=\"DNF\",\"0\",LOOKUP(H136,Valeurs!$A$4:'Valeurs'!$A$46,Valeurs!$B$4:'Valeurs'!$B$46)))))","v":""}]
[]
["Portage mannequin plein - 14 - 15 ans Homme\nÉPREUVE PORTAGE MANNEQUIN"]
[]
["Club","Nom",null,"Chrono 1","Chrono 2","Temps final",null,"R","Points"]
[{"$f":"Inscription!G2","v":"Dam'eauclès"},{"$f":"Inscription!H2","v":"Jacob Rousson"},null,"00:00:47.780","00:00:47.810",{"$f":"IF(D141=\"\",\"\",IF(D141=\"DQ\",\"DQ\",IF(D141=\"DNF\",\"DNF\",IF(D141=\"DNS\",\"DNS\",AVERAGE(D141,E141)))))","v":"00:00:47.795"},null,{"$f":"IF(F141=\"DNS\",\"DNS\",IF(F141=\"DQ\",\"DQ\",IF(F141=\"\",\"\",IF(F141=\"DNF\",\"DNF\",RANK(F141,$F$141:$F$170,1)))))","v":5},{"$f":"IF(F141=\"DNS\",\"0\",IF(F141=\"DQ\",\"0\",IF(F141=\"\",\"\",IF(F141=\"DNF\",\"0\",LOOKUP(H141,Valeurs!$A$4:'Valeurs'!$A$46,Valeurs!$B$4:'Valeurs'!$B$46)))))","v":13}]
[{"$f":"Inscription!G3","v":"Dam'eauclès"},{"$f":"Inscription!H3","v":"Julien Turgeon"},null,"00:00:42.970","00:00:42.910",{"$f":"IF(D142=\"\",\"\",IF(D142=\"DQ\",\"DQ\",IF(D142=\"DNF\",\"DNF\",IF(D142=\"DNS\",\"DNS\",AVERAGE(D142,E142)))))","v":"00:00:42.940"},null,{"$f":"IF(F142=\"DNS\",\"DNS\",IF(F142=\"DQ\",\"DQ\",IF(F142=\"\",\"\",IF(F142=\"DNF\",\"DNF\",RANK(F142,$F$141:$F$170,1)))))","v":1},{"$f":"IF(F142=\"DNS\",\"0\",IF(F142=\"DQ\",\"0\",IF(F142=\"\",\"\",IF(F142=\"DNF\",\"0\",LOOKUP(H142,Valeurs!$A$4:'Valeurs'!$A$46,Valeurs!$B$4:'Valeurs'!$B$46)))))","v":20}]
[{"$f":"Inscription!G4","v":"Dam'eauclès"},{"$f":"Inscription!H4","v":"James Willamson"},null,"00:01:15.650","00:01:16.130","00:01:15.890",null,{"$f":"IF(F143=\"DNS\",\"DNS\",IF(F143=\"DQ\",\"DQ\",IF(F143=\"\",\"\",IF(F143=\"DNF\",\"DNF\",RANK(F143,$F$141:$F$170,1)))))","v":7},{"$f":"IF(F143=\"DNS\",\"0\",IF(F143=\"DQ\",\"0\",IF(F143=\"\",\"\",IF(F143=\"DNF\",\"0\",LOOKUP(H143,Valeurs!$A$4:'Valeurs'!$A$46,Valeurs!$B$4:'Valeurs'!$B$46)))))","v":11}]
[{"$f":"Inscription!G5","v":"CSRAD"},{"$f":"Inscription!H5","v":"Alexandre Vincent"},null,"00:00:49.280","00:00:49.370","00:00:49.325",null,6,{"$f":"IF(F144=\"DNS\",\"0\",IF(F144=\"DQ\",\"0\",IF(F144=\"\",\"\",IF(F144=\"DNF\",\"0\",LOOKUP(H144,Valeurs!$A$4:'Valeurs'!$A$46,Valeurs!$B$4:'Valeurs'!$B$46)))))","v":12}]
[{"$f":"Inscription!G6","v":"CSRN"},{"$f":"Inscription!H6","v":"Malik Romdhani"},null,"00:00:43.910","00:00:43.900","00:00:43.905",null,2,{"$f":"IF(F145=\"DNS\",\"0\",IF(F145=\"DQ\",\"0\",IF(F145=\"\",\"\",IF(F145=\"DNF\",\"0\",LOOKUP(H145,Valeurs!$A$4:'Valeurs'!$A$46,Valeurs!$B$4:'Valeurs'!$B$46)))))","v":18}]
[{"$f":"Inscription!G7","v":"CSRN"},{"$f":"Inscription!H7","v":"Jonathan St-Roch"},null,"00:00:44.780","00:00:44.590","00:00:44.685",null,3,{"$f":"IF(F146=\"DNS\",\"0\",IF(F146=\"DQ\",\"0\",IF(F146=\"\",\"\",IF(F146=\"DNF\",\"0\",LOOKUP(H146,Valeurs!$A$4:'Valeurs'!$A$46,Valeurs!$B$4:'Valeurs'!$B$46)))))","v":16}]
[{"$f":"Inscription!G8","v":"Gatineau"},{"$f":"Inscription!H8","v":"Vincent Marsclais"},null,"DNS","DNS","DNS",null,"DNS",{"$f":"IF(F147=\"DNS\",\"0\",IF(F147=\"DQ\",\"0\",IF(F147=\"\",\"\",IF(F147=\"DNF\",\"0\",LOOKUP(H147,Valeurs!$A$4:'Valeurs'!$A$46,Valeurs!$B$4:'Valeurs'!$B$46)))))","v":"0"}]
[{"$f":"Inscription!G9","v":"Gatineau"},{"$f":"Inscription!H9","v":"Benjamin Lapointe"},null,"00:00:47.340","00:00:47.250","00:00:47.295",null,4,{"$f":"IF(F148=\"DNS\",\"0\",IF(F148=\"DQ\",\"0\",IF(F148=\"\",\"\",IF(F148=\"DNF\",\"0\",LOOKUP(H148,Valeurs!$A$4:'Valeurs'!$A$46,Valeurs!$B$4:'Valeurs'!$B$46)))))","v":14}]
[{"$f":"Inscription!G10","v":0},{"$f":"Inscription!H10","v":0},null,null,null,"",null,"",{"$f":"IF(F149=\"DNS\",\"0\",IF(F149=\"DQ\",\"0\",IF(F149=\"\",\"\",IF(F149=\"DNF\",\"0\",LOOKUP(H149,Valeurs!$A$4:'Valeurs'!$A$46,Valeurs!$B$4:'Valeurs'!$B$46)))))","v":""}]
[{"$f":"Inscription!G11","v":0},{"$f":"Inscription!H11","v":0},null,null,null,"",null,"",{"$f":"IF(F150=\"DNS\",\"0\",IF(F150=\"DQ\",\"0\",IF(F150=\"\",\"\",IF(F150=\"DNF\",\"0\",LOOKUP(H150,Valeurs!$A$4:'Valeurs'!$A$46,Valeurs!$B$4:'Valeurs'!$B$46)))))","v":""}]
[{"$f":"Inscription!G12","v":0},{"$f":"Inscription!H12","v":0},null,null,null,"",null,"",{"$f":"IF(F151=\"DNS\",\"0\",IF(F151=\"DQ\",\"0\",IF(F151=\"\",\"\",IF(F151=\"DNF\",\"0\",LOOKUP(H151,Valeurs!$A$4:'Valeurs'!$A$46,Valeurs!$B$4:'Valeurs'!$B$46)))))","v":""}]
[{"$f":"Inscription!G13","v":0},{"$f":"Inscription!H13","v":0},null,null,null,"",null,"",{"$f":"IF(F152=\"DNS\",\"0\",IF(F152=\"DQ\",\"0\",IF(F152=\"\",\"\",IF(F152=\"DNF\",\"0\",LOOKUP(H152,Valeurs!$A$4:'Valeurs'!$A$46,Valeurs!$B$4:'Valeurs'!$B$46)))))","v":""}]
[{"$f":"Inscription!G14","v":0},{"$f":"Inscription!H14","v":0},null,null,null,"",null,"",{"$f":"IF(F153=\"DNS\",\"0\",IF(F153=\"DQ\",\"0\",IF(F153=\"\",\"\",IF(F153=\"DNF\",\"0\",LOOKUP(H153,Valeurs!$A$4:'Valeurs'!$A$46,Valeurs!$B$4:'Valeurs'!$B$46)))))","v":""}]
[{"$f":"Inscription!G15","v":0},{"$f":"Inscription!H15","v":0},null,null,null,"",null,"",{"$f":"IF(F154=\"DNS\",\"0\",IF(F154=\"DQ\",\"0\",IF(F154=\"\",\"\",IF(F154=\"DNF\",\"0\",LOOKUP(H154,Valeurs!$A$4:'Valeurs'!$A$46,Valeurs!$B$4:'Valeurs'!$B$46)))))","v":""}]
[{"$f":"Inscription!G16","v":0},{"$f":"Inscription!H16","v":0},null,null,null,"",null,"",{"$f":"IF(F155=\"DNS\",\"0\",IF(F155=\"DQ\",\"0\",IF(F155=\"\",\"\",IF(F155=\"DNF\",\"0\",LOOKUP(H155,Valeurs!$A$4:'Valeurs'!$A$46,Valeurs!$B$4:'Valeurs'!$B$46)))))","v":""}]
[{"$f":"Inscription!G17","v":0},{"$f":"Inscription!H17","v":0},null,null,null,"",null,"",{"$f":"IF(F156=\"DNS\",\"0\",IF(F156=\"DQ\",\"0\",IF(F156=\"\",\"\",IF(F156=\"DNF\",\"0\",LOOKUP(H156,Valeurs!$A$4:'Valeurs'!$A$46,Valeurs!$B$4:'Valeurs'!$B$46)))))","v":""}]
[{"$f":"Inscription!G18","v":0},{"$f":"Inscription!H18","v":0},null,null,null,"",null,"",{"$f":"IF(F157=\"DNS\",\"0\",IF(F157=\"DQ\",\"0\",IF(F157=\"\",\"\",IF(F157=\"DNF\",\"0\",LOOKUP(H157,Valeurs!$A$4:'Valeurs'!$A$46,Valeurs!$B$4:'Valeurs'!$B$46)))))","v":""}]
[{"$f":"Inscription!G19","v":0},{"$f":"Inscription!H19","v":0},null,null,null,"",null,"",{"$f":"IF(F158=\"DNS\",\"0\",IF(F158=\"DQ\",\"0\",IF(F158=\"\",\"\",IF(F158=\"DNF\",\"0\",LOOKUP(H158,Valeurs!$A$4:'Valeurs'!$A$46,Valeurs!$B$4:'Valeurs'!$B$46)))))","v":""}]
[{"$f":"Inscription!G20","v":0},{"$f":"Inscription!H20","v":0},null,null,null,"",null,"",{"$f":"IF(F159=\"DNS\",\"0\",IF(F159=\"DQ\",\"0\",IF(F159=\"\",\"\",IF(F159=\"DNF\",\"0\",LOOKUP(H159,Valeurs!$A$4:'Valeurs'!$A$46,Valeurs!$B$4:'Valeurs'!$B$46)))))","v":""}]
[{"$f":"Inscription!G21","v":0},{"$f":"Inscription!H21","v":0},null,null,null,"",null,"",{"$f":"IF(F160=\"DNS\",\"0\",IF(F160=\"DQ\",\"0\",IF(F160=\"\",\"\",IF(F160=\"DNF\",\"0\",LOOKUP(H160,Valeurs!$A$4:'Valeurs'!$A$46,Valeurs!$B$4:'Valeurs'!$B$46)))))","v":""}]
[{"$f":"Inscription!G22","v":0},{"$f":"Inscription!H22","v":0},null,null,null,"",null,"",{"$f":"IF(F161=\"DNS\",\"0\",IF(F161=\"DQ\",\"0\",IF(F161=\"\",\"\",IF(F161=\"DNF\",\"0\",LOOKUP(H161,Valeurs!$A$4:'Valeurs'!$A$46,Valeurs!$B$4:'Valeurs'!$B$46)))))","v":""}]
[{"$f":"Inscription!G23","v":0},{"$f":"Inscription!H23","v":0},null,null,null,"",null,"",{"$f":"IF(F162=\"DNS\",\"0\",IF(F162=\"DQ\",\"0\",IF(F162=\"\",\"\",IF(F162=\"DNF\",\"0\",LOOKUP(H162,Valeurs!$A$4:'Valeurs'!$A$46,Valeurs!$B$4:'Valeurs'!$B$46)))))","v":""}]
[{"$f":"Inscription!G24","v":0},{"$f":"Inscription!H24","v":0},null,null,null,"",null,"",{"$f":"IF(F163=\"DNS\",\"0\",IF(F163=\"DQ\",\"0\",IF(F163=\"\",\"\",IF(F163=\"DNF\",\"0\",LOOKUP(H163,Valeurs!$A$4:'Valeurs'!$A$46,Valeurs!$B$4:'Valeurs'!$B$46)))))","v":""}]
[{"$f":"Inscription!G25","v":0},{"$f":"Inscription!H25","v":0},null,null,null,"",null,"",{"$f":"IF(F164=\"DNS\",\"0\",IF(F164=\"DQ\",\"0\",IF(F164=\"\",\"\",IF(F164=\"DNF\",\"0\",LOOKUP(H164,Valeurs!$A$4:'Valeurs'!$A$46,Valeurs!$B$4:'Valeurs'!$B$46)))))","v":""}]
[{"$f":"Inscription!G26","v":0},{"$f":"Inscription!H26","v":0},null,null,null,"",null,"",{"$f":"IF(F165=\"DNS\",\"0\",IF(F165=\"DQ\",\"0\",IF(F165=\"\",\"\",IF(F165=\"DNF\",\"0\",LOOKUP(H165,Valeurs!$A$4:'Valeurs'!$A$46,Valeurs!$B$4:'Valeurs'!$B$46)))))","v":""}]
[{"$f":"Inscription!G27","v":0},{"$f":"Inscription!H27","v":0},null,null,null,"",null,"",{"$f":"IF(F166=\"DNS\",\"0\",IF(F166=\"DQ\",\"0\",IF(F166=\"\",\"\",IF(F166=\"DNF\",\"0\",LOOKUP(H166,Valeurs!$A$4:'Valeurs'!$A$46,Valeurs!$B$4:'Valeurs'!$B$46)))))","v":""}]
[{"$f":"Inscription!G28","v":0},{"$f":"Inscription!H28","v":0},null,null,null,"",null,"",{"$f":"IF(F167=\"DNS\",\"0\",IF(F167=\"DQ\",\"0\",IF(F167=\"\",\"\",IF(F167=\"DNF\",\"0\",LOOKUP(H167,Valeurs!$A$4:'Valeurs'!$A$46,Valeurs!$B$4:'Valeurs'!$B$46)))))","v":""}]
[{"$f":"Inscription!G29","v":0},{"$f":"Inscription!H29","v":0},null,null,null,"",null,"",{"$f":"IF(F168=\"DNS\",\"0\",IF(F168=\"DQ\",\"0\",IF(F168=\"\",\"\",IF(F168=\"DNF\",\"0\",LOOKUP(H168,Valeurs!$A$4:'Valeurs'!$A$46,Valeurs!$B$4:'Valeurs'!$B$46)))))","v":""}]
[{"$f":"Inscription!G30","v":0},{"$f":"Inscription!H30","v":0},null,null,null,"",null,"",{"$f":"IF(F169=\"DNS\",\"0\",IF(F169=\"DQ\",\"0\",IF(F169=\"\",\"\",IF(F169=\"DNF\",\"0\",LOOKUP(H169,Valeurs!$A$4:'Valeurs'!$A$46,Valeurs!$B$4:'Valeurs'!$B$46)))))","v":""}]
[{"$f":"Inscription!G31","v":0},{"$f":"Inscription!H31","v":0},null,null,null,"",null,"",{"$f":"IF(F170=\"DNS\",\"0\",IF(F170=\"DQ\",\"0\",IF(F170=\"\",\"\",IF(F170=\"DNF\",\"0\",LOOKUP(H170,Valeurs!$A$4:'Valeurs'!$A$46,Valeurs!$B$4:'Valeurs'!$B$46)))))","v":""}]
[]
["Sauveteur d'acier - 14 - 15 ans Homme\nÉPREUVE SAUVETEUR D'ACIER"]
[]
["Club","Nom",null,"Chrono 1","Chrono 2","Temps final",null,"R","Points"]
[{"$f":"Inscription!G2","v":"Dam'eauclès"},{"$f":"Inscription!H2","v":"Jacob Rousson"},null,"00:03:20.340","00:03:20.820",{"$f":"IF(D175=\"\",\"\",IF(D175=\"DQ\",\"DQ\",IF(D175=\"DNF\",\"DNF\",IF(D175=\"DNS\",\"DNS\",AVERAGE(D175,E175)))))","v":"00:03:20.580"},null,{"$f":"IF(F175=\"DNS\",\"DNS\",IF(F175=\"DQ\",\"DQ\",IF(F175=\"\",\"\",IF(F175=\"DNF\",\"DNF\",RANK(F175,$F$174:$F$204,1)))))","v":3},{"$f":"IF(F175=\"DNS\",\"0\",IF(F175=\"DQ\",\"0\",IF(F175=\"\",\"\",IF(F175=\"DNF\",\"0\",LOOKUP(H175,Valeurs!$A$4:'Valeurs'!$A$46,Valeurs!$B$4:'Valeurs'!$B$46)))))","v":16}]
[{"$f":"Inscription!G3","v":"Dam'eauclès"},{"$f":"Inscription!H3","v":"Julien Turgeon"},null,"00:03:08.040","00:03:08.040",{"$f":"IF(D176=\"\",\"\",IF(D176=\"DQ\",\"DQ\",IF(D176=\"DNF\",\"DNF\",IF(D176=\"DNS\",\"DNS\",AVERAGE(D176,E176)))))","v":"00:03:08.040"},null,{"$f":"IF(F176=\"DNS\",\"DNS\",IF(F176=\"DQ\",\"DQ\",IF(F176=\"\",\"\",IF(F176=\"DNF\",\"DNF\",RANK(F176,$F$174:$F$204,1)))))","v":1},{"$f":"IF(F176=\"DNS\",\"0\",IF(F176=\"DQ\",\"0\",IF(F176=\"\",\"\",IF(F176=\"DNF\",\"0\",LOOKUP(H176,Valeurs!$A$4:'Valeurs'!$A$46,Valeurs!$B$4:'Valeurs'!$B$46)))))","v":20}]
[{"$f":"Inscription!G4","v":"Dam'eauclès"},{"$f":"Inscription!H4","v":"James Willamson"},null,"00:04:20.440","00:04:20.980","00:04:20.710",null,{"$f":"IF(F177=\"DNS\",\"DNS\",IF(F177=\"DQ\",\"DQ\",IF(F177=\"\",\"\",IF(F177=\"DNF\",\"DNF\",RANK(F177,$F$174:$F$204,1)))))","v":7},{"$f":"IF(F177=\"DNS\",\"0\",IF(F177=\"DQ\",\"0\",IF(F177=\"\",\"\",IF(F177=\"DNF\",\"0\",LOOKUP(H177,Valeurs!$A$4:'Valeurs'!$A$46,Valeurs!$B$4:'Valeurs'!$B$46)))))","v":11}]
[{"$f":"Inscription!G5","v":"CSRAD"},{"$f":"Inscription!H5","v":"Alexandre Vincent"},null,"00:03:39.250","00:03:39.100","00:03:39.175",null,6,{"$f":"IF(F178=\"DNS\",\"0\",IF(F178=\"DQ\",\"0\",IF(F178=\"\",\"\",IF(F178=\"DNF\",\"0\",LOOKUP(H178,Valeurs!$A$4:'Valeurs'!$A$46,Valeurs!$B$4:'Valeurs'!$B$46)))))","v":12}]
[{"$f":"Inscription!G6","v":"CSRN"},{"$f":"Inscription!H6","v":"Malik Romdhani"},null,"00:03:24","00:03:24.060","00:03:24.030",null,4,{"$f":"IF(F179=\"DNS\",\"0\",IF(F179=\"DQ\",\"0\",IF(F179=\"\",\"\",IF(F179=\"DNF\",\"0\",LOOKUP(H179,Valeurs!$A$4:'Valeurs'!$A$46,Valeurs!$B$4:'Valeurs'!$B$46)))))","v":14}]
[{"$f":"Inscription!G7","v":"CSRN"},{"$f":"Inscription!H7","v":"Jonathan St-Roch"},null,"00:03:11.720","00:03:11.730","00:03:11.725",null,2,{"$f":"IF(F180=\"DNS\",\"0\",IF(F180=\"DQ\",\"0\",IF(F180=\"\",\"\",IF(F180=\"DNF\",\"0\",LOOKUP(H180,Valeurs!$A$4:'Valeurs'!$A$46,Valeurs!$B$4:'Valeurs'!$B$46)))))","v":18}]
[{"$f":"Inscription!G8","v":"Gatineau"},{"$f":"Inscription!H8","v":"Vincent Marsclais"},null,"DNS","DNS","DNS",null,"DNS",{"$f":"IF(F181=\"DNS\",\"0\",IF(F181=\"DQ\",\"0\",IF(F181=\"\",\"\",IF(F181=\"DNF\",\"0\",LOOKUP(H181,Valeurs!$A$4:'Valeurs'!$A$46,Valeurs!$B$4:'Valeurs'!$B$46)))))","v":"0"}]
[{"$f":"Inscription!G9","v":"Gatineau"},{"$f":"Inscription!H9","v":"Benjamin Lapointe"},null,"00:03:31.910","00:03:31.900","00:03:31.905",null,5,{"$f":"IF(F182=\"DNS\",\"0\",IF(F182=\"DQ\",\"0\",IF(F182=\"\",\"\",IF(F182=\"DNF\",\"0\",LOOKUP(H182,Valeurs!$A$4:'Valeurs'!$A$46,Valeurs!$B$4:'Valeurs'!$B$46)))))","v":13}]
[{"$f":"Inscription!G10","v":0},{"$f":"Inscription!H10","v":0},null,null,null,"",null,"",{"$f":"IF(F183=\"DNS\",\"0\",IF(F183=\"DQ\",\"0\",IF(F183=\"\",\"\",IF(F183=\"DNF\",\"0\",LOOKUP(H183,Valeurs!$A$4:'Valeurs'!$A$46,Valeurs!$B$4:'Valeurs'!$B$46)))))","v":""}]
[{"$f":"Inscription!G11","v":0},{"$f":"Inscription!H11","v":0},null,null,null,"",null,"",{"$f":"IF(F184=\"DNS\",\"0\",IF(F184=\"DQ\",\"0\",IF(F184=\"\",\"\",IF(F184=\"DNF\",\"0\",LOOKUP(H184,Valeurs!$A$4:'Valeurs'!$A$46,Valeurs!$B$4:'Valeurs'!$B$46)))))","v":""}]
[{"$f":"Inscription!G12","v":0},{"$f":"Inscription!H12","v":0},null,null,null,"",null,"",{"$f":"IF(F185=\"DNS\",\"0\",IF(F185=\"DQ\",\"0\",IF(F185=\"\",\"\",IF(F185=\"DNF\",\"0\",LOOKUP(H185,Valeurs!$A$4:'Valeurs'!$A$46,Valeurs!$B$4:'Valeurs'!$B$46)))))","v":""}]
[{"$f":"Inscription!G13","v":0},{"$f":"Inscription!H13","v":0},null,null,null,"",null,"",{"$f":"IF(F186=\"DNS\",\"0\",IF(F186=\"DQ\",\"0\",IF(F186=\"\",\"\",IF(F186=\"DNF\",\"0\",LOOKUP(H186,Valeurs!$A$4:'Valeurs'!$A$46,Valeurs!$B$4:'Valeurs'!$B$46)))))","v":""}]
[{"$f":"Inscription!G14","v":0},{"$f":"Inscription!H14","v":0},null,null,null,"",null,"",{"$f":"IF(F187=\"DNS\",\"0\",IF(F187=\"DQ\",\"0\",IF(F187=\"\",\"\",IF(F187=\"DNF\",\"0\",LOOKUP(H187,Valeurs!$A$4:'Valeurs'!$A$46,Valeurs!$B$4:'Valeurs'!$B$46)))))","v":""}]
[{"$f":"Inscription!G15","v":0},{"$f":"Inscription!H15","v":0},null,null,null,"",null,"",{"$f":"IF(F188=\"DNS\",\"0\",IF(F188=\"DQ\",\"0\",IF(F188=\"\",\"\",IF(F188=\"DNF\",\"0\",LOOKUP(H188,Valeurs!$A$4:'Valeurs'!$A$46,Valeurs!$B$4:'Valeurs'!$B$46)))))","v":""}]
[{"$f":"Inscription!G16","v":0},{"$f":"Inscription!H16","v":0},null,null,null,"",null,"",{"$f":"IF(F189=\"DNS\",\"0\",IF(F189=\"DQ\",\"0\",IF(F189=\"\",\"\",IF(F189=\"DNF\",\"0\",LOOKUP(H189,Valeurs!$A$4:'Valeurs'!$A$46,Valeurs!$B$4:'Valeurs'!$B$46)))))","v":""}]
[{"$f":"Inscription!G17","v":0},{"$f":"Inscription!H17","v":0},null,null,null,"",null,"",{"$f":"IF(F190=\"DNS\",\"0\",IF(F190=\"DQ\",\"0\",IF(F190=\"\",\"\",IF(F190=\"DNF\",\"0\",LOOKUP(H190,Valeurs!$A$4:'Valeurs'!$A$46,Valeurs!$B$4:'Valeurs'!$B$46)))))","v":""}]
[{"$f":"Inscription!G18","v":0},{"$f":"Inscription!H18","v":0},null,null,null,"",null,"",{"$f":"IF(F191=\"DNS\",\"0\",IF(F191=\"DQ\",\"0\",IF(F191=\"\",\"\",IF(F191=\"DNF\",\"0\",LOOKUP(H191,Valeurs!$A$4:'Valeurs'!$A$46,Valeurs!$B$4:'Valeurs'!$B$46)))))","v":""}]
[{"$f":"Inscription!G19","v":0},{"$f":"Inscription!H19","v":0},null,null,null,"",null,"",{"$f":"IF(F192=\"DNS\",\"0\",IF(F192=\"DQ\",\"0\",IF(F192=\"\",\"\",IF(F192=\"DNF\",\"0\",LOOKUP(H192,Valeurs!$A$4:'Valeurs'!$A$46,Valeurs!$B$4:'Valeurs'!$B$46)))))","v":""}]
[{"$f":"Inscription!G20","v":0},{"$f":"Inscription!H20","v":0},null,null,null,"",null,"",{"$f":"IF(F193=\"DNS\",\"0\",IF(F193=\"DQ\",\"0\",IF(F193=\"\",\"\",IF(F193=\"DNF\",\"0\",LOOKUP(H193,Valeurs!$A$4:'Valeurs'!$A$46,Valeurs!$B$4:'Valeurs'!$B$46)))))","v":""}]
[{"$f":"Inscription!G21","v":0},{"$f":"Inscription!H21","v":0},null,null,null,"",null,"",{"$f":"IF(F194=\"DNS\",\"0\",IF(F194=\"DQ\",\"0\",IF(F194=\"\",\"\",IF(F194=\"DNF\",\"0\",LOOKUP(H194,Valeurs!$A$4:'Valeurs'!$A$46,Valeurs!$B$4:'Valeurs'!$B$46)))))","v":""}]
[{"$f":"Inscription!G22","v":0},{"$f":"Inscription!H22","v":0},null,null,null,"",null,"",{"$f":"IF(F195=\"DNS\",\"0\",IF(F195=\"DQ\",\"0\",IF(F195=\"\",\"\",IF(F195=\"DNF\",\"0\",LOOKUP(H195,Valeurs!$A$4:'Valeurs'!$A$46,Valeurs!$B$4:'Valeurs'!$B$46)))))","v":""}]
[{"$f":"Inscription!G23","v":0},{"$f":"Inscription!H23","v":0},null,null,null,"",null,"",{"$f":"IF(F196=\"DNS\",\"0\",IF(F196=\"DQ\",\"0\",IF(F196=\"\",\"\",IF(F196=\"DNF\",\"0\",LOOKUP(H196,Valeurs!$A$4:'Valeurs'!$A$46,Valeurs!$B$4:'Valeurs'!$B$46)))))","v":""}]
[{"$f":"Inscription!G24","v":0},{"$f":"Inscription!H24","v":0},null,null,null,"",null,"",{"$f":"IF(F197=\"DNS\",\"0\",IF(F197=\"DQ\",\"0\",IF(F197=\"\",\"\",IF(F197=\"DNF\",\"0\",LOOKUP(H197,Valeurs!$A$4:'Valeurs'!$A$46,Valeurs!$B$4:'Valeurs'!$B$46)))))","v":""}]
[{"$f":"Inscription!G25","v":0},{"$f":"Inscription!H25","v":0},null,null,null,"",null,"",{"$f":"IF(F198=\"DNS\",\"0\",IF(F198=\"DQ\",\"0\",IF(F198=\"\",\"\",IF(F198=\"DNF\",\"0\",LOOKUP(H198,Valeurs!$A$4:'Valeurs'!$A$46,Valeurs!$B$4:'Valeurs'!$B$46)))))","v":""}]
[{"$f":"Inscription!G26","v":0},{"$f":"Inscription!H26","v":0},null,null,null,"",null,"",{"$f":"IF(F199=\"DNS\",\"0\",IF(F199=\"DQ\",\"0\",IF(F199=\"\",\"\",IF(F199=\"DNF\",\"0\",LOOKUP(H199,Valeurs!$A$4:'Valeurs'!$A$46,Valeurs!$B$4:'Valeurs'!$B$46)))))","v":""}]
[{"$f":"Inscription!G27","v":0},{"$f":"Inscription!H27","v":0},null,null,null,"",null,"",{"$f":"IF(F200=\"DNS\",\"0\",IF(F200=\"DQ\",\"0\",IF(F200=\"\",\"\",IF(F200=\"DNF\",\"0\",LOOKUP(H200,Valeurs!$A$4:'Valeurs'!$A$46,Valeurs!$B$4:'Valeurs'!$B$46)))))","v":""}]
[{"$f":"Inscription!G28","v":0},{"$f":"Inscription!H28","v":0},null,null,null,"",null,"",{"$f":"IF(F201=\"DNS\",\"0\",IF(F201=\"DQ\",\"0\",IF(F201=\"\",\"\",IF(F201=\"DNF\",\"0\",LOOKUP(H201,Valeurs!$A$4:'Valeurs'!$A$46,Valeurs!$B$4:'Valeurs'!$B$46)))))","v":""}]
[{"$f":"Inscription!G29","v":0},{"$f":"Inscription!H29","v":0},null,null,null,"",null,"",{"$f":"IF(F202=\"DNS\",\"0\",IF(F202=\"DQ\",\"0\",IF(F202=\"\",\"\",IF(F202=\"DNF\",\"0\",LOOKUP(H202,Valeurs!$A$4:'Valeurs'!$A$46,Valeurs!$B$4:'Valeurs'!$B$46)))))","v":""}]
[{"$f":"Inscription!G30","v":0},{"$f":"Inscription!H30","v":0},null,null,null,"",null,"",{"$f":"IF(F203=\"DNS\",\"0\",IF(F203=\"DQ\",\"0\",IF(F203=\"\",\"\",IF(F203=\"DNF\",\"0\",LOOKUP(H203,Valeurs!$A$4:'Valeurs'!$A$46,Valeurs!$B$4:'Valeurs'!$B$46)))))","v":""}]
[{"$f":"Inscription!G31","v":0},{"$f":"Inscription!H31","v":0},null,null,null,"",null,"",{"$f":"IF(F204=\"DNS\",\"0\",IF(F204=\"DQ\",\"0\",IF(F204=\"\",\"\",IF(F204=\"DNF\",\"0\",LOOKUP(H204,Valeurs!$A$4:'Valeurs'!$A$46,Valeurs!$B$4:'Valeurs'!$B$46)))))","v":""}]
[]
["Medley de sauvetage - 14 - 15 ans Homme\nÉPREUVE MEDLEY SAUVETAGE"]
[]
["Club","Nom",null,"Chrono 1","Chrono 2","Temps final",null,"R","Points"]
[{"$f":"Inscription!G2","v":"Dam'eauclès"},{"$f":"Inscription!H2","v":"Jacob Rousson"},null,null,null,{"$f":"IF(D209=\"\",\"\",IF(D209=\"DQ\",\"DQ\",IF(D209=\"DNF\",\"DNF\",IF(D209=\"DNS\",\"DNS\",AVERAGE(D209,E209)))))","v":""},null,{"$f":"IF(F209=\"DNS\",\"DNS\",IF(F209=\"DQ\",\"DQ\",IF(F209=\"\",\"\",IF(F209=\"DNF\",\"DNF\",RANK(F209,$F$209:$F$238,1)))))","v":""},{"$f":"IF(F209=\"\",\"\",LOOKUP(H209,Valeurs!$A$4:'Valeurs'!$A$46,Valeurs!$B$4:'Valeurs'!$B$46))","v":""}]
[{"$f":"Inscription!G3","v":"Dam'eauclès"},{"$f":"Inscription!H3","v":"Julien Turgeon"},null,null,null,{"$f":"IF(D210=\"\",\"\",IF(D210=\"DQ\",\"DQ\",IF(D210=\"DNF\",\"DNF\",IF(D210=\"DNS\",\"DNS\",AVERAGE(D210,E210)))))","v":""},null,{"$f":"IF(F210=\"DNS\",\"DNS\",IF(F210=\"DQ\",\"DQ\",IF(F210=\"\",\"\",IF(F210=\"DNF\",\"DNF\",RANK(F210,$F$209:$F$238,1)))))","v":""},{"$f":"IF(F210=\"\",\"\",LOOKUP(H210,Valeurs!$A$4:'Valeurs'!$A$46,Valeurs!$B$4:'Valeurs'!$B$46))","v":""}]
[{"$f":"Inscription!G4","v":"Dam'eauclès"},{"$f":"Inscription!H4","v":"James Willamson"},null,null,null,"",null,{"$f":"IF(F211=\"DNS\",\"DNS\",IF(F211=\"DQ\",\"DQ\",IF(F211=\"\",\"\",IF(F211=\"DNF\",\"DNF\",RANK(F211,$F$209:$F$238,1)))))","v":""},{"$f":"IF(F211=\"\",\"\",LOOKUP(H211,Valeurs!$A$4:'Valeurs'!$A$46,Valeurs!$B$4:'Valeurs'!$B$46))","v":""}]
[{"$f":"Inscription!G5","v":"CSRAD"},{"$f":"Inscription!H5","v":"Alexandre Vincent"},null,null,null,"",null,"",{"$f":"IF(F212=\"\",\"\",LOOKUP(H212,Valeurs!$A$4:'Valeurs'!$A$46,Valeurs!$B$4:'Valeurs'!$B$46))","v":""}]
[{"$f":"Inscription!G6","v":"CSRN"},{"$f":"Inscription!H6","v":"Malik Romdhani"},null,null,null,"",null,"",{"$f":"IF(F213=\"\",\"\",LOOKUP(H213,Valeurs!$A$4:'Valeurs'!$A$46,Valeurs!$B$4:'Valeurs'!$B$46))","v":""}]
[{"$f":"Inscription!G7","v":"CSRN"},{"$f":"Inscription!H7","v":"Jonathan St-Roch"},null,null,null,"",null,"",{"$f":"IF(F214=\"\",\"\",LOOKUP(H214,Valeurs!$A$4:'Valeurs'!$A$46,Valeurs!$B$4:'Valeurs'!$B$46))","v":""}]
[{"$f":"Inscription!G8","v":"Gatineau"},{"$f":"Inscription!H8","v":"Vincent Marsclais"},null,null,null,"",null,"",{"$f":"IF(F215=\"\",\"\",LOOKUP(H215,Valeurs!$A$4:'Valeurs'!$A$46,Valeurs!$B$4:'Valeurs'!$B$46))","v":""}]
[{"$f":"Inscription!G9","v":"Gatineau"},{"$f":"Inscription!H9","v":"Benjamin Lapointe"},null,null,null,"",null,"",{"$f":"IF(F216=\"\",\"\",LOOKUP(H216,Valeurs!$A$4:'Valeurs'!$A$46,Valeurs!$B$4:'Valeurs'!$B$46))","v":""}]
[{"$f":"Inscription!G10","v":0},{"$f":"Inscription!H10","v":0},null,null,null,"",null,"",{"$f":"IF(F217=\"\",\"\",LOOKUP(H217,Valeurs!$A$4:'Valeurs'!$A$46,Valeurs!$B$4:'Valeurs'!$B$46))","v":""}]
[{"$f":"Inscription!G11","v":0},{"$f":"Inscription!H11","v":0},null,null,null,"",null,"",{"$f":"IF(F218=\"\",\"\",LOOKUP(H218,Valeurs!$A$4:'Valeurs'!$A$46,Valeurs!$B$4:'Valeurs'!$B$46))","v":""}]
[{"$f":"Inscription!G12","v":0},{"$f":"Inscription!H12","v":0},null,null,null,"",null,"",{"$f":"IF(F219=\"\",\"\",LOOKUP(H219,Valeurs!$A$4:'Valeurs'!$A$46,Valeurs!$B$4:'Valeurs'!$B$46))","v":""}]
[{"$f":"Inscription!G13","v":0},{"$f":"Inscription!H13","v":0},null,null,null,"",null,"",{"$f":"IF(F220=\"\",\"\",LOOKUP(H220,Valeurs!$A$4:'Valeurs'!$A$46,Valeurs!$B$4:'Valeurs'!$B$46))","v":""}]
[{"$f":"Inscription!G14","v":0},{"$f":"Inscription!H14","v":0},null,null,null,"",null,"",{"$f":"IF(F221=\"\",\"\",LOOKUP(H221,Valeurs!$A$4:'Valeurs'!$A$46,Valeurs!$B$4:'Valeurs'!$B$46))","v":""}]
[{"$f":"Inscription!G15","v":0},{"$f":"Inscription!H15","v":0},null,null,null,"",null,"",{"$f":"IF(F222=\"\",\"\",LOOKUP(H222,Valeurs!$A$4:'Valeurs'!$A$46,Valeurs!$B$4:'Valeurs'!$B$46))","v":""}]
[{"$f":"Inscription!G16","v":0},{"$f":"Inscription!H16","v":0},null,null,null,"",null,"",{"$f":"IF(F223=\"\",\"\",LOOKUP(H223,Valeurs!$A$4:'Valeurs'!$A$46,Valeurs!$B$4:'Valeurs'!$B$46))","v":""}]
[{"$f":"Inscription!G17","v":0},{"$f":"Inscription!H17","v":0},null,null,null,"",null,"",{"$f":"IF(F224=\"\",\"\",LOOKUP(H224,Valeurs!$A$4:'Valeurs'!$A$46,Valeurs!$B$4:'Valeurs'!$B$46))","v":""}]
[{"$f":"Inscription!G18","v":0},{"$f":"Inscription!H18","v":0},null,null,null,"",null,"",{"$f":"IF(F225=\"\",\"\",LOOKUP(H225,Valeurs!$A$4:'Valeurs'!$A$46,Valeurs!$B$4:'Valeurs'!$B$46))","v":""}]
[{"$f":"Inscription!G19","v":0},{"$f":"Inscription!H19","v":0},null,null,null,"",null,"",{"$f":"IF(F226=\"\",\"\",LOOKUP(H226,Valeurs!$A$4:'Valeurs'!$A$46,Valeurs!$B$4:'Valeurs'!$B$46))","v":""}]
[{"$f":"Inscription!G20","v":0},{"$f":"Inscription!H20","v":0},null,null,null,"",null,"",{"$f":"IF(F227=\"\",\"\",LOOKUP(H227,Valeurs!$A$4:'Valeurs'!$A$46,Valeurs!$B$4:'Valeurs'!$B$46))","v":""}]
[{"$f":"Inscription!G21","v":0},{"$f":"Inscription!H21","v":0},null,null,null,"",null,"",{"$f":"IF(F228=\"\",\"\",LOOKUP(H228,Valeurs!$A$4:'Valeurs'!$A$46,Valeurs!$B$4:'Valeurs'!$B$46))","v":""}]
[{"$f":"Inscription!G22","v":0},{"$f":"Inscription!H22","v":0},null,null,null,"",null,"",{"$f":"IF(F229=\"\",\"\",LOOKUP(H229,Valeurs!$A$4:'Valeurs'!$A$46,Valeurs!$B$4:'Valeurs'!$B$46))","v":""}]
[{"$f":"Inscription!G23","v":0},{"$f":"Inscription!H23","v":0},null,null,null,"",null,"",{"$f":"IF(F230=\"\",\"\",LOOKUP(H230,Valeurs!$A$4:'Valeurs'!$A$46,Valeurs!$B$4:'Valeurs'!$B$46))","v":""}]
[{"$f":"Inscription!G24","v":0},{"$f":"Inscription!H24","v":0},null,null,null,"",null,"",{"$f":"IF(F231=\"\",\"\",LOOKUP(H231,Valeurs!$A$4:'Valeurs'!$A$46,Valeurs!$B$4:'Valeurs'!$B$46))","v":""}]
[{"$f":"Inscription!G25","v":0},{"$f":"Inscription!H25","v":0},null,null,null,"",null,"",{"$f":"IF(F232=\"\",\"\",LOOKUP(H232,Valeurs!$A$4:'Valeurs'!$A$46,Valeurs!$B$4:'Valeurs'!$B$46))","v":""}]
[{"$f":"Inscription!G26","v":0},{"$f":"Inscription!H26","v":0},null,null,null,"",null,"",{"$f":"IF(F233=\"\",\"\",LOOKUP(H233,Valeurs!$A$4:'Valeurs'!$A$46,Valeurs!$B$4:'Valeurs'!$B$46))","v":""}]
[{"$f":"Inscription!G27","v":0},{"$f":"Inscription!H27","v":0},null,null,null,"",null,"",{"$f":"IF(F234=\"\",\"\",LOOKUP(H234,Valeurs!$A$4:'Valeurs'!$A$46,Valeurs!$B$4:'Valeurs'!$B$46))","v":""}]
[{"$f":"Inscription!G28","v":0},{"$f":"Inscription!H28","v":0},null,null,null,"",null,"",{"$f":"IF(F235=\"\",\"\",LOOKUP(H235,Valeurs!$A$4:'Valeurs'!$A$46,Valeurs!$B$4:'Valeurs'!$B$46))","v":""}]
[{"$f":"Inscription!G29","v":0},{"$f":"Inscription!H29","v":0},null,null,null,"",null,"",{"$f":"IF(F236=\"\",\"\",LOOKUP(H236,Valeurs!$A$4:'Valeurs'!$A$46,Valeurs!$B$4:'Valeurs'!$B$46))","v":""}]
[{"$f":"Inscription!G30","v":0},{"$f":"Inscription!H30","v":0},null,null,null,"",null,"",{"$f":"IF(F237=\"\",\"\",LOOKUP(H237,Valeurs!$A$4:'Valeurs'!$A$46,Valeurs!$B$4:'Valeurs'!$B$46))","v":""}]
[{"$f":"Inscription!G31","v":0},{"$f":"Inscription!H31","v":0},null,null,null,"",null,"",{"$f":"IF(F238=\"\",\"\",LOOKUP(H238,Valeurs!$A$4:'Valeurs'!$A$46,Valeurs!$B$4:'Valeurs'!$B$46))","v":""}]

{"sheet":"Senior F","index":6,"n_rows":347,"n_cols":9,"rows_kept":347,"cut":false,"hidden":false,"merged":[[205,0,206,8],[240,0,241,8],[276,0,277,8],[312,0,313,8],[1,0,2,8],[35,0,36,8],[69,0,70,8],[103,0,104,8],[137,0,138,8],[171,0,172,8]]}
[]
["Lancer de la corde - Senior Femme\nÉPREUVE DE LA CORDE"]
[]
["Club","Nom",null,"Chrono 1","Chrono 2","Temps final",null,"R","Points"]
["Caso","Émilie Boulerne",null,"00:00:14.150","00:00:14.190",{"$f":"IF(D5=\"\",\"\",IF(D5=\"DQ\",\"DQ\",IF(D5=\"DNF\",\"DNF\",IF(D5=\"DNS\",\"DNS\",AVERAGE(D5,E5)))))","v":"00:00:14.170"},null,{"$f":"IF(F5=\"DNS\",\"DNS\",IF(F5=\"DQ\",\"DQ\",IF(F5=\"\",\"\",IF(F5=\"DNF\",\"DNF\",RANK(F5,$F$5:$F$34,1)))))","v":2},{"$f":"IF(F5=\"DNS\",\"0\",IF(F5=\"DQ\",\"0\",IF(F5=\"\",\"\",IF(F5=\"DNF\",\"0\",LOOKUP(H5,Valeurs!$A$4:'Valeurs'!$A$46,Valeurs!$B$4:'Valeurs'!$B$46)))))","v":18}]
[null,"Laurence Lamarre",null,null,null,null,null,null,{"$f":"I5","v":18}]
["CAEM","Marie-Chantale Giroux",null,"DNS","DNS",{"$f":"IF(D7=\"\",\"\",IF(D7=\"DQ\",\"DQ\",IF(D7=\"DNF\",\"DNF\",IF(D7=\"DNS\",\"DNS\",AVERAGE(D7,E7)))))","v":"DNS"},null,{"$f":"IF(F7=\"DNS\",\"DNS\",IF(F7=\"DQ\",\"DQ\",IF(F7=\"\",\"\",IF(F7=\"DNF\",\"DNF\",RANK(F7,$F$5:$F$34,1)))))","v":"DNS"},{"$f":"IF(F7=\"DNS\",\"0\",IF(F7=\"DQ\",\"0\",IF(F7=\"\",\"\",IF(F7=\"DNF\",\"0\",LOOKUP(H7,Valeurs!$A$4:'Valeurs'!$A$46,Valeurs!$B$4:'Valeurs'!$B$46)))))","v":"0"}]
[null,"Audrey Desroches",null,null,null,null,null,null,{"$f":"I7","v":"0"}]
["Dam'eauclès","Caroline Arcand ",null,"00:00:44.530","00:00:44.380",{"$f":"IF(D9=\"\",\"\",IF(D9=\"DQ\",\"DQ\",IF(D9=\"DNF\",\"DNF\",IF(D9=\"DNS\",\"DNS\",AVERAGE(D9,E9)))))","v":"00:00:44.455"},null,{"$f":"IF(F9=\"DNS\",\"DNS\",IF(F9=\"DQ\",\"DQ\",IF(F9=\"\",\"\",IF(F9=\"DNF\",\"DNF\",RANK(F9,$F$5:$F$34,1)))))","v":6},{"$f":"IF(F9=\"DNS\",\"0\",IF(F9=\"DQ\",\"0\",IF(F9=\"\",\"\",IF(F9=\"DNF\",\"0\",LOOKUP(H9,Valeurs!$A$4:'Valeurs'!$A$46,Valeurs!$B$4:'Valeurs'!$B$46)))))","v":12}]
[null,"Tamara Jacques",null,null,null,null,null,null,{"$f":"I9","v":12}]
["Rouville Surf","Marie-Hélène Paquette",null,"00:00:19.470","00:00:19.470",{"$f":"IF(D11=\"\",\"\",IF(D11=\"DQ\",\"DQ\",IF(D11=\"DNF\",\"DNF\",IF(D11=\"DNS\",\"DNS\",AVERAGE(D11,E11)))))","v":"00:00:19.470"},null,{"$f":"IF(F11=\"DNS\",\"DNS\",IF(F11=\"DQ\",\"DQ\",IF(F11=\"\",\"\",IF(F11=\"DNF\",\"DNF\",RANK(F11,$F$5:$F$34,1)))))","v":3},{"$f":"IF(F11=\"DNS\",\"0\",IF(F11=\"DQ\",\"0\",IF(F11=\"\",\"\",IF(F11=\"DNF\",\"0\",LOOKUP(H11,Valeurs!$A$4:'Valeurs'!$A$46,Valeurs!$B$4:'Valeurs'!$B$46)))))","v":16}]
[null,"Claudine Courteau-Godmaire",null,null,null,null,null,null,{"$f":"I11","v":16}]
["Rouville Surf","Mariama Keita",null,"DNF","DNF",{"$f":"IF(D13=\"\",\"\",IF(D13=\"DQ\",\"DQ\",IF(D13=\"DNF\",\"DNF\",IF(D13=\"DNS\",\"DNS\",AVERAGE(D13,E13)))))","v":"DNF"},null,{"$f":"IF(F13=\"DNS\",\"DNS\",IF(F13=\"DQ\",\"DQ\",IF(F13=\"\",\"\",IF(F13=\"DNF\",\"DNF\",RANK(F13,$F$5:$F$34,1)))))","v":"DNF"},{"$f":"IF(F13=\"DNS\",\"0\",IF(F13=\"DQ\",\"0\",IF(F13=\"\",\"\",IF(F13=\"DNF\",\"0\",LOOKUP(H13,Valeurs!$A$4:'Valeurs'!$A$46,Valeurs!$B$4:'Valeurs'!$B$46)))))","v":"0"}]
[null,"Gabrièle St-Georges",null,null,null,null,null,null,{"$f":"I13","v":"0"}]
["30deux","Marie-Pier Anctil",null,"00:00:21.530","00:00:21.590",{"$f":"IF(D15=\"\",\"\",IF(D15=\"DQ\",\"DQ\",IF(D15=\"DNF\",\"DNF\",IF(D15=\"DNS\",\"DNS\",AVERAGE(D15,E15)))))","v":"00:00:21.560"},null,{"$f":"IF(F15=\"DNS\",\"DNS\",IF(F15=\"DQ\",\"DQ\",IF(F15=\"\",\"\",IF(F15=\"DNF\",\"DNF\",RANK(F15,$F$5:$F$34,1)))))","v":5},{"$f":"IF(F15=\"DNS\",\"0\",IF(F15=\"DQ\",\"0\",IF(F15=\"\",\"\",IF(F15=\"DNF\",\"0\",LOOKUP(H15,Valeurs!$A$4:'Valeurs'!$A$46,Valeurs!$B$4:'Valeurs'!$B$46)))))","v":13}]
[null,"Emmanuelle Hudon",null,null,null,null,null,null,{"$f":"I15","v":13}]
["30deux","Alexandra Ladouceur",null,"00:00:12.560","00:00:12.630",{"$f":"IF(D17=\"\",\"\",IF(D17=\"DQ\",\"DQ\",IF(D17=\"DNF\",\"DNF\",IF(D17=\"DNS\",\"DNS\",AVERAGE(D17,E17)))))","v":"00:00:12.595"},null,{"$f":"IF(F17=\"DNS\",\"DNS\",IF(F17=\"DQ\",\"DQ\",IF(F17=\"\",\"\",IF(F17=\"DNF\",\"DNF\",RANK(F17,$F$5:$F$34,1)))))","v":1},{"$f":"IF(F17=\"DNS\",\"0\",IF(F17=\"DQ\",\"0\",IF(F17=\"\",\"\",IF(F17=\"DNF\",\"0\",LOOKUP(H17,Valeurs!$A$4:'Valeurs'!$A$46,Valeurs!$B$4:'Valeurs'!$B$46)))))","v":20}]
[null,"Camille Gaudrealt",null,null,null,null,null,null,{"$f":"I17","v":20}]
["30deux","Sarah-Laurence Morin",null,"DNF","DNF",{"$f":"IF(D19=\"\",\"\",IF(D19=\"DQ\",\"DQ\",IF(D19=\"DNF\",\"DNF\",IF(D19=\"DNS\",\"DNS\",AVERAGE(D19,E19)))))","v":"DNF"},null,{"$f":"IF(F19=\"DNS\",\"DNS\",IF(F19=\"DQ\",\"DQ\",IF(F19=\"\",\"\",IF(F19=\"DNF\",\"DNF\",RANK(F19,$F$5:$F$34,1)))))","v":"DNF"},{"$f":"IF(F19=\"DNS\",\"0\",IF(F19=\"DQ\",\"0\",IF(F19=\"\",\"\",IF(F19=\"DNF\",\"0\",LOOKUP(H19,Valeurs!$A$4:'Valeurs'!$A$46,Valeurs!$B$4:'Valeurs'!$B$46)))))","v":"0"}]
[null,"Noémie Desjardins",null,null,null,null,null,null,{"$f":"I19","v":"0"}]
["CSRN","Raphaëlle Tétreault",null,"00:00:20.380","00:00:19.850",{"$f":"IF(D21=\"\",\"\",IF(D21=\"DQ\",\"DQ\",IF(D21=\"DNF\",\"DNF\",IF(D21=\"DNS\",\"DNS\",AVERAGE(D21,E21)))))","v":"00:00:20.115"},null,{"$f":"IF(F21=\"DNS\",\"DNS\",IF(F21=\"DQ\",\"DQ\",IF(F21=\"\",\"\",IF(F21=\"DNF\",\"DNF\",RANK(F21,$F$5:$F$34,1)))))","v":4},{"$f":"IF(F21=\"DNS\",\"0\",IF(F21=\"DQ\",\"0\",IF(F21=\"\",\"\",IF(F21=\"DNF\",\"0\",LOOKUP(H21,Valeurs!$A$4:'Valeurs'!$A$46,Valeurs!$B$4:'Valeurs'!$B$46)))))","v":14}]
[null,"Rosanne Trépanier",null,null,null,null,null,null,{"$f":"I21","v":14}]
["SSSL","Célia Crivellaro Kingsbury",null,"DNF","DNF",{"$f":"IF(D23=\"\",\"\",IF(D23=\"DQ\",\"DQ\",IF(D23=\"DNF\",\"DNF\",IF(D23=\"DNS\",\"DNS\",AVERAGE(D23,E23)))))","v":"DNF"},null,{"$f":"IF(F23=\"DNS\",\"DNS\",IF(F23=\"DQ\",\"DQ\",IF(F23=\"\",\"\",IF(F23=\"DNF\",\"DNF\",RANK(F23,$F$5:$F$34,1)))))","v":"DNF"},{"$f":"IF(F23=\"DNS\",\"0\",IF(F23=\"DQ\",\"0\",IF(F23=\"\",\"\",IF(F23=\"DNF\",\"0\",LOOKUP(H23,Valeurs!$A$4:'Valeurs'!$A$46,Valeurs!$B$4:'Valeurs'!$B$46)))))","v":"0"}]
[null,"Paula Loaiza",null,null,null,null,null,null,{"$f":"I23","v":"0"}]
["Gatineau","Jessica Carrier",null,"DNF","DNF",{"$f":"IF(D25=\"\",\"\",IF(D25=\"DQ\",\"DQ\",IF(D25=\"DNF\",\"DNF\",IF(D25=\"DNS\",\"DNS\",AVERAGE(D25,E25)))))","v":"DNF"},null,{"$f":"IF(F25=\"DNS\",\"DNS\",IF(F25=\"DQ\",\"DQ\",IF(F25=\"\",\"\",IF(F25=\"DNF\",\"DNF\",RANK(F25,$F$5:$F$34,1)))))","v":"DNF"},{"$f":"IF(F25=\"DNS\",\"0\",IF(F25=\"DQ\",\"0\",IF(F25=\"\",\"\",IF(F25=\"DNF\",\"0\",LOOKUP(H25,Valeurs!$A$4:'Valeurs'!$A$46,Valeurs!$B$4:'Valeurs'!$B$46)))))","v":"0"}]
[null,"Isabelle Carrier",null,null,null,null,null,null,{"$f":"I25","v":"0"}]
[null,null,null,null,null,{"$f":"IF(D27=\"\",\"\",IF(D27=\"DQ\",\"DQ\",IF(D27=\"DNF\",\"DNF\",IF(D27=\"DNS\",\"DNS\",AVERAGE(D27,E27)))))","v":""},null,{"$f":"IF(F27=\"DNS\",\"DNS\",IF(F27=\"DQ\",\"DQ\",IF(F27=\"\",\"\",IF(F27=\"DNF\",\"DNF\",RANK(F27,$F$5:$F$34,1)))))","v":""},{"$f":"IF(F27=\"DNS\",\"0\",IF(F27=\"DQ\",\"0\",IF(F27=\"\",\"\",IF(F27=\"DNF\",\"0\",LOOKUP(H27,Valeurs!$A$4:'Valeurs'!$A$46,Valeurs!$B$4:'Valeurs'!$B$46)))))","v":""}]
[null,null,null,null,null,null,null,null,{"$f":"I27","v":""}]
[null,null,null,null,null,{"$f":"IF(D29=\"\",\"\",IF(D29=\"DQ\",\"DQ\",IF(D29=\"DNF\",\"DNF\",IF(D29=\"DNS\",\"DNS\",AVERAGE(D29,E29)))))","v":""},null,{"$f":"IF(F29=\"DNS\",\"DNS\",IF(F29=\"DQ\",\"DQ\",IF(F29=\"\",\"\",IF(F29=\"DNF\",\"DNF\",RANK(F29,$F$5:$F$34,1)))))","v":""},{"$f":"IF(F29=\"DNS\",\"0\",IF(F29=\"DQ\",\"0\",IF(F29=\"\",\"\",IF(F29=\"DNF\",\"0\",LOOKUP(H29,Valeurs!$A$4:'Valeurs'!$A$46,Valeurs!$B$4:'Valeurs'!$B$46)))))","v":""}]
[null,null,null,null,null,null,null,null,{"$f":"I29","v":""}]
[null,null,null,null,null,{"$f":"IF(D31=\"\",\"\",IF(D31=\"DQ\",\"DQ\",IF(D31=\"DNF\",\"DNF\",IF(D31=\"DNS\",\"DNS\",AVERAGE(D31,E31)))))","v":""},null,{"$f":"IF(F31=\"DNS\",\"DNS\",IF(F31=\"DQ\",\"DQ\",IF(F31=\"\",\"\",IF(F31=\"DNF\",\"DNF\",RANK(F31,$F$5:$F$34,1)))))","v":""},{"$f":"IF(F31=\"DNS\",\"0\",IF(F31=\"DQ\",\"0\",IF(F31=\"\",\"\",IF(F31=\"DNF\",\"0\",LOOKUP(H31,Valeurs!$A$4:'Valeurs'!$A$46,Valeurs!$B$4:'Valeurs'!$B$46)))))","v":""}]
[null,null,null,null,null,null,null,null,{"$f":"I31","v":""}]
[null,null,null,null,null,{"$f":"IF(D33=\"\",\"\",IF(D33=\"DQ\",\"DQ\",IF(D33=\"DNF\",\"DNF\",IF(D33=\"DNS\",\"DNS\",AVERAGE(D33,E33)))))","v":""},null,{"$f":"IF(F33=\"DNS\",\"DNS\",IF(F33=\"DQ\",\"DQ\",IF(F33=\"\",\"\",IF(F33=\"DNF\",\"DNF\",RANK(F33,$F$5:$F$34,1)))))","v":""},{"$f":"IF(F33=\"DNS\",\"0\",IF(F33=\"DQ\",\"0\",IF(F33=\"\",\"\",IF(F33=\"DNF\",\"0\",LOOKUP(H33,Valeurs!$A$4:'Valeurs'!$A$46,Valeurs!$B$4:'Valeurs'!$B$46)))))","v":""}]
[null,null,null,null,null,null,null,null,{"$f":"I33","v":""}]
[]
["Remorquage mannequin 1/2 plein avec palmes - Senior Femme\nÉPREUVE REMORQUAGE MANNEQUIN + PALMES"]
[]
["Club","Nom",null,"Chrono 1","Chrono 2","Temps final",null,"R","Points"]
[{"$f":"Inscription!I2","v":"SSSL"},{"$f":"Inscription!J2","v":"Célia Crivellaro Kingsbury"},null,"00:01:24.630","00:01:24.560",{"$f":"IF(D39=\"\",\"\",IF(D39=\"DQ\",\"DQ\",IF(D39=\"DNF\",\"DNF\",IF(D39=\"DNS\",\"DNS\",AVERAGE(D39,E39)))))","v":"00:01:24.595"},null,{"$f":"IF(F39=\"DNS\",\"DNS\",IF(F39=\"DQ\",\"DQ\",IF(F39=\"\",\"\",IF(F39=\"DNF\",\"DNF\",RANK(F39,$F$39:$F$68,1)))))","v":12},{"$f":"IF(F39=\"DNS\",\"0\",IF(F39=\"DQ\",\"0\",IF(F39=\"\",\"\",IF(F39=\"DNF\",\"0\",LOOKUP(H39,Valeurs!$A$4:'Valeurs'!$A$46,Valeurs!$B$4:'Valeurs'!$B$46)))))","v":5}]
[{"$f":"Inscription!I3","v":"CASO"},{"$f":"Inscription!J3","v":"Laurence Lamarre"},null,"00:01:16.750","00:01:16.690",{"$f":"IF(D40=\"\",\"\",IF(D40=\"DQ\",\"DQ\",IF(D40=\"DNF\",\"DNF\",IF(D40=\"DNS\",\"DNS\",AVERAGE(D40,E40)))))","v":"00:01:16.720"},null,{"$f":"IF(F40=\"DNS\",\"DNS\",IF(F40=\"DQ\",\"DQ\",IF(F40=\"\",\"\",IF(F40=\"DNF\",\"DNF\",RANK(F40,$F$39:$F$68,1)))))","v":7},{"$f":"IF(F40=\"DNS\",\"0\",IF(F40=\"DQ\",\"0\",IF(F40=\"\",\"\",IF(F40=\"DNF\",\"0\",LOOKUP(H40,Valeurs!$A$4:'Valeurs'!$A$46,Valeurs!$B$4:'Valeurs'!$B$46)))))","v":11}]
[{"$f":"Inscription!I4","v":"CASO"},{"$f":"Inscription!J4","v":"Émilie Boulerne"},null,"00:01:19.470","00:01:19.460","00:01:19.465",null,10,{"$f":"IF(F41=\"DNS\",\"0\",IF(F41=\"DQ\",\"0\",IF(F41=\"\",\"\",IF(F41=\"DNF\",\"0\",LOOKUP(H41,Valeurs!$A$4:'Valeurs'!$A$46,Valeurs!$B$4:'Valeurs'!$B$46)))))","v":7}]
[{"$f":"Inscription!I5","v":"Dam'eauclès"},{"$f":"Inscription!J5","v":"Caroline Arcand"},null,"00:01:18","00:01:17.680","00:01:17.840",null,9,{"$f":"IF(F42=\"DNS\",\"0\",IF(F42=\"DQ\",\"0\",IF(F42=\"\",\"\",IF(F42=\"DNF\",\"0\",LOOKUP(H42,Valeurs!$A$4:'Valeurs'!$A$46,Valeurs!$B$4:'Valeurs'!$B$46)))))","v":8}]
[{"$f":"Inscription!I6","v":"Dam'eauclès"},{"$f":"Inscription!J6","v":"Tamara Jacques"},null,"00:01:25.250","00:01:25.190","00:01:25.220",null,13,{"$f":"IF(F43=\"DNS\",\"0\",IF(F43=\"DQ\",\"0\",IF(F43=\"\",\"\",IF(F43=\"DNF\",\"0\",LOOKUP(H43,Valeurs!$A$4:'Valeurs'!$A$46,Valeurs!$B$4:'Valeurs'!$B$46)))))","v":4}]
[{"$f":"Inscription!I7","v":"O'méga"},{"$f":"Inscription!J7","v":"Josée Miron"},null,"00:01:33.160","00:01:33.310","00:01:33.235",null,17,{"$f":"IF(F44=\"DNS\",\"0\",IF(F44=\"DQ\",\"0\",IF(F44=\"\",\"\",IF(F44=\"DNF\",\"0\",LOOKUP(H44,Valeurs!$A$4:'Valeurs'!$A$46,Valeurs!$B$4:'Valeurs'!$B$46)))))","v":0}]
[{"$f":"Inscription!I8","v":"Rouville Surf"},{"$f":"Inscription!J8","v":"Marie-Hélène Paquette"},null,"DNS","DNS","DNS",null,"DNS",{"$f":"IF(F45=\"DNS\",\"0\",IF(F45=\"DQ\",\"0\",IF(F45=\"\",\"\",IF(F45=\"DNF\",\"0\",LOOKUP(H45,Valeurs!$A$4:'Valeurs'!$A$46,Valeurs!$B$4:'Valeurs'!$B$46)))))","v":"0"}]
[{"$f":"Inscription!I9","v":"Rouville Surf"},{"$f":"Inscription!J9","v":"Claudine Courteau-Godmaire"},null,"00:01:10.350","00:01:10.380","00:01:10.365",null,2,{"$f":"IF(F46=\"DNS\",\"0\",IF(F46=\"DQ\",\"0\",IF(F46=\"\",\"\",IF(F46=\"DNF\",\"0\",LOOKUP(H46,Valeurs!$A$4:'Valeurs'!$A$46,Valeurs!$B$4:'Valeurs'!$B$46)))))","v":18}]
[{"$f":"Inscription!I10","v":"Rouville Surf"},{"$f":"Inscription!J10","v":"Ana Jaimes"},null,"00:01:19.970","00:01:19.870","00:01:19.920",null,11,{"$f":"IF(F47=\"DNS\",\"0\",IF(F47=\"DQ\",\"0\",IF(F47=\"\",\"\",IF(F47=\"DNF\",\"0\",LOOKUP(H47,Valeurs!$A$4:'Valeurs'!$A$46,Valeurs!$B$4:'Valeurs'!$B$46)))))","v":6}]
[{"$f":"Inscription!I11","v":"Rouville Surf"},{"$f":"Inscription!J11","v":"Gabrièle St-Georges"},null,"00:01:13.750","00:01:13.690","00:01:13.720",null,5,{"$f":"IF(F48=\"DNS\",\"0\",IF(F48=\"DQ\",\"0\",IF(F48=\"\",\"\",IF(F48=\"DNF\",\"0\",LOOKUP(H48,Valeurs!$A$4:'Valeurs'!$A$46,Valeurs!$B$4:'Valeurs'!$B$46)))))","v":13}]
[{"$f":"Inscription!I12","v":"Rouville Surf"},{"$f":"Inscription!J12","v":"Mariama Keita"},null,"00:01:16.130","00:01:15.810","00:01:15.970",null,6,{"$f":"IF(F49=\"DNS\",\"0\",IF(F49=\"DQ\",\"0\",IF(F49=\"\",\"\",IF(F49=\"DNF\",\"0\",LOOKUP(H49,Valeurs!$A$4:'Valeurs'!$A$46,Valeurs!$B$4:'Valeurs'!$B$46)))))","v":12}]
[{"$f":"Inscription!I13","v":"30deux"},{"$f":"Inscription!J13","v":"Marie-Pier Anctil"},null,"00:01:29.120","00:01:29.120","00:01:29.120",null,15,{"$f":"IF(F50=\"DNS\",\"0\",IF(F50=\"DQ\",\"0\",IF(F50=\"\",\"\",IF(F50=\"DNF\",\"0\",LOOKUP(H50,Valeurs!$A$4:'Valeurs'!$A$46,Valeurs!$B$4:'Valeurs'!$B$46)))))","v":2}]
[{"$f":"Inscription!I14","v":"30deux"},{"$f":"Inscription!J14","v":"Emmanuelle Hudon"},null,"00:01:16.970","00:01:16.940","00:01:16.955",null,8,{"$f":"IF(F51=\"DNS\",\"0\",IF(F51=\"DQ\",\"0\",IF(F51=\"\",\"\",IF(F51=\"DNF\",\"0\",LOOKUP(H51,Valeurs!$A$4:'Valeurs'!$A$46,Valeurs!$B$4:'Valeurs'!$B$46)))))","v":10}]
[{"$f":"Inscription!I15","v":"30deux"},{"$f":"Inscription!J15","v":"Alexandra Ladouceur"},null,"00:01:07.960","00:01:07.820","00:01:07.890",null,1,{"$f":"IF(F52=\"DNS\",\"0\",IF(F52=\"DQ\",\"0\",IF(F52=\"\",\"\",IF(F52=\"DNF\",\"0\",LOOKUP(H52,Valeurs!$A$4:'Valeurs'!$A$46,Valeurs!$B$4:'Valeurs'!$B$46)))))","v":20}]
[{"$f":"Inscription!I16","v":"30deux"},{"$f":"Inscription!J16","v":"Camille Gaudreault"},null,"00:01:13.160","00:01:13.250","00:01:13.205",null,4,{"$f":"IF(F53=\"DNS\",\"0\",IF(F53=\"DQ\",\"0\",IF(F53=\"\",\"\",IF(F53=\"DNF\",\"0\",LOOKUP(H53,Valeurs!$A$4:'Valeurs'!$A$46,Valeurs!$B$4:'Valeurs'!$B$46)))))","v":14}]
[{"$f":"Inscription!I17","v":"30deux"},{"$f":"Inscription!J17","v":"Sarah-Laurence Morin"},null,"00:01:11.750","00:01:11.690","00:01:11.720",null,3,{"$f":"IF(F54=\"DNS\",\"0\",IF(F54=\"DQ\",\"0\",IF(F54=\"\",\"\",IF(F54=\"DNF\",\"0\",LOOKUP(H54,Valeurs!$A$4:'Valeurs'!$A$46,Valeurs!$B$4:'Valeurs'!$B$46)))))","v":16}]
[{"$f":"Inscription!I18","v":"30deux"},{"$f":"Inscription!J18","v":"Noémie Desjardins"},null,"DNS","DNS","DNS",null,"DNS",{"$f":"IF(F55=\"DNS\",\"0\",IF(F55=\"DQ\",\"0\",IF(F55=\"\",\"\",IF(F55=\"DNF\",\"0\",LOOKUP(H55,Valeurs!$A$4:'Valeurs'!$A$46,Valeurs!$B$4:'Valeurs'!$B$46)))))","v":"0"}]
[{"$f":"Inscription!I19","v":"CSRN"},{"$f":"Inscription!J19","v":"Raphaëlle Tétreault"},null,"00:01:25.560","00:01:25.470","00:01:25.515",null,14,{"$f":"IF(F56=\"DNS\",\"0\",IF(F56=\"DQ\",\"0\",IF(F56=\"\",\"\",IF(F56=\"DNF\",\"0\",LOOKUP(H56,Valeurs!$A$4:'Valeurs'!$A$46,Valeurs!$B$4:'Valeurs'!$B$46)))))","v":3}]
[{"$f":"Inscription!I20","v":"Gatineau"},{"$f":"Inscription!J20","v":"Isabelle Carrier"},null,"DQ","DQ","DQ",null,"DQ",{"$f":"IF(F57=\"DNS\",\"0\",IF(F57=\"DQ\",\"0\",IF(F57=\"\",\"\",IF(F57=\"DNF\",\"0\",LOOKUP(H57,Valeurs!$A$4:'Valeurs'!$A$46,Valeurs!$B$4:'Valeurs'!$B$46)))))","v":"0"}]
[{"$f":"Inscription!I21","v":"Gatineau"},{"$f":"Inscription!J21","v":"Jessica Carrier"},null,"00:01:30.250","00:01:30.400","00:01:30.325",null,16,{"$f":"IF(F58=\"DNS\",\"0\",IF(F58=\"DQ\",\"0\",IF(F58=\"\",\"\",IF(F58=\"DNF\",\"0\",LOOKUP(H58,Valeurs!$A$4:'Valeurs'!$A$46,Valeurs!$B$4:'Valeurs'!$B$46)))))","v":1}]
[{"$f":"Inscription!I22","v":0},{"$f":"Inscription!J22","v":0},null,null,null,"",null,"",{"$f":"IF(F59=\"DNS\",\"0\",IF(F59=\"DQ\",\"0\",IF(F59=\"\",\"\",IF(F59=\"DNF\",\"0\",LOOKUP(H59,Valeurs!$A$4:'Valeurs'!$A$46,Valeurs!$B$4:'Valeurs'!$B$46)))))","v":""}]
[{"$f":"Inscription!I23","v":0},{"$f":"Inscription!J23","v":0},null,null,null,"",null,"",{"$f":"IF(F60=\"DNS\",\"0\",IF(F60=\"DQ\",\"0\",IF(F60=\"\",\"\",IF(F60=\"DNF\",\"0\",LOOKUP(H60,Valeurs!$A$4:'Valeurs'!$A$46,Valeurs!$B$4:'Valeurs'!$B$46)))))","v":""}]
[{"$f":"Inscription!I24","v":0},{"$f":"Inscription!J24","v":0},null,null,null,"",null,"",{"$f":"IF(F61=\"DNS\",\"0\",IF(F61=\"DQ\",\"0\",IF(F61=\"\",\"\",IF(F61=\"DNF\",\"0\",LOOKUP(H61,Valeurs!$A$4:'Valeurs'!$A$46,Valeurs!$B$4:'Valeurs'!$B$46)))))","v":""}]
[{"$f":"Inscription!I25","v":0},{"$f":"Inscription!J25","v":0},null,null,null,"",null,"",{"$f":"IF(F62=\"DNS\",\"0\",IF(F62=\"DQ\",\"0\",IF(F62=\"\",\"\",IF(F62=\"DNF\",\"0\",LOOKUP(H62,Valeurs!$A$4:'Valeurs'!$A$46,Valeurs!$B$4:'Valeurs'!$B$46)))))","v":""}]
[{"$f":"Inscription!I26","v":0},{"$f":"Inscription!J26","v":0},null,null,null,"",null,"",{"$f":"IF(F63=\"DNS\",\"0\",IF(F63=\"DQ\",\"0\",IF(F63=\"\",\"\",IF(F63=\"DNF\",\"0\",LOOKUP(H63,Valeurs!$A$4:'Valeurs'!$A$46,Valeurs!$B$4:'Valeurs'!$B$46)))))","v":""}]
[{"$f":"Inscription!I27","v":0},{"$f":"Inscription!J27","v":0},null,null,null,"",null,"",{"$f":"IF(F64=\"DNS\",\"0\",IF(F64=\"DQ\",\"0\",IF(F64=\"\",\"\",IF(F64=\"DNF\",\"0\",LOOKUP(H64,Valeurs!$A$4:'Valeurs'!$A$46,Valeurs!$B$4:'Valeurs'!$B$46)))))","v":""}]
[{"$f":"Inscription!I28","v":0},{"$f":"Inscription!J28","v":0},null,null,null,"",null,"",{"$f":"IF(F65=\"DNS\",\"0\",IF(F65=\"DQ\",\"0\",IF(F65=\"\",\"\",IF(F65=\"DNF\",\"0\",LOOKUP(H65,Valeurs!$A$4:'Valeurs'!$A$46,Valeurs!$B$4:'Valeurs'!$B$46)))))","v":""}]
[{"$f":"Inscription!I29","v":0},{"$f":"Inscription!J29","v":0},null,null,null,"",null,"",{"$f":"IF(F66=\"DNS\",\"0\",IF(F66=\"DQ\",\"0\",IF(F66=\"\",\"\",IF(F66=\"DNF\",\"0\",LOOKUP(H66,Valeurs!$A$4:'Valeurs'!$A$46,Valeurs!$B$4:'Valeurs'!$B$46)))))","v":""}]
[{"$f":"Inscription!I30","v":0},{"$f":"Inscription!J30","v":0},null,null,null,"",null,"",{"$f":"IF(F67=\"DNS\",\"0\",IF(F67=\"DQ\",\"0\",IF(F67=\"\",\"\",IF(F67=\"DNF\",\"0\",LOOKUP(H67,Valeurs!$A$4:'Valeurs'!$A$46,Valeurs!$B$4:'Valeurs'!$B$46)))))","v":""}]
[{"$f":"Inscription!I31","v":0},{"$f":"Inscription!J31","v":0},null,null,null,{"$f":"IF(D68=\"\",\"\",IF(D68=\"DQ\",\"DQ\",IF(D68=\"DNF\",\"DNF\",IF(D68=\"DNS\",\"DNS\",AVERAGE(D68,E68)))))","v":""},null,"",{"$f":"IF(F68=\"DNS\",\"0\",IF(F68=\"DQ\",\"0\",IF(F68=\"\",\"\",IF(F68=\"DNF\",\"0\",LOOKUP(H68,Valeurs!$A$4:'Valeurs'!$A$46,Valeurs!$B$4:'Valeurs'!$B$46)))))","v":""}]
[]
["Obstacle - Senior Femme\nÉPREUVE OBSTACLES"]
[]
["Club","Nom",null,"Chrono 1","Chrono 2","Temps final",null,"R","Points"]
[{"$f":"Inscription!I2","v":"SSSL"},{"$f":"Inscription!J2","v":"Célia Crivellaro Kingsbury"},null,"00:03:16.250","00:03:16.560",{"$f":"IF(D73=\"\",\"\",IF(D73=\"DQ\",\"DQ\",IF(D73=\"DNF\",\"DNF\",IF(D73=\"DNS\",\"DNS\",AVERAGE(D73,E73)))))","v":"00:03:16.405"},null,{"$f":"IF(F73=\"DNS\",\"DNS\",IF(F73=\"DQ\",\"DQ\",IF(F73=\"\",\"\",IF(F73=\"DNF\",\"DNF\",RANK(F73,$F$73:$F$102,1)))))","v":11},{"$f":"IF(F73=\"DNS\",\"0\",IF(F73=\"DQ\",\"0\",IF(F73=\"\",\"\",IF(F73=\"DNF\",\"0\",LOOKUP(H73,Valeurs!$A$4:'Valeurs'!$A$46,Valeurs!$B$4:'Valeurs'!$B$46)))))","v":6}]
[{"$f":"Inscription!I3","v":"CASO"},{"$f":"Inscription!J3","v":"Laurence Lamarre"},null,"00:03:01.810","00:03:01.910",{"$f":"IF(D74=\"\",\"\",IF(D74=\"DQ\",\"DQ\",IF(D74=\"DNF\",\"DNF\",IF(D74=\"DNS\",\"DNS\",AVERAGE(D74,E74)))))","v":"00:03:01.860"},null,{"$f":"IF(F74=\"DNS\",\"DNS\",IF(F74=\"DQ\",\"DQ\",IF(F74=\"\",\"\",IF(F74=\"DNF\",\"DNF\",RANK(F74,$F$73:$F$102,1)))))","v":8},{"$f":"IF(F74=\"DNS\",\"0\",IF(F74=\"DQ\",\"0\",IF(F74=\"\",\"\",IF(F74=\"DNF\",\"0\",LOOKUP(H74,Valeurs!$A$4:'Valeurs'!$A$46,Valeurs!$B$4:'Valeurs'!$B$46)))))","v":10}]
[{"$f":"Inscription!I4","v":"CASO"},{"$f":"Inscription!J4","v":"Émilie Boulerne"},null,"00:02:47.850","00:02:47.950","00:02:47.900",null,4,{"$f":"IF(F75=\"DNS\",\"0\",IF(F75=\"DQ\",\"0\",IF(F75=\"\",\"\",IF(F75=\"DNF\",\"0\",LOOKUP(H75,Valeurs!$A$4:'Valeurs'!$A$46,Valeurs!$B$4:'Valeurs'!$B$46)))))","v":14}]
[{"$f":"Inscription!I5","v":"Dam'eauclès"},{"$f":"Inscription!J5","v":"Caroline Arcand"},null,"00:02:58.030","00:02:58.100","00:02:58.065",null,7,{"$f":"IF(F76=\"DNS\",\"0\",IF(F76=\"DQ\",\"0\",IF(F76=\"\",\"\",IF(F76=\"DNF\",\"0\",LOOKUP(H76,Valeurs!$A$4:'Valeurs'!$A$46,Valeurs!$B$4:'Valeurs'!$B$46)))))","v":11}]
[{"$f":"Inscription!I6","v":"Dam'eauclès"},{"$f":"Inscription!J6","v":"Tamara Jacques"},null,"00:03:23.780","00:03:23.870","00:03:23.825",null,12,{"$f":"IF(F77=\"DNS\",\"0\",IF(F77=\"DQ\",\"0\",IF(F77=\"\",\"\",IF(F77=\"DNF\",\"0\",LOOKUP(H77,Valeurs!$A$4:'Valeurs'!$A$46,Valeurs!$B$4:'Valeurs'!$B$46)))))","v":5}]
[{"$f":"Inscription!I7","v":"O'méga"},{"$f":"Inscription!J7","v":"Josée Miron"},null,"00:03:55.930","00:03:55.910","00:03:55.920",null,16,{"$f":"IF(F78=\"DNS\",\"0\",IF(F78=\"DQ\",\"0\",IF(F78=\"\",\"\",IF(F78=\"DNF\",\"0\",LOOKUP(H78,Valeurs!$A$4:'Valeurs'!$A$46,Valeurs!$B$4:'Valeurs'!$B$46)))))","v":1}]
[{"$f":"Inscription!I8","v":"Rouville Surf"},{"$f":"Inscription!J8","v":"Marie-Hélène Paquette"},null,"DNS","DNS","DNS",null,"DNS",{"$f":"IF(F79=\"DNS\",\"0\",IF(F79=\"DQ\",\"0\",IF(F79=\"\",\"\",IF(F79=\"DNF\",\"0\",LOOKUP(H79,Valeurs!$A$4:'Valeurs'!$A$46,Valeurs!$B$4:'Valeurs'!$B$46)))))","v":"0"}]
[{"$f":"Inscription!I9","v":"Rouville Surf"},{"$f":"Inscription!J9","v":"Claudine Courteau-Godmaire"},null,"00:02:45.900","00:02:45.960","00:02:45.930",null,3,{"$f":"IF(F80=\"DNS\",\"0\",IF(F80=\"DQ\",\"0\",IF(F80=\"\",\"\",IF(F80=\"DNF\",\"0\",LOOKUP(H80,Valeurs!$A$4:'Valeurs'!$A$46,Valeurs!$B$4:'Valeurs'!$B$46)))))","v":16}]
[{"$f":"Inscription!I10","v":"Rouville Surf"},{"$f":"Inscription!J10","v":"Ana Jaimes"},null,"00:02:53","00:02:53.060","00:02:53.030",null,5,{"$f":"IF(F81=\"DNS\",\"0\",IF(F81=\"DQ\",\"0\",IF(F81=\"\",\"\",IF(F81=\"DNF\",\"0\",LOOKUP(H81,Valeurs!$A$4:'Valeurs'!$A$46,Valeurs!$B$4:'Valeurs'!$B$46)))))","v":13}]
[{"$f":"Inscription!I11","v":"Rouville Surf"},{"$f":"Inscription!J11","v":"Gabrièle St-Georges"},null,"00:03:15.810","00:03:15.750","00:03:15.780",null,10,{"$f":"IF(F82=\"DNS\",\"0\",IF(F82=\"DQ\",\"0\",IF(F82=\"\",\"\",IF(F82=\"DNF\",\"0\",LOOKUP(H82,Valeurs!$A$4:'Valeurs'!$A$46,Valeurs!$B$4:'Valeurs'!$B$46)))))","v":7}]
[{"$f":"Inscription!I12","v":"Rouville Surf"},{"$f":"Inscription!J12","v":"Mariama Keita"},null,"00:02:57.470","00:02:57.530","00:02:57.500",null,6,{"$f":"IF(F83=\"DNS\",\"0\",IF(F83=\"DQ\",\"0\",IF(F83=\"\",\"\",IF(F83=\"DNF\",\"0\",LOOKUP(H83,Valeurs!$A$4:'Valeurs'!$A$46,Valeurs!$B$4:'Valeurs'!$B$46)))))","v":12}]
[{"$f":"Inscription!I13","v":"30deux"},{"$f":"Inscription!J13","v":"Marie-Pier Anctil"},null,"00:03:50.500","00:03:50.600","00:03:50.550",null,14,{"$f":"IF(F84=\"DNS\",\"0\",IF(F84=\"DQ\",\"0\",IF(F84=\"\",\"\",IF(F84=\"DNF\",\"0\",LOOKUP(H84,Valeurs!$A$4:'Valeurs'!$A$46,Valeurs!$B$4:'Valeurs'!$B$46)))))","v":3}]
[{"$f":"Inscription!I14","v":"30deux"},{"$f":"Inscription!J14","v":"Emmanuelle Hudon"},null,"00:03:09","00:03:09.130","00:03:09.065",null,9,{"$f":"IF(F85=\"DNS\",\"0\",IF(F85=\"DQ\",\"0\",IF(F85=\"\",\"\",IF(F85=\"DNF\",\"0\",LOOKUP(H85,Valeurs!$A$4:'Valeurs'!$A$46,Valeurs!$B$4:'Valeurs'!$B$46)))))","v":8}]
[{"$f":"Inscription!I15","v":"30deux"},{"$f":"Inscription!J15","v":"Alexandra Ladouceur"},null,"DNS","DNS","DNS",null,"DNS",{"$f":"IF(F86=\"DNS\",\"0\",IF(F86=\"DQ\",\"0\",IF(F86=\"\",\"\",IF(F86=\"DNF\",\"0\",LOOKUP(H86,Valeurs!$A$4:'Valeurs'!$A$46,Valeurs!$B$4:'Valeurs'!$B$46)))))","v":"0"}]
[{"$f":"Inscription!I16","v":"30deux"},{"$f":"Inscription!J16","v":"Camille Gaudreault"},null,"00:02:39.600","00:02:39.780","00:02:39.690",null,2,{"$f":"IF(F87=\"DNS\",\"0\",IF(F87=\"DQ\",\"0\",IF(F87=\"\",\"\",IF(F87=\"DNF\",\"0\",LOOKUP(H87,Valeurs!$A$4:'Valeurs'!$A$46,Valeurs!$B$4:'Valeurs'!$B$46)))))","v":18}]
[{"$f":"Inscription!I17","v":"30deux"},{"$f":"Inscription!J17","v":"Sarah-Laurence Morin"},null,"00:02:29.850","00:02:29.750","00:02:29.800",null,1,{"$f":"IF(F88=\"DNS\",\"0\",IF(F88=\"DQ\",\"0\",IF(F88=\"\",\"\",IF(F88=\"DNF\",\"0\",LOOKUP(H88,Valeurs!$A$4:'Valeurs'!$A$46,Valeurs!$B$4:'Valeurs'!$B$46)))))","v":20}]
[{"$f":"Inscription!I18","v":"30deux"},{"$f":"Inscription!J18","v":"Noémie Desjardins"},null,"DNS","DNS","DNS",null,"DNS",{"$f":"IF(F89=\"DNS\",\"0\",IF(F89=\"DQ\",\"0\",IF(F89=\"\",\"\",IF(F89=\"DNF\",\"0\",LOOKUP(H89,Valeurs!$A$4:'Valeurs'!$A$46,Valeurs!$B$4:'Valeurs'!$B$46)))))","v":"0"}]
[{"$f":"Inscription!I19","v":"CSRN"},{"$f":"Inscription!J19","v":"Raphaëlle Tétreault"},null,"DNS","DNS","DNS",null,"DNS",{"$f":"IF(F90=\"DNS\",\"0\",IF(F90=\"DQ\",\"0\",IF(F90=\"\",\"\",IF(F90=\"DNF\",\"0\",LOOKUP(H90,Valeurs!$A$4:'Valeurs'!$A$46,Valeurs!$B$4:'Valeurs'!$B$46)))))","v":"0"}]
[{"$f":"Inscription!I20","v":"Gatineau"},{"$f":"Inscription!J20","v":"Isabelle Carrier"},null,"00:03:47.660","00:03:47.710","00:03:47.685",null,13,{"$f":"IF(F91=\"DNS\",\"0\",IF(F91=\"DQ\",\"0\",IF(F91=\"\",\"\",IF(F91=\"DNF\",\"0\",LOOKUP(H91,Valeurs!$A$4:'Valeurs'!$A$46,Valeurs!$B$4:'Valeurs'!$B$46)))))","v":4}]
[{"$f":"Inscription!I21","v":"Gatineau"},{"$f":"Inscription!J21","v":"Jessica Carrier"},null,"00:03:51.030","00:03:51.210","00:03:51.120",null,15,{"$f":"IF(F92=\"DNS\",\"0\",IF(F92=\"DQ\",\"0\",IF(F92=\"\",\"\",IF(F92=\"DNF\",\"0\",LOOKUP(H92,Valeurs!$A$4:'Valeurs'!$A$46,Valeurs!$B$4:'Valeurs'!$B$46)))))","v":2}]
[{"$f":"Inscription!I22","v":0},{"$f":"Inscription!J22","v":0},null,null,null,"",null,"",{"$f":"IF(F93=\"DNS\",\"0\",IF(F93=\"DQ\",\"0\",IF(F93=\"\",\"\",IF(F93=\"DNF\",\"0\",LOOKUP(H93,Valeurs!$A$4:'Valeurs'!$A$46,Valeurs!$B$4:'Valeurs'!$B$46)))))","v":""}]
[{"$f":"Inscription!I23","v":0},{"$f":"Inscription!J23","v":0},null,null,null,"",null,"",{"$f":"IF(F94=\"DNS\",\"0\",IF(F94=\"DQ\",\"0\",IF(F94=\"\",\"\",IF(F94=\"DNF\",\"0\",LOOKUP(H94,Valeurs!$A$4:'Valeurs'!$A$46,Valeurs!$B$4:'Valeurs'!$B$46)))))","v":""}]
[{"$f":"Inscription!I24","v":0},{"$f":"Inscription!J24","v":0},null,null,null,"",null,"",{"$f":"IF(F95=\"DNS\",\"0\",IF(F95=\"DQ\",\"0\",IF(F95=\"\",\"\",IF(F95=\"DNF\",\"0\",LOOKUP(H95,Valeurs!$A$4:'Valeurs'!$A$46,Valeurs!$B$4:'Valeurs'!$B$46)))))","v":""}]
[{"$f":"Inscription!I25","v":0},{"$f":"Inscription!J25","v":0},null,null,null,"",null,"",{"$f":"IF(F96=\"DNS\",\"0\",IF(F96=\"DQ\",\"0\",IF(F96=\"\",\"\",IF(F96=\"DNF\",\"0\",LOOKUP(H96,Valeurs!$A$4:'Valeurs'!$A$46,Valeurs!$B$4:'Valeurs'!$B$46)))))","v":""}]
[{"$f":"Inscription!I26","v":0},{"$f":"Inscription!J26","v":0},null,null,null,"",null,"",{"$f":"IF(F97=\"DNS\",\"0\",IF(F97=\"DQ\",\"0\",IF(F97=\"\",\"\",IF(F97=\"DNF\",\"0\",LOOKUP(H97,Valeurs!$A$4:'Valeurs'!$A$46,Valeurs!$B$4:'Valeurs'!$B$46)))))","v":""}]
[{"$f":"Inscription!I27","v":0},{"$f":"Inscription!J27","v":0},null,null,null,"",null,"",{"$f":"IF(F98=\"DNS\",\"0\",IF(F98=\"DQ\",\"0\",IF(F98=\"\",\"\",IF(F98=\"DNF\",\"0\",LOOKUP(H98,Valeurs!$A$4:'Valeurs'!$A$46,Valeurs!$B$4:'Valeurs'!$B$46)))))","v":""}]
[{"$f":"Inscription!I28","v":0},{"$f":"Inscription!J28","v":0},null,null,null,"",null,"",{"$f":"IF(F99=\"DNS\",\"0\",IF(F99=\"DQ\",\"0\",IF(F99=\"\",\"\",IF(F99=\"DNF\",\"0\",LOOKUP(H99,Valeurs!$A$4:'Valeurs'!$A$46,Valeurs!$B$4:'Valeurs'!$B$46)))))","v":""}]
[{"$f":"Inscription!I29","v":0},{"$f":"Inscription!J29","v":0},null,null,null,"",null,"",{"$f":"IF(F100=\"DNS\",\"0\",IF(F100=\"DQ\",\"0\",IF(F100=\"\",\"\",IF(F100=\"DNF\",\"0\",LOOKUP(H100,Valeurs!$A$4:'Valeurs'!$A$46,Valeurs!$B$4:'Valeurs'!$B$46)))))","v":""}]
[{"$f":"Inscription!I30","v":0},{"$f":"Inscription!J30","v":0},null,null,null,"",null,"",{"$f":"IF(F101=\"DNS\",\"0\",IF(F101=\"DQ\",\"0\",IF(F101=\"\",\"\",IF(F101=\"DNF\",\"0\",LOOKUP(H101,Valeurs!$A$4:'Valeurs'!$A$46,Valeurs!$B$4:'Valeurs'!$B$46)))))","v":""}]
[{"$f":"Inscription!I31","v":0},{"$f":"Inscription!J31","v":0},null,null,null,{"$f":"IF(D102=\"\",\"\",IF(D102=\"DQ\",\"DQ\",IF(D102=\"DNF\",\"DNF\",IF(D102=\"DNS\",\"DNS\",AVERAGE(D102,E102)))))","v":""},null,"",{"$f":"IF(F102=\"DNS\",\"0\",IF(F102=\"DQ\",\"0\",IF(F102=\"\",\"\",IF(F102=\"DNF\",\"0\",LOOKUP(H102,Valeurs!$A$4:'Valeurs'!$A$46,Valeurs!$B$4:'Valeurs'!$B$46)))))","v":""}]
[]
["Portage mannequin plein avec palmes - Senior Femme\nÉPREUVE PORTAGE MANNEQUIN + PALMES"]
[]
["Club","Nom",null,"Chrono 1","Chrono 2","Temps final",null,"R","Points"]
[{"$f":"Inscription!I2","v":"SSSL"},{"$f":"Inscription!J2","v":"Célia Crivellaro Kingsbury"},null,"00:01:20.220","00:01:20.440",{"$f":"IF(D107=\"\",\"\",IF(D107=\"DQ\",\"DQ\",IF(D107=\"DNF\",\"DNF\",IF(D107=\"DNS\",\"DNS\",AVERAGE(D107,E107)))))","v":"00:01:20.330"},null,{"$f":"IF(F107=\"DNS\",\"DNS\",IF(F107=\"DQ\",\"DQ\",IF(F107=\"\",\"\",IF(F107=\"DNF\",\"DNF\",RANK(F107,$F$107:$F$136,1)))))","v":13},{"$f":"IF(F107=\"DNS\",\"0\",IF(F107=\"DQ\",\"0\",IF(F107=\"\",\"\",IF(F107=\"DNF\",\"0\",LOOKUP(H107,Valeurs!$A$4:'Valeurs'!$A$46,Valeurs!$B$4:'Valeurs'!$B$46)))))","v":4}]
[{"$f":"Inscription!I3","v":"CASO"},{"$f":"Inscription!J3","v":"Laurence Lamarre"},null,"00:01:15.900","00:01:15.840",{"$f":"IF(D108=\"\",\"\",IF(D108=\"DQ\",\"DQ\",IF(D108=\"DNF\",\"DNF\",IF(D108=\"DNS\",\"DNS\",AVERAGE(D108,E108)))))","v":"00:01:15.870"},null,{"$f":"IF(F108=\"DNS\",\"DNS\",IF(F108=\"DQ\",\"DQ\",IF(F108=\"\",\"\",IF(F108=\"DNF\",\"DNF\",RANK(F108,$F$107:$F$136,1)))))","v":10},{"$f":"IF(F108=\"DNS\",\"0\",IF(F108=\"DQ\",\"0\",IF(F108=\"\",\"\",IF(F108=\"DNF\",\"0\",LOOKUP(H108,Valeurs!$A$4:'Valeurs'!$A$46,Valeurs!$B$4:'Valeurs'!$B$46)))))","v":7}]
[{"$f":"Inscription!I4","v":"CASO"},{"$f":"Inscription!J4","v":"Émilie Boulerne"},null,"00:01:09","00:01:09.130","00:01:09.065",null,6,{"$f":"IF(F109=\"DNS\",\"0\",IF(F109=\"DQ\",\"0\",IF(F109=\"\",\"\",IF(F109=\"DNF\",\"0\",LOOKUP(H109,Valeurs!$A$4:'Valeurs'!$A$46,Valeurs!$B$4:'Valeurs'!$B$46)))))","v":12}]
[{"$f":"Inscription!I5","v":"Dam'eauclès"},{"$f":"Inscription!J5","v":"Caroline Arcand"},null,"00:01:11.370","00:01:11.160","00:01:11.265",null,7,{"$f":"IF(F110=\"DNS\",\"0\",IF(F110=\"DQ\",\"0\",IF(F110=\"\",\"\",IF(F110=\"DNF\",\"0\",LOOKUP(H110,Valeurs!$A$4:'Valeurs'!$A$46,Valeurs!$B$4:'Valeurs'!$B$46)))))","v":11}]
[{"$f":"Inscription!I6","v":"Dam'eauclès"},{"$f":"Inscription!J6","v":"Tamara Jacques"},null,"00:01:20.470","00:01:20.410","00:01:20.440",null,14,{"$f":"IF(F111=\"DNS\",\"0\",IF(F111=\"DQ\",\"0\",IF(F111=\"\",\"\",IF(F111=\"DNF\",\"0\",LOOKUP(H111,Valeurs!$A$4:'Valeurs'!$A$46,Valeurs!$B$4:'Valeurs'!$B$46)))))","v":3}]
[{"$f":"Inscription!I7","v":"O'méga"},{"$f":"Inscription!J7","v":"Josée Miron"},null,"00:01:31.880","00:01:32.060","00:01:31.970",null,18,{"$f":"IF(F112=\"DNS\",\"0\",IF(F112=\"DQ\",\"0\",IF(F112=\"\",\"\",IF(F112=\"DNF\",\"0\",LOOKUP(H112,Valeurs!$A$4:'Valeurs'!$A$46,Valeurs!$B$4:'Valeurs'!$B$46)))))","v":0}]
[{"$f":"Inscription!I8","v":"Rouville Surf"},{"$f":"Inscription!J8","v":"Marie-Hélène Paquette"},null,"00:01:07.380","00:01:07.350","00:01:07.365",null,4,{"$f":"IF(F113=\"DNS\",\"0\",IF(F113=\"DQ\",\"0\",IF(F113=\"\",\"\",IF(F113=\"DNF\",\"0\",LOOKUP(H113,Valeurs!$A$4:'Valeurs'!$A$46,Valeurs!$B$4:'Valeurs'!$B$46)))))","v":14}]
[{"$f":"Inscription!I9","v":"Rouville Surf"},{"$f":"Inscription!J9","v":"Claudine Courteau-Godmaire"},null,"00:01:05.470","00:01:05.500","00:01:05.485",null,3,{"$f":"IF(F114=\"DNS\",\"0\",IF(F114=\"DQ\",\"0\",IF(F114=\"\",\"\",IF(F114=\"DNF\",\"0\",LOOKUP(H114,Valeurs!$A$4:'Valeurs'!$A$46,Valeurs!$B$4:'Valeurs'!$B$46)))))","v":16}]
[{"$f":"Inscription!I10","v":"Rouville Surf"},{"$f":"Inscription!J10","v":"Ana Jaimes"},null,"00:01:17.270","00:01:17.370","00:01:17.320",null,11,{"$f":"IF(F115=\"DNS\",\"0\",IF(F115=\"DQ\",\"0\",IF(F115=\"\",\"\",IF(F115=\"DNF\",\"0\",LOOKUP(H115,Valeurs!$A$4:'Valeurs'!$A$46,Valeurs!$B$4:'Valeurs'!$B$46)))))","v":6}]
[{"$f":"Inscription!I11","v":"Rouville Surf"},{"$f":"Inscription!J11","v":"Gabrièle St-Georges"},null,"00:01:11.430","00:01:11.150","00:01:11.290",null,8,{"$f":"IF(F116=\"DNS\",\"0\",IF(F116=\"DQ\",\"0\",IF(F116=\"\",\"\",IF(F116=\"DNF\",\"0\",LOOKUP(H116,Valeurs!$A$4:'Valeurs'!$A$46,Valeurs!$B$4:'Valeurs'!$B$46)))))","v":10}]
[{"$f":"Inscription!I12","v":"Rouville Surf"},{"$f":"Inscription!J12","v":"Mariama Keita"},null,"00:01:14.090","00:01:14.210","00:01:14.150",null,9,{"$f":"IF(F117=\"DNS\",\"0\",IF(F117=\"DQ\",\"0\",IF(F117=\"\",\"\",IF(F117=\"DNF\",\"0\",LOOKUP(H117,Valeurs!$A$4:'Valeurs'!$A$46,Valeurs!$B$4:'Valeurs'!$B$46)))))","v":8}]
[{"$f":"Inscription!I13","v":"30deux"},{"$f":"Inscription!J13","v":"Marie-Pier Anctil"},null,"00:01:30.060","00:01:28.530","00:01:29.295",null,16,{"$f":"IF(F118=\"DNS\",\"0\",IF(F118=\"DQ\",\"0\",IF(F118=\"\",\"\",IF(F118=\"DNF\",\"0\",LOOKUP(H118,Valeurs!$A$4:'Valeurs'!$A$46,Valeurs!$B$4:'Valeurs'!$B$46)))))","v":1}]
[{"$f":"Inscription!I14","v":"30deux"},{"$f":"Inscription!J14","v":"Emmanuelle Hudon"},null,"00:01:19.540","00:01:19.560","00:01:19.550",null,12,{"$f":"IF(F119=\"DNS\",\"0\",IF(F119=\"DQ\",\"0\",IF(F119=\"\",\"\",IF(F119=\"DNF\",\"0\",LOOKUP(H119,Valeurs!$A$4:'Valeurs'!$A$46,Valeurs!$B$4:'Valeurs'!$B$46)))))","v":5}]
[{"$f":"Inscription!I15","v":"30deux"},{"$f":"Inscription!J15","v":"Alexandra Ladouceur"},null,"00:01:03.570","00:01:03.560","00:01:03.565",null,1,{"$f":"IF(F120=\"DNS\",\"0\",IF(F120=\"DQ\",\"0\",IF(F120=\"\",\"\",IF(F120=\"DNF\",\"0\",LOOKUP(H120,Valeurs!$A$4:'Valeurs'!$A$46,Valeurs!$B$4:'Valeurs'!$B$46)))))","v":20}]
[{"$f":"Inscription!I16","v":"30deux"},{"$f":"Inscription!J16","v":"Camille Gaudreault"},null,"00:01:08.190","00:01:08.150","00:01:08.170",null,5,{"$f":"IF(F121=\"DNS\",\"0\",IF(F121=\"DQ\",\"0\",IF(F121=\"\",\"\",IF(F121=\"DNF\",\"0\",LOOKUP(H121,Valeurs!$A$4:'Valeurs'!$A$46,Valeurs!$B$4:'Valeurs'!$B$46)))))","v":13}]
[{"$f":"Inscription!I17","v":"30deux"},{"$f":"Inscription!J17","v":"Sarah-Laurence Morin"},null,"00:01:03.630","00:01:03.720","00:01:03.675",null,2,{"$f":"IF(F122=\"DNS\",\"0\",IF(F122=\"DQ\",\"0\",IF(F122=\"\",\"\",IF(F122=\"DNF\",\"0\",LOOKUP(H122,Valeurs!$A$4:'Valeurs'!$A$46,Valeurs!$B$4:'Valeurs'!$B$46)))))","v":18}]
[{"$f":"Inscription!I18","v":"30deux"},{"$f":"Inscription!J18","v":"Noémie Desjardins"},null,"DNS","DNS","DNS",null,"DNS",{"$f":"IF(F123=\"DNS\",\"0\",IF(F123=\"DQ\",\"0\",IF(F123=\"\",\"\",IF(F123=\"DNF\",\"0\",LOOKUP(H123,Valeurs!$A$4:'Valeurs'!$A$46,Valeurs!$B$4:'Valeurs'!$B$46)))))","v":"0"}]
[{"$f":"Inscription!I19","v":"CSRN"},{"$f":"Inscription!J19","v":"Raphaëlle Tétreault"},null,"00:01:34.940","00:01:35.160","00:01:35.050",null,19,{"$f":"IF(F124=\"DNS\",\"0\",IF(F124=\"DQ\",\"0\",IF(F124=\"\",\"\",IF(F124=\"DNF\",\"0\",LOOKUP(H124,Valeurs!$A$4:'Valeurs'!$A$46,Valeurs!$B$4:'Valeurs'!$B$46)))))","v":0}]
[{"$f":"Inscription!I20","v":"Gatineau"},{"$f":"Inscription!J20","v":"Isabelle Carrier"},null,"00:01:25.690","00:01:25.820","00:01:25.755",null,15,{"$f":"IF(F125=\"DNS\",\"0\",IF(F125=\"DQ\",\"0\",IF(F125=\"\",\"\",IF(F125=\"DNF\",\"0\",LOOKUP(H125,Valeurs!$A$4:'Valeurs'!$A$46,Valeurs!$B$4:'Valeurs'!$B$46)))))","v":2}]
[{"$f":"Inscription!I21","v":"Gatineau"},{"$f":"Inscription!J21","v":"Jessica Carrier"},null,"00:01:29.560","00:01:29.310","00:01:29.435",null,17,{"$f":"IF(F126=\"DNS\",\"0\",IF(F126=\"DQ\",\"0\",IF(F126=\"\",\"\",IF(F126=\"DNF\",\"0\",LOOKUP(H126,Valeurs!$A$4:'Valeurs'!$A$46,Valeurs!$B$4:'Valeurs'!$B$46)))))","v":0}]
[{"$f":"Inscription!I22","v":0},{"$f":"Inscription!J22","v":0},null,null,null,"",null,"",{"$f":"IF(F127=\"DNS\",\"0\",IF(F127=\"DQ\",\"0\",IF(F127=\"\",\"\",IF(F127=\"DNF\",\"0\",LOOKUP(H127,Valeurs!$A$4:'Valeurs'!$A$46,Valeurs!$B$4:'Valeurs'!$B$46)))))","v":""}]
[{"$f":"Inscription!I23","v":0},{"$f":"Inscription!J23","v":0},null,null,null,"",null,"",{"$f":"IF(F128=\"DNS\",\"0\",IF(F128=\"DQ\",\"0\",IF(F128=\"\",\"\",IF(F128=\"DNF\",\"0\",LOOKUP(H128,Valeurs!$A$4:'Valeurs'!$A$46,Valeurs!$B$4:'Valeurs'!$B$46)))))","v":""}]
[{"$f":"Inscription!I24","v":0},{"$f":"Inscription!J24","v":0},null,null,null,"",null,"",{"$f":"IF(F129=\"DNS\",\"0\",IF(F129=\"DQ\",\"0\",IF(F129=\"\",\"\",IF(F129=\"DNF\",\"0\",LOOKUP(H129,Valeurs!$A$4:'Valeurs'!$A$46,Valeurs!$B$4:'Valeurs'!$B$46)))))","v":""}]
[{"$f":"Inscription!I25","v":0},{"$f":"Inscription!J25","v":0},null,null,null,"",null,"",{"$f":"IF(F130=\"DNS\",\"0\",IF(F130=\"DQ\",\"0\",IF(F130=\"\",\"\",IF(F130=\"DNF\",\"0\",LOOKUP(H130,Valeurs!$A$4:'Valeurs'!$A$46,Valeurs!$B$4:'Valeurs'!$B$46)))))","v":""}]
[{"$f":"Inscription!I26","v":0},{"$f":"Inscription!J26","v":0},null,null,null,"",null,"",{"$f":"IF(F131=\"DNS\",\"0\",IF(F131=\"DQ\",\"0\",IF(F131=\"\",\"\",IF(F131=\"DNF\",\"0\",LOOKUP(H131,Valeurs!$A$4:'Valeurs'!$A$46,Valeurs!$B$4:'Valeurs'!$B$46)))))","v":""}]
[{"$f":"Inscription!I27","v":0},{"$f":"Inscription!J27","v":0},null,null,null,"",null,"",{"$f":"IF(F132=\"DNS\",\"0\",IF(F132=\"DQ\",\"0\",IF(F132=\"\",\"\",IF(F132=\"DNF\",\"0\",LOOKUP(H132,Valeurs!$A$4:'Valeurs'!$A$46,Valeurs!$B$4:'Valeurs'!$B$46)))))","v":""}]
[{"$f":"Inscription!I28","v":0},{"$f":"Inscription!J28","v":0},null,null,null,"",null,"",{"$f":"IF(F133=\"DNS\",\"0\",IF(F133=\"DQ\",\"0\",IF(F133=\"\",\"\",IF(F133=\"DNF\",\"0\",LOOKUP(H133,Valeurs!$A$4:'Valeurs'!$A$46,Valeurs!$B$4:'Valeurs'!$B$46)))))","v":""}]
[{"$f":"Inscription!I29","v":0},{"$f":"Inscription!J29","v":0},null,null,null,"",null,"",{"$f":"IF(F134=\"DNS\",\"0\",IF(F134=\"DQ\",\"0\",IF(F134=\"\",\"\",IF(F134=\"DNF\",\"0\",LOOKUP(H134,Valeurs!$A$4:'Valeurs'!$A$46,Valeurs!$B$4:'Valeurs'!$B$46)))))","v":""}]
[{"$f":"Inscription!I30","v":0},{"$f":"Inscription!J30","v":0},null,null,null,"",null,"",{"$f":"IF(F135=\"DNS\",\"0\",IF(F135=\"DQ\",\"0\",IF(F135=\"\",\"\",IF(F135=\"DNF\",\"0\",LOOKUP(H135,Valeurs!$A$4:'Valeurs'!$A$46,Valeurs!$B$4:'Valeurs'!$B$46)))))","v":""}]
[{"$f":"Inscription!I31","v":0},{"$f":"Inscription!J31","v":0},null,null,null,{"$f":"IF(D136=\"\",\"\",IF(D136=\"DQ\",\"DQ\",IF(D136=\"DNF\",\"DNF\",IF(D136=\"DNS\",\"DNS\",AVERAGE(D136,E136)))))","v":""},null,"",{"$f":"IF(F136=\"DNS\",\"0\",IF(F136=\"DQ\",\"0\",IF(F136=\"\",\"\",IF(F136=\"DNF\",\"0\",LOOKUP(H136,Valeurs!$A$4:'Valeurs'!$A$46,Valeurs!$B$4:'Valeurs'!$B$46)))))","v":""}]
[]
["Portage mannequin plein - Senior Femme\nÉPREUVE PORTAGE MANNEQUIN"]
[]
["Club","Nom",null,"Chrono 1","Chrono 2","Temps final",null,"R","Points"]
[{"$f":"Inscription!I2","v":"SSSL"},{"$f":"Inscription!J2","v":"Célia Crivellaro Kingsbury"},null,"00:00:53.090","00:00:53.310",{"$f":"IF(D141=\"\",\"\",IF(D141=\"DQ\",\"DQ\",IF(D141=\"DNF\",\"DNF\",IF(D141=\"DNS\",\"DNS\",AVERAGE(D141,E141)))))","v":"00:00:53.200"},null,{"$f":"IF(F141=\"DNS\",\"DNS\",IF(F141=\"DQ\",\"DQ\",IF(F141=\"\",\"\",IF(F141=\"DNF\",\"DNF\",RANK(F141,$F$141:$F$170,1)))))","v":11},{"$f":"IF(F141=\"DNS\",\"0\",IF(F141=\"DQ\",\"0\",IF(F141=\"\",\"\",IF(F141=\"DNF\",\"0\",LOOKUP(H141,Valeurs!$A$4:'Valeurs'!$A$46,Valeurs!$B$4:'Valeurs'!$B$46)))))","v":6}]
[{"$f":"Inscription!I3","v":"CASO"},{"$f":"Inscription!J3","v":"Laurence Lamarre"},null,"DNS","DNS",{"$f":"IF(D142=\"\",\"\",IF(D142=\"DQ\",\"DQ\",IF(D142=\"DNF\",\"DNF\",IF(D142=\"DNS\",\"DNS\",AVERAGE(D142,E142)))))","v":"DNS"},null,{"$f":"IF(F142=\"DNS\",\"DNS\",IF(F142=\"DQ\",\"DQ\",IF(F142=\"\",\"\",IF(F142=\"DNF\",\"DNF\",RANK(F142,$F$141:$F$170,1)))))","v":"DNS"},{"$f":"IF(F142=\"DNS\",\"0\",IF(F142=\"DQ\",\"0\",IF(F142=\"\",\"\",IF(F142=\"DNF\",\"0\",LOOKUP(H142,Valeurs!$A$4:'Valeurs'!$A$46,Valeurs!$B$4:'Valeurs'!$B$46)))))","v":"0"}]
[{"$f":"Inscription!I4","v":"CASO"},{"$f":"Inscription!J4","v":"Émilie Boulerne"},null,"00:00:44.370","00:00:44.440","00:00:44.405",null,3,{"$f":"IF(F143=\"DNS\",\"0\",IF(F143=\"DQ\",\"0\",IF(F143=\"\",\"\",IF(F143=\"DNF\",\"0\",LOOKUP(H143,Valeurs!$A$4:'Valeurs'!$A$46,Valeurs!$B$4:'Valeurs'!$B$46)))))","v":16}]
[{"$f":"Inscription!I5","v":"Dam'eauclès"},{"$f":"Inscription!J5","v":"Caroline Arcand"},null,"00:00:47.900","00:00:48.150","00:00:48.025",null,7,{"$f":"IF(F144=\"DNS\",\"0\",IF(F144=\"DQ\",\"0\",IF(F144=\"\",\"\",IF(F144=\"DNF\",\"0\",LOOKUP(H144,Valeurs!$A$4:'Valeurs'!$A$46,Valeurs!$B$4:'Valeurs'!$B$46)))))","v":11}]
[{"$f":"Inscription!I6","v":"Dam'eauclès"},{"$f":"Inscription!J6","v":"Tamara Jacques"},null,"00:00:47.780","00:00:47.910","00:00:47.845",null,6,{"$f":"IF(F145=\"DNS\",\"0\",IF(F145=\"DQ\",\"0\",IF(F145=\"\",\"\",IF(F145=\"DNF\",\"0\",LOOKUP(H145,Valeurs!$A$4:'Valeurs'!$A$46,Valeurs!$B$4:'Valeurs'!$B$46)))))","v":12}]
[{"$f":"Inscription!I7","v":"O'méga"},{"$f":"Inscription!J7","v":"Josée Miron"},null,"00:01:02.250","00:01:02.150","00:01:02.200",null,15,{"$f":"IF(F146=\"DNS\",\"0\",IF(F146=\"DQ\",\"0\",IF(F146=\"\",\"\",IF(F146=\"DNF\",\"0\",LOOKUP(H146,Valeurs!$A$4:'Valeurs'!$A$46,Valeurs!$B$4:'Valeurs'!$B$46)))))","v":2}]
[{"$f":"Inscription!I8","v":"Rouville Surf"},{"$f":"Inscription!J8","v":"Marie-Hélène Paquette"},null,"DNS","DNS","DNS",null,"DNS",{"$f":"IF(F147=\"DNS\",\"0\",IF(F147=\"DQ\",\"0\",IF(F147=\"\",\"\",IF(F147=\"DNF\",\"0\",LOOKUP(H147,Valeurs!$A$4:'Valeurs'!$A$46,Valeurs!$B$4:'Valeurs'!$B$46)))))","v":"0"}]
[{"$f":"Inscription!I9","v":"Rouville Surf"},{"$f":"Inscription!J9","v":"Claudine Courteau-Godmaire"},null,"00:00:45.690","00:00:45.750","00:00:45.720",null,4,{"$f":"IF(F148=\"DNS\",\"0\",IF(F148=\"DQ\",\"0\",IF(F148=\"\",\"\",IF(F148=\"DNF\",\"0\",LOOKUP(H148,Valeurs!$A$4:'Valeurs'!$A$46,Valeurs!$B$4:'Valeurs'!$B$46)))))","v":14}]
[{"$f":"Inscription!I10","v":"Rouville Surf"},{"$f":"Inscription!J10","v":"Ana Jaimes"},null,"00:00:48.530","00:00:47.910","00:00:48.220",null,8,{"$f":"IF(F149=\"DNS\",\"0\",IF(F149=\"DQ\",\"0\",IF(F149=\"\",\"\",IF(F149=\"DNF\",\"0\",LOOKUP(H149,Valeurs!$A$4:'Valeurs'!$A$46,Valeurs!$B$4:'Valeurs'!$B$46)))))","v":10}]
[{"$f":"Inscription!I11","v":"Rouville Surf"},{"$f":"Inscription!J11","v":"Gabrièle St-Georges"},null,"00:00:51.870","00:00:51.810","00:00:51.840",null,10,{"$f":"IF(F150=\"DNS\",\"0\",IF(F150=\"DQ\",\"0\",IF(F150=\"\",\"\",IF(F150=\"DNF\",\"0\",LOOKUP(H150,Valeurs!$A$4:'Valeurs'!$A$46,Valeurs!$B$4:'Valeurs'!$B$46)))))","v":7}]
[{"$f":"Inscription!I12","v":"Rouville Surf"},{"$f":"Inscription!J12","v":"Mariama Keita"},null,"00:00:46.780","00:00:46.840","00:00:46.810",null,5,{"$f":"IF(F151=\"DNS\",\"0\",IF(F151=\"DQ\",\"0\",IF(F151=\"\",\"\",IF(F151=\"DNF\",\"0\",LOOKUP(H151,Valeurs!$A$4:'Valeurs'!$A$46,Valeurs!$B$4:'Valeurs'!$B$46)))))","v":13}]
[{"$f":"Inscription!I13","v":"30deux"},{"$f":"Inscription!J13","v":"Marie-Pier Anctil"},null,"00:01:00.900","00:01:00.820","00:01:00.860",null,14,{"$f":"IF(F152=\"DNS\",\"0\",IF(F152=\"DQ\",\"0\",IF(F152=\"\",\"\",IF(F152=\"DNF\",\"0\",LOOKUP(H152,Valeurs!$A$4:'Valeurs'!$A$46,Valeurs!$B$4:'Valeurs'!$B$46)))))","v":3}]
[{"$f":"Inscription!I14","v":"30deux"},{"$f":"Inscription!J14","v":"Emmanuelle Hudon"},null,"00:00:55.560","00:00:55.630","00:00:55.595",null,13,{"$f":"IF(F153=\"DNS\",\"0\",IF(F153=\"DQ\",\"0\",IF(F153=\"\",\"\",IF(F153=\"DNF\",\"0\",LOOKUP(H153,Valeurs!$A$4:'Valeurs'!$A$46,Valeurs!$B$4:'Valeurs'!$B$46)))))","v":4}]
[{"$f":"Inscription!I15","v":"30deux"},{"$f":"Inscription!J15","v":"Alexandra Ladouceur"},null,"00:00:44.310","00:00:44.380","00:00:44.345",null,2,{"$f":"IF(F154=\"DNS\",\"0\",IF(F154=\"DQ\",\"0\",IF(F154=\"\",\"\",IF(F154=\"DNF\",\"0\",LOOKUP(H154,Valeurs!$A$4:'Valeurs'!$A$46,Valeurs!$B$4:'Valeurs'!$B$46)))))","v":18}]
[{"$f":"Inscription!I16","v":"30deux"},{"$f":"Inscription!J16","v":"Camille Gaudreault"},null,"00:00:48.660","00:00:48.750","00:00:48.705",null,9,{"$f":"IF(F155=\"DNS\",\"0\",IF(F155=\"DQ\",\"0\",IF(F155=\"\",\"\",IF(F155=\"DNF\",\"0\",LOOKUP(H155,Valeurs!$A$4:'Valeurs'!$A$46,Valeurs!$B$4:'Valeurs'!$B$46)))))","v":8}]
[{"$f":"Inscription!I17","v":"30deux"},{"$f":"Inscription!J17","v":"Sarah-Laurence Morin"},null,"00:00:43.440","00:00:43.460","00:00:43.450",null,1,{"$f":"IF(F156=\"DNS\",\"0\",IF(F156=\"DQ\",\"0\",IF(F156=\"\",\"\",IF(F156=\"DNF\",\"0\",LOOKUP(H156,Valeurs!$A$4:'Valeurs'!$A$46,Valeurs!$B$4:'Valeurs'!$B$46)))))","v":20}]
[{"$f":"Inscription!I18","v":"30deux"},{"$f":"Inscription!J18","v":"Noémie Desjardins"},null,"DNS","DNS","DNS",null,"DNS",{"$f":"IF(F157=\"DNS\",\"0\",IF(F157=\"DQ\",\"0\",IF(F157=\"\",\"\",IF(F157=\"DNF\",\"0\",LOOKUP(H157,Valeurs!$A$4:'Valeurs'!$A$46,Valeurs!$B$4:'Valeurs'!$B$46)))))","v":"0"}]
[{"$f":"Inscription!I19","v":"CSRN"},{"$f":"Inscription!J19","v":"Raphaëlle Tétreault"},null,"00:00:53.970","00:00:53.940","00:00:53.955",null,12,{"$f":"IF(F158=\"DNS\",\"0\",IF(F158=\"DQ\",\"0\",IF(F158=\"\",\"\",IF(F158=\"DNF\",\"0\",LOOKUP(H158,Valeurs!$A$4:'Valeurs'!$A$46,Valeurs!$B$4:'Valeurs'!$B$46)))))","v":5}]
[{"$f":"Inscription!I20","v":"Gatineau"},{"$f":"Inscription!J20","v":"Isabelle Carrier"},null,"00:01:02.560","00:01:02.410","00:01:02.485",null,16,{"$f":"IF(F159=\"DNS\",\"0\",IF(F159=\"DQ\",\"0\",IF(F159=\"\",\"\",IF(F159=\"DNF\",\"0\",LOOKUP(H159,Valeurs!$A$4:'Valeurs'!$A$46,Valeurs!$B$4:'Valeurs'!$B$46)))))","v":1}]
[{"$f":"Inscription!I21","v":"Gatineau"},{"$f":"Inscription!J21","v":"Jessica Carrier"},null,"00:01:12.880","00:01:12.680","00:01:12.780",null,17,{"$f":"IF(F160=\"DNS\",\"0\",IF(F160=\"DQ\",\"0\",IF(F160=\"\",\"\",IF(F160=\"DNF\",\"0\",LOOKUP(H160,Valeurs!$A$4:'Valeurs'!$A$46,Valeurs!$B$4:'Valeurs'!$B$46)))))","v":0}]
[{"$f":"Inscription!I22","v":0},{"$f":"Inscription!J22","v":0},null,null,null,"",null,"",{"$f":"IF(F161=\"DNS\",\"0\",IF(F161=\"DQ\",\"0\",IF(F161=\"\",\"\",IF(F161=\"DNF\",\"0\",LOOKUP(H161,Valeurs!$A$4:'Valeurs'!$A$46,Valeurs!$B$4:'Valeurs'!$B$46)))))","v":""}]
[{"$f":"Inscription!I23","v":0},{"$f":"Inscription!J23","v":0},null,null,null,"",null,"",{"$f":"IF(F162=\"DNS\",\"0\",IF(F162=\"DQ\",\"0\",IF(F162=\"\",\"\",IF(F162=\"DNF\",\"0\",LOOKUP(H162,Valeurs!$A$4:'Valeurs'!$A$46,Valeurs!$B$4:'Valeurs'!$B$46)))))","v":""}]
[{"$f":"Inscription!I24","v":0},{"$f":"Inscription!J24","v":0},null,null,null,"",null,"",{"$f":"IF(F163=\"DNS\",\"0\",IF(F163=\"DQ\",\"0\",IF(F163=\"\",\"\",IF(F163=\"DNF\",\"0\",LOOKUP(H163,Valeurs!$A$4:'Valeurs'!$A$46,Valeurs!$B$4:'Valeurs'!$B$46)))))","v":""}]
[{"$f":"Inscription!I25","v":0},{"$f":"Inscription!J25","v":0},null,null,null,"",null,"",{"$f":"IF(F164=\"DNS\",\"0\",IF(F164=\"DQ\",\"0\",IF(F164=\"\",\"\",IF(F164=\"DNF\",\"0\",LOOKUP(H164,Valeurs!$A$4:'Valeurs'!$A$46,Valeurs!$B$4:'Valeurs'!$B$46)))))","v":""}]
[{"$f":"Inscription!I26","v":0},{"$f":"Inscription!J26","v":0},null,null,null,"",null,"",{"$f":"IF(F165=\"DNS\",\"0\",IF(F165=\"DQ\",\"0\",IF(F165=\"\",\"\",IF(F165=\"DNF\",\"0\",LOOKUP(H165,Valeurs!$A$4:'Valeurs'!$A$46,Valeurs!$B$4:'Valeurs'!$B$46)))))","v":""}]
[{"$f":"Inscription!I27","v":0},{"$f":"Inscription!J27","v":0},null,null,null,"",null,"",{"$f":"IF(F166=\"DNS\",\"0\",IF(F166=\"DQ\",\"0\",IF(F166=\"\",\"\",IF(F166=\"DNF\",\"0\",LOOKUP(H166,Valeurs!$A$4:'Valeurs'!$A$46,Valeurs!$B$4:'Valeurs'!$B$46)))))","v":""}]
[{"$f":"Inscription!I28","v":0},{"$f":"Inscription!J28","v":0},null,null,null,"",null,"",{"$f":"IF(F167=\"DNS\",\"0\",IF(F167=\"DQ\",\"0\",IF(F167=\"\",\"\",IF(F167=\"DNF\",\"0\",LOOKUP(H167,Valeurs!$A$4:'Valeurs'!$A$46,Valeurs!$B$4:'Valeurs'!$B$46)))))","v":""}]
[{"$f":"Inscription!I29","v":0},{"$f":"Inscription!J29","v":0},null,null,null,"",null,"",{"$f":"IF(F168=\"DNS\",\"0\",IF(F168=\"DQ\",\"0\",IF(F168=\"\",\"\",IF(F168=\"DNF\",\"0\",LOOKUP(H168,Valeurs!$A$4:'Valeurs'!$A$46,Valeurs!$B$4:'Valeurs'!$B$46)))))","v":""}]
[{"$f":"Inscription!I30","v":0},{"$f":"Inscription!J30","v":0},null,null,null,"",null,"",{"$f":"IF(F169=\"DNS\",\"0\",IF(F169=\"DQ\",\"0\",IF(F169=\"\",\"\",IF(F169=\"DNF\",\"0\",LOOKUP(H169,Valeurs!$A$4:'Valeurs'!$A$46,Valeurs!$B$4:'Valeurs'!$B$46)))))","v":""}]
[{"$f":"Inscription!I31","v":0},{"$f":"Inscription!J31","v":0},null,null,null,"",null,"",{"$f":"IF(F170=\"DNS\",\"0\",IF(F170=\"DQ\",\"0\",IF(F170=\"\",\"\",IF(F170=\"DNF\",\"0\",LOOKUP(H170,Valeurs!$A$4:'Valeurs'!$A$46,Valeurs!$B$4:'Valeurs'!$B$46)))))","v":""}]
[]
["Sauveteur d'acier - Senior Femme\nÉPREUVE SAUVETEUR D'ACIER"]
[]
["Club","Nom",null,"Chrono 1","Chrono 2","Temps final",null,"R","Points"]
[{"$f":"Inscription!I2","v":"SSSL"},{"$f":"Inscription!J2","v":"Célia Crivellaro Kingsbury"},null,"00:03:51.220","00:03:51.720",{"$f":"IF(D175=\"\",\"\",IF(D175=\"DQ\",\"DQ\",IF(D175=\"DNF\",\"DNF\",IF(D175=\"DNS\",\"DNS\",AVERAGE(D175,E175)))))","v":"00:03:51.470"},null,{"$f":"IF(F175=\"DNS\",\"DNS\",IF(F175=\"DQ\",\"DQ\",IF(F175=\"\",\"\",IF(F175=\"DNF\",\"DNF\",RANK(F175,$F$174:$F$204,1)))))","v":12},{"$f":"IF(F175=\"DNS\",\"0\",IF(F175=\"DQ\",\"0\",IF(F175=\"\",\"\",IF(F175=\"DNF\",\"0\",LOOKUP(H175,Valeurs!$A$4:'Valeurs'!$A$46,Valeurs!$B$4:'Valeurs'!$B$46)))))","v":5}]
[{"$f":"Inscription!I3","v":"CASO"},{"$f":"Inscription!J3","v":"Laurence Lamarre"},null,"00:03:23.930","00:03:23.780",{"$f":"IF(D176=\"\",\"\",IF(D176=\"DQ\",\"DQ\",IF(D176=\"DNF\",\"DNF\",IF(D176=\"DNS\",\"DNS\",AVERAGE(D176,E176)))))","v":"00:03:23.855"},null,{"$f":"IF(F176=\"DNS\",\"DNS\",IF(F176=\"DQ\",\"DQ\",IF(F176=\"\",\"\",IF(F176=\"DNF\",\"DNF\",RANK(F176,$F$174:$F$204,1)))))","v":8},{"$f":"IF(F176=\"DNS\",\"0\",IF(F176=\"DQ\",\"0\",IF(F176=\"\",\"\",IF(F176=\"DNF\",\"0\",LOOKUP(H176,Valeurs!$A$4:'Valeurs'!$A$46,Valeurs!$B$4:'Valeurs'!$B$46)))))","v":10}]
[{"$f":"Inscription!I4","v":"CASO"},{"$f":"Inscription!J4","v":"Émilie Boulerne"},null,"00:03:15.750","00:03:15.650","00:03:15.700",null,5,{"$f":"IF(F177=\"DNS\",\"0\",IF(F177=\"DQ\",\"0\",IF(F177=\"\",\"\",IF(F177=\"DNF\",\"0\",LOOKUP(H177,Valeurs!$A$4:'Valeurs'!$A$46,Valeurs!$B$4:'Valeurs'!$B$46)))))","v":13}]
[{"$f":"Inscription!I5","v":"Dam'eauclès"},{"$f":"Inscription!J5","v":"Caroline Arcand"},null,"00:03:22.030","00:03:22.120","00:03:22.075",null,6,{"$f":"IF(F178=\"DNS\",\"0\",IF(F178=\"DQ\",\"0\",IF(F178=\"\",\"\",IF(F178=\"DNF\",\"0\",LOOKUP(H178,Valeurs!$A$4:'Valeurs'!$A$46,Valeurs!$B$4:'Valeurs'!$B$46)))))","v":12}]
[{"$f":"Inscription!I6","v":"Dam'eauclès"},{"$f":"Inscription!J6","v":"Tamara Jacques"},null,"00:03:42.470","00:03:42.500","00:03:42.485",null,11,{"$f":"IF(F179=\"DNS\",\"0\",IF(F179=\"DQ\",\"0\",IF(F179=\"\",\"\",IF(F179=\"DNF\",\"0\",LOOKUP(H179,Valeurs!$A$4:'Valeurs'!$A$46,Valeurs!$B$4:'Valeurs'!$B$46)))))","v":6}]
[{"$f":"Inscription!I7","v":"O'méga"},{"$f":"Inscription!J7","v":"Josée Miron"},null,"00:04:07.310","00:04:07.380","00:04:07.345",null,13,{"$f":"IF(F180=\"DNS\",\"0\",IF(F180=\"DQ\",\"0\",IF(F180=\"\",\"\",IF(F180=\"DNF\",\"0\",LOOKUP(H180,Valeurs!$A$4:'Valeurs'!$A$46,Valeurs!$B$4:'Valeurs'!$B$46)))))","v":4}]
[{"$f":"Inscription!I8","v":"Rouville Surf"},{"$f":"Inscription!J8","v":"Marie-Hélène Paquette"},null,"DNS","DNS","DNS",null,"DNS",{"$f":"IF(F181=\"DNS\",\"0\",IF(F181=\"DQ\",\"0\",IF(F181=\"\",\"\",IF(F181=\"DNF\",\"0\",LOOKUP(H181,Valeurs!$A$4:'Valeurs'!$A$46,Valeurs!$B$4:'Valeurs'!$B$46)))))","v":"0"}]
[{"$f":"Inscription!I9","v":"Rouville Surf"},{"$f":"Inscription!J9","v":"Claudine Courteau-Godmaire"},null,"00:03:05.780","00:03:05.720","00:03:05.750",null,4,{"$f":"IF(F182=\"DNS\",\"0\",IF(F182=\"DQ\",\"0\",IF(F182=\"\",\"\",IF(F182=\"DNF\",\"0\",LOOKUP(H182,Valeurs!$A$4:'Valeurs'!$A$46,Valeurs!$B$4:'Valeurs'!$B$46)))))","v":14}]
[{"$f":"Inscription!I10","v":"Rouville Surf"},{"$f":"Inscription!J10","v":"Ana Jaimes"},null,"00:03:26.970","00:03:26.320","00:03:26.645",null,9,{"$f":"IF(F183=\"DNS\",\"0\",IF(F183=\"DQ\",\"0\",IF(F183=\"\",\"\",IF(F183=\"DNF\",\"0\",LOOKUP(H183,Valeurs!$A$4:'Valeurs'!$A$46,Valeurs!$B$4:'Valeurs'!$B$46)))))","v":8}]
[{"$f":"Inscription!I11","v":"Rouville Surf"},{"$f":"Inscription!J11","v":"Gabrièle St-Georges"},null,"00:03:23.660","00:03:23.620","00:03:23.640",null,7,{"$f":"IF(F184=\"DNS\",\"0\",IF(F184=\"DQ\",\"0\",IF(F184=\"\",\"\",IF(F184=\"DNF\",\"0\",LOOKUP(H184,Valeurs!$A$4:'Valeurs'!$A$46,Valeurs!$B$4:'Valeurs'!$B$46)))))","v":11}]
[{"$f":"Inscription!I12","v":"Rouville Surf"},{"$f":"Inscription!J12","v":"Mariama Keita"},null,"00:03:27.680","00:03:27.370","00:03:27.525",null,10,{"$f":"IF(F185=\"DNS\",\"0\",IF(F185=\"DQ\",\"0\",IF(F185=\"\",\"\",IF(F185=\"DNF\",\"0\",LOOKUP(H185,Valeurs!$A$4:'Valeurs'!$A$46,Valeurs!$B$4:'Valeurs'!$B$46)))))","v":7}]
[{"$f":"Inscription!I13","v":"30deux"},{"$f":"Inscription!J13","v":"Marie-Pier Anctil"},null,"DNS","DNS","DNS",null,"DNS",{"$f":"IF(F186=\"DNS\",\"0\",IF(F186=\"DQ\",\"0\",IF(F186=\"\",\"\",IF(F186=\"DNF\",\"0\",LOOKUP(H186,Valeurs!$A$4:'Valeurs'!$A$46,Valeurs!$B$4:'Valeurs'!$B$46)))))","v":"0"}]
[{"$f":"Inscription!I14","v":"30deux"},{"$f":"Inscription!J14","v":"Emmanuelle Hudon"},null,"DNS","DNS","DNS",null,"DNS",{"$f":"IF(F187=\"DNS\",\"0\",IF(F187=\"DQ\",\"0\",IF(F187=\"\",\"\",IF(F187=\"DNF\",\"0\",LOOKUP(H187,Valeurs!$A$4:'Valeurs'!$A$46,Valeurs!$B$4:'Valeurs'!$B$46)))))","v":"0"}]
[{"$f":"Inscription!I15","v":"30deux"},{"$f":"Inscription!J15","v":"Alexandra Ladouceur"},null,"00:03:03.280","00:03:03.310","00:03:03.295",null,3,{"$f":"IF(F188=\"DNS\",\"0\",IF(F188=\"DQ\",\"0\",IF(F188=\"\",\"\",IF(F188=\"DNF\",\"0\",LOOKUP(H188,Valeurs!$A$4:'Valeurs'!$A$46,Valeurs!$B$4:'Valeurs'!$B$46)))))","v":16}]
[{"$f":"Inscription!I16","v":"30deux"},{"$f":"Inscription!J16","v":"Camille Gaudreault"},null,"00:02:58.470","00:02:58.500","00:02:58.485",null,2,{"$f":"IF(F189=\"DNS\",\"0\",IF(F189=\"DQ\",\"0\",IF(F189=\"\",\"\",IF(F189=\"DNF\",\"0\",LOOKUP(H189,Valeurs!$A$4:'Valeurs'!$A$46,Valeurs!$B$4:'Valeurs'!$B$46)))))","v":18}]
[{"$f":"Inscription!I17","v":"30deux"},{"$f":"Inscription!J17","v":"Sarah-Laurence Morin"},null,"00:02:48.280","00:02:48.310","00:02:48.295",null,1,{"$f":"IF(F190=\"DNS\",\"0\",IF(F190=\"DQ\",\"0\",IF(F190=\"\",\"\",IF(F190=\"DNF\",\"0\",LOOKUP(H190,Valeurs!$A$4:'Valeurs'!$A$46,Valeurs!$B$4:'Valeurs'!$B$46)))))","v":20}]
[{"$f":"Inscription!I18","v":"30deux"},{"$f":"Inscription!J18","v":"Noémie Desjardins"},null,"DNS","DNS","DNS",null,"DNS",{"$f":"IF(F191=\"DNS\",\"0\",IF(F191=\"DQ\",\"0\",IF(F191=\"\",\"\",IF(F191=\"DNF\",\"0\",LOOKUP(H191,Valeurs!$A$4:'Valeurs'!$A$46,Valeurs!$B$4:'Valeurs'!$B$46)))))","v":"0"}]
[{"$f":"Inscription!I19","v":"CSRN"},{"$f":"Inscription!J19","v":"Raphaëlle Tétreault"},null,"DNS","DNS","DNS",null,"DNS",{"$f":"IF(F192=\"DNS\",\"0\",IF(F192=\"DQ\",\"0\",IF(F192=\"\",\"\",IF(F192=\"DNF\",\"0\",LOOKUP(H192,Valeurs!$A$4:'Valeurs'!$A$46,Valeurs!$B$4:'Valeurs'!$B$46)))))","v":"0"}]
[{"$f":"Inscription!I20","v":"Gatineau"},{"$f":"Inscription!J20","v":"Isabelle Carrier"},null,"DNS","DNS","DNS",null,"DNS",{"$f":"IF(F193=\"DNS\",\"0\",IF(F193=\"DQ\",\"0\",IF(F193=\"\",\"\",IF(F193=\"DNF\",\"0\",LOOKUP(H193,Valeurs!$A$4:'Valeurs'!$A$46,Valeurs!$B$4:'Valeurs'!$B$46)))))","v":"0"}]
[{"$f":"Inscription!I21","v":"Gatineau"},{"$f":"Inscription!J21","v":"Jessica Carrier"},null,"DNS","DNS","DNS",null,"DNS",{"$f":"IF(F194=\"DNS\",\"0\",IF(F194=\"DQ\",\"0\",IF(F194=\"\",\"\",IF(F194=\"DNF\",\"0\",LOOKUP(H194,Valeurs!$A$4:'Valeurs'!$A$46,Valeurs!$B$4:'Valeurs'!$B$46)))))","v":"0"}]
[{"$f":"Inscription!I22","v":0},{"$f":"Inscription!J22","v":0},null,null,null,"",null,"",{"$f":"IF(F195=\"DNS\",\"0\",IF(F195=\"DQ\",\"0\",IF(F195=\"\",\"\",IF(F195=\"DNF\",\"0\",LOOKUP(H195,Valeurs!$A$4:'Valeurs'!$A$46,Valeurs!$B$4:'Valeurs'!$B$46)))))","v":""}]
[{"$f":"Inscription!I23","v":0},{"$f":"Inscription!J23","v":0},null,null,null,"",null,"",{"$f":"IF(F196=\"DNS\",\"0\",IF(F196=\"DQ\",\"0\",IF(F196=\"\",\"\",IF(F196=\"DNF\",\"0\",LOOKUP(H196,Valeurs!$A$4:'Valeurs'!$A$46,Valeurs!$B$4:'Valeurs'!$B$46)))))","v":""}]
[{"$f":"Inscription!I24","v":0},{"$f":"Inscription!J24","v":0},null,null,null,"",null,"",{"$f":"IF(F197=\"DNS\",\"0\",IF(F197=\"DQ\",\"0\",IF(F197=\"\",\"\",IF(F197=\"DNF\",\"0\",LOOKUP(H197,Valeurs!$A$4:'Valeurs'!$A$46,Valeurs!$B$4:'Valeurs'!$B$46)))))","v":""}]
[{"$f":"Inscription!I25","v":0},{"$f":"Inscription!J25","v":0},null,null,null,"",null,"",{"$f":"IF(F198=\"DNS\",\"0\",IF(F198=\"DQ\",\"0\",IF(F198=\"\",\"\",IF(F198=\"DNF\",\"0\",LOOKUP(H198,Valeurs!$A$4:'Valeurs'!$A$46,Valeurs!$B$4:'Valeurs'!$B$46)))))","v":""}]
[{"$f":"Inscription!I26","v":0},{"$f":"Inscription!J26","v":0},null,null,null,"",null,"",{"$f":"IF(F199=\"DNS\",\"0\",IF(F199=\"DQ\",\"0\",IF(F199=\"\",\"\",IF(F199=\"DNF\",\"0\",LOOKUP(H199,Valeurs!$A$4:'Valeurs'!$A$46,Valeurs!$B$4:'Valeurs'!$B$46)))))","v":""}]
[{"$f":"Inscription!I27","v":0},{"$f":"Inscription!J27","v":0},null,null,null,"",null,"",{"$f":"IF(F200=\"DNS\",\"0\",IF(F200=\"DQ\",\"0\",IF(F200=\"\",\"\",IF(F200=\"DNF\",\"0\",LOOKUP(H200,Valeurs!$A$4:'Valeurs'!$A$46,Valeurs!$B$4:'Valeurs'!$B$46)))))","v":""}]
[{"$f":"Inscription!I28","v":0},{"$f":"Inscription!J28","v":0},null,null,null,"",null,"",{"$f":"IF(F201=\"DNS\",\"0\",IF(F201=\"DQ\",\"0\",IF(F201=\"\",\"\",IF(F201=\"DNF\",\"0\",LOOKUP(H201,Valeurs!$A$4:'Valeurs'!$A$46,Valeurs!$B$4:'Valeurs'!$B$46)))))","v":""}]
[{"$f":"Inscription!I29","v":0},{"$f":"Inscription!J29","v":0},null,null,null,"",null,"",{"$f":"IF(F202=\"DNS\",\"0\",IF(F202=\"DQ\",\"0\",IF(F202=\"\",\"\",IF(F202=\"DNF\",\"0\",LOOKUP(H202,Valeurs!$A$4:'Valeurs'!$A$46,Valeurs!$B$4:'Valeurs'!$B$46)))))","v":""}]
[{"$f":"Inscription!I30","v":0},{"$f":"Inscription!J30","v":0},null,null,null,"",null,"",{"$f":"IF(F203=\"DNS\",\"0\",IF(F203=\"DQ\",\"0\",IF(F203=\"\",\"\",IF(F203=\"DNF\",\"0\",LOOKUP(H203,Valeurs!$A$4:'Valeurs'!$A$46,Valeurs!$B$4:'Valeurs'!$B$46)))))","v":""}]
[{"$f":"Inscription!I31","v":0},{"$f":"Inscription!J31","v":0},null,null,null,"",null,"",{"$f":"IF(F204=\"DNS\",\"0\",IF(F204=\"DQ\",\"0\",IF(F204=\"\",\"\",IF(F204=\"DNF\",\"0\",LOOKUP(H204,Valeurs!$A$4:'Valeurs'!$A$46,Valeurs!$B$4:'Valeurs'!$B$46)))))","v":""}]
[]
["Medley de sauvetage - Senior Femme\nÉPREUVE MEDLEY SAUVETAGE"]
[]
["Club","Nom",null,"Chrono 1","Chrono 2","Temps final",null,"R","Points"]
[{"$f":"Inscription!I2","v":"SSSL"},{"$f":"Inscription!J2","v":"Célia Crivellaro Kingsbury"},null,null,null,{"$f":"IF(D209=\"\",\"\",IF(D209=\"DQ\",\"DQ\",IF(D209=\"DNF\",\"DNF\",IF(D209=\"DNS\",\"DNS\",AVERAGE(D209,E209)))))","v":""},null,{"$f":"IF(F209=\"DNS\",\"DNS\",IF(F209=\"DQ\",\"DQ\",IF(F209=\"\",\"\",IF(F209=\"DNF\",\"DNF\",RANK(F209,$F$209:$F$238,1)))))","v":""},{"$f":"IF(F209=\"\",\"\",LOOKUP(H209,Valeurs!$A$4:'Valeurs'!$A$46,Valeurs!$B$4:'Valeurs'!$B$46))","v":""}]
[{"$f":"Inscription!I3","v":"CASO"},{"$f":"Inscription!J3","v":"Laurence Lamarre"},null,null,null,{"$f":"IF(D210=\"\",\"\",IF(D210=\"DQ\",\"DQ\",IF(D210=\"DNF\",\"DNF\",IF(D210=\"DNS\",\"DNS\",AVERAGE(D210,E210)))))","v":""},null,{"$f":"IF(F210=\"DNS\",\"DNS\",IF(F210=\"DQ\",\"DQ\",IF(F210=\"\",\"\",IF(F210=\"DNF\",\"DNF\",RANK(F210,$F$209:$F$238,1)))))","v":""},{"$f":"IF(F210=\"\",\"\",LOOKUP(H210,Valeurs!$A$4:'Valeurs'!$A$46,Valeurs!$B$4:'Valeurs'!$B$46))","v":""}]
[{"$f":"Inscription!I4","v":"CASO"},{"$f":"Inscription!J4","v":"Émilie Boulerne"},null,null,null,"",null,"",{"$f":"IF(F211=\"\",\"\",LOOKUP(H211,Valeurs!$A$4:'Valeurs'!$A$46,Valeurs!$B$4:'Valeurs'!$B$46))","v":""}]
[{"$f":"Inscription!I5","v":"Dam'eauclès"},{"$f":"Inscription!J5","v":"Caroline Arcand"},null,null,null,"",null,"",{"$f":"IF(F212=\"\",\"\",LOOKUP(H212,Valeurs!$A$4:'Valeurs'!$A$46,Valeurs!$B$4:'Valeurs'!$B$46))","v":""}]
[{"$f":"Inscription!I6","v":"Dam'eauclès"},{"$f":"Inscription!J6","v":"Tamara Jacques"},null,null,null,"",null,"",{"$f":"IF(F213=\"\",\"\",LOOKUP(H213,Valeurs!$A$4:'Valeurs'!$A$46,Valeurs!$B$4:'Valeurs'!$B$46))","v":""}]
[{"$f":"Inscription!I7","v":"O'méga"},{"$f":"Inscription!J7","v":"Josée Miron"},null,null,null,"",null,"",{"$f":"IF(F214=\"\",\"\",LOOKUP(H214,Valeurs!$A$4:'Valeurs'!$A$46,Valeurs!$B$4:'Valeurs'!$B$46))","v":""}]
[{"$f":"Inscription!I8","v":"Rouville Surf"},{"$f":"Inscription!J8","v":"Marie-Hélène Paquette"},null,null,null,"",null,"",{"$f":"IF(F215=\"\",\"\",LOOKUP(H215,Valeurs!$A$4:'Valeurs'!$A$46,Valeurs!$B$4:'Valeurs'!$B$46))","v":""}]
[{"$f":"Inscription!I9","v":"Rouville Surf"},{"$f":"Inscription!J9","v":"Claudine Courteau-Godmaire"},null,null,null,"",null,"",{"$f":"IF(F216=\"\",\"\",LOOKUP(H216,Valeurs!$A$4:'Valeurs'!$A$46,Valeurs!$B$4:'Valeurs'!$B$46))","v":""}]
[{"$f":"Inscription!I10","v":"Rouville Surf"},{"$f":"Inscription!J10","v":"Ana Jaimes"},null,null,null,"",null,"",{"$f":"IF(F217=\"\",\"\",LOOKUP(H217,Valeurs!$A$4:'Valeurs'!$A$46,Valeurs!$B$4:'Valeurs'!$B$46))","v":""}]
[{"$f":"Inscription!I11","v":"Rouville Surf"},{"$f":"Inscription!J11","v":"Gabrièle St-Georges"},null,null,null,"",null,"",{"$f":"IF(F218=\"\",\"\",LOOKUP(H218,Valeurs!$A$4:'Valeurs'!$A$46,Valeurs!$B$4:'Valeurs'!$B$46))","v":""}]
[{"$f":"Inscription!I12","v":"Rouville Surf"},{"$f":"Inscription!J12","v":"Mariama Keita"},null,null,null,"",null,"",{"$f":"IF(F219=\"\",\"\",LOOKUP(H219,Valeurs!$A$4:'Valeurs'!$A$46,Valeurs!$B$4:'Valeurs'!$B$46))","v":""}]
[{"$f":"Inscription!I13","v":"30deux"},{"$f":"Inscription!J13","v":"Marie-Pier Anctil"},null,null,null,"",null,"",{"$f":"IF(F220=\"\",\"\",LOOKUP(H220,Valeurs!$A$4:'Valeurs'!$A$46,Valeurs!$B$4:'Valeurs'!$B$46))","v":""}]
[{"$f":"Inscription!I14","v":"30deux"},{"$f":"Inscription!J14","v":"Emmanuelle Hudon"},null,null,null,"",null,"",{"$f":"IF(F221=\"\",\"\",LOOKUP(H221,Valeurs!$A$4:'Valeurs'!$A$46,Valeurs!$B$4:'Valeurs'!$B$46))","v":""}]
[{"$f":"Inscription!I15","v":"30deux"},{"$f":"Inscription!J15","v":"Alexandra Ladouceur"},null,null,null,"",null,"",{"$f":"IF(F222=\"\",\"\",LOOKUP(H222,Valeurs!$A$4:'Valeurs'!$A$46,Valeurs!$B$4:'Valeurs'!$B$46))","v":""}]
[{"$f":"Inscription!I16","v":"30deux"},{"$f":"Inscription!J16","v":"Camille Gaudreault"},null,null,null,"",null,"",{"$f":"IF(F223=\"\",\"\",LOOKUP(H223,Valeurs!$A$4:'Valeurs'!$A$46,Valeurs!$B$4:'Valeurs'!$B$46))","v":""}]
[{"$f":"Inscription!I17","v":"30deux"},{"$f":"Inscription!J17","v":"Sarah-Laurence Morin"},null,null,null,"",null,"",{"$f":"IF(F224=\"\",\"\",LOOKUP(H224,Valeurs!$A$4:'Valeurs'!$A$46,Valeurs!$B$4:'Valeurs'!$B$46))","v":""}]
[{"$f":"Inscription!I18","v":"30deux"},{"$f":"Inscription!J18","v":"Noémie Desjardins"},null,null,null,"",null,"",{"$f":"IF(F225=\"\",\"\",LOOKUP(H225,Valeurs!$A$4:'Valeurs'!$A$46,Valeurs!$B$4:'Valeurs'!$B$46))","v":""}]
[{"$f":"Inscription!I19","v":"CSRN"},{"$f":"Inscription!J19","v":"Raphaëlle Tétreault"},null,null,null,"",null,"",{"$f":"IF(F226=\"\",\"\",LOOKUP(H226,Valeurs!$A$4:'Valeurs'!$A$46,Valeurs!$B$4:'Valeurs'!$B$46))","v":""}]
[{"$f":"Inscription!I20","v":"Gatineau"},{"$f":"Inscription!J20","v":"Isabelle Carrier"},null,null,null,"",null,"",{"$f":"IF(F227=\"\",\"\",LOOKUP(H227,Valeurs!$A$4:'Valeurs'!$A$46,Valeurs!$B$4:'Valeurs'!$B$46))","v":""}]
[{"$f":"Inscription!I21","v":"Gatineau"},{"$f":"Inscription!J21","v":"Jessica Carrier"},null,null,null,"",null,"",{"$f":"IF(F228=\"\",\"\",LOOKUP(H228,Valeurs!$A$4:'Valeurs'!$A$46,Valeurs!$B$4:'Valeurs'!$B$46))","v":""}]
[{"$f":"Inscription!I22","v":0},{"$f":"Inscription!J22","v":0},null,null,null,"",null,"",{"$f":"IF(F229=\"\",\"\",LOOKUP(H229,Valeurs!$A$4:'Valeurs'!$A$46,Valeurs!$B$4:'Valeurs'!$B$46))","v":""}]
[{"$f":"Inscription!I23","v":0},{"$f":"Inscription!J23","v":0},null,null,null,"",null,"",{"$f":"IF(F230=\"\",\"\",LOOKUP(H230,Valeurs!$A$4:'Valeurs'!$A$46,Valeurs!$B$4:'Valeurs'!$B$46))","v":""}]
[{"$f":"Inscription!I24","v":0},{"$f":"Inscription!J24","v":0},null,null,null,"",null,"",{"$f":"IF(F231=\"\",\"\",LOOKUP(H231,Valeurs!$A$4:'Valeurs'!$A$46,Valeurs!$B$4:'Valeurs'!$B$46))","v":""}]
[{"$f":"Inscription!I25","v":0},{"$f":"Inscription!J25","v":0},null,null,null,"",null,"",{"$f":"IF(F232=\"\",\"\",LOOKUP(H232,Valeurs!$A$4:'Valeurs'!$A$46,Valeurs!$B$4:'Valeurs'!$B$46))","v":""}]
[{"$f":"Inscription!I26","v":0},{"$f":"Inscription!J26","v":0},null,null,null,"",null,"",{"$f":"IF(F233=\"\",\"\",LOOKUP(H233,Valeurs!$A$4:'Valeurs'!$A$46,Valeurs!$B$4:'Valeurs'!$B$46))","v":""}]
[{"$f":"Inscription!I27","v":0},{"$f":"Inscription!J27","v":0},null,null,null,"",null,"",{"$f":"IF(F234=\"\",\"\",LOOKUP(H234,Valeurs!$A$4:'Valeurs'!$A$46,Valeurs!$B$4:'Valeurs'!$B$46))","v":""}]
[{"$f":"Inscription!I28","v":0},{"$f":"Inscription!J28","v":0},null,null,null,"",null,"",{"$f":"IF(F235=\"\",\"\",LOOKUP(H235,Valeurs!$A$4:'Valeurs'!$A$46,Valeurs!$B$4:'Valeurs'!$B$46))","v":""}]
[{"$f":"Inscription!I29","v":0},{"$f":"Inscription!J29","v":0},null,null,null,"",null,"",{"$f":"IF(F236=\"\",\"\",LOOKUP(H236,Valeurs!$A$4:'Valeurs'!$A$46,Valeurs!$B$4:'Valeurs'!$B$46))","v":""}]
[{"$f":"Inscription!I30","v":0},{"$f":"Inscription!J30","v":0},null,null,null,"",null,"",{"$f":"IF(F237=\"\",\"\",LOOKUP(H237,Valeurs!$A$4:'Valeurs'!$A$46,Valeurs!$B$4:'Valeurs'!$B$46))","v":""}]
[{"$f":"Inscription!I31","v":0},{"$f":"Inscription!J31","v":0},null,null,null,"",null,"",{"$f":"IF(F238=\"\",\"\",LOOKUP(H238,Valeurs!$A$4:'Valeurs'!$A$46,Valeurs!$B$4:'Valeurs'!$B$46))","v":""}]
[]
[]
["Relais Medley de sauvetage - Senior Femme\nÉPREUVE RELAIS MEDLEY"]
[]
["Club","Nom",null,"Chrono 1","Chrono 2","Temps final",null,"R","Points"]
["Dam'eauclès","Caroline Arcand",null,"00:02:19.300","00:02:19",{"$f":"IF(D244=\"\",\"\",IF(D244=\"DQ\",\"DQ\",IF(D244=\"DNF\",\"DNF\",IF(D244=\"DNS\",\"DNS\",AVERAGE(D244,E244)))))","v":"00:02:19.150"},null,{"$f":"IF(F244=\"DNS\",\"DNS\",IF(F244=\"DQ\",\"DQ\",IF(F244=\"\",\"\",IF(F244=\"DNF\",\"DNF\",RANK(F244,$F$244:$F$275,1)))))","v":3},{"$f":"IF(F244=\"DNF\",\"0\",IF(F244=\"\",\"\",LOOKUP(H244,Valeurs!$A$4:'Valeurs'!$A$46,Valeurs!$B$4:'Valeurs'!$B$46)))","v":16}]
[null,"Manuelle Charbonneau",null,null,null,null,null,null,{"$f":"I244","v":16}]
[null,"Myriam Jacques",null,null,null,null,null,null,{"$f":"I244","v":16}]
[null,"Tamara Jacques",null,null,null,null,null,null,{"$f":"I244","v":16}]
["Rouville Surf","Ana Jaimes",null,"00:02:14.660","00:02:14.720",{"$f":"IF(D248=\"\",\"\",IF(D248=\"DQ\",\"DQ\",IF(D248=\"DNF\",\"DNF\",IF(D248=\"DNS\",\"DNS\",AVERAGE(D248,E248)))))","v":"00:02:14.690"},null,{"$f":"IF(F248=\"DNS\",\"DNS\",IF(F248=\"DQ\",\"DQ\",IF(F248=\"\",\"\",IF(F248=\"DNF\",\"DNF\",RANK(F248,$F$244:$F$275,1)))))","v":2},{"$f":"IF(F248=\"DNF\",\"0\",IF(F248=\"\",\"\",LOOKUP(H248,Valeurs!$A$4:'Valeurs'!$A$46,Valeurs!$B$4:'Valeurs'!$B$46)))","v":18}]
[null,"Marie-Hélène Paquette",null,null,null,null,null,null,{"$f":"I248","v":18}]
[null,"Mariama Kelta",null,null,null,null,null,null,{"$f":"I248","v":18}]
[null,"Claudine Courteau-Godmaire",null,null,null,null,null,null,{"$f":"I248","v":18}]
["30deux","Alexandra Ladouceur",null,"00:02:04.220","00:02:04.280",{"$f":"IF(D252=\"\",\"\",IF(D252=\"DQ\",\"DQ\",IF(D252=\"DNF\",\"DNF\",IF(D252=\"DNS\",\"DNS\",AVERAGE(D252,E252)))))","v":"00:02:04.250"},null,{"$f":"IF(F252=\"DNS\",\"DNS\",IF(F252=\"DQ\",\"DQ\",IF(F252=\"\",\"\",IF(F252=\"DNF\",\"DNF\",RANK(F252,$F$244:$F$275,1)))))","v":1},{"$f":"IF(F252=\"DNF\",\"0\",IF(F252=\"\",\"\",LOOKUP(H252,Valeurs!$A$4:'Valeurs'!$A$46,Valeurs!$B$4:'Valeurs'!$B$46)))","v":20}]
[null,"Noemie Desjardins",null,null,null,null,null,null,{"$f":"I252","v":20}]
[null,"Camille Gaudreault",null,null,null,null,null,null,{"$f":"I252","v":20}]
[null,"Sarah-Laurence Morin",null,null,null,null,null,null,{"$f":"I252","v":20}]
[null,null,null,null,null,{"$f":"IF(D256=\"\",\"\",IF(D256=\"DQ\",\"DQ\",IF(D256=\"DNF\",\"DNF\",IF(D256=\"DNS\",\"DNS\",AVERAGE(D256,E256)))))","v":""},null,{"$f":"IF(F256=\"DNS\",\"DNS\",IF(F256=\"DQ\",\"DQ\",IF(F256=\"\",\"\",IF(F256=\"DNF\",\"DNF\",RANK(F256,$F$244:$F$275,1)))))","v":""},{"$f":"IF(F256=\"DNF\",\"0\",IF(F256=\"\",\"\",LOOKUP(H256,Valeurs!$A$4:'Valeurs'!$A$46,Valeurs!$B$4:'Valeurs'!$B$46)))","v":""}]
[null,null,null,null,null,null,null,null,{"$f":"I256","v":""}]
[null,null,null,null,null,null,null,null,{"$f":"I256","v":""}]
[null,null,null,null,null,null,null,null,{"$f":"I256","v":""}]
[null,null,null,null,null,{"$f":"IF(D260=\"\",\"\",IF(D260=\"DQ\",\"DQ\",IF(D260=\"DNF\",\"DNF\",IF(D260=\"DNS\",\"DNS\",AVERAGE(D260,E260)))))","v":""},null,{"$f":"IF(F260=\"DNS\",\"DNS\",IF(F260=\"DQ\",\"DQ\",IF(F260=\"\",\"\",IF(F260=\"DNF\",\"DNF\",RANK(F260,$F$244:$F$275,1)))))","v":""},{"$f":"IF(F260=\"DNF\",\"0\",IF(F260=\"\",\"\",LOOKUP(H260,Valeurs!$A$4:'Valeurs'!$A$46,Valeurs!$B$4:'Valeurs'!$B$46)))","v":""}]
[null,null,null,null,null,null,null,null,{"$f":"I260","v":""}]
[null,null,null,null,null,null,null,null,{"$f":"I260","v":""}]
[null,null,null,null,null,null,null,null,{"$f":"I260","v":""}]
[null,null,null,null,null,{"$f":"IF(D264=\"\",\"\",IF(D264=\"DQ\",\"DQ\",IF(D264=\"DNF\",\"DNF\",IF(D264=\"DNS\",\"DNS\",AVERAGE(D264,E264)))))","v":""},null,{"$f":"IF(F264=\"DNS\",\"DNS\",IF(F264=\"DQ\",\"DQ\",IF(F264=\"\",\"\",IF(F264=\"DNF\",\"DNF\",RANK(F264,$F$244:$F$275,1)))))","v":""},{"$f":"IF(F264=\"DNF\",\"0\",IF(F264=\"\",\"\",LOOKUP(H264,Valeurs!$A$4:'Valeurs'!$A$46,Valeurs!$B$4:'Valeurs'!$B$46)))","v":""}]
[null,null,null,null,null,null,null,null,""]
[null,null,null,null,null,null,null,null,""]
[null,null,null,null,null,null,null,null,""]
[null,null,null,null,null,{"$f":"IF(D268=\"\",\"\",IF(D268=\"DQ\",\"DQ\",IF(D268=\"DNF\",\"DNF\",IF(D268=\"DNS\",\"DNS\",AVERAGE(D268,E268)))))","v":""},null,{"$f":"IF(F268=\"DNS\",\"DNS\",IF(F268=\"DQ\",\"DQ\",IF(F268=\"\",\"\",IF(F268=\"DNF\",\"DNF\",RANK(F268,$F$244:$F$275,1)))))","v":""},{"$f":"IF(F268=\"DNF\",\"0\",IF(F268=\"\",\"\",LOOKUP(H268,Valeurs!$A$4:'Valeurs'!$A$46,Valeurs!$B$4:'Valeurs'!$B$46)))","v":""}]
[null,null,null,null,null,null,null,null,""]
[null,null,null,null,null,null,null,null,""]
[null,null,null,null,null,null,null,null,""]
[null,null,null,null,null,{"$f":"IF(D272=\"\",\"\",IF(D272=\"DQ\",\"DQ\",IF(D272=\"DNF\",\"DNF\",IF(D272=\"DNS\",\"DNS\",AVERAGE(D272,E272)))))","v":""},null,{"$f":"IF(F272=\"DNS\",\"DNS\",IF(F272=\"DQ\",\"DQ\",IF(F272=\"\",\"\",IF(F272=\"DNF\",\"DNF\",RANK(F272,$F$244:$F$275,1)))))","v":""},{"$f":"IF(F272=\"DNF\",\"0\",IF(F272=\"\",\"\",LOOKUP(H272,Valeurs!$A$4:'Valeurs'!$A$46,Valeurs!$B$4:'Valeurs'!$B$46)))","v":""}]
[null,null,null,null,null,null,null,null,""]
[null,null,null,null,null,null,null,null,""]
[null,null,null,null,null,null,null,null,""]
[]
["Relais Obstacles - Senior Femme\nÉPREUVE RELAIS OBSTACLES"]
[]
["Club","Nom",null,"Chrono 1","Chrono 2","Temps final",null,"R","Points"]
["Dam'eauclès","Caroline Arcand",null,"00:02:27.100","00:02:27.070",{"$f":"IF(D280=\"\",\"\",IF(D280=\"DQ\",\"DQ\",IF(D280=\"DNF\",\"DNF\",IF(D280=\"DNS\",\"DNS\",AVERAGE(D280,E280)))))","v":"00:02:27.085"},null,{"$f":"IF(F280=\"DNS\",\"DNS\",IF(F280=\"DQ\",\"DQ\",IF(F280=\"\",\"\",IF(F280=\"DNF\",\"DNF\",RANK(F280,$F$280:$F$311,1)))))","v":3},{"$f":"IF(F280=\"DNF\",\"0\",IF(F280=\"\",\"\",LOOKUP(H280,Valeurs!$A$4:'Valeurs'!$A$46,Valeurs!$B$4:'Valeurs'!$B$46)))","v":16}]
[null,"Myriam Jacques",null,null,null,null,null,null,{"$f":"I280","v":16}]
[null,"Tamara Jacques",null,null,null,null,null,null,{"$f":"I280","v":16}]
[null,"Emma Lajeunesse",null,null,null,null,null,null,{"$f":"I280","v":16}]
["Rouville","Claudine Courteau-Godmaire",null,"00:02:21.890","00:02:22.220",{"$f":"IF(D284=\"\",\"\",IF(D284=\"DQ\",\"DQ\",IF(D284=\"DNF\",\"DNF\",IF(D284=\"DNS\",\"DNS\",AVERAGE(D284,E284)))))","v":"00:02:22.055"},null,{"$f":"IF(F284=\"DNS\",\"DNS\",IF(F284=\"DQ\",\"DQ\",IF(F284=\"\",\"\",IF(F284=\"DNF\",\"DNF\",RANK(F284,$F$280:$F$311,1)))))","v":2},{"$f":"IF(F284=\"DNF\",\"0\",IF(F284=\"\",\"\",LOOKUP(H284,Valeurs!$A$4:'Valeurs'!$A$46,Valeurs!$B$4:'Valeurs'!$B$46)))","v":18}]
[null,"Ana Jaimes",null,null,null,null,null,null,{"$f":"I284","v":18}]
[null,"Gabrièle St-Georges",null,null,null,null,null,null,{"$f":"I284","v":18}]
[null,"Mariama Kelta",null,null,null,null,null,null,{"$f":"I284","v":18}]
["30deux","Alexandra Ladouceur",null,"00:02:16.690","00:02:16.800",{"$f":"IF(D288=\"\",\"\",IF(D288=\"DQ\",\"DQ\",IF(D288=\"DNF\",\"DNF\",IF(D288=\"DNS\",\"DNS\",AVERAGE(D288,E288)))))","v":"00:02:16.745"},null,{"$f":"IF(F288=\"DNS\",\"DNS\",IF(F288=\"DQ\",\"DQ\",IF(F288=\"\",\"\",IF(F288=\"DNF\",\"DNF\",RANK(F288,$F$280:$F$311,1)))))","v":1},{"$f":"IF(F288=\"DNF\",\"0\",IF(F288=\"\",\"\",LOOKUP(H288,Valeurs!$A$4:'Valeurs'!$A$46,Valeurs!$B$4:'Valeurs'!$B$46)))","v":20}]
[null,"Noemie Desjardins",null,null,null,null,null,null,{"$f":"I288","v":20}]
[null,"Camille Gaudreault",null,null,null,null,null,null,{"$f":"I288","v":20}]
[null,"Sarah-Laurence Morin",null,null,null,null,null,null,{"$f":"I288","v":20}]
[null,null,null,null,null,{"$f":"IF(D292=\"\",\"\",IF(D292=\"DQ\",\"DQ\",IF(D292=\"DNF\",\"DNF\",IF(D292=\"DNS\",\"DNS\",AVERAGE(D292,E292)))))","v":""},null,{"$f":"IF(F292=\"DNS\",\"DNS\",IF(F292=\"DQ\",\"DQ\",IF(F292=\"\",\"\",IF(F292=\"DNF\",\"DNF\",RANK(F292,$F$280:$F$311,1)))))","v":""},{"$f":"IF(F292=\"DNF\",\"0\",IF(F292=\"\",\"\",LOOKUP(H292,Valeurs!$A$4:'Valeurs'!$A$46,Valeurs!$B$4:'Valeurs'!$B$46)))","v":""}]
[null,null,null,null,null,null,null,null,{"$f":"I292","v":""}]
[null,null,null,null,null,null,null,null,{"$f":"I292","v":""}]
[null,null,null,null,null,null,null,null,{"$f":"I292","v":""}]
[null,null,null,null,null,{"$f":"IF(D296=\"\",\"\",IF(D296=\"DQ\",\"DQ\",IF(D296=\"DNF\",\"DNF\",IF(D296=\"DNS\",\"DNS\",AVERAGE(D296,E296)))))","v":""},null,{"$f":"IF(F296=\"DNS\",\"DNS\",IF(F296=\"DQ\",\"DQ\",IF(F296=\"\",\"\",IF(F296=\"DNF\",\"DNF\",RANK(F296,$F$280:$F$311,1)))))","v":""},{"$f":"IF(F296=\"DNF\",\"0\",IF(F296=\"\",\"\",LOOKUP(H296,Valeurs!$A$4:'Valeurs'!$A$46,Valeurs!$B$4:'Valeurs'!$B$46)))","v":""}]
[null,null,null,null,null,null,null,null,{"$f":"I296","v":""}]
[null,null,null,null,null,null,null,null,{"$f":"I296","v":""}]
[null,null,null,null,null,null,null,null,{"$f":"I296","v":""}]
[null,null,null,null,null,{"$f":"IF(D300=\"\",\"\",IF(D300=\"DQ\",\"DQ\",IF(D300=\"DNF\",\"DNF\",IF(D300=\"DNS\",\"DNS\",AVERAGE(D300,E300)))))","v":""},null,{"$f":"IF(F300=\"DNS\",\"DNS\",IF(F300=\"DQ\",\"DQ\",IF(F300=\"\",\"\",IF(F300=\"DNF\",\"DNF\",RANK(F300,$F$280:$F$311,1)))))","v":""},{"$f":"IF(F300=\"DNF\",\"0\",IF(F300=\"\",\"\",LOOKUP(H300,Valeurs!$A$4:'Valeurs'!$A$46,Valeurs!$B$4:'Valeurs'!$B$46)))","v":""}]
[null,null,null,null,null,null,null,null,{"$f":"I300","v":""}]
[null,null,null,null,null,null,null,null,{"$f":"I300","v":""}]
[null,null,null,null,null,null,null,null,{"$f":"I300","v":""}]
[null,null,null,null,null,{"$f":"IF(D304=\"\",\"\",IF(D304=\"DQ\",\"DQ\",IF(D304=\"DNF\",\"DNF\",IF(D304=\"DNS\",\"DNS\",AVERAGE(D304,E304)))))","v":""},null,{"$f":"IF(F304=\"DNS\",\"DNS\",IF(F304=\"DQ\",\"DQ\",IF(F304=\"\",\"\",IF(F304=\"DNF\",\"DNF\",RANK(F304,$F$280:$F$311,1)))))","v":""},{"$f":"IF(F304=\"DNF\",\"0\",IF(F304=\"\",\"\",LOOKUP(H304,Valeurs!$A$4:'Valeurs'!$A$46,Valeurs!$B$4:'Valeurs'!$B$46)))","v":""}]
[null,null,null,null,null,null,null,null,{"$f":"I304","v":""}]
[null,null,null,null,null,null,null,null,{"$f":"I304","v":""}]
[null,null,null,null,null,null,null,null,{"$f":"I304","v":""}]
[null,null,null,null,null,{"$f":"IF(D308=\"\",\"\",IF(D308=\"DQ\",\"DQ\",IF(D308=\"DNF\",\"DNF\",IF(D308=\"DNS\",\"DNS\",AVERAGE(D308,E308)))))","v":""},null,{"$f":"IF(F308=\"DNS\",\"DNS\",IF(F308=\"DQ\",\"DQ\",IF(F308=\"\",\"\",IF(F308=\"DNF\",\"DNF\",RANK(F308,$F$280:$F$311,1)))))","v":""},{"$f":"IF(F308=\"DNF\",\"0\",IF(F308=\"\",\"\",LOOKUP(H308,Valeurs!$A$4:'Valeurs'!$A$46,Valeurs!$B$4:'Valeurs'!$B$46)))","v":""}]
[null,null,null,null,null,null,null,null,{"$f":"I308","v":""}]
[null,null,null,null,null,null,null,null,{"$f":"I308","v":""}]
[null,null,null,null,null,null,null,null,{"$f":"I308","v":""}]
[]
["Relais Portage mannequin - Senior Femme\nÉPREUVE RELAIS PORTAGE MANNEQUIN"]
[]
["Club","Nom",null,"Chrono 1","Chrono 2","Temps final",null,"R","Points"]
["Dam'eauclès","Caroline Arcand",null,"00:01:52.530","00:01:52.600",{"$f":"IF(D316=\"\",\"\",IF(D316=\"DQ\",\"DQ\",IF(D316=\"DNF\",\"DNF\",IF(D316=\"DNS\",\"DNS\",AVERAGE(D316,E316)))))","v":"00:01:52.565"},null,{"$f":"IF(F316=\"DNS\",\"DNS\",IF(F316=\"DQ\",\"DQ\",IF(F316=\"\",\"\",IF(F316=\"DNF\",\"DNF\",RANK(F316,$F$316:$F$347,1)))))","v":2},{"$f":"IF(F316=\"DNF\",\"0\",IF(F316=\"\",\"\",LOOKUP(H316,Valeurs!$A$4:'Valeurs'!$A$46,Valeurs!$B$4:'Valeurs'!$B$46)))","v":18}]
[null,"Manuelle Charbonneau",null,null,null,null,null,null,{"$f":"I316","v":18}]
[null,"Tamara Jacques",null,null,null,null,null,null,{"$f":"I316","v":18}]
[null,"Emma Lajeunesse",null,null,null,null,null,null,{"$f":"I316","v":18}]
["Rouville Surf","Claudine Courteau-Godmaire",null,"00:01:56.750","00:01:57.150",{"$f":"IF(D320=\"\",\"\",IF(D320=\"DQ\",\"DQ\",IF(D320=\"DNF\",\"DNF\",IF(D320=\"DNS\",\"DNS\",AVERAGE(D320,E320)))))","v":"00:01:56.950"},null,{"$f":"IF(F320=\"DNS\",\"DNS\",IF(F320=\"DQ\",\"DQ\",IF(F320=\"\",\"\",IF(F320=\"DNF\",\"DNF\",RANK(F320,$F$316:$F$347,1)))))","v":3},{"$f":"IF(F320=\"DNF\",\"0\",IF(F320=\"\",\"\",LOOKUP(H320,Valeurs!$A$4:'Valeurs'!$A$46,Valeurs!$B$4:'Valeurs'!$B$46)))","v":16}]
[null,"Ana Jaimes",null,null,null,null,null,null,{"$f":"I320","v":16}]
[null,"Marie-Hélène Paquette",null,null,null,null,null,null,{"$f":"I320","v":16}]
[null,"Mariama Kelta",null,null,null,null,null,null,{"$f":"I320","v":16}]
["30deux","Alexandra Ladouceur",null,"00:01:43.500","00:01:42.620",{"$f":"IF(D324=\"\",\"\",IF(D324=\"DQ\",\"DQ\",IF(D324=\"DNF\",\"DNF\",IF(D324=\"DNS\",\"DNS\",AVERAGE(D324,E324)))))","v":"00:01:43.060"},null,{"$f":"IF(F324=\"DNS\",\"DNS\",IF(F324=\"DQ\",\"DQ\",IF(F324=\"\",\"\",IF(F324=\"DNF\",\"DNF\",RANK(F324,$F$316:$F$347,1)))))","v":1},{"$f":"IF(F324=\"DNF\",\"0\",IF(F324=\"\",\"\",LOOKUP(H324,Valeurs!$A$4:'Valeurs'!$A$46,Valeurs!$B$4:'Valeurs'!$B$46)))","v":20}]
[null,"Noemie Desjardins",null,null,null,null,null,null,{"$f":"I324","v":20}]
[null,"Camille Gaudreault",null,null,null,null,null,null,{"$f":"I324","v":20}]
[null,"Sarah-Laurence Morin",null,null,null,null,null,null,{"$f":"I324","v":20}]
[null,null,null,null,null,{"$f":"IF(D328=\"\",\"\",IF(D328=\"DQ\",\"DQ\",IF(D328=\"DNF\",\"DNF\",IF(D328=\"DNS\",\"DNS\",AVERAGE(D328,E328)))))","v":""},null,{"$f":"IF(F328=\"DNS\",\"DNS\",IF(F328=\"DQ\",\"DQ\",IF(F328=\"\",\"\",IF(F328=\"DNF\",\"DNF\",RANK(F328,$F$316:$F$347,1)))))","v":""},{"$f":"IF(F328=\"DNF\",\"0\",IF(F328=\"\",\"\",LOOKUP(H328,Valeurs!$A$4:'Valeurs'!$A$46,Valeurs!$B$4:'Valeurs'!$B$46)))","v":""}]
[null,null,null,null,null,null,null,null,{"$f":"I328","v":""}]
[null,null,null,null,null,null,null,null,{"$f":"I328","v":""}]
[null,null,null,null,null,null,null,null,{"$f":"I328","v":""}]
[null,null,null,null,null,{"$f":"IF(D332=\"\",\"\",IF(D332=\"DQ\",\"DQ\",IF(D332=\"DNF\",\"DNF\",IF(D332=\"DNS\",\"DNS\",AVERAGE(D332,E332)))))","v":""},null,{"$f":"IF(F332=\"DNS\",\"DNS\",IF(F332=\"DQ\",\"DQ\",IF(F332=\"\",\"\",IF(F332=\"DNF\",\"DNF\",RANK(F332,$F$316:$F$347,1)))))","v":""},{"$f":"IF(F332=\"DNF\",\"0\",IF(F332=\"\",\"\",LOOKUP(H332,Valeurs!$A$4:'Valeurs'!$A$46,Valeurs!$B$4:'Valeurs'!$B$46)))","v":""}]
[null,null,null,null,null,null,null,null,{"$f":"I332","v":""}]
[null,null,null,null,null,null,null,null,{"$f":"I332","v":""}]
[null,null,null,null,null,null,null,null,{"$f":"I332","v":""}]
[null,null,null,null,null,{"$f":"IF(D336=\"\",\"\",IF(D336=\"DQ\",\"DQ\",IF(D336=\"DNF\",\"DNF\",IF(D336=\"DNS\",\"DNS\",AVERAGE(D336,E336)))))","v":""},null,{"$f":"IF(F336=\"DNS\",\"DNS\",IF(F336=\"DQ\",\"DQ\",IF(F336=\"\",\"\",IF(F336=\"DNF\",\"DNF\",RANK(F336,$F$316:$F$347,1)))))","v":""},{"$f":"IF(F336=\"DNF\",\"0\",IF(F336=\"\",\"\",LOOKUP(H336,Valeurs!$A$4:'Valeurs'!$A$46,Valeurs!$B$4:'Valeurs'!$B$46)))","v":""}]
[null,null,null,null,null,null,null,null,{"$f":"I336","v":""}]
[null,null,null,null,null,null,null,null,{"$f":"I336","v":""}]
[null,null,null,null,null,null,null,null,{"$f":"I336","v":""}]
[null,null,null,null,null,{"$f":"IF(D340=\"\",\"\",IF(D340=\"DQ\",\"DQ\",IF(D340=\"DNF\",\"DNF\",IF(D340=\"DNS\",\"DNS\",AVERAGE(D340,E340)))))","v":""},null,{"$f":"IF(F340=\"DNS\",\"DNS\",IF(F340=\"DQ\",\"DQ\",IF(F340=\"\",\"\",IF(F340=\"DNF\",\"DNF\",RANK(F340,$F$316:$F$347,1)))))","v":""},{"$f":"IF(F340=\"DNF\",\"0\",IF(F340=\"\",\"\",LOOKUP(H340,Valeurs!$A$4:'Valeurs'!$A$46,Valeurs!$B$4:'Valeurs'!$B$46)))","v":""}]
[null,null,null,null,null,null,null,null,{"$f":"I340","v":""}]
[null,null,null,null,null,null,null,null,{"$f":"I340","v":""}]
[null,null,null,null,null,null,null,null,{"$f":"I340","v":""}]
[null,null,null,null,null,{"$f":"IF(D344=\"\",\"\",IF(D344=\"DQ\",\"DQ\",IF(D344=\"DNF\",\"DNF\",IF(D344=\"DNS\",\"DNS\",AVERAGE(D344,E344)))))","v":""},null,{"$f":"IF(F344=\"DNS\",\"DNS\",IF(F344=\"DQ\",\"DQ\",IF(F344=\"\",\"\",IF(F344=\"DNF\",\"DNF\",RANK(F344,$F$316:$F$347,1)))))","v":""},{"$f":"IF(F344=\"DNF\",\"0\",IF(F344=\"\",\"\",LOOKUP(H344,Valeurs!$A$4:'Valeurs'!$A$46,Valeurs!$B$4:'Valeurs'!$B$46)))","v":""}]
[null,null,null,null,null,null,null,null,{"$f":"I344","v":""}]
[null,null,null,null,null,null,null,null,{"$f":"I344","v":""}]
[null,null,null,null,null,null,null,null,{"$f":"I344","v":""}]

{"sheet":"Senior H","index":7,"n_rows":346,"n_cols":9,"rows_kept":346,"cut":false,"hidden":false,"merged":[[205,0,206,8],[239,0,240,8],[275,0,276,8],[311,0,312,8],[1,0,2,8],[35,0,36,8],[69,0,70,8],[103,0,104,8],[137,0,138,8],[171,0,172,8]]}
[]
["Lancer de la corde - Senior Homme\nÉPREUVE DE LA CORDE"]
[]
["Club","Nom",null,"Chrono 1","Chrono 2","Temps final",null,"R","Points"]
["Dam'eauclès","Charles Girouard",null,"00:00:22.030","00:00:21.900",{"$f":"IF(D5=\"\",\"\",IF(D5=\"DQ\",\"DQ\",IF(D5=\"DNF\",\"DNF\",IF(D5=\"DNS\",\"DNS\",AVERAGE(D5,E5)))))","v":"00:00:21.965"},null,{"$f":"IF(F5=\"DNS\",\"DNS\",IF(F5=\"DQ\",\"DQ\",IF(F5=\"\",\"\",IF(F5=\"DNF\",\"DNF\",RANK(F5,$F$5:$F$34,1)))))","v":4},{"$f":"IF(F5=\"DNS\",\"0\",IF(F5=\"DQ\",\"0\",IF(F5=\"\",\"\",IF(F5=\"DNF\",\"0\",LOOKUP(H5,Valeurs!$A$4:'Valeurs'!$A$46,Valeurs!$B$4:'Valeurs'!$B$46)))))","v":14}]
[null,"Julien Turgeon",null,null,null,null,null,null,{"$f":"I5","v":14}]
["SSSL","Félix Labelle",null,"DNF","DNF",{"$f":"IF(D7=\"\",\"\",IF(D7=\"DQ\",\"DQ\",IF(D7=\"DNF\",\"DNF\",IF(D7=\"DNS\",\"DNS\",AVERAGE(D7,E7)))))","v":"DNF"},null,{"$f":"IF(F7=\"DNS\",\"DNS\",IF(F7=\"DQ\",\"DQ\",IF(F7=\"\",\"\",IF(F7=\"DNF\",\"DNF\",RANK(F7,$F$5:$F$34,1)))))","v":"DNF"},{"$f":"IF(F7=\"DNS\",\"0\",IF(F7=\"DQ\",\"0\",IF(F7=\"\",\"\",IF(F7=\"DNF\",\"0\",LOOKUP(H7,Valeurs!$A$4:'Valeurs'!$A$46,Valeurs!$B$4:'Valeurs'!$B$46)))))","v":"0"}]
[null,"Thomas Willame",null,null,null,null,null,null,{"$f":"I7","v":"0"}]
["Rouville Surf","Miguel Jean",null,"00:00:15.280","00:00:16.120",{"$f":"IF(D9=\"\",\"\",IF(D9=\"DQ\",\"DQ\",IF(D9=\"DNF\",\"DNF\",IF(D9=\"DNS\",\"DNS\",AVERAGE(D9,E9)))))","v":"00:00:15.700"},null,{"$f":"IF(F9=\"DNS\",\"DNS\",IF(F9=\"DQ\",\"DQ\",IF(F9=\"\",\"\",IF(F9=\"DNF\",\"DNF\",RANK(F9,$F$5:$F$34,1)))))","v":3},{"$f":"IF(F9=\"DNS\",\"0\",IF(F9=\"DQ\",\"0\",IF(F9=\"\",\"\",IF(F9=\"DNF\",\"0\",LOOKUP(H9,Valeurs!$A$4:'Valeurs'!$A$46,Valeurs!$B$4:'Valeurs'!$B$46)))))","v":16}]
[null,"Dimitri Jean",null,null,null,null,null,null,{"$f":"I9","v":16}]
["30deux","Thomas Lavoie",null,"00:00:29.530","00:00:29.530",{"$f":"IF(D11=\"\",\"\",IF(D11=\"DQ\",\"DQ\",IF(D11=\"DNF\",\"DNF\",IF(D11=\"DNS\",\"DNS\",AVERAGE(D11,E11)))))","v":"00:00:29.530"},null,{"$f":"IF(F11=\"DNS\",\"DNS\",IF(F11=\"DQ\",\"DQ\",IF(F11=\"\",\"\",IF(F11=\"DNF\",\"DNF\",RANK(F11,$F$5:$F$34,1)))))","v":6},{"$f":"IF(F11=\"DNS\",\"0\",IF(F11=\"DQ\",\"0\",IF(F11=\"\",\"\",IF(F11=\"DNF\",\"0\",LOOKUP(H11,Valeurs!$A$4:'Valeurs'!$A$46,Valeurs!$B$4:'Valeurs'!$B$46)))))","v":12}]
[null,"Samuel Lévesque",null,null,null,null,null,null,{"$f":"I11","v":12}]
["30deux","François Houle",null,"00:00:14.870","00:00:14.910",{"$f":"IF(D13=\"\",\"\",IF(D13=\"DQ\",\"DQ\",IF(D13=\"DNF\",\"DNF\",IF(D13=\"DNS\",\"DNS\",AVERAGE(D13,E13)))))","v":"00:00:14.890"},null,{"$f":"IF(F13=\"DNS\",\"DNS\",IF(F13=\"DQ\",\"DQ\",IF(F13=\"\",\"\",IF(F13=\"DNF\",\"DNF\",RANK(F13,$F$5:$F$34,1)))))","v":1},{"$f":"IF(F13=\"DNS\",\"0\",IF(F13=\"DQ\",\"0\",IF(F13=\"\",\"\",IF(F13=\"DNF\",\"0\",LOOKUP(H13,Valeurs!$A$4:'Valeurs'!$A$46,Valeurs!$B$4:'Valeurs'!$B$46)))))","v":20}]
[null,"Maxime Chamberland",null,null,null,null,null,null,{"$f":"I13","v":20}]
["CSRN","Ismael Chakir",null,"00:00:15.310","00;15,21",{"$f":"IF(D15=\"\",\"\",IF(D15=\"DQ\",\"DQ\",IF(D15=\"DNF\",\"DNF\",IF(D15=\"DNS\",\"DNS\",AVERAGE(D15,E15)))))","v":"00:00:15.310"},null,{"$f":"IF(F15=\"DNS\",\"DNS\",IF(F15=\"DQ\",\"DQ\",IF(F15=\"\",\"\",IF(F15=\"DNF\",\"DNF\",RANK(F15,$F$5:$F$34,1)))))","v":2},{"$f":"IF(F15=\"DNS\",\"0\",IF(F15=\"DQ\",\"0\",IF(F15=\"\",\"\",IF(F15=\"DNF\",\"0\",LOOKUP(H15,Valeurs!$A$4:'Valeurs'!$A$46,Valeurs!$B$4:'Valeurs'!$B$46)))))","v":18}]
[null,"Kamil Romdhni",null,null,null,null,null,null,{"$f":"I15","v":18}]
["Narval","Alex Tremblay",null,"DNF","DNF",{"$f":"IF(D17=\"\",\"\",IF(D17=\"DQ\",\"DQ\",IF(D17=\"DNF\",\"DNF\",IF(D17=\"DNS\",\"DNS\",AVERAGE(D17,E17)))))","v":"DNF"},null,{"$f":"IF(F17=\"DNS\",\"DNS\",IF(F17=\"DQ\",\"DQ\",IF(F17=\"\",\"\",IF(F17=\"DNF\",\"DNF\",RANK(F17,$F$5:$F$34,1)))))","v":"DNF"},{"$f":"IF(F17=\"DNS\",\"0\",IF(F17=\"DQ\",\"0\",IF(F17=\"\",\"\",IF(F17=\"DNF\",\"0\",LOOKUP(H17,Valeurs!$A$4:'Valeurs'!$A$46,Valeurs!$B$4:'Valeurs'!$B$46)))))","v":"0"}]
[null,"David Comeau",null,null,null,null,null,null,{"$f":"I17","v":"0"}]
["CSRN","Wiliam Laurence",null,"00:00:27.030","00:00:27.030",{"$f":"IF(D19=\"\",\"\",IF(D19=\"DQ\",\"DQ\",IF(D19=\"DNF\",\"DNF\",IF(D19=\"DNS\",\"DNS\",AVERAGE(D19,E19)))))","v":"00:00:27.030"},null,{"$f":"IF(F19=\"DNS\",\"DNS\",IF(F19=\"DQ\",\"DQ\",IF(F19=\"\",\"\",IF(F19=\"DNF\",\"DNF\",RANK(F19,$F$5:$F$34,1)))))","v":5},{"$f":"IF(F19=\"DNS\",\"0\",IF(F19=\"DQ\",\"0\",IF(F19=\"\",\"\",IF(F19=\"DNF\",\"0\",LOOKUP(H19,Valeurs!$A$4:'Valeurs'!$A$46,Valeurs!$B$4:'Valeurs'!$B$46)))))","v":13}]
[null,"Jonathan St-Roch",null,null,null,null,null,null,{"$f":"I19","v":13}]
[null,null,null,null,null,{"$f":"IF(D21=\"\",\"\",IF(D21=\"DQ\",\"DQ\",IF(D21=\"DNF\",\"DNF\",IF(D21=\"DNS\",\"DNS\",AVERAGE(D21,E21)))))","v":""},null,{"$f":"IF(F21=\"DNS\",\"DNS\",IF(F21=\"DQ\",\"DQ\",IF(F21=\"\",\"\",IF(F21=\"DNF\",\"DNF\",RANK(F21,$F$5:$F$34,1)))))","v":""},{"$f":"IF(F21=\"DNS\",\"0\",IF(F21=\"DQ\",\"0\",IF(F21=\"\",\"\",IF(F21=\"DNF\",\"0\",LOOKUP(H21,Valeurs!$A$4:'Valeurs'!$A$46,Valeurs!$B$4:'Valeurs'!$B$46)))))","v":""}]
[null,null,null,null,null,null,null,null,{"$f":"I21","v":""}]
[null,null,null,null,null,{"$f":"IF(D23=\"\",\"\",IF(D23=\"DQ\",\"DQ\",IF(D23=\"DNF\",\"DNF\",IF(D23=\"DNS\",\"DNS\",AVERAGE(D23,E23)))))","v":""},null,{"$f":"IF(F23=\"DNS\",\"DNS\",IF(F23=\"DQ\",\"DQ\",IF(F23=\"\",\"\",IF(F23=\"DNF\",\"DNF\",RANK(F23,$F$5:$F$34,1)))))","v":""},{"$f":"IF(F23=\"DNS\",\"0\",IF(F23=\"DQ\",\"0\",IF(F23=\"\",\"\",IF(F23=\"DNF\",\"0\",LOOKUP(H23,Valeurs!$A$4:'Valeurs'!$A$46,Valeurs!$B$4:'Valeurs'!$B$46)))))","v":""}]
[null,null,null,null,null,null,null,null,{"$f":"I23","v":""}]
[null,null,null,null,null,{"$f":"IF(D25=\"\",\"\",IF(D25=\"DQ\",\"DQ\",IF(D25=\"DNF\",\"DNF\",IF(D25=\"DNS\",\"DNS\",AVERAGE(D25,E25)))))","v":""},null,{"$f":"IF(F25=\"DNS\",\"DNS\",IF(F25=\"DQ\",\"DQ\",IF(F25=\"\",\"\",IF(F25=\"DNF\",\"DNF\",RANK(F25,$F$5:$F$34,1)))))","v":""},{"$f":"IF(F25=\"DNS\",\"0\",IF(F25=\"DQ\",\"0\",IF(F25=\"\",\"\",IF(F25=\"DNF\",\"0\",LOOKUP(H25,Valeurs!$A$4:'Valeurs'!$A$46,Valeurs!$B$4:'Valeurs'!$B$46)))))","v":""}]
[null,null,null,null,null,null,null,null,{"$f":"I25","v":""}]
[null,null,null,null,null,{"$f":"IF(D27=\"\",\"\",IF(D27=\"DQ\",\"DQ\",IF(D27=\"DNF\",\"DNF\",IF(D27=\"DNS\",\"DNS\",AVERAGE(D27,E27)))))","v":""},null,{"$f":"IF(F27=\"DNS\",\"DNS\",IF(F27=\"DQ\",\"DQ\",IF(F27=\"\",\"\",IF(F27=\"DNF\",\"DNF\",RANK(F27,$F$5:$F$34,1)))))","v":""},{"$f":"IF(F27=\"DNS\",\"0\",IF(F27=\"DQ\",\"0\",IF(F27=\"\",\"\",IF(F27=\"DNF\",\"0\",LOOKUP(H27,Valeurs!$A$4:'Valeurs'!$A$46,Valeurs!$B$4:'Valeurs'!$B$46)))))","v":""}]
[null,null,null,null,null,null,null,null,{"$f":"I27","v":""}]
[null,null,null,null,null,{"$f":"IF(D29=\"\",\"\",IF(D29=\"DQ\",\"DQ\",IF(D29=\"DNF\",\"DNF\",IF(D29=\"DNS\",\"DNS\",AVERAGE(D29,E29)))))","v":""},null,{"$f":"IF(F29=\"DNS\",\"DNS\",IF(F29=\"DQ\",\"DQ\",IF(F29=\"\",\"\",IF(F29=\"DNF\",\"DNF\",RANK(F29,$F$5:$F$34,1)))))","v":""},{"$f":"IF(F29=\"DNS\",\"0\",IF(F29=\"DQ\",\"0\",IF(F29=\"\",\"\",IF(F29=\"DNF\",\"0\",LOOKUP(H29,Valeurs!$A$4:'Valeurs'!$A$46,Valeurs!$B$4:'Valeurs'!$B$46)))))","v":""}]
[null,null,null,null,null,null,null,null,{"$f":"I29","v":""}]
[null,null,null,null,null,{"$f":"IF(D31=\"\",\"\",IF(D31=\"DQ\",\"DQ\",IF(D31=\"DNF\",\"DNF\",IF(D31=\"DNS\",\"DNS\",AVERAGE(D31,E31)))))","v":""},null,{"$f":"IF(F31=\"DNS\",\"DNS\",IF(F31=\"DQ\",\"DQ\",IF(F31=\"\",\"\",IF(F31=\"DNF\",\"DNF\",RANK(F31,$F$5:$F$34,1)))))","v":""},{"$f":"IF(F31=\"DNS\",\"0\",IF(F31=\"DQ\",\"0\",IF(F31=\"\",\"\",IF(F31=\"DNF\",\"0\",LOOKUP(H31,Valeurs!$A$4:'Valeurs'!$A$46,Valeurs!$B$4:'Valeurs'!$B$46)))))","v":""}]
[null,null,null,null,null,null,null,null,{"$f":"I31","v":""}]
[null,null,null,null,null,{"$f":"IF(D33=\"\",\"\",IF(D33=\"DQ\",\"DQ\",IF(D33=\"DNF\",\"DNF\",IF(D33=\"DNS\",\"DNS\",AVERAGE(D33,E33)))))","v":""},null,{"$f":"IF(F33=\"DNS\",\"DNS\",IF(F33=\"DQ\",\"DQ\",IF(F33=\"\",\"\",IF(F33=\"DNF\",\"DNF\",RANK(F33,$F$5:$F$34,1)))))","v":""},{"$f":"IF(F33=\"DNS\",\"0\",IF(F33=\"DQ\",\"0\",IF(F33=\"\",\"\",IF(F33=\"DNF\",\"0\",LOOKUP(H33,Valeurs!$A$4:'Valeurs'!$A$46,Valeurs!$B$4:'Valeurs'!$B$46)))))","v":""}]
[null,null,null,null,null,null,null,null,{"$f":"I33","v":""}]
[]
["Remorquage mannequin 1/2 plein avec palmes - Senior Homme\nÉPREUVE REMORQUAGE MANNEQUIN + PALMES"]
[]
["Club","Nom",null,"Chrono 1","Chrono 2","Temps final",null,"R","Points"]
[{"$f":"Inscription!K2","v":"Dam'eauclès"},{"$f":"Inscription!L2","v":"Charles GIrouard"},null,"00:01:15","00:01:14.810",{"$f":"IF(D39=\"\",\"\",IF(D39=\"DQ\",\"DQ\",IF(D39=\"DNF\",\"DNF\",IF(D39=\"DNS\",\"DNS\",AVERAGE(D39,E39)))))","v":"00:01:14.905"},null,{"$f":"IF(F39=\"DNS\",\"DNS\",IF(F39=\"DQ\",\"DQ\",IF(F39=\"\",\"\",IF(F39=\"DNF\",\"DNF\",RANK(F39,$F$39:$F$68,1)))))","v":9},{"$f":"IF(F39=\"DNS\",\"0\",IF(F39=\"DQ\",\"0\",IF(F39=\"\",\"\",IF(F39=\"DNF\",\"0\",LOOKUP(H39,Valeurs!$A$4:'Valeurs'!$A$46,Valeurs!$B$4:'Valeurs'!$B$46)))))","v":8}]
[{"$f":"Inscription!K3","v":"SSSL"},{"$f":"Inscription!L3","v":"Félix Labelle"},null,"00:01:15.660","00:01:15.380","00:01:15.520",null,{"$f":"IF(F40=\"DNS\",\"DNS\",IF(F40=\"DQ\",\"DQ\",IF(F40=\"\",\"\",IF(F40=\"DNF\",\"DNF\",RANK(F40,$F$39:$F$68,1)))))","v":11},{"$f":"IF(F40=\"DNS\",\"0\",IF(F40=\"DQ\",\"0\",IF(F40=\"\",\"\",IF(F40=\"DNF\",\"0\",LOOKUP(H40,Valeurs!$A$4:'Valeurs'!$A$46,Valeurs!$B$4:'Valeurs'!$B$46)))))","v":6}]
[{"$f":"Inscription!K4","v":"SSSL"},{"$f":"Inscription!L4","v":"Thomas Willame"},null,"00:01:09.100","00:01:09.090","00:01:09.095",null,5,{"$f":"IF(F41=\"DNS\",\"0\",IF(F41=\"DQ\",\"0\",IF(F41=\"\",\"\",IF(F41=\"DNF\",\"0\",LOOKUP(H41,Valeurs!$A$4:'Valeurs'!$A$46,Valeurs!$B$4:'Valeurs'!$B$46)))))","v":13}]
[{"$f":"Inscription!K5","v":"Rouville Surf"},{"$f":"Inscription!L5","v":"Miguel Jean"},null,"00:01:05.180","00:01:05.100","00:01:05.140",null,2,{"$f":"IF(F42=\"DNS\",\"0\",IF(F42=\"DQ\",\"0\",IF(F42=\"\",\"\",IF(F42=\"DNF\",\"0\",LOOKUP(H42,Valeurs!$A$4:'Valeurs'!$A$46,Valeurs!$B$4:'Valeurs'!$B$46)))))","v":18}]
[{"$f":"Inscription!K6","v":"Rouville Surf"},{"$f":"Inscription!L6","v":"Dimitri Jean"},null,"00:01:09.250","00:01:09.440","00:01:09.345",null,6,{"$f":"IF(F43=\"DNS\",\"0\",IF(F43=\"DQ\",\"0\",IF(F43=\"\",\"\",IF(F43=\"DNF\",\"0\",LOOKUP(H43,Valeurs!$A$4:'Valeurs'!$A$46,Valeurs!$B$4:'Valeurs'!$B$46)))))","v":12}]
[{"$f":"Inscription!K7","v":"Rouville Surf"},{"$f":"Inscription!L7","v":"Kevin Bustamante-Cortés"},null,"DNS","DNS","DNS",null,"DNS",{"$f":"IF(F44=\"DNS\",\"0\",IF(F44=\"DQ\",\"0\",IF(F44=\"\",\"\",IF(F44=\"DNF\",\"0\",LOOKUP(H44,Valeurs!$A$4:'Valeurs'!$A$46,Valeurs!$B$4:'Valeurs'!$B$46)))))","v":"0"}]
[{"$f":"Inscription!K8","v":"30deux"},{"$f":"Inscription!L8","v":"Thomas Lavoie"},null,"00:01:05.780","00:01:05.880","00:01:05.830",null,3,{"$f":"IF(F45=\"DNS\",\"0\",IF(F45=\"DQ\",\"0\",IF(F45=\"\",\"\",IF(F45=\"DNF\",\"0\",LOOKUP(H45,Valeurs!$A$4:'Valeurs'!$A$46,Valeurs!$B$4:'Valeurs'!$B$46)))))","v":16}]
[{"$f":"Inscription!K9","v":"30deux"},{"$f":"Inscription!L9","v":"Samuel Lévesque"},null,"00:01:15.880","00:01:15.970","00:01:15.925",null,12,{"$f":"IF(F46=\"DNS\",\"0\",IF(F46=\"DQ\",\"0\",IF(F46=\"\",\"\",IF(F46=\"DNF\",\"0\",LOOKUP(H46,Valeurs!$A$4:'Valeurs'!$A$46,Valeurs!$B$4:'Valeurs'!$B$46)))))","v":5}]
[{"$f":"Inscription!K10","v":"30deux"},{"$f":"Inscription!L10","v":"François Houle"},null,"00:01:07.370","00:01:07.530","00:01:07.450",null,4,{"$f":"IF(F47=\"DNS\",\"0\",IF(F47=\"DQ\",\"0\",IF(F47=\"\",\"\",IF(F47=\"DNF\",\"0\",LOOKUP(H47,Valeurs!$A$4:'Valeurs'!$A$46,Valeurs!$B$4:'Valeurs'!$B$46)))))","v":14}]
[{"$f":"Inscription!K11","v":"30deux"},{"$f":"Inscription!L11","v":"Maxime Chamberland"},null,"00:01:04.310","00:01:04.280","00:01:04.295",null,1,{"$f":"IF(F48=\"DNS\",\"0\",IF(F48=\"DQ\",\"0\",IF(F48=\"\",\"\",IF(F48=\"DNF\",\"0\",LOOKUP(H48,Valeurs!$A$4:'Valeurs'!$A$46,Valeurs!$B$4:'Valeurs'!$B$46)))))","v":20}]
[{"$f":"Inscription!K12","v":"30deux"},{"$f":"Inscription!L12","v":"Marco Patriarco"},null,"DQ","DQ","DQ",null,"DQ",{"$f":"IF(F49=\"DNS\",\"0\",IF(F49=\"DQ\",\"0\",IF(F49=\"\",\"\",IF(F49=\"DNF\",\"0\",LOOKUP(H49,Valeurs!$A$4:'Valeurs'!$A$46,Valeurs!$B$4:'Valeurs'!$B$46)))))","v":"0"}]
[{"$f":"Inscription!K13","v":"CSRN"},{"$f":"Inscription!L13","v":"Ismaël Chakir"},null,"00:01:19.720","00:01:18.690","00:01:19.205",null,13,{"$f":"IF(F50=\"DNS\",\"0\",IF(F50=\"DQ\",\"0\",IF(F50=\"\",\"\",IF(F50=\"DNF\",\"0\",LOOKUP(H50,Valeurs!$A$4:'Valeurs'!$A$46,Valeurs!$B$4:'Valeurs'!$B$46)))))","v":4}]
[{"$f":"Inscription!K14","v":"CSRN"},{"$f":"Inscription!L14","v":"Kamil Romdhani"},null,"00:01:11.380","00:01:11.410","00:01:11.395",null,8,{"$f":"IF(F51=\"DNS\",\"0\",IF(F51=\"DQ\",\"0\",IF(F51=\"\",\"\",IF(F51=\"DNF\",\"0\",LOOKUP(H51,Valeurs!$A$4:'Valeurs'!$A$46,Valeurs!$B$4:'Valeurs'!$B$46)))))","v":10}]
[{"$f":"Inscription!K15","v":"CSRN"},{"$f":"Inscription!L15","v":"William Laurence"},null,"00:01:30.410","00:01:30.220","00:01:30.315",null,15,{"$f":"IF(F52=\"DNS\",\"0\",IF(F52=\"DQ\",\"0\",IF(F52=\"\",\"\",IF(F52=\"DNF\",\"0\",LOOKUP(H52,Valeurs!$A$4:'Valeurs'!$A$46,Valeurs!$B$4:'Valeurs'!$B$46)))))","v":2}]
[{"$f":"Inscription!K16","v":"Gatineau"},{"$f":"Inscription!L16","v":"Olivier Breton"},null,"00:01:15.370","00:01:15.280","00:01:15.325",null,10,{"$f":"IF(F53=\"DNS\",\"0\",IF(F53=\"DQ\",\"0\",IF(F53=\"\",\"\",IF(F53=\"DNF\",\"0\",LOOKUP(H53,Valeurs!$A$4:'Valeurs'!$A$46,Valeurs!$B$4:'Valeurs'!$B$46)))))","v":7}]
[{"$f":"Inscription!K17","v":"Narval"},{"$f":"Inscription!L17","v":"Alex Tremblay"},null,"00:01:19.850","00:01:19.810","00:01:19.830",null,14,{"$f":"IF(F54=\"DNS\",\"0\",IF(F54=\"DQ\",\"0\",IF(F54=\"\",\"\",IF(F54=\"DNF\",\"0\",LOOKUP(H54,Valeurs!$A$4:'Valeurs'!$A$46,Valeurs!$B$4:'Valeurs'!$B$46)))))","v":3}]
[{"$f":"Inscription!K18","v":"Narval"},{"$f":"Inscription!L18","v":"David Comeau"},null,"00:01:10.100","00:01:09.970","00:01:10.035",null,7,{"$f":"IF(F55=\"DNS\",\"0\",IF(F55=\"DQ\",\"0\",IF(F55=\"\",\"\",IF(F55=\"DNF\",\"0\",LOOKUP(H55,Valeurs!$A$4:'Valeurs'!$A$46,Valeurs!$B$4:'Valeurs'!$B$46)))))","v":11}]
[{"$f":"Inscription!K19","v":0},{"$f":"Inscription!L19","v":0},null,null,null,{"$f":"IF(D56=\"\",\"\",IF(D56=\"DQ\",\"DQ\",IF(D56=\"DNF\",\"DNF\",IF(D56=\"DNS\",\"DNS\",AVERAGE(D56,E56)))))","v":""},null,"",{"$f":"IF(F56=\"DNS\",\"0\",IF(F56=\"DQ\",\"0\",IF(F56=\"\",\"\",IF(F56=\"DNF\",\"0\",LOOKUP(H56,Valeurs!$A$4:'Valeurs'!$A$46,Valeurs!$B$4:'Valeurs'!$B$46)))))","v":""}]
[{"$f":"Inscription!K20","v":0},{"$f":"Inscription!L20","v":0},null,null,null,"",null,"",{"$f":"IF(F57=\"DNS\",\"0\",IF(F57=\"DQ\",\"0\",IF(F57=\"\",\"\",IF(F57=\"DNF\",\"0\",LOOKUP(H57,Valeurs!$A$4:'Valeurs'!$A$46,Valeurs!$B$4:'Valeurs'!$B$46)))))","v":""}]
[{"$f":"Inscription!K21","v":0},{"$f":"Inscription!L21","v":0},null,null,null,"",null,"",{"$f":"IF(F58=\"DNS\",\"0\",IF(F58=\"DQ\",\"0\",IF(F58=\"\",\"\",IF(F58=\"DNF\",\"0\",LOOKUP(H58,Valeurs!$A$4:'Valeurs'!$A$46,Valeurs!$B$4:'Valeurs'!$B$46)))))","v":""}]
[{"$f":"Inscription!K22","v":0},{"$f":"Inscription!L22","v":0},null,null,null,"",null,"",{"$f":"IF(F59=\"DNS\",\"0\",IF(F59=\"DQ\",\"0\",IF(F59=\"\",\"\",IF(F59=\"DNF\",\"0\",LOOKUP(H59,Valeurs!$A$4:'Valeurs'!$A$46,Valeurs!$B$4:'Valeurs'!$B$46)))))","v":""}]
[{"$f":"Inscription!K23","v":0},{"$f":"Inscription!L23","v":0},null,null,null,"",null,"",{"$f":"IF(F60=\"DNS\",\"0\",IF(F60=\"DQ\",\"0\",IF(F60=\"\",\"\",IF(F60=\"DNF\",\"0\",LOOKUP(H60,Valeurs!$A$4:'Valeurs'!$A$46,Valeurs!$B$4:'Valeurs'!$B$46)))))","v":""}]
[{"$f":"Inscription!K24","v":0},{"$f":"Inscription!L24","v":0},null,null,null,"",null,"",{"$f":"IF(F61=\"DNS\",\"0\",IF(F61=\"DQ\",\"0\",IF(F61=\"\",\"\",IF(F61=\"DNF\",\"0\",LOOKUP(H61,Valeurs!$A$4:'Valeurs'!$A$46,Valeurs!$B$4:'Valeurs'!$B$46)))))","v":""}]
[{"$f":"Inscription!K25","v":0},{"$f":"Inscription!L25","v":0},null,null,null,"",null,"",{"$f":"IF(F62=\"DNS\",\"0\",IF(F62=\"DQ\",\"0\",IF(F62=\"\",\"\",IF(F62=\"DNF\",\"0\",LOOKUP(H62,Valeurs!$A$4:'Valeurs'!$A$46,Valeurs!$B$4:'Valeurs'!$B$46)))))","v":""}]
[{"$f":"Inscription!K26","v":0},{"$f":"Inscription!L26","v":0},null,null,null,"",null,"",{"$f":"IF(F63=\"DNS\",\"0\",IF(F63=\"DQ\",\"0\",IF(F63=\"\",\"\",IF(F63=\"DNF\",\"0\",LOOKUP(H63,Valeurs!$A$4:'Valeurs'!$A$46,Valeurs!$B$4:'Valeurs'!$B$46)))))","v":""}]
[{"$f":"Inscription!K27","v":0},{"$f":"Inscription!L27","v":0},null,null,null,"",null,"",{"$f":"IF(F64=\"DNS\",\"0\",IF(F64=\"DQ\",\"0\",IF(F64=\"\",\"\",IF(F64=\"DNF\",\"0\",LOOKUP(H64,Valeurs!$A$4:'Valeurs'!$A$46,Valeurs!$B$4:'Valeurs'!$B$46)))))","v":""}]
[{"$f":"Inscription!K28","v":0},{"$f":"Inscription!L28","v":0},null,null,null,"",null,"",{"$f":"IF(F65=\"DNS\",\"0\",IF(F65=\"DQ\",\"0\",IF(F65=\"\",\"\",IF(F65=\"DNF\",\"0\",LOOKUP(H65,Valeurs!$A$4:'Valeurs'!$A$46,Valeurs!$B$4:'Valeurs'!$B$46)))))","v":""}]
[{"$f":"Inscription!K29","v":0},{"$f":"Inscription!L29","v":0},null,null,null,"",null,"",{"$f":"IF(F66=\"DNS\",\"0\",IF(F66=\"DQ\",\"0\",IF(F66=\"\",\"\",IF(F66=\"DNF\",\"0\",LOOKUP(H66,Valeurs!$A$4:'Valeurs'!$A$46,Valeurs!$B$4:'Valeurs'!$B$46)))))","v":""}]
[{"$f":"Inscription!K30","v":0},{"$f":"Inscription!L30","v":0},null,null,null,"",null,"",{"$f":"IF(F67=\"DNS\",\"0\",IF(F67=\"DQ\",\"0\",IF(F67=\"\",\"\",IF(F67=\"DNF\",\"0\",LOOKUP(H67,Valeurs!$A$4:'Valeurs'!$A$46,Valeurs!$B$4:'Valeurs'!$B$46)))))","v":""}]
[{"$f":"Inscription!K31","v":0},{"$f":"Inscription!L31","v":0},null,null,null,{"$f":"IF(D68=\"\",\"\",IF(D68=\"DQ\",\"DQ\",IF(D68=\"DNF\",\"DNF\",IF(D68=\"DNS\",\"DNS\",AVERAGE(D68,E68)))))","v":""},null,"",{"$f":"IF(F68=\"DNS\",\"0\",IF(F68=\"DQ\",\"0\",IF(F68=\"\",\"\",IF(F68=\"DNF\",\"0\",LOOKUP(H68,Valeurs!$A$4:'Valeurs'!$A$46,Valeurs!$B$4:'Valeurs'!$B$46)))))","v":""}]
[]
["Obstacle - Senior Homme\nÉPREUVE OBSTACLES"]
[]
["Club","Nom",null,"Chrono 1","Chrono 2","Temps final",null,"R","Points"]
[{"$f":"Inscription!K2","v":"Dam'eauclès"},{"$f":"Inscription!L2","v":"Charles GIrouard"},null,"00:02:40.750","00:02:40.720",{"$f":"IF(D73=\"\",\"\",IF(D73=\"DQ\",\"DQ\",IF(D73=\"DNF\",\"DNF\",IF(D73=\"DNS\",\"DNS\",AVERAGE(D73,E73)))))","v":"00:02:40.735"},null,{"$f":"IF(F73=\"DNS\",\"DNS\",IF(F73=\"DQ\",\"DQ\",IF(F73=\"\",\"\",IF(F73=\"DNF\",\"DNF\",RANK(F73,$F$73:$F$102,1)))))","v":6},{"$f":"IF(F73=\"DNS\",\"0\",IF(F73=\"DQ\",\"0\",IF(F73=\"\",\"\",IF(F73=\"DNF\",\"0\",LOOKUP(H73,Valeurs!$A$4:'Valeurs'!$A$46,Valeurs!$B$4:'Valeurs'!$B$46)))))","v":12}]
[{"$f":"Inscription!K3","v":"SSSL"},{"$f":"Inscription!L3","v":"Félix Labelle"},null,"DNS","DNS",{"$f":"IF(D74=\"\",\"\",IF(D74=\"DQ\",\"DQ\",IF(D74=\"DNF\",\"DNF\",IF(D74=\"DNS\",\"DNS\",AVERAGE(D74,E74)))))","v":"DNS"},null,{"$f":"IF(F74=\"DNS\",\"DNS\",IF(F74=\"DQ\",\"DQ\",IF(F74=\"\",\"\",IF(F74=\"DNF\",\"DNF\",RANK(F74,$F$73:$F$102,1)))))","v":"DNS"},{"$f":"IF(F74=\"DNS\",\"0\",IF(F74=\"DQ\",\"0\",IF(F74=\"\",\"\",IF(F74=\"DNF\",\"0\",LOOKUP(H74,Valeurs!$A$4:'Valeurs'!$A$46,Valeurs!$B$4:'Valeurs'!$B$46)))))","v":"0"}]
[{"$f":"Inscription!K4","v":"SSSL"},{"$f":"Inscription!L4","v":"Thomas Willame"},null,"00:02:38.940","00:02:39.160","00:02:39.050",null,5,{"$f":"IF(F75=\"DNS\",\"0\",IF(F75=\"DQ\",\"0\",IF(F75=\"\",\"\",IF(F75=\"DNF\",\"0\",LOOKUP(H75,Valeurs!$A$4:'Valeurs'!$A$46,Valeurs!$B$4:'Valeurs'!$B$46)))))","v":13}]
[{"$f":"Inscription!K5","v":"Rouville Surf"},{"$f":"Inscription!L5","v":"Miguel Jean"},null,"00:02:18.460","02;18,60","00:02:18.460",null,2,{"$f":"IF(F76=\"DNS\",\"0\",IF(F76=\"DQ\",\"0\",IF(F76=\"\",\"\",IF(F76=\"DNF\",\"0\",LOOKUP(H76,Valeurs!$A$4:'Valeurs'!$A$46,Valeurs!$B$4:'Valeurs'!$B$46)))))","v":18}]
[{"$f":"Inscription!K6","v":"Rouville Surf"},{"$f":"Inscription!L6","v":"Dimitri Jean"},null,"DNS","DNS","DNS",null,"DNS",{"$f":"IF(F77=\"DNS\",\"0\",IF(F77=\"DQ\",\"0\",IF(F77=\"\",\"\",IF(F77=\"DNF\",\"0\",LOOKUP(H77,Valeurs!$A$4:'Valeurs'!$A$46,Valeurs!$B$4:'Valeurs'!$B$46)))))","v":"0"}]
[{"$f":"Inscription!K7","v":"Rouville Surf"},{"$f":"Inscription!L7","v":"Kevin Bustamante-Cortés"},null,"00:02:10.660","00:02:10.720","00:02:10.690",null,1,{"$f":"IF(F78=\"DNS\",\"0\",IF(F78=\"DQ\",\"0\",IF(F78=\"\",\"\",IF(F78=\"DNF\",\"0\",LOOKUP(H78,Valeurs!$A$4:'Valeurs'!$A$46,Valeurs!$B$4:'Valeurs'!$B$46)))))","v":20}]
[{"$f":"Inscription!K8","v":"30deux"},{"$f":"Inscription!L8","v":"Thomas Lavoie"},null,"02;34,47","00:02:34.400","00:02:34.400",null,4,{"$f":"IF(F79=\"DNS\",\"0\",IF(F79=\"DQ\",\"0\",IF(F79=\"\",\"\",IF(F79=\"DNF\",\"0\",LOOKUP(H79,Valeurs!$A$4:'Valeurs'!$A$46,Valeurs!$B$4:'Valeurs'!$B$46)))))","v":14}]
[{"$f":"Inscription!K9","v":"30deux"},{"$f":"Inscription!L9","v":"Samuel Lévesque"},null,"00:02:57.940","00:02:58.090","00:02:58.015",null,12,{"$f":"IF(F80=\"DNS\",\"0\",IF(F80=\"DQ\",\"0\",IF(F80=\"\",\"\",IF(F80=\"DNF\",\"0\",LOOKUP(H80,Valeurs!$A$4:'Valeurs'!$A$46,Valeurs!$B$4:'Valeurs'!$B$46)))))","v":5}]
[{"$f":"Inscription!K10","v":"30deux"},{"$f":"Inscription!L10","v":"François Houle"},null,"00:02:44.130","00:02:43.910","00:02:44.020",null,8,{"$f":"IF(F81=\"DNS\",\"0\",IF(F81=\"DQ\",\"0\",IF(F81=\"\",\"\",IF(F81=\"DNF\",\"0\",LOOKUP(H81,Valeurs!$A$4:'Valeurs'!$A$46,Valeurs!$B$4:'Valeurs'!$B$46)))))","v":10}]
[{"$f":"Inscription!K11","v":"30deux"},{"$f":"Inscription!L11","v":"Maxime Chamberland"},null,"00:02:44.650","00:02:44.620","00:02:44.635",null,9,{"$f":"IF(F82=\"DNS\",\"0\",IF(F82=\"DQ\",\"0\",IF(F82=\"\",\"\",IF(F82=\"DNF\",\"0\",LOOKUP(H82,Valeurs!$A$4:'Valeurs'!$A$46,Valeurs!$B$4:'Valeurs'!$B$46)))))","v":8}]
[{"$f":"Inscription!K12","v":"30deux"},{"$f":"Inscription!L12","v":"Marco Patriarco"},null,"DNS","DNS","DNS",null,"DNS",{"$f":"IF(F83=\"DNS\",\"0\",IF(F83=\"DQ\",\"0\",IF(F83=\"\",\"\",IF(F83=\"DNF\",\"0\",LOOKUP(H83,Valeurs!$A$4:'Valeurs'!$A$46,Valeurs!$B$4:'Valeurs'!$B$46)))))","v":"0"}]
[{"$f":"Inscription!K13","v":"CSRN"},{"$f":"Inscription!L13","v":"Ismaël Chakir"},null,"00:03:03.060","00:03:03.120","00:03:03.090",null,13,{"$f":"IF(F84=\"DNS\",\"0\",IF(F84=\"DQ\",\"0\",IF(F84=\"\",\"\",IF(F84=\"DNF\",\"0\",LOOKUP(H84,Valeurs!$A$4:'Valeurs'!$A$46,Valeurs!$B$4:'Valeurs'!$B$46)))))","v":4}]
[{"$f":"Inscription!K14","v":"CSRN"},{"$f":"Inscription!L14","v":"Kamil Romdhani"},null,"00:02:40.970","00:02:40.790","00:02:40.880",null,7,{"$f":"IF(F85=\"DNS\",\"0\",IF(F85=\"DQ\",\"0\",IF(F85=\"\",\"\",IF(F85=\"DNF\",\"0\",LOOKUP(H85,Valeurs!$A$4:'Valeurs'!$A$46,Valeurs!$B$4:'Valeurs'!$B$46)))))","v":11}]
[{"$f":"Inscription!K15","v":"CSRN"},{"$f":"Inscription!L15","v":"William Laurence"},null,"00:03:38.790","00:03:38.880","00:03:38.835",null,14,{"$f":"IF(F86=\"DNS\",\"0\",IF(F86=\"DQ\",\"0\",IF(F86=\"\",\"\",IF(F86=\"DNF\",\"0\",LOOKUP(H86,Valeurs!$A$4:'Valeurs'!$A$46,Valeurs!$B$4:'Valeurs'!$B$46)))))","v":3}]
[{"$f":"Inscription!K16","v":"Gatineau"},{"$f":"Inscription!L16","v":"Olivier Breton"},null,"00:02:25.470","00:02:25.400","00:02:25.435",null,3,{"$f":"IF(F87=\"DNS\",\"0\",IF(F87=\"DQ\",\"0\",IF(F87=\"\",\"\",IF(F87=\"DNF\",\"0\",LOOKUP(H87,Valeurs!$A$4:'Valeurs'!$A$46,Valeurs!$B$4:'Valeurs'!$B$46)))))","v":16}]
[{"$f":"Inscription!K17","v":"Narval"},{"$f":"Inscription!L17","v":"Alex Tremblay"},null,"00:02:49.500","00:02:50.210","00:02:49.855",null,11,{"$f":"IF(F88=\"DNS\",\"0\",IF(F88=\"DQ\",\"0\",IF(F88=\"\",\"\",IF(F88=\"DNF\",\"0\",LOOKUP(H88,Valeurs!$A$4:'Valeurs'!$A$46,Valeurs!$B$4:'Valeurs'!$B$46)))))","v":6}]
[{"$f":"Inscription!K18","v":"Narval"},{"$f":"Inscription!L18","v":"David Comeau"},null,"00:02:44.710","02;44,53","00:02:44.710",null,10,{"$f":"IF(F89=\"DNS\",\"0\",IF(F89=\"DQ\",\"0\",IF(F89=\"\",\"\",IF(F89=\"DNF\",\"0\",LOOKUP(H89,Valeurs!$A$4:'Valeurs'!$A$46,Valeurs!$B$4:'Valeurs'!$B$46)))))","v":7}]
[{"$f":"Inscription!K19","v":0},{"$f":"Inscription!L19","v":0},null,null,null,"",null,"",{"$f":"IF(F90=\"DNS\",\"0\",IF(F90=\"DQ\",\"0\",IF(F90=\"\",\"\",IF(F90=\"DNF\",\"0\",LOOKUP(H90,Valeurs!$A$4:'Valeurs'!$A$46,Valeurs!$B$4:'Valeurs'!$B$46)))))","v":""}]
[{"$f":"Inscription!K20","v":0},{"$f":"Inscription!L20","v":0},null,null,null,"",null,"",{"$f":"IF(F91=\"DNS\",\"0\",IF(F91=\"DQ\",\"0\",IF(F91=\"\",\"\",IF(F91=\"DNF\",\"0\",LOOKUP(H91,Valeurs!$A$4:'Valeurs'!$A$46,Valeurs!$B$4:'Valeurs'!$B$46)))))","v":""}]
[{"$f":"Inscription!K21","v":0},{"$f":"Inscription!L21","v":0},null,null,null,"",null,"",{"$f":"IF(F92=\"DNS\",\"0\",IF(F92=\"DQ\",\"0\",IF(F92=\"\",\"\",IF(F92=\"DNF\",\"0\",LOOKUP(H92,Valeurs!$A$4:'Valeurs'!$A$46,Valeurs!$B$4:'Valeurs'!$B$46)))))","v":""}]
[{"$f":"Inscription!K22","v":0},{"$f":"Inscription!L22","v":0},null,null,null,"",null,"",{"$f":"IF(F93=\"DNS\",\"0\",IF(F93=\"DQ\",\"0\",IF(F93=\"\",\"\",IF(F93=\"DNF\",\"0\",LOOKUP(H93,Valeurs!$A$4:'Valeurs'!$A$46,Valeurs!$B$4:'Valeurs'!$B$46)))))","v":""}]
[{"$f":"Inscription!K23","v":0},{"$f":"Inscription!L23","v":0},null,null,null,"",null,"",{"$f":"IF(F94=\"DNS\",\"0\",IF(F94=\"DQ\",\"0\",IF(F94=\"\",\"\",IF(F94=\"DNF\",\"0\",LOOKUP(H94,Valeurs!$A$4:'Valeurs'!$A$46,Valeurs!$B$4:'Valeurs'!$B$46)))))","v":""}]
[{"$f":"Inscription!K24","v":0},{"$f":"Inscription!L24","v":0},null,null,null,"",null,"",{"$f":"IF(F95=\"DNS\",\"0\",IF(F95=\"DQ\",\"0\",IF(F95=\"\",\"\",IF(F95=\"DNF\",\"0\",LOOKUP(H95,Valeurs!$A$4:'Valeurs'!$A$46,Valeurs!$B$4:'Valeurs'!$B$46)))))","v":""}]
[{"$f":"Inscription!K25","v":0},{"$f":"Inscription!L25","v":0},null,null,null,"",null,"",{"$f":"IF(F96=\"DNS\",\"0\",IF(F96=\"DQ\",\"0\",IF(F96=\"\",\"\",IF(F96=\"DNF\",\"0\",LOOKUP(H96,Valeurs!$A$4:'Valeurs'!$A$46,Valeurs!$B$4:'Valeurs'!$B$46)))))","v":""}]
[{"$f":"Inscription!K26","v":0},{"$f":"Inscription!L26","v":0},null,null,null,"",null,"",{"$f":"IF(F97=\"DNS\",\"0\",IF(F97=\"DQ\",\"0\",IF(F97=\"\",\"\",IF(F97=\"DNF\",\"0\",LOOKUP(H97,Valeurs!$A$4:'Valeurs'!$A$46,Valeurs!$B$4:'Valeurs'!$B$46)))))","v":""}]
[{"$f":"Inscription!K27","v":0},{"$f":"Inscription!L27","v":0},null,null,null,"",null,"",{"$f":"IF(F98=\"DNS\",\"0\",IF(F98=\"DQ\",\"0\",IF(F98=\"\",\"\",IF(F98=\"DNF\",\"0\",LOOKUP(H98,Valeurs!$A$4:'Valeurs'!$A$46,Valeurs!$B$4:'Valeurs'!$B$46)))))","v":""}]
[{"$f":"Inscription!K28","v":0},{"$f":"Inscription!L28","v":0},null,null,null,"",null,"",{"$f":"IF(F99=\"DNS\",\"0\",IF(F99=\"DQ\",\"0\",IF(F99=\"\",\"\",IF(F99=\"DNF\",\"0\",LOOKUP(H99,Valeurs!$A$4:'Valeurs'!$A$46,Valeurs!$B$4:'Valeurs'!$B$46)))))","v":""}]
[{"$f":"Inscription!K29","v":0},{"$f":"Inscription!L29","v":0},null,null,null,"",null,"",{"$f":"IF(F100=\"DNS\",\"0\",IF(F100=\"DQ\",\"0\",IF(F100=\"\",\"\",IF(F100=\"DNF\",\"0\",LOOKUP(H100,Valeurs!$A$4:'Valeurs'!$A$46,Valeurs!$B$4:'Valeurs'!$B$46)))))","v":""}]
[{"$f":"Inscription!K30","v":0},{"$f":"Inscription!L30","v":0},null,null,null,"",null,"",{"$f":"IF(F101=\"DNS\",\"0\",IF(F101=\"DQ\",\"0\",IF(F101=\"\",\"\",IF(F101=\"DNF\",\"0\",LOOKUP(H101,Valeurs!$A$4:'Valeurs'!$A$46,Valeurs!$B$4:'Valeurs'!$B$46)))))","v":""}]
[{"$f":"Inscription!K31","v":0},{"$f":"Inscription!L31","v":0},null,null,null,{"$f":"IF(D102=\"\",\"\",IF(D102=\"DQ\",\"DQ\",IF(D102=\"DNF\",\"DNF\",IF(D102=\"DNS\",\"DNS\",AVERAGE(D102,E102)))))","v":""},null,"",{"$f":"IF(F102=\"DNS\",\"0\",IF(F102=\"DQ\",\"0\",IF(F102=\"\",\"\",IF(F102=\"DNF\",\"0\",LOOKUP(H102,Valeurs!$A$4:'Valeurs'!$A$46,Valeurs!$B$4:'Valeurs'!$B$46)))))","v":""}]
[]
["Portage mannequin plein avec palmes - Senior Homme\nÉPREUVE PORTAGE MANNEQUIN + PALMES"]
[]
["Club","Nom",null,"Chrono 1","Chrono 2","Temps final",null,"R","Points"]
[{"$f":"Inscription!K2","v":"Dam'eauclès"},{"$f":"Inscription!L2","v":"Charles GIrouard"},null,"00:01:08.060","00:01:07.960",{"$f":"IF(D107=\"\",\"\",IF(D107=\"DQ\",\"DQ\",IF(D107=\"DNF\",\"DNF\",IF(D107=\"DNS\",\"DNS\",AVERAGE(D107,E107)))))","v":"00:01:08.010"},null,{"$f":"IF(F107=\"DNS\",\"DNS\",IF(F107=\"DQ\",\"DQ\",IF(F107=\"\",\"\",IF(F107=\"DNF\",\"DNF\",RANK(F107,$F$107:$F$136,1)))))","v":14},{"$f":"IF(F107=\"DNS\",\"0\",IF(F107=\"DQ\",\"0\",IF(F107=\"\",\"\",IF(F107=\"DNF\",\"0\",LOOKUP(H107,Valeurs!$A$4:'Valeurs'!$A$46,Valeurs!$B$4:'Valeurs'!$B$46)))))","v":3}]
[{"$f":"Inscription!K3","v":"SSSL"},{"$f":"Inscription!L3","v":"Félix Labelle"},null,"00:01:07.750","00:01:08.190","00:01:07.970",null,{"$f":"IF(F108=\"DNS\",\"DNS\",IF(F108=\"DQ\",\"DQ\",IF(F108=\"\",\"\",IF(F108=\"DNF\",\"DNF\",RANK(F108,$F$107:$F$136,1)))))","v":13},{"$f":"IF(F108=\"DNS\",\"0\",IF(F108=\"DQ\",\"0\",IF(F108=\"\",\"\",IF(F108=\"DNF\",\"0\",LOOKUP(H108,Valeurs!$A$4:'Valeurs'!$A$46,Valeurs!$B$4:'Valeurs'!$B$46)))))","v":4}]
[{"$f":"Inscription!K4","v":"SSSL"},{"$f":"Inscription!L4","v":"Thomas Willame"},null,"00:01:03.220","00:01:03.190","00:01:03.205",null,5,{"$f":"IF(F109=\"DNS\",\"0\",IF(F109=\"DQ\",\"0\",IF(F109=\"\",\"\",IF(F109=\"DNF\",\"0\",LOOKUP(H109,Valeurs!$A$4:'Valeurs'!$A$46,Valeurs!$B$4:'Valeurs'!$B$46)))))","v":13}]
[{"$f":"Inscription!K5","v":"Rouville Surf"},{"$f":"Inscription!L5","v":"Miguel Jean"},null,"00:01:05.690","00:01:05.530","00:01:05.610",null,10,{"$f":"IF(F110=\"DNS\",\"0\",IF(F110=\"DQ\",\"0\",IF(F110=\"\",\"\",IF(F110=\"DNF\",\"0\",LOOKUP(H110,Valeurs!$A$4:'Valeurs'!$A$46,Valeurs!$B$4:'Valeurs'!$B$46)))))","v":7}]
[{"$f":"Inscription!K6","v":"Rouville Surf"},{"$f":"Inscription!L6","v":"Dimitri Jean"},null,"00:01:06.310","00:01:06.310","00:01:06.310",null,11,{"$f":"IF(F111=\"DNS\",\"0\",IF(F111=\"DQ\",\"0\",IF(F111=\"\",\"\",IF(F111=\"DNF\",\"0\",LOOKUP(H111,Valeurs!$A$4:'Valeurs'!$A$46,Valeurs!$B$4:'Valeurs'!$B$46)))))","v":6}]
[{"$f":"Inscription!K7","v":"Rouville Surf"},{"$f":"Inscription!L7","v":"Kevin Bustamante-Cortés"},null,"00:00:51","00:00:51","00:00:51",null,1,{"$f":"IF(F112=\"DNS\",\"0\",IF(F112=\"DQ\",\"0\",IF(F112=\"\",\"\",IF(F112=\"DNF\",\"0\",LOOKUP(H112,Valeurs!$A$4:'Valeurs'!$A$46,Valeurs!$B$4:'Valeurs'!$B$46)))))","v":20}]
[{"$f":"Inscription!K8","v":"30deux"},{"$f":"Inscription!L8","v":"Thomas Lavoie"},null,"00:01:00.940","00:01:01.060","00:01:01",null,3,{"$f":"IF(F113=\"DNS\",\"0\",IF(F113=\"DQ\",\"0\",IF(F113=\"\",\"\",IF(F113=\"DNF\",\"0\",LOOKUP(H113,Valeurs!$A$4:'Valeurs'!$A$46,Valeurs!$B$4:'Valeurs'!$B$46)))))","v":16}]
[{"$f":"Inscription!K9","v":"30deux"},{"$f":"Inscription!L9","v":"Samuel Lévesque"},null,"00:01:12.500","00:01:13.060","00:01:12.780",null,16,{"$f":"IF(F114=\"DNS\",\"0\",IF(F114=\"DQ\",\"0\",IF(F114=\"\",\"\",IF(F114=\"DNF\",\"0\",LOOKUP(H114,Valeurs!$A$4:'Valeurs'!$A$46,Valeurs!$B$4:'Valeurs'!$B$46)))))","v":1}]
[{"$f":"Inscription!K10","v":"30deux"},{"$f":"Inscription!L10","v":"François Houle"},null,"00:01:04.850","00:01:04.440","00:01:04.645",null,8,{"$f":"IF(F115=\"DNS\",\"0\",IF(F115=\"DQ\",\"0\",IF(F115=\"\",\"\",IF(F115=\"DNF\",\"0\",LOOKUP(H115,Valeurs!$A$4:'Valeurs'!$A$46,Valeurs!$B$4:'Valeurs'!$B$46)))))","v":10}]
[{"$f":"Inscription!K11","v":"30deux"},{"$f":"Inscription!L11","v":"Maxime Chamberland"},null,"00:01:03.690","00:01:03.660","00:01:03.675",null,7,{"$f":"IF(F116=\"DNS\",\"0\",IF(F116=\"DQ\",\"0\",IF(F116=\"\",\"\",IF(F116=\"DNF\",\"0\",LOOKUP(H116,Valeurs!$A$4:'Valeurs'!$A$46,Valeurs!$B$4:'Valeurs'!$B$46)))))","v":11}]
[{"$f":"Inscription!K12","v":"30deux"},{"$f":"Inscription!L12","v":"Marco Patriarco"},null,"00:00:59.890","00:00:59.650","00:00:59.770",null,2,{"$f":"IF(F117=\"DNS\",\"0\",IF(F117=\"DQ\",\"0\",IF(F117=\"\",\"\",IF(F117=\"DNF\",\"0\",LOOKUP(H117,Valeurs!$A$4:'Valeurs'!$A$46,Valeurs!$B$4:'Valeurs'!$B$46)))))","v":18}]
[{"$f":"Inscription!K13","v":"CSRN"},{"$f":"Inscription!L13","v":"Ismaël Chakir"},null,"00:01:05.560","00:01:05.560","00:01:05.560",null,9,{"$f":"IF(F118=\"DNS\",\"0\",IF(F118=\"DQ\",\"0\",IF(F118=\"\",\"\",IF(F118=\"DNF\",\"0\",LOOKUP(H118,Valeurs!$A$4:'Valeurs'!$A$46,Valeurs!$B$4:'Valeurs'!$B$46)))))","v":8}]
[{"$f":"Inscription!K14","v":"CSRN"},{"$f":"Inscription!L14","v":"Kamil Romdhani"},null,"00:01:03.630","00:01:03.630","00:01:03.630",null,6,{"$f":"IF(F119=\"DNS\",\"0\",IF(F119=\"DQ\",\"0\",IF(F119=\"\",\"\",IF(F119=\"DNF\",\"0\",LOOKUP(H119,Valeurs!$A$4:'Valeurs'!$A$46,Valeurs!$B$4:'Valeurs'!$B$46)))))","v":12}]
[{"$f":"Inscription!K15","v":"CSRN"},{"$f":"Inscription!L15","v":"William Laurence"},null,"00:01:21.840","00:01:21.780","00:01:21.810",null,17,{"$f":"IF(F120=\"DNS\",\"0\",IF(F120=\"DQ\",\"0\",IF(F120=\"\",\"\",IF(F120=\"DNF\",\"0\",LOOKUP(H120,Valeurs!$A$4:'Valeurs'!$A$46,Valeurs!$B$4:'Valeurs'!$B$46)))))","v":0}]
[{"$f":"Inscription!K16","v":"Gatineau"},{"$f":"Inscription!L16","v":"Olivier Breton"},null,"00:01:02.250","00:01:02.600","00:01:02.425",null,4,{"$f":"IF(F121=\"DNS\",\"0\",IF(F121=\"DQ\",\"0\",IF(F121=\"\",\"\",IF(F121=\"DNF\",\"0\",LOOKUP(H121,Valeurs!$A$4:'Valeurs'!$A$46,Valeurs!$B$4:'Valeurs'!$B$46)))))","v":14}]
[{"$f":"Inscription!K17","v":"Narval"},{"$f":"Inscription!L17","v":"Alex Tremblay"},null,"00:01:10.410","00:01:10.470","00:01:10.440",null,15,{"$f":"IF(F122=\"DNS\",\"0\",IF(F122=\"DQ\",\"0\",IF(F122=\"\",\"\",IF(F122=\"DNF\",\"0\",LOOKUP(H122,Valeurs!$A$4:'Valeurs'!$A$46,Valeurs!$B$4:'Valeurs'!$B$46)))))","v":2}]
[{"$f":"Inscription!K18","v":"Narval"},{"$f":"Inscription!L18","v":"David Comeau"},null,"00:01:07.030","00:01:07.120","00:01:07.075",null,12,{"$f":"IF(F123=\"DNS\",\"0\",IF(F123=\"DQ\",\"0\",IF(F123=\"\",\"\",IF(F123=\"DNF\",\"0\",LOOKUP(H123,Valeurs!$A$4:'Valeurs'!$A$46,Valeurs!$B$4:'Valeurs'!$B$46)))))","v":5}]
[{"$f":"Inscription!K19","v":0},{"$f":"Inscription!L19","v":0},null,null,null,{"$f":"IF(D124=\"\",\"\",IF(D124=\"DQ\",\"DQ\",IF(D124=\"DNF\",\"DNF\",IF(D124=\"DNS\",\"DNS\",AVERAGE(D124,E124)))))","v":""},null,"",{"$f":"IF(F124=\"DNS\",\"0\",IF(F124=\"DQ\",\"0\",IF(F124=\"\",\"\",IF(F124=\"DNF\",\"0\",LOOKUP(H124,Valeurs!$A$4:'Valeurs'!$A$46,Valeurs!$B$4:'Valeurs'!$B$46)))))","v":""}]
[{"$f":"Inscription!K20","v":0},{"$f":"Inscription!L20","v":0},null,null,null,"",null,"",{"$f":"IF(F125=\"DNS\",\"0\",IF(F125=\"DQ\",\"0\",IF(F125=\"\",\"\",IF(F125=\"DNF\",\"0\",LOOKUP(H125,Valeurs!$A$4:'Valeurs'!$A$46,Valeurs!$B$4:'Valeurs'!$B$46)))))","v":""}]
[{"$f":"Inscription!K21","v":0},{"$f":"Inscription!L21","v":0},null,null,null,"",null,"",{"$f":"IF(F126=\"DNS\",\"0\",IF(F126=\"DQ\",\"0\",IF(F126=\"\",\"\",IF(F126=\"DNF\",\"0\",LOOKUP(H126,Valeurs!$A$4:'Valeurs'!$A$46,Valeurs!$B$4:'Valeurs'!$B$46)))))","v":""}]
[{"$f":"Inscription!K22","v":0},{"$f":"Inscription!L22","v":0},null,null,null,"",null,"",{"$f":"IF(F127=\"DNS\",\"0\",IF(F127=\"DQ\",\"0\",IF(F127=\"\",\"\",IF(F127=\"DNF\",\"0\",LOOKUP(H127,Valeurs!$A$4:'Valeurs'!$A$46,Valeurs!$B$4:'Valeurs'!$B$46)))))","v":""}]
[{"$f":"Inscription!K23","v":0},{"$f":"Inscription!L23","v":0},null,null,null,"",null,"",{"$f":"IF(F128=\"DNS\",\"0\",IF(F128=\"DQ\",\"0\",IF(F128=\"\",\"\",IF(F128=\"DNF\",\"0\",LOOKUP(H128,Valeurs!$A$4:'Valeurs'!$A$46,Valeurs!$B$4:'Valeurs'!$B$46)))))","v":""}]
[{"$f":"Inscription!K24","v":0},{"$f":"Inscription!L24","v":0},null,null,null,"",null,"",{"$f":"IF(F129=\"DNS\",\"0\",IF(F129=\"DQ\",\"0\",IF(F129=\"\",\"\",IF(F129=\"DNF\",\"0\",LOOKUP(H129,Valeurs!$A$4:'Valeurs'!$A$46,Valeurs!$B$4:'Valeurs'!$B$46)))))","v":""}]
[{"$f":"Inscription!K25","v":0},{"$f":"Inscription!L25","v":0},null,null,null,"",null,"",{"$f":"IF(F130=\"DNS\",\"0\",IF(F130=\"DQ\",\"0\",IF(F130=\"\",\"\",IF(F130=\"DNF\",\"0\",LOOKUP(H130,Valeurs!$A$4:'Valeurs'!$A$46,Valeurs!$B$4:'Valeurs'!$B$46)))))","v":""}]
[{"$f":"Inscription!K26","v":0},{"$f":"Inscription!L26","v":0},null,null,null,"",null,"",{"$f":"IF(F131=\"DNS\",\"0\",IF(F131=\"DQ\",\"0\",IF(F131=\"\",\"\",IF(F131=\"DNF\",\"0\",LOOKUP(H131,Valeurs!$A$4:'Valeurs'!$A$46,Valeurs!$B$4:'Valeurs'!$B$46)))))","v":""}]
[{"$f":"Inscription!K27","v":0},{"$f":"Inscription!L27","v":0},null,null,null,"",null,"",{"$f":"IF(F132=\"DNS\",\"0\",IF(F132=\"DQ\",\"0\",IF(F132=\"\",\"\",IF(F132=\"DNF\",\"0\",LOOKUP(H132,Valeurs!$A$4:'Valeurs'!$A$46,Valeurs!$B$4:'Valeurs'!$B$46)))))","v":""}]
[{"$f":"Inscription!K28","v":0},{"$f":"Inscription!L28","v":0},null,null,null,"",null,"",{"$f":"IF(F133=\"DNS\",\"0\",IF(F133=\"DQ\",\"0\",IF(F133=\"\",\"\",IF(F133=\"DNF\",\"0\",LOOKUP(H133,Valeurs!$A$4:'Valeurs'!$A$46,Valeurs!$B$4:'Valeurs'!$B$46)))))","v":""}]
[{"$f":"Inscription!K29","v":0},{"$f":"Inscription!L29","v":0},null,null,null,"",null,"",{"$f":"IF(F134=\"DNS\",\"0\",IF(F134=\"DQ\",\"0\",IF(F134=\"\",\"\",IF(F134=\"DNF\",\"0\",LOOKUP(H134,Valeurs!$A$4:'Valeurs'!$A$46,Valeurs!$B$4:'Valeurs'!$B$46)))))","v":""}]
[{"$f":"Inscription!K30","v":0},{"$f":"Inscription!L30","v":0},null,null,null,"",null,"",{"$f":"IF(F135=\"DNS\",\"0\",IF(F135=\"DQ\",\"0\",IF(F135=\"\",\"\",IF(F135=\"DNF\",\"0\",LOOKUP(H135,Valeurs!$A$4:'Valeurs'!$A$46,Valeurs!$B$4:'Valeurs'!$B$46)))))","v":""}]
[{"$f":"Inscription!K31","v":0},{"$f":"Inscription!L31","v":0},null,null,null,{"$f":"IF(D136=\"\",\"\",IF(D136=\"DQ\",\"DQ\",IF(D136=\"DNF\",\"DNF\",IF(D136=\"DNS\",\"DNS\",AVERAGE(D136,E136)))))","v":""},null,"",{"$f":"IF(F136=\"DNS\",\"0\",IF(F136=\"DQ\",\"0\",IF(F136=\"\",\"\",IF(F136=\"DNF\",\"0\",LOOKUP(H136,Valeurs!$A$4:'Valeurs'!$A$46,Valeurs!$B$4:'Valeurs'!$B$46)))))","v":""}]
[]
["Portage mannequin plein - Senior Homme\nÉPREUVE PORTAGE MANNEQUIN"]
[]
["Club","Nom",null,"Chrono 1","Chrono 2","Temps final",null,"R","Points"]
[{"$f":"Inscription!K2","v":"Dam'eauclès"},{"$f":"Inscription!L2","v":"Charles GIrouard"},null,"00:00:40.970","00:00:40.880",{"$f":"IF(D141=\"\",\"\",IF(D141=\"DQ\",\"DQ\",IF(D141=\"DNF\",\"DNF\",IF(D141=\"DNS\",\"DNS\",AVERAGE(D141,E141)))))","v":"00:00:40.925"},null,{"$f":"IF(F141=\"DNS\",\"DNS\",IF(F141=\"DQ\",\"DQ\",IF(F141=\"\",\"\",IF(F141=\"DNF\",\"DNF\",RANK(F141,$F$141:$F$170,1)))))","v":6},{"$f":"IF(F141=\"DNS\",\"0\",IF(F141=\"DQ\",\"0\",IF(F141=\"\",\"\",IF(F141=\"DNF\",\"0\",LOOKUP(H141,Valeurs!$A$4:'Valeurs'!$A$46,Valeurs!$B$4:'Valeurs'!$B$46)))))","v":12}]
[{"$f":"Inscription!K3","v":"SSSL"},{"$f":"Inscription!L3","v":"Félix Labelle"},null,"00:00:49.120","00:00:48.940",{"$f":"IF(D142=\"\",\"\",IF(D142=\"DQ\",\"DQ\",IF(D142=\"DNF\",\"DNF\",IF(D142=\"DNS\",\"DNS\",AVERAGE(D142,E142)))))","v":"00:00:49.030"},null,{"$f":"IF(F142=\"DNS\",\"DNS\",IF(F142=\"DQ\",\"DQ\",IF(F142=\"\",\"\",IF(F142=\"DNF\",\"DNF\",RANK(F142,$F$141:$F$170,1)))))","v":15},{"$f":"IF(F142=\"DNS\",\"0\",IF(F142=\"DQ\",\"0\",IF(F142=\"\",\"\",IF(F142=\"DNF\",\"0\",LOOKUP(H142,Valeurs!$A$4:'Valeurs'!$A$46,Valeurs!$B$4:'Valeurs'!$B$46)))))","v":2}]
[{"$f":"Inscription!K4","v":"SSSL"},{"$f":"Inscription!L4","v":"Thomas Willame"},null,"00:00:42.220","00:00:42.370","00:00:42.295",null,10,{"$f":"IF(F143=\"DNS\",\"0\",IF(F143=\"DQ\",\"0\",IF(F143=\"\",\"\",IF(F143=\"DNF\",\"0\",LOOKUP(H143,Valeurs!$A$4:'Valeurs'!$A$46,Valeurs!$B$4:'Valeurs'!$B$46)))))","v":7}]
[{"$f":"Inscription!K5","v":"Rouville Surf"},{"$f":"Inscription!L5","v":"Miguel Jean"},null,"00:00:39.820","00:00:39.840","00:00:39.830",null,5,{"$f":"IF(F144=\"DNS\",\"0\",IF(F144=\"DQ\",\"0\",IF(F144=\"\",\"\",IF(F144=\"DNF\",\"0\",LOOKUP(H144,Valeurs!$A$4:'Valeurs'!$A$46,Valeurs!$B$4:'Valeurs'!$B$46)))))","v":13}]
[{"$f":"Inscription!K6","v":"Rouville Surf"},{"$f":"Inscription!L6","v":"Dimitri Jean"},null,"00:00:41.440","00:00:41.310","00:00:41.375",null,7,{"$f":"IF(F145=\"DNS\",\"0\",IF(F145=\"DQ\",\"0\",IF(F145=\"\",\"\",IF(F145=\"DNF\",\"0\",LOOKUP(H145,Valeurs!$A$4:'Valeurs'!$A$46,Valeurs!$B$4:'Valeurs'!$B$46)))))","v":11}]
[{"$f":"Inscription!K7","v":"Rouville Surf"},{"$f":"Inscription!L7","v":"Kevin Bustamante-Cortés"},null,"00:00:32.630","00:00:32.880","00:00:32.755",null,1,{"$f":"IF(F146=\"DNS\",\"0\",IF(F146=\"DQ\",\"0\",IF(F146=\"\",\"\",IF(F146=\"DNF\",\"0\",LOOKUP(H146,Valeurs!$A$4:'Valeurs'!$A$46,Valeurs!$B$4:'Valeurs'!$B$46)))))","v":20}]
[{"$f":"Inscription!K8","v":"30deux"},{"$f":"Inscription!L8","v":"Thomas Lavoie"},null,"00:00:38.840","00:00:38.810","00:00:38.825",null,3,{"$f":"IF(F147=\"DNS\",\"0\",IF(F147=\"DQ\",\"0\",IF(F147=\"\",\"\",IF(F147=\"DNF\",\"0\",LOOKUP(H147,Valeurs!$A$4:'Valeurs'!$A$46,Valeurs!$B$4:'Valeurs'!$B$46)))))","v":16}]
[{"$f":"Inscription!K9","v":"30deux"},{"$f":"Inscription!L9","v":"Samuel Lévesque"},null,"00:00:50.750","00:00:50.410","00:00:50.580",null,16,{"$f":"IF(F148=\"DNS\",\"0\",IF(F148=\"DQ\",\"0\",IF(F148=\"\",\"\",IF(F148=\"DNF\",\"0\",LOOKUP(H148,Valeurs!$A$4:'Valeurs'!$A$46,Valeurs!$B$4:'Valeurs'!$B$46)))))","v":1}]
[{"$f":"Inscription!K10","v":"30deux"},{"$f":"Inscription!L10","v":"François Houle"},null,"00:00:41.660","00:00:41.440","00:00:41.550",null,9,{"$f":"IF(F149=\"DNS\",\"0\",IF(F149=\"DQ\",\"0\",IF(F149=\"\",\"\",IF(F149=\"DNF\",\"0\",LOOKUP(H149,Valeurs!$A$4:'Valeurs'!$A$46,Valeurs!$B$4:'Valeurs'!$B$46)))))","v":8}]
[{"$f":"Inscription!K11","v":"30deux"},{"$f":"Inscription!L11","v":"Maxime Chamberland"},null,"00:00:37.690","00:00:37.780","00:00:37.735",null,2,{"$f":"IF(F150=\"DNS\",\"0\",IF(F150=\"DQ\",\"0\",IF(F150=\"\",\"\",IF(F150=\"DNF\",\"0\",LOOKUP(H150,Valeurs!$A$4:'Valeurs'!$A$46,Valeurs!$B$4:'Valeurs'!$B$46)))))","v":18}]
[{"$f":"Inscription!K12","v":"30deux"},{"$f":"Inscription!L12","v":"Marco Patriarco"},null,"00:00:41.570","00:00:41.500","00:00:41.535",null,8,{"$f":"IF(F151=\"DNS\",\"0\",IF(F151=\"DQ\",\"0\",IF(F151=\"\",\"\",IF(F151=\"DNF\",\"0\",LOOKUP(H151,Valeurs!$A$4:'Valeurs'!$A$46,Valeurs!$B$4:'Valeurs'!$B$46)))))","v":10}]
[{"$f":"Inscription!K13","v":"CSRN"},{"$f":"Inscription!L13","v":"Ismaël Chakir"},null,"00:00:42.690","00:00:42.910","00:00:42.800",null,11,{"$f":"IF(F152=\"DNS\",\"0\",IF(F152=\"DQ\",\"0\",IF(F152=\"\",\"\",IF(F152=\"DNF\",\"0\",LOOKUP(H152,Valeurs!$A$4:'Valeurs'!$A$46,Valeurs!$B$4:'Valeurs'!$B$46)))))","v":6}]
[{"$f":"Inscription!K14","v":"CSRN"},{"$f":"Inscription!L14","v":"Kamil Romdhani"},null,"00:00:38.940","00:00:38.960","00:00:38.950",null,4,{"$f":"IF(F153=\"DNS\",\"0\",IF(F153=\"DQ\",\"0\",IF(F153=\"\",\"\",IF(F153=\"DNF\",\"0\",LOOKUP(H153,Valeurs!$A$4:'Valeurs'!$A$46,Valeurs!$B$4:'Valeurs'!$B$46)))))","v":14}]
[{"$f":"Inscription!K15","v":"CSRN"},{"$f":"Inscription!L15","v":"William Laurence"},null,"00:00:51.530","00:00:51.780","00:00:51.655",null,17,{"$f":"IF(F154=\"DNS\",\"0\",IF(F154=\"DQ\",\"0\",IF(F154=\"\",\"\",IF(F154=\"DNF\",\"0\",LOOKUP(H154,Valeurs!$A$4:'Valeurs'!$A$46,Valeurs!$B$4:'Valeurs'!$B$46)))))","v":0}]
[{"$f":"Inscription!K16","v":"Gatineau"},{"$f":"Inscription!L16","v":"Olivier Breton"},null,"00:00:43.470","00:00:43.560","00:00:43.515",null,12,{"$f":"IF(F155=\"DNS\",\"0\",IF(F155=\"DQ\",\"0\",IF(F155=\"\",\"\",IF(F155=\"DNF\",\"0\",LOOKUP(H155,Valeurs!$A$4:'Valeurs'!$A$46,Valeurs!$B$4:'Valeurs'!$B$46)))))","v":5}]
[{"$f":"Inscription!K17","v":"Narval"},{"$f":"Inscription!L17","v":"Alex Tremblay"},null,"00:00:43.720","00:00:43.780","00:00:43.750",null,13,{"$f":"IF(F156=\"DNS\",\"0\",IF(F156=\"DQ\",\"0\",IF(F156=\"\",\"\",IF(F156=\"DNF\",\"0\",LOOKUP(H156,Valeurs!$A$4:'Valeurs'!$A$46,Valeurs!$B$4:'Valeurs'!$B$46)))))","v":4}]
[{"$f":"Inscription!K18","v":"Narval"},{"$f":"Inscription!L18","v":"David Comeau"},null,"00:00:47.900","00:00:47.750","00:00:47.825",null,14,{"$f":"IF(F157=\"DNS\",\"0\",IF(F157=\"DQ\",\"0\",IF(F157=\"\",\"\",IF(F157=\"DNF\",\"0\",LOOKUP(H157,Valeurs!$A$4:'Valeurs'!$A$46,Valeurs!$B$4:'Valeurs'!$B$46)))))","v":3}]
[{"$f":"Inscription!K19","v":0},{"$f":"Inscription!L19","v":0},null,null,null,"",null,"",{"$f":"IF(F158=\"DNS\",\"0\",IF(F158=\"DQ\",\"0\",IF(F158=\"\",\"\",IF(F158=\"DNF\",\"0\",LOOKUP(H158,Valeurs!$A$4:'Valeurs'!$A$46,Valeurs!$B$4:'Valeurs'!$B$46)))))","v":""}]
[{"$f":"Inscription!K20","v":0},{"$f":"Inscription!L20","v":0},null,null,null,"",null,"",{"$f":"IF(F159=\"DNS\",\"0\",IF(F159=\"DQ\",\"0\",IF(F159=\"\",\"\",IF(F159=\"DNF\",\"0\",LOOKUP(H159,Valeurs!$A$4:'Valeurs'!$A$46,Valeurs!$B$4:'Valeurs'!$B$46)))))","v":""}]
[{"$f":"Inscription!K21","v":0},{"$f":"Inscription!L21","v":0},null,null,null,"",null,"",{"$f":"IF(F160=\"DNS\",\"0\",IF(F160=\"DQ\",\"0\",IF(F160=\"\",\"\",IF(F160=\"DNF\",\"0\",LOOKUP(H160,Valeurs!$A$4:'Valeurs'!$A$46,Valeurs!$B$4:'Valeurs'!$B$46)))))","v":""}]
[{"$f":"Inscription!K22","v":0},{"$f":"Inscription!L22","v":0},null,null,null,"",null,"",{"$f":"IF(F161=\"DNS\",\"0\",IF(F161=\"DQ\",\"0\",IF(F161=\"\",\"\",IF(F161=\"DNF\",\"0\",LOOKUP(H161,Valeurs!$A$4:'Valeurs'!$A$46,Valeurs!$B$4:'Valeurs'!$B$46)))))","v":""}]
[{"$f":"Inscription!K23","v":0},{"$f":"Inscription!L23","v":0},null,null,null,"",null,"",{"$f":"IF(F162=\"DNS\",\"0\",IF(F162=\"DQ\",\"0\",IF(F162=\"\",\"\",IF(F162=\"DNF\",\"0\",LOOKUP(H162,Valeurs!$A$4:'Valeurs'!$A$46,Valeurs!$B$4:'Valeurs'!$B$46)))))","v":""}]
[{"$f":"Inscription!K24","v":0},{"$f":"Inscription!L24","v":0},null,null,null,"",null,"",{"$f":"IF(F163=\"DNS\",\"0\",IF(F163=\"DQ\",\"0\",IF(F163=\"\",\"\",IF(F163=\"DNF\",\"0\",LOOKUP(H163,Valeurs!$A$4:'Valeurs'!$A$46,Valeurs!$B$4:'Valeurs'!$B$46)))))","v":""}]
[{"$f":"Inscription!K25","v":0},{"$f":"Inscription!L25","v":0},null,null,null,"",null,"",{"$f":"IF(F164=\"DNS\",\"0\",IF(F164=\"DQ\",\"0\",IF(F164=\"\",\"\",IF(F164=\"DNF\",\"0\",LOOKUP(H164,Valeurs!$A$4:'Valeurs'!$A$46,Valeurs!$B$4:'Valeurs'!$B$46)))))","v":""}]
[{"$f":"Inscription!K26","v":0},{"$f":"Inscription!L26","v":0},null,null,null,"",null,"",{"$f":"IF(F165=\"DNS\",\"0\",IF(F165=\"DQ\",\"0\",IF(F165=\"\",\"\",IF(F165=\"DNF\",\"0\",LOOKUP(H165,Valeurs!$A$4:'Valeurs'!$A$46,Valeurs!$B$4:'Valeurs'!$B$46)))))","v":""}]
[{"$f":"Inscription!K27","v":0},{"$f":"Inscription!L27","v":0},null,null,null,"",null,"",{"$f":"IF(F166=\"DNS\",\"0\",IF(F166=\"DQ\",\"0\",IF(F166=\"\",\"\",IF(F166=\"DNF\",\"0\",LOOKUP(H166,Valeurs!$A$4:'Valeurs'!$A$46,Valeurs!$B$4:'Valeurs'!$B$46)))))","v":""}]
[{"$f":"Inscription!K28","v":0},{"$f":"Inscription!L28","v":0},null,null,null,"",null,"",{"$f":"IF(F167=\"DNS\",\"0\",IF(F167=\"DQ\",\"0\",IF(F167=\"\",\"\",IF(F167=\"DNF\",\"0\",LOOKUP(H167,Valeurs!$A$4:'Valeurs'!$A$46,Valeurs!$B$4:'Valeurs'!$B$46)))))","v":""}]
[{"$f":"Inscription!K29","v":0},{"$f":"Inscription!L29","v":0},null,null,null,"",null,"",{"$f":"IF(F168=\"DNS\",\"0\",IF(F168=\"DQ\",\"0\",IF(F168=\"\",\"\",IF(F168=\"DNF\",\"0\",LOOKUP(H168,Valeurs!$A$4:'Valeurs'!$A$46,Valeurs!$B$4:'Valeurs'!$B$46)))))","v":""}]
[{"$f":"Inscription!K30","v":0},{"$f":"Inscription!L30","v":0},null,null,null,"",null,"",{"$f":"IF(F169=\"DNS\",\"0\",IF(F169=\"DQ\",\"0\",IF(F169=\"\",\"\",IF(F169=\"DNF\",\"0\",LOOKUP(H169,Valeurs!$A$4:'Valeurs'!$A$46,Valeurs!$B$4:'Valeurs'!$B$46)))))","v":""}]
[{"$f":"Inscription!K31","v":0},{"$f":"Inscription!L31","v":0},null,null,null,"",null,"",{"$f":"IF(F170=\"DNS\",\"0\",IF(F170=\"DQ\",\"0\",IF(F170=\"\",\"\",IF(F170=\"DNF\",\"0\",LOOKUP(H170,Valeurs!$A$4:'Valeurs'!$A$46,Valeurs!$B$4:'Valeurs'!$B$46)))))","v":""}]
[]
["Sauveteur d'acier - Senior Homme\nÉPREUVE SAUVETEUR D'ACIER"]
[]
["Club","Nom",null,"Chrono 1","Chrono 2","Temps final",null,"R","Points"]
[{"$f":"Inscription!K2","v":"Dam'eauclès"},{"$f":"Inscription!L2","v":"Charles GIrouard"},null,"00:02:52.280","00:02:53.150",{"$f":"IF(D175=\"\",\"\",IF(D175=\"DQ\",\"DQ\",IF(D175=\"DNF\",\"DNF\",IF(D175=\"DNS\",\"DNS\",AVERAGE(D175,E175)))))","v":"00:02:52.715"},null,{"$f":"IF(F175=\"DNS\",\"DNS\",IF(F175=\"DQ\",\"DQ\",IF(F175=\"\",\"\",IF(F175=\"DNF\",\"DNF\",RANK(F175,$F$174:$F$204,1)))))","v":2},{"$f":"IF(F175=\"DNS\",\"0\",IF(F175=\"DQ\",\"0\",IF(F175=\"\",\"\",IF(F175=\"DNF\",\"0\",LOOKUP(H175,Valeurs!$A$4:'Valeurs'!$A$46,Valeurs!$B$4:'Valeurs'!$B$46)))))","v":18}]
[{"$f":"Inscription!K3","v":"SSSL"},{"$f":"Inscription!L3","v":"Félix Labelle"},null,"00:03:23.750","00:03:24.690",{"$f":"IF(D176=\"\",\"\",IF(D176=\"DQ\",\"DQ\",IF(D176=\"DNF\",\"DNF\",IF(D176=\"DNS\",\"DNS\",AVERAGE(D176,E176)))))","v":"00:03:24.220"},null,{"$f":"IF(F176=\"DNS\",\"DNS\",IF(F176=\"DQ\",\"DQ\",IF(F176=\"\",\"\",IF(F176=\"DNF\",\"DNF\",RANK(F176,$F$174:$F$204,1)))))","v":12},{"$f":"IF(F176=\"DNS\",\"0\",IF(F176=\"DQ\",\"0\",IF(F176=\"\",\"\",IF(F176=\"DNF\",\"0\",LOOKUP(H176,Valeurs!$A$4:'Valeurs'!$A$46,Valeurs!$B$4:'Valeurs'!$B$46)))))","v":5}]
[{"$f":"Inscription!K4","v":"SSSL"},{"$f":"Inscription!L4","v":"Thomas Willame"},null,"00:03:05.940","00:03:06.140","00:03:06.040",null,7,{"$f":"IF(F177=\"DNS\",\"0\",IF(F177=\"DQ\",\"0\",IF(F177=\"\",\"\",IF(F177=\"DNF\",\"0\",LOOKUP(H177,Valeurs!$A$4:'Valeurs'!$A$46,Valeurs!$B$4:'Valeurs'!$B$46)))))","v":11}]
[{"$f":"Inscription!K5","v":"Rouville Surf"},{"$f":"Inscription!L5","v":"Miguel Jean"},null,"00:03:10.030","00:03:09.970","00:03:10",null,9,{"$f":"IF(F178=\"DNS\",\"0\",IF(F178=\"DQ\",\"0\",IF(F178=\"\",\"\",IF(F178=\"DNF\",\"0\",LOOKUP(H178,Valeurs!$A$4:'Valeurs'!$A$46,Valeurs!$B$4:'Valeurs'!$B$46)))))","v":8}]
[{"$f":"Inscription!K6","v":"Rouville Surf"},{"$f":"Inscription!L6","v":"Dimitri Jean"},null,"00:03:19.190","00:03:18.880","00:03:19.035",null,11,{"$f":"IF(F179=\"DNS\",\"0\",IF(F179=\"DQ\",\"0\",IF(F179=\"\",\"\",IF(F179=\"DNF\",\"0\",LOOKUP(H179,Valeurs!$A$4:'Valeurs'!$A$46,Valeurs!$B$4:'Valeurs'!$B$46)))))","v":6}]
[{"$f":"Inscription!K7","v":"Rouville Surf"},{"$f":"Inscription!L7","v":"Kevin Bustamante-Cortés"},null,"DQ","DQ","DQ",null,"DQ",{"$f":"IF(F180=\"DNS\",\"0\",IF(F180=\"DQ\",\"0\",IF(F180=\"\",\"\",IF(F180=\"DNF\",\"0\",LOOKUP(H180,Valeurs!$A$4:'Valeurs'!$A$46,Valeurs!$B$4:'Valeurs'!$B$46)))))","v":"0"}]
[{"$f":"Inscription!K8","v":"30deux"},{"$f":"Inscription!L8","v":"Thomas Lavoie"},null,"00:02:45.600","00:02:45.690","00:02:45.645",null,1,{"$f":"IF(F181=\"DNS\",\"0\",IF(F181=\"DQ\",\"0\",IF(F181=\"\",\"\",IF(F181=\"DNF\",\"0\",LOOKUP(H181,Valeurs!$A$4:'Valeurs'!$A$46,Valeurs!$B$4:'Valeurs'!$B$46)))))","v":20}]
[{"$f":"Inscription!K9","v":"30deux"},{"$f":"Inscription!L9","v":"Samuel Lévesque"},null,"00:03:40.780","00:03:40.840","00:03:40.810",null,13,{"$f":"IF(F182=\"DNS\",\"0\",IF(F182=\"DQ\",\"0\",IF(F182=\"\",\"\",IF(F182=\"DNF\",\"0\",LOOKUP(H182,Valeurs!$A$4:'Valeurs'!$A$46,Valeurs!$B$4:'Valeurs'!$B$46)))))","v":4}]
[{"$f":"Inscription!K10","v":"30deux"},{"$f":"Inscription!L10","v":"François Houle"},null,"00:03:04.090","00:03:04","00:03:04.045",null,6,{"$f":"IF(F183=\"DNS\",\"0\",IF(F183=\"DQ\",\"0\",IF(F183=\"\",\"\",IF(F183=\"DNF\",\"0\",LOOKUP(H183,Valeurs!$A$4:'Valeurs'!$A$46,Valeurs!$B$4:'Valeurs'!$B$46)))))","v":12}]
[{"$f":"Inscription!K11","v":"30deux"},{"$f":"Inscription!L11","v":"Maxime Chamberland"},null,"00:02:55.500","00:02:55.410","00:02:55.455",null,3,{"$f":"IF(F184=\"DNS\",\"0\",IF(F184=\"DQ\",\"0\",IF(F184=\"\",\"\",IF(F184=\"DNF\",\"0\",LOOKUP(H184,Valeurs!$A$4:'Valeurs'!$A$46,Valeurs!$B$4:'Valeurs'!$B$46)))))","v":16}]
[{"$f":"Inscription!K12","v":"30deux"},{"$f":"Inscription!L12","v":"Marco Patriarco"},null,"DNS","DNS","DNS",null,"DNS",{"$f":"IF(F185=\"DNS\",\"0\",IF(F185=\"DQ\",\"0\",IF(F185=\"\",\"\",IF(F185=\"DNF\",\"0\",LOOKUP(H185,Valeurs!$A$4:'Valeurs'!$A$46,Valeurs!$B$4:'Valeurs'!$B$46)))))","v":"0"}]
[{"$f":"Inscription!K13","v":"CSRN"},{"$f":"Inscription!L13","v":"Ismaël Chakir"},null,"00:03:10.060","00:03:09.470","00:03:09.765",null,8,{"$f":"IF(F186=\"DNS\",\"0\",IF(F186=\"DQ\",\"0\",IF(F186=\"\",\"\",IF(F186=\"DNF\",\"0\",LOOKUP(H186,Valeurs!$A$4:'Valeurs'!$A$46,Valeurs!$B$4:'Valeurs'!$B$46)))))","v":10}]
[{"$f":"Inscription!K14","v":"CSRN"},{"$f":"Inscription!L14","v":"Kamil Romdhani"},null,"00:03:03.850","00:03:03.850","00:03:03.850",null,5,{"$f":"IF(F187=\"DNS\",\"0\",IF(F187=\"DQ\",\"0\",IF(F187=\"\",\"\",IF(F187=\"DNF\",\"0\",LOOKUP(H187,Valeurs!$A$4:'Valeurs'!$A$46,Valeurs!$B$4:'Valeurs'!$B$46)))))","v":13}]
[{"$f":"Inscription!K15","v":"CSRN"},{"$f":"Inscription!L15","v":"William Laurence"},null,"00:04:02.280","00:04:02.370","00:04:02.325",null,14,{"$f":"IF(F188=\"DNS\",\"0\",IF(F188=\"DQ\",\"0\",IF(F188=\"\",\"\",IF(F188=\"DNF\",\"0\",LOOKUP(H188,Valeurs!$A$4:'Valeurs'!$A$46,Valeurs!$B$4:'Valeurs'!$B$46)))))","v":3}]
[{"$f":"Inscription!K16","v":"Gatineau"},{"$f":"Inscription!L16","v":"Olivier Breton"},null,"00:03:12.650","00:03:13.410","00:03:13.030",null,10,{"$f":"IF(F189=\"DNS\",\"0\",IF(F189=\"DQ\",\"0\",IF(F189=\"\",\"\",IF(F189=\"DNF\",\"0\",LOOKUP(H189,Valeurs!$A$4:'Valeurs'!$A$46,Valeurs!$B$4:'Valeurs'!$B$46)))))","v":7}]
[{"$f":"Inscription!K17","v":"Narval"},{"$f":"Inscription!L17","v":"Alex Tremblay"},null,"DQ","DQ","DQ",null,"DQ",{"$f":"IF(F190=\"DNS\",\"0\",IF(F190=\"DQ\",\"0\",IF(F190=\"\",\"\",IF(F190=\"DNF\",\"0\",LOOKUP(H190,Valeurs!$A$4:'Valeurs'!$A$46,Valeurs!$B$4:'Valeurs'!$B$46)))))","v":"0"}]
[{"$f":"Inscription!K18","v":"Narval"},{"$f":"Inscription!L18","v":"David Comeau"},null,"00:03:02","00:03:01.810","00:03:01.905",null,4,{"$f":"IF(F191=\"DNS\",\"0\",IF(F191=\"DQ\",\"0\",IF(F191=\"\",\"\",IF(F191=\"DNF\",\"0\",LOOKUP(H191,Valeurs!$A$4:'Valeurs'!$A$46,Valeurs!$B$4:'Valeurs'!$B$46)))))","v":14}]
[{"$f":"Inscription!K19","v":0},{"$f":"Inscription!L19","v":0},null,null,null,"",null,"",{"$f":"IF(F192=\"DNS\",\"0\",IF(F192=\"DQ\",\"0\",IF(F192=\"\",\"\",IF(F192=\"DNF\",\"0\",LOOKUP(H192,Valeurs!$A$4:'Valeurs'!$A$46,Valeurs!$B$4:'Valeurs'!$B$46)))))","v":""}]
[{"$f":"Inscription!K20","v":0},{"$f":"Inscription!L20","v":0},null,null,null,"",null,"",{"$f":"IF(F193=\"DNS\",\"0\",IF(F193=\"DQ\",\"0\",IF(F193=\"\",\"\",IF(F193=\"DNF\",\"0\",LOOKUP(H193,Valeurs!$A$4:'Valeurs'!$A$46,Valeurs!$B$4:'Valeurs'!$B$46)))))","v":""}]
[{"$f":"Inscription!K21","v":0},{"$f":"Inscription!L21","v":0},null,null,null,"",null,"",{"$f":"IF(F194=\"DNS\",\"0\",IF(F194=\"DQ\",\"0\",IF(F194=\"\",\"\",IF(F194=\"DNF\",\"0\",LOOKUP(H194,Valeurs!$A$4:'Valeurs'!$A$46,Valeurs!$B$4:'Valeurs'!$B$46)))))","v":""}]
[{"$f":"Inscription!K22","v":0},{"$f":"Inscription!L22","v":0},null,null,null,"",null,"",{"$f":"IF(F195=\"DNS\",\"0\",IF(F195=\"DQ\",\"0\",IF(F195=\"\",\"\",IF(F195=\"DNF\",\"0\",LOOKUP(H195,Valeurs!$A$4:'Valeurs'!$A$46,Valeurs!$B$4:'Valeurs'!$B$46)))))","v":""}]
[{"$f":"Inscription!K23","v":0},{"$f":"Inscription!L23","v":0},null,null,null,"",null,"",{"$f":"IF(F196=\"DNS\",\"0\",IF(F196=\"DQ\",\"0\",IF(F196=\"\",\"\",IF(F196=\"DNF\",\"0\",LOOKUP(H196,Valeurs!$A$4:'Valeurs'!$A$46,Valeurs!$B$4:'Valeurs'!$B$46)))))","v":""}]
[{"$f":"Inscription!K24","v":0},{"$f":"Inscription!L24","v":0},null,null,null,"",null,"",{"$f":"IF(F197=\"DNS\",\"0\",IF(F197=\"DQ\",\"0\",IF(F197=\"\",\"\",IF(F197=\"DNF\",\"0\",LOOKUP(H197,Valeurs!$A$4:'Valeurs'!$A$46,Valeurs!$B$4:'Valeurs'!$B$46)))))","v":""}]
[{"$f":"Inscription!K25","v":0},{"$f":"Inscription!L25","v":0},null,null,null,"",null,"",{"$f":"IF(F198=\"DNS\",\"0\",IF(F198=\"DQ\",\"0\",IF(F198=\"\",\"\",IF(F198=\"DNF\",\"0\",LOOKUP(H198,Valeurs!$A$4:'Valeurs'!$A$46,Valeurs!$B$4:'Valeurs'!$B$46)))))","v":""}]
[{"$f":"Inscription!K26","v":0},{"$f":"Inscription!L26","v":0},null,null,null,"",null,"",{"$f":"IF(F199=\"DNS\",\"0\",IF(F199=\"DQ\",\"0\",IF(F199=\"\",\"\",IF(F199=\"DNF\",\"0\",LOOKUP(H199,Valeurs!$A$4:'Valeurs'!$A$46,Valeurs!$B$4:'Valeurs'!$B$46)))))","v":""}]
[{"$f":"Inscription!K27","v":0},{"$f":"Inscription!L27","v":0},null,null,null,"",null,"",{"$f":"IF(F200=\"DNS\",\"0\",IF(F200=\"DQ\",\"0\",IF(F200=\"\",\"\",IF(F200=\"DNF\",\"0\",LOOKUP(H200,Valeurs!$A$4:'Valeurs'!$A$46,Valeurs!$B$4:'Valeurs'!$B$46)))))","v":""}]
[{"$f":"Inscription!K28","v":0},{"$f":"Inscription!L28","v":0},null,null,null,"",null,"",{"$f":"IF(F201=\"DNS\",\"0\",IF(F201=\"DQ\",\"0\",IF(F201=\"\",\"\",IF(F201=\"DNF\",\"0\",LOOKUP(H201,Valeurs!$A$4:'Valeurs'!$A$46,Valeurs!$B$4:'Valeurs'!$B$46)))))","v":""}]
[{"$f":"Inscription!K29","v":0},{"$f":"Inscription!L29","v":0},null,null,null,"",null,"",{"$f":"IF(F202=\"DNS\",\"0\",IF(F202=\"DQ\",\"0\",IF(F202=\"\",\"\",IF(F202=\"DNF\",\"0\",LOOKUP(H202,Valeurs!$A$4:'Valeurs'!$A$46,Valeurs!$B$4:'Valeurs'!$B$46)))))","v":""}]
[{"$f":"Inscription!K30","v":0},{"$f":"Inscription!L30","v":0},null,null,null,"",null,"",{"$f":"IF(F203=\"DNS\",\"0\",IF(F203=\"DQ\",\"0\",IF(F203=\"\",\"\",IF(F203=\"DNF\",\"0\",LOOKUP(H203,Valeurs!$A$4:'Valeurs'!$A$46,Valeurs!$B$4:'Valeurs'!$B$46)))))","v":""}]
[{"$f":"Inscription!K31","v":0},{"$f":"Inscription!L31","v":0},null,null,null,"",null,"",{"$f":"IF(F204=\"DNS\",\"0\",IF(F204=\"DQ\",\"0\",IF(F204=\"\",\"\",IF(F204=\"DNF\",\"0\",LOOKUP(H204,Valeurs!$A$4:'Valeurs'!$A$46,Valeurs!$B$4:'Valeurs'!$B$46)))))","v":""}]
[]
["Medley de sauvetage - Senior Homme\nÉPREUVE MEDLEY SAUVETAGE"]
[]
["Club","Nom",null,"Chrono 1","Chrono 2","Temps final",null,"R","Points"]
[{"$f":"Inscription!K2","v":"Dam'eauclès"},{"$f":"Inscription!L2","v":"Charles GIrouard"},null,null,null,{"$f":"IF(D209=\"\",\"\",IF(D209=\"DQ\",\"DQ\",IF(D209=\"DNF\",\"DNF\",IF(D209=\"DNS\",\"DNS\",AVERAGE(D209,E209)))))","v":""},null,{"$f":"IF(F209=\"DNS\",\"DNS\",IF(F209=\"DQ\",\"DQ\",IF(F209=\"\",\"\",IF(F209=\"DNF\",\"DNF\",RANK(F209,$F$209:$F$238,1)))))","v":""},{"$f":"IF(F209=\"\",\"\",LOOKUP(H209,Valeurs!$A$4:'Valeurs'!$A$46,Valeurs!$B$4:'Valeurs'!$B$46))","v":""}]
[{"$f":"Inscription!K3","v":"SSSL"},{"$f":"Inscription!L3","v":"Félix Labelle"},null,null,null,{"$f":"IF(D210=\"\",\"\",IF(D210=\"DQ\",\"DQ\",IF(D210=\"DNF\",\"DNF\",IF(D210=\"DNS\",\"DNS\",AVERAGE(D210,E210)))))","v":""},null,{"$f":"IF(F210=\"DNS\",\"DNS\",IF(F210=\"DQ\",\"DQ\",IF(F210=\"\",\"\",IF(F210=\"DNF\",\"DNF\",RANK(F210,$F$209:$F$238,1)))))","v":""},{"$f":"IF(F210=\"\",\"\",LOOKUP(H210,Valeurs!$A$4:'Valeurs'!$A$46,Valeurs!$B$4:'Valeurs'!$B$46))","v":""}]
[{"$f":"Inscription!K4","v":"SSSL"},{"$f":"Inscription!L4","v":"Thomas Willame"},null,null,null,"",null,"",{"$f":"IF(F211=\"\",\"\",LOOKUP(H211,Valeurs!$A$4:'Valeurs'!$A$46,Valeurs!$B$4:'Valeurs'!$B$46))","v":""}]
[{"$f":"Inscription!K5","v":"Rouville Surf"},{"$f":"Inscription!L5","v":"Miguel Jean"},null,null,null,"",null,"",{"$f":"IF(F212=\"\",\"\",LOOKUP(H212,Valeurs!$A$4:'Valeurs'!$A$46,Valeurs!$B$4:'Valeurs'!$B$46))","v":""}]
[{"$f":"Inscription!K6","v":"Rouville Surf"},{"$f":"Inscription!L6","v":"Dimitri Jean"},null,null,null,"",null,"",{"$f":"IF(F213=\"\",\"\",LOOKUP(H213,Valeurs!$A$4:'Valeurs'!$A$46,Valeurs!$B$4:'Valeurs'!$B$46))","v":""}]
[{"$f":"Inscription!K7","v":"Rouville Surf"},{"$f":"Inscription!L7","v":"Kevin Bustamante-Cortés"},null,null,null,"",null,"",{"$f":"IF(F214=\"\",\"\",LOOKUP(H214,Valeurs!$A$4:'Valeurs'!$A$46,Valeurs!$B$4:'Valeurs'!$B$46))","v":""}]
[{"$f":"Inscription!K8","v":"30deux"},{"$f":"Inscription!L8","v":"Thomas Lavoie"},null,null,null,"",null,"",{"$f":"IF(F215=\"\",\"\",LOOKUP(H215,Valeurs!$A$4:'Valeurs'!$A$46,Valeurs!$B$4:'Valeurs'!$B$46))","v":""}]
[{"$f":"Inscription!K9","v":"30deux"},{"$f":"Inscription!L9","v":"Samuel Lévesque"},null,null,null,"",null,"",{"$f":"IF(F216=\"\",\"\",LOOKUP(H216,Valeurs!$A$4:'Valeurs'!$A$46,Valeurs!$B$4:'Valeurs'!$B$46))","v":""}]
[{"$f":"Inscription!K10","v":"30deux"},{"$f":"Inscription!L10","v":"François Houle"},null,null,null,"",null,"",{"$f":"IF(F217=\"\",\"\",LOOKUP(H217,Valeurs!$A$4:'Valeurs'!$A$46,Valeurs!$B$4:'Valeurs'!$B$46))","v":""}]
[{"$f":"Inscription!K11","v":"30deux"},{"$f":"Inscription!L11","v":"Maxime Chamberland"},null,null,null,"",null,"",{"$f":"IF(F218=\"\",\"\",LOOKUP(H218,Valeurs!$A$4:'Valeurs'!$A$46,Valeurs!$B$4:'Valeurs'!$B$46))","v":""}]
[{"$f":"Inscription!K12","v":"30deux"},{"$f":"Inscription!L12","v":"Marco Patriarco"},null,null,null,"",null,"",{"$f":"IF(F219=\"\",\"\",LOOKUP(H219,Valeurs!$A$4:'Valeurs'!$A$46,Valeurs!$B$4:'Valeurs'!$B$46))","v":""}]
[{"$f":"Inscription!K13","v":"CSRN"},{"$f":"Inscription!L13","v":"Ismaël Chakir"},null,null,null,"",null,"",{"$f":"IF(F220=\"\",\"\",LOOKUP(H220,Valeurs!$A$4:'Valeurs'!$A$46,Valeurs!$B$4:'Valeurs'!$B$46))","v":""}]
[{"$f":"Inscription!K14","v":"CSRN"},{"$f":"Inscription!L14","v":"Kamil Romdhani"},null,null,null,"",null,"",{"$f":"IF(F221=\"\",\"\",LOOKUP(H221,Valeurs!$A$4:'Valeurs'!$A$46,Valeurs!$B$4:'Valeurs'!$B$46))","v":""}]
[{"$f":"Inscription!K15","v":"CSRN"},{"$f":"Inscription!L15","v":"William Laurence"},null,null,null,"",null,"",{"$f":"IF(F222=\"\",\"\",LOOKUP(H222,Valeurs!$A$4:'Valeurs'!$A$46,Valeurs!$B$4:'Valeurs'!$B$46))","v":""}]
[{"$f":"Inscription!K16","v":"Gatineau"},{"$f":"Inscription!L16","v":"Olivier Breton"},null,null,null,"",null,"",{"$f":"IF(F223=\"\",\"\",LOOKUP(H223,Valeurs!$A$4:'Valeurs'!$A$46,Valeurs!$B$4:'Valeurs'!$B$46))","v":""}]
[{"$f":"Inscription!K17","v":"Narval"},{"$f":"Inscription!L17","v":"Alex Tremblay"},null,null,null,"",null,"",{"$f":"IF(F224=\"\",\"\",LOOKUP(H224,Valeurs!$A$4:'Valeurs'!$A$46,Valeurs!$B$4:'Valeurs'!$B$46))","v":""}]
[{"$f":"Inscription!K18","v":"Narval"},{"$f":"Inscription!L18","v":"David Comeau"},null,null,null,"",null,"",{"$f":"IF(F225=\"\",\"\",LOOKUP(H225,Valeurs!$A$4:'Valeurs'!$A$46,Valeurs!$B$4:'Valeurs'!$B$46))","v":""}]
[{"$f":"Inscription!K19","v":0},{"$f":"Inscription!L19","v":0},null,null,null,"",null,"",{"$f":"IF(F226=\"\",\"\",LOOKUP(H226,Valeurs!$A$4:'Valeurs'!$A$46,Valeurs!$B$4:'Valeurs'!$B$46))","v":""}]
[{"$f":"Inscription!K20","v":0},{"$f":"Inscription!L20","v":0},null,null,null,"",null,"",{"$f":"IF(F227=\"\",\"\",LOOKUP(H227,Valeurs!$A$4:'Valeurs'!$A$46,Valeurs!$B$4:'Valeurs'!$B$46))","v":""}]
[{"$f":"Inscription!K21","v":0},{"$f":"Inscription!L21","v":0},null,null,null,"",null,"",{"$f":"IF(F228=\"\",\"\",LOOKUP(H228,Valeurs!$A$4:'Valeurs'!$A$46,Valeurs!$B$4:'Valeurs'!$B$46))","v":""}]
[{"$f":"Inscription!K22","v":0},{"$f":"Inscription!L22","v":0},null,null,null,"",null,"",{"$f":"IF(F229=\"\",\"\",LOOKUP(H229,Valeurs!$A$4:'Valeurs'!$A$46,Valeurs!$B$4:'Valeurs'!$B$46))","v":""}]
[{"$f":"Inscription!K23","v":0},{"$f":"Inscription!L23","v":0},null,null,null,"",null,"",{"$f":"IF(F230=\"\",\"\",LOOKUP(H230,Valeurs!$A$4:'Valeurs'!$A$46,Valeurs!$B$4:'Valeurs'!$B$46))","v":""}]
[{"$f":"Inscription!K24","v":0},{"$f":"Inscription!L24","v":0},null,null,null,"",null,"",{"$f":"IF(F231=\"\",\"\",LOOKUP(H231,Valeurs!$A$4:'Valeurs'!$A$46,Valeurs!$B$4:'Valeurs'!$B$46))","v":""}]
[{"$f":"Inscription!K25","v":0},{"$f":"Inscription!L25","v":0},null,null,null,"",null,"",{"$f":"IF(F232=\"\",\"\",LOOKUP(H232,Valeurs!$A$4:'Valeurs'!$A$46,Valeurs!$B$4:'Valeurs'!$B$46))","v":""}]
[{"$f":"Inscription!K26","v":0},{"$f":"Inscription!L26","v":0},null,null,null,"",null,"",{"$f":"IF(F233=\"\",\"\",LOOKUP(H233,Valeurs!$A$4:'Valeurs'!$A$46,Valeurs!$B$4:'Valeurs'!$B$46))","v":""}]
[{"$f":"Inscription!K27","v":0},{"$f":"Inscription!L27","v":0},null,null,null,"",null,"",{"$f":"IF(F234=\"\",\"\",LOOKUP(H234,Valeurs!$A$4:'Valeurs'!$A$46,Valeurs!$B$4:'Valeurs'!$B$46))","v":""}]
[{"$f":"Inscription!K28","v":0},{"$f":"Inscription!L28","v":0},null,null,null,"",null,"",{"$f":"IF(F235=\"\",\"\",LOOKUP(H235,Valeurs!$A$4:'Valeurs'!$A$46,Valeurs!$B$4:'Valeurs'!$B$46))","v":""}]
[{"$f":"Inscription!K29","v":0},{"$f":"Inscription!L29","v":0},null,null,null,"",null,"",{"$f":"IF(F236=\"\",\"\",LOOKUP(H236,Valeurs!$A$4:'Valeurs'!$A$46,Valeurs!$B$4:'Valeurs'!$B$46))","v":""}]
[{"$f":"Inscription!K30","v":0},{"$f":"Inscription!L30","v":0},null,null,null,"",null,"",{"$f":"IF(F237=\"\",\"\",LOOKUP(H237,Valeurs!$A$4:'Valeurs'!$A$46,Valeurs!$B$4:'Valeurs'!$B$46))","v":""}]
[{"$f":"Inscription!K31","v":0},{"$f":"Inscription!L31","v":0},null,null,null,"",null,"",{"$f":"IF(F238=\"\",\"\",LOOKUP(H238,Valeurs!$A$4:'Valeurs'!$A$46,Valeurs!$B$4:'Valeurs'!$B$46))","v":""}]
[]
["Relais Medley de sauvetage - Senior Homme\nÉPREUVE RELAIS MEDLEY"]
[]
["Club","Nom",null,"Chrono 1","Chrono 2","Temps final",null,"R","Points"]
["Dam'eauclès","Charles Girouard",null,"00:02:20.340","00:02:20.570",{"$f":"IF(D243=\"\",\"\",IF(D243=\"DQ\",\"DQ\",IF(D243=\"DNF\",\"DNF\",IF(D243=\"DNS\",\"DNS\",AVERAGE(D243,E243)))))","v":"00:02:20.455"},null,{"$f":"IF(F243=\"DNS\",\"DNS\",IF(F243=\"DQ\",\"DQ\",IF(F243=\"\",\"\",IF(F243=\"DNF\",\"DNF\",RANK(F243,$F$243:$F$274,1)))))","v":3},{"$f":"IF(F243=\"DNF\",\"0\",IF(F243=\"\",\"\",LOOKUP(H243,Valeurs!$A$4:'Valeurs'!$A$46,Valeurs!$B$4:'Valeurs'!$B$46)))","v":16}]
[null,"Julien Turgeon",null,null,null,null,null,null,{"$f":"I243","v":16}]
[null,"Jacob Rousson",null,null,null,null,null,null,{"$f":"I243","v":16}]
[null,"James Williamson",null,null,null,null,null,null,{"$f":"I243","v":16}]
["30deux","Thomas Lavoie",null,"00:02:01.530","00:02:01.540",{"$f":"IF(D247=\"\",\"\",IF(D247=\"DQ\",\"DQ\",IF(D247=\"DNF\",\"DNF\",IF(D247=\"DNS\",\"DNS\",AVERAGE(D247,E247)))))","v":"00:02:01.535"},null,{"$f":"IF(F247=\"DNS\",\"DNS\",IF(F247=\"DQ\",\"DQ\",IF(F247=\"\",\"\",IF(F247=\"DNF\",\"DNF\",RANK(F247,$F$243:$F$274,1)))))","v":1},{"$f":"IF(F247=\"DNF\",\"0\",IF(F247=\"\",\"\",LOOKUP(H247,Valeurs!$A$4:'Valeurs'!$A$46,Valeurs!$B$4:'Valeurs'!$B$46)))","v":20}]
[null,"Marco Patriarco",null,null,null,null,null,null,{"$f":"I247","v":20}]
[null,"François Houle",null,null,null,null,null,null,{"$f":"I247","v":20}]
[null,"Maxime Chamberlant",null,null,null,null,null,null,{"$f":"I247","v":20}]
["CSRN","Kamil Romdhani",null,"00:02:14","00:02:13.970",{"$f":"IF(D251=\"\",\"\",IF(D251=\"DQ\",\"DQ\",IF(D251=\"DNF\",\"DNF\",IF(D251=\"DNS\",\"DNS\",AVERAGE(D251,E251)))))","v":"00:02:13.985"},null,{"$f":"IF(F251=\"DNS\",\"DNS\",IF(F251=\"DQ\",\"DQ\",IF(F251=\"\",\"\",IF(F251=\"DNF\",\"DNF\",RANK(F251,$F$243:$F$274,1)))))","v":2},{"$f":"IF(F251=\"DNF\",\"0\",IF(F251=\"\",\"\",LOOKUP(H251,Valeurs!$A$4:'Valeurs'!$A$46,Valeurs!$B$4:'Valeurs'!$B$46)))","v":18}]
[null,"Ismael Chakir",null,null,null,null,null,null,{"$f":"I251","v":18}]
[null,"William Laurence",null,null,null,null,null,null,{"$f":"I251","v":18}]
[null,"Malik Romdhani",null,null,null,null,null,null,{"$f":"I251","v":18}]
[null,null,"D",null,null,{"$f":"IF(D255=\"\",\"\",IF(D255=\"DQ\",\"DQ\",IF(D255=\"DNF\",\"DNF\",IF(D255=\"DNS\",\"DNS\",AVERAGE(D255,E255)))))","v":""},null,{"$f":"IF(F255=\"DNS\",\"DNS\",IF(F255=\"DQ\",\"DQ\",IF(F255=\"\",\"\",IF(F255=\"DNF\",\"DNF\",RANK(F255,$F$243:$F$274,1)))))","v":""},{"$f":"IF(F255=\"DNF\",\"0\",IF(F255=\"\",\"\",LOOKUP(H255,Valeurs!$A$4:'Valeurs'!$A$46,Valeurs!$B$4:'Valeurs'!$B$46)))","v":""}]
[null,null,null,null,null,null,null,null,{"$f":"I255","v":""}]
[null,null,null,null,null,null,null,null,{"$f":"I255","v":""}]
[null,null,null,null,null,null,null,null,{"$f":"I255","v":""}]
[null,null,null,null,null,{"$f":"IF(D259=\"\",\"\",IF(D259=\"DQ\",\"DQ\",IF(D259=\"DNF\",\"DNF\",IF(D259=\"DNS\",\"DNS\",AVERAGE(D259,E259)))))","v":""},null,{"$f":"IF(F259=\"DNS\",\"DNS\",IF(F259=\"DQ\",\"DQ\",IF(F259=\"\",\"\",IF(F259=\"DNF\",\"DNF\",RANK(F259,$F$243:$F$274,1)))))","v":""},{"$f":"IF(F259=\"DNF\",\"0\",IF(F259=\"\",\"\",LOOKUP(H259,Valeurs!$A$4:'Valeurs'!$A$46,Valeurs!$B$4:'Valeurs'!$B$46)))","v":""}]
[null,null,null,null,null,null,null,null,{"$f":"I259","v":""}]
[null,null,null,null,null,null,null,null,{"$f":"I259","v":""}]
[null,null,null,null,null,null,null,null,{"$f":"I259","v":""}]
[null,null,null,null,null,{"$f":"IF(D263=\"\",\"\",IF(D263=\"DQ\",\"DQ\",IF(D263=\"DNF\",\"DNF\",IF(D263=\"DNS\",\"DNS\",AVERAGE(D263,E263)))))","v":""},null,{"$f":"IF(F263=\"DNS\",\"DNS\",IF(F263=\"DQ\",\"DQ\",IF(F263=\"\",\"\",IF(F263=\"DNF\",\"DNF\",RANK(F263,$F$243:$F$274,1)))))","v":""},{"$f":"IF(F263=\"DNF\",\"0\",IF(F263=\"\",\"\",LOOKUP(H263,Valeurs!$A$4:'Valeurs'!$A$46,Valeurs!$B$4:'Valeurs'!$B$46)))","v":""}]
[null,null,null,null,null,null,null,null,{"$f":"I263","v":""}]
[null,null,null,null,null,null,null,null,{"$f":"I263","v":""}]
[null,null,null,null,null,null,null,null,{"$f":"I263","v":""}]
[null,null,null,null,null,{"$f":"IF(D267=\"\",\"\",IF(D267=\"DQ\",\"DQ\",IF(D267=\"DNF\",\"DNF\",IF(D267=\"DNS\",\"DNS\",AVERAGE(D267,E267)))))","v":""},null,{"$f":"IF(F267=\"DNS\",\"DNS\",IF(F267=\"DQ\",\"DQ\",IF(F267=\"\",\"\",IF(F267=\"DNF\",\"DNF\",RANK(F267,$F$243:$F$274,1)))))","v":""},{"$f":"IF(F267=\"DNF\",\"0\",IF(F267=\"\",\"\",LOOKUP(H267,Valeurs!$A$4:'Valeurs'!$A$46,Valeurs!$B$4:'Valeurs'!$B$46)))","v":""}]
[null,null,null,null,null,null,null,null,{"$f":"I267","v":""}]
[null,null,null,null,null,null,null,null,{"$f":"I267","v":""}]
[null,null,null,null,null,null,null,null,{"$f":"I267","v":""}]
[null,null,null,null,null,{"$f":"IF(D271=\"\",\"\",IF(D271=\"DQ\",\"DQ\",IF(D271=\"DNF\",\"DNF\",IF(D271=\"DNS\",\"DNS\",AVERAGE(D271,E271)))))","v":""},null,{"$f":"IF(F271=\"DNS\",\"DNS\",IF(F271=\"DQ\",\"DQ\",IF(F271=\"\",\"\",IF(F271=\"DNF\",\"DNF\",RANK(F271,$F$243:$F$274,1)))))","v":""},{"$f":"IF(F271=\"DNF\",\"0\",IF(F271=\"\",\"\",LOOKUP(H271,Valeurs!$A$4:'Valeurs'!$A$46,Valeurs!$B$4:'Valeurs'!$B$46)))","v":""}]
[null,null,null,null,null,null,null,null,{"$f":"I271","v":""}]
[null,null,null,null,null,null,null,null,{"$f":"I271","v":""}]
[null,null,null,null,null,null,null,null,{"$f":"I271","v":""}]
[]
["Relais Obstacles - Senior Homme\nÉPREUVE RELAIS OBSTACLES"]
[]
["Club","Nom",null,"Chrono 1","Chrono 2","Temps final",null,"R","Points"]
["Dam'eauclès","Charles Girouard",null,"00:02:23.690","00:02:24",{"$f":"IF(D279=\"\",\"\",IF(D279=\"DQ\",\"DQ\",IF(D279=\"DNF\",\"DNF\",IF(D279=\"DNS\",\"DNS\",AVERAGE(D279,E279)))))","v":"00:02:23.845"},null,{"$f":"IF(F279=\"DNS\",\"DNS\",IF(F279=\"DQ\",\"DQ\",IF(F279=\"\",\"\",IF(F279=\"DNF\",\"DNF\",RANK(F279,$F$279:$F$310,1)))))","v":3},{"$f":"IF(F279=\"DNF\",\"0\",IF(F279=\"\",\"\",LOOKUP(H279,Valeurs!$A$4:'Valeurs'!$A$46,Valeurs!$B$4:'Valeurs'!$B$46)))","v":16}]
[null,"Julien Turgeon",null,null,null,null,null,null,{"$f":"I279","v":16}]
[null,"Jacob Rousson",null,null,null,null,null,null,{"$f":"I279","v":16}]
[null,"James Williamson",null,null,null,null,null,null,{"$f":"I279","v":16}]
["30deux","Thomas Lavoie",null,"00:02:13.870","00:02:13.870",{"$f":"IF(D283=\"\",\"\",IF(D283=\"DQ\",\"DQ\",IF(D283=\"DNF\",\"DNF\",IF(D283=\"DNS\",\"DNS\",AVERAGE(D283,E283)))))","v":"00:02:13.870"},null,{"$f":"IF(F283=\"DNS\",\"DNS\",IF(F283=\"DQ\",\"DQ\",IF(F283=\"\",\"\",IF(F283=\"DNF\",\"DNF\",RANK(F283,$F$279:$F$310,1)))))","v":1},{"$f":"IF(F283=\"DNF\",\"0\",IF(F283=\"\",\"\",LOOKUP(H283,Valeurs!$A$4:'Valeurs'!$A$46,Valeurs!$B$4:'Valeurs'!$B$46)))","v":20}]
[null,"Samuel Léversque",null,null,null,null,null,null,{"$f":"I283","v":20}]
[null,"François Houle",null,null,null,null,null,null,{"$f":"I283","v":20}]
[null,"Maxime Chamberlant",null,null,null,null,null,null,{"$f":"I283","v":20}]
["CSRN","Kamil Romdhani",null,"00:02:18.060","00:02:18.100",{"$f":"IF(D287=\"\",\"\",IF(D287=\"DQ\",\"DQ\",IF(D287=\"DNF\",\"DNF\",IF(D287=\"DNS\",\"DNS\",AVERAGE(D287,E287)))))","v":"00:02:18.080"},null,{"$f":"IF(F287=\"DNS\",\"DNS\",IF(F287=\"DQ\",\"DQ\",IF(F287=\"\",\"\",IF(F287=\"DNF\",\"DNF\",RANK(F287,$F$279:$F$310,1)))))","v":2},{"$f":"IF(F287=\"DNF\",\"0\",IF(F287=\"\",\"\",LOOKUP(H287,Valeurs!$A$4:'Valeurs'!$A$46,Valeurs!$B$4:'Valeurs'!$B$46)))","v":18}]
[null,"Ismael Chakir",null,null,null,null,null,null,{"$f":"I287","v":18}]
[null,"William Laurence",null,null,null,null,null,null,{"$f":"I287","v":18}]
[null,"Malik Romdhani",null,null,null,null,null,null,{"$f":"I287","v":18}]
[null,null,null,null,null,{"$f":"IF(D291=\"\",\"\",IF(D291=\"DQ\",\"DQ\",IF(D291=\"DNF\",\"DNF\",IF(D291=\"DNS\",\"DNS\",AVERAGE(D291,E291)))))","v":""},null,{"$f":"IF(F291=\"DNS\",\"DNS\",IF(F291=\"DQ\",\"DQ\",IF(F291=\"\",\"\",IF(F291=\"DNF\",\"DNF\",RANK(F291,$F$279:$F$310,1)))))","v":""},{"$f":"IF(F291=\"DNF\",\"0\",IF(F291=\"\",\"\",LOOKUP(H291,Valeurs!$A$4:'Valeurs'!$A$46,Valeurs!$B$4:'Valeurs'!$B$46)))","v":""}]
[null,null,null,null,null,null,null,null,{"$f":"I291","v":""}]
[null,null,null,null,null,null,null,null,{"$f":"I291","v":""}]
[null,null,null,null,null,null,null,null,{"$f":"I291","v":""}]
[null,null,null,null,null,{"$f":"IF(D295=\"\",\"\",IF(D295=\"DQ\",\"DQ\",IF(D295=\"DNF\",\"DNF\",IF(D295=\"DNS\",\"DNS\",AVERAGE(D295,E295)))))","v":""},null,{"$f":"IF(F295=\"DNS\",\"DNS\",IF(F295=\"DQ\",\"DQ\",IF(F295=\"\",\"\",IF(F295=\"DNF\",\"DNF\",RANK(F295,$F$279:$F$310,1)))))","v":""},{"$f":"IF(F295=\"DNF\",\"0\",IF(F295=\"\",\"\",LOOKUP(H295,Valeurs!$A$4:'Valeurs'!$A$46,Valeurs!$B$4:'Valeurs'!$B$46)))","v":""}]
[null,null,null,null,null,null,null,null,{"$f":"I295","v":""}]
[null,null,null,null,null,null,null,null,{"$f":"I295","v":""}]
[null,null,null,null,null,null,null,null,{"$f":"I295","v":""}]
[null,null,null,null,null,{"$f":"IF(D299=\"\",\"\",IF(D299=\"DQ\",\"DQ\",IF(D299=\"DNF\",\"DNF\",IF(D299=\"DNS\",\"DNS\",AVERAGE(D299,E299)))))","v":""},null,{"$f":"IF(F299=\"DNS\",\"DNS\",IF(F299=\"DQ\",\"DQ\",IF(F299=\"\",\"\",IF(F299=\"DNF\",\"DNF\",RANK(F299,$F$279:$F$310,1)))))","v":""},{"$f":"IF(F299=\"DNF\",\"0\",IF(F299=\"\",\"\",LOOKUP(H299,Valeurs!$A$4:'Valeurs'!$A$46,Valeurs!$B$4:'Valeurs'!$B$46)))","v":""}]
[null,null,null,null,null,null,null,null,{"$f":"I299","v":""}]
[null,null,null,null,null,null,null,null,{"$f":"I299","v":""}]
[null,null,null,null,null,null,null,null,{"$f":"I299","v":""}]
[null,null,null,null,null,{"$f":"IF(D303=\"\",\"\",IF(D303=\"DQ\",\"DQ\",IF(D303=\"DNF\",\"DNF\",IF(D303=\"DNS\",\"DNS\",AVERAGE(D303,E303)))))","v":""},null,{"$f":"IF(F303=\"DNS\",\"DNS\",IF(F303=\"DQ\",\"DQ\",IF(F303=\"\",\"\",IF(F303=\"DNF\",\"DNF\",RANK(F303,$F$279:$F$310,1)))))","v":""},{"$f":"IF(F303=\"DNF\",\"0\",IF(F303=\"\",\"\",LOOKUP(H303,Valeurs!$A$4:'Valeurs'!$A$46,Valeurs!$B$4:'Valeurs'!$B$46)))","v":""}]
[null,null,null,null,null,null,null,null,{"$f":"I303","v":""}]
[null,null,null,null,null,null,null,null,{"$f":"I303","v":""}]
[null,null,null,null,null,null,null,null,{"$f":"I303","v":""}]
[null,null,null,null,null,{"$f":"IF(D307=\"\",\"\",IF(D307=\"DQ\",\"DQ\",IF(D307=\"DNF\",\"DNF\",IF(D307=\"DNS\",\"DNS\",AVERAGE(D307,E307)))))","v":""},null,{"$f":"IF(F307=\"DNS\",\"DNS\",IF(F307=\"DQ\",\"DQ\",IF(F307=\"\",\"\",IF(F307=\"DNF\",\"DNF\",RANK(F307,$F$279:$F$310,1)))))","v":""},{"$f":"IF(F307=\"DNF\",\"0\",IF(F307=\"\",\"\",LOOKUP(H307,Valeurs!$A$4:'Valeurs'!$A$46,Valeurs!$B$4:'Valeurs'!$B$46)))","v":""}]
[null,null,null,null,null,null,null,null,{"$f":"I307","v":""}]
[null,null,null,null,null,null,null,null,{"$f":"I307","v":""}]
[null,null,null,null,null,null,null,null,{"$f":"I307","v":""}]
[]
["Relais Portage mannequin - Senior Homme\nÉPREUVE RELAIS PORTAGE MANNEQUIN"]
[]
["Club","Nom",null,"Chrono 1","Chrono 2","Temps final",null,"R","Points"]
["30deux","Thomas Lavoie",null,"00:01:38.500","00:01:37.750",{"$f":"IF(D315=\"\",\"\",IF(D315=\"DQ\",\"DQ\",IF(D315=\"DNF\",\"DNF\",IF(D315=\"DNS\",\"DNS\",AVERAGE(D315,E315)))))","v":"00:01:38.125"},null,{"$f":"IF(F315=\"DNS\",\"DNS\",IF(F315=\"DQ\",\"DQ\",IF(F315=\"\",\"\",IF(F315=\"DNF\",\"DNF\",RANK(F315,$F$315:$F$346,1)))))","v":1},{"$f":"IF(F315=\"DNF\",\"0\",IF(F315=\"\",\"\",LOOKUP(H315,Valeurs!$A$4:'Valeurs'!$A$46,Valeurs!$B$4:'Valeurs'!$B$46)))","v":20}]
[null,"Marco Patriarco",null,null,null,null,null,null,{"$f":"I315","v":20}]
[null,"François Houle",null,null,null,null,null,null,{"$f":"I315","v":20}]
[null,"Maxime Chamberlant",null,null,null,null,null,null,{"$f":"I315","v":20}]
["CSRN","Kamil Romdhani",null,"00:01:42.810","00:01:43.250",{"$f":"IF(D319=\"\",\"\",IF(D319=\"DQ\",\"DQ\",IF(D319=\"DNF\",\"DNF\",IF(D319=\"DNS\",\"DNS\",AVERAGE(D319,E319)))))","v":"00:01:43.030"},null,{"$f":"IF(F319=\"DNS\",\"DNS\",IF(F319=\"DQ\",\"DQ\",IF(F319=\"\",\"\",IF(F319=\"DNF\",\"DNF\",RANK(F319,$F$315:$F$346,1)))))","v":2},{"$f":"IF(F319=\"DNF\",\"0\",IF(F319=\"\",\"\",LOOKUP(H319,Valeurs!$A$4:'Valeurs'!$A$46,Valeurs!$B$4:'Valeurs'!$B$46)))","v":18}]
[null,"Ismael Chakir",null,null,null,null,null,null,{"$f":"I319","v":18}]
[null,"William Laurence",null,null,null,null,null,null,{"$f":"I319","v":18}]
[null,"Malik Romdhani",null,null,null,null,null,null,{"$f":"I319","v":18}]
["Dam'eauclès","Charles Girouard",null,"00:02:09.840","00:02:10.190",{"$f":"IF(D323=\"\",\"\",IF(D323=\"DQ\",\"DQ\",IF(D323=\"DNF\",\"DNF\",IF(D323=\"DNS\",\"DNS\",AVERAGE(D323,E323)))))","v":"00:02:10.015"},null,{"$f":"IF(F323=\"DNS\",\"DNS\",IF(F323=\"DQ\",\"DQ\",IF(F323=\"\",\"\",IF(F323=\"DNF\",\"DNF\",RANK(F323,$F$315:$F$346,1)))))","v":3},{"$f":"IF(F323=\"DNF\",\"0\",IF(F323=\"\",\"\",LOOKUP(H323,Valeurs!$A$4:'Valeurs'!$A$46,Valeurs!$B$4:'Valeurs'!$B$46)))","v":16}]
[null,"Julien Turgeon",null,null,null,null,null,null,{"$f":"I323","v":16}]
[null,"Jacob Rousson",null,null,null,null,null,null,{"$f":"I323","v":16}]
[null,"James Williamson",null,null,null,null,null,null,{"$f":"I323","v":16}]
[null,null,null,null,null,{"$f":"IF(D327=\"\",\"\",IF(D327=\"DQ\",\"DQ\",IF(D327=\"DNF\",\"DNF\",IF(D327=\"DNS\",\"DNS\",AVERAGE(D327,E327)))))","v":""},null,{"$f":"IF(F327=\"DNS\",\"DNS\",IF(F327=\"DQ\",\"DQ\",IF(F327=\"\",\"\",IF(F327=\"DNF\",\"DNF\",RANK(F327,$F$315:$F$346,1)))))","v":""},{"$f":"IF(F327=\"DNF\",\"0\",IF(F327=\"\",\"\",LOOKUP(H327,Valeurs!$A$4:'Valeurs'!$A$46,Valeurs!$B$4:'Valeurs'!$B$46)))","v":""}]
[null,null,null,null,null,null,null,null,{"$f":"I327","v":""}]
[null,null,null,null,null,null,null,null,{"$f":"I327","v":""}]
[null,null,null,null,null,null,null,null,{"$f":"I327","v":""}]
[null,null,null,null,null,{"$f":"IF(D331=\"\",\"\",IF(D331=\"DQ\",\"DQ\",IF(D331=\"DNF\",\"DNF\",IF(D331=\"DNS\",\"DNS\",AVERAGE(D331,E331)))))","v":""},null,{"$f":"IF(F331=\"DNS\",\"DNS\",IF(F331=\"DQ\",\"DQ\",IF(F331=\"\",\"\",IF(F331=\"DNF\",\"DNF\",RANK(F331,$F$315:$F$346,1)))))","v":""},{"$f":"IF(F331=\"DNF\",\"0\",IF(F331=\"\",\"\",LOOKUP(H331,Valeurs!$A$4:'Valeurs'!$A$46,Valeurs!$B$4:'Valeurs'!$B$46)))","v":""}]
[null,null,null,null,null,null,null,null,{"$f":"I331","v":""}]
[null,null,null,null,null,null,null,null,{"$f":"I331","v":""}]
[null,null,null,null,null,null,null,null,{"$f":"I331","v":""}]
[null,null,null,null,null,{"$f":"IF(D335=\"\",\"\",IF(D335=\"DQ\",\"DQ\",IF(D335=\"DNF\",\"DNF\",IF(D335=\"DNS\",\"DNS\",AVERAGE(D335,E335)))))","v":""},null,{"$f":"IF(F335=\"DNS\",\"DNS\",IF(F335=\"DQ\",\"DQ\",IF(F335=\"\",\"\",IF(F335=\"DNF\",\"DNF\",RANK(F335,$F$315:$F$346,1)))))","v":""},{"$f":"IF(F335=\"DNF\",\"0\",IF(F335=\"\",\"\",LOOKUP(H335,Valeurs!$A$4:'Valeurs'!$A$46,Valeurs!$B$4:'Valeurs'!$B$46)))","v":""}]
[null,null,null,null,null,null,null,null,{"$f":"I335","v":""}]
[null,null,null,null,null,null,null,null,{"$f":"I335","v":""}]
[null,null,null,null,null,null,null,null,{"$f":"I335","v":""}]
[null,null,null,null,null,{"$f":"IF(D339=\"\",\"\",IF(D339=\"DQ\",\"DQ\",IF(D339=\"DNF\",\"DNF\",IF(D339=\"DNS\",\"DNS\",AVERAGE(D339,E339)))))","v":""},null,{"$f":"IF(F339=\"DNS\",\"DNS\",IF(F339=\"DQ\",\"DQ\",IF(F339=\"\",\"\",IF(F339=\"DNF\",\"DNF\",RANK(F339,$F$315:$F$346,1)))))","v":""},{"$f":"IF(F339=\"DNF\",\"0\",IF(F339=\"\",\"\",LOOKUP(H339,Valeurs!$A$4:'Valeurs'!$A$46,Valeurs!$B$4:'Valeurs'!$B$46)))","v":""}]
[null,null,null,null,null,null,null,null,{"$f":"I339","v":""}]
[null,null,null,null,null,null,null,null,{"$f":"I339","v":""}]
[null,null,null,null,null,null,null,null,{"$f":"I339","v":""}]
[null,null,null,null,null,{"$f":"IF(D343=\"\",\"\",IF(D343=\"DQ\",\"DQ\",IF(D343=\"DNF\",\"DNF\",IF(D343=\"DNS\",\"DNS\",AVERAGE(D343,E343)))))","v":""},null,{"$f":"IF(F343=\"DNS\",\"DNS\",IF(F343=\"DQ\",\"DQ\",IF(F343=\"\",\"\",IF(F343=\"DNF\",\"DNF\",RANK(F343,$F$315:$F$346,1)))))","v":""},{"$f":"IF(F343=\"DNF\",\"0\",IF(F343=\"\",\"\",LOOKUP(H343,Valeurs!$A$4:'Valeurs'!$A$46,Valeurs!$B$4:'Valeurs'!$B$46)))","v":""}]
[null,null,null,null,null,null,null,null,{"$f":"I343","v":""}]
[null,null,null,null,null,null,null,null,{"$f":"I343","v":""}]
[null,null,null,null,null,null,null,null,{"$f":"I343","v":""}]

{"sheet":"Résultats PRÉLIMINAIRES","index":8,"n_rows":344,"n_cols":20,"rows_kept":344,"cut":false,"hidden":false,"merged":[[277,5,277,9],[277,13,277,17],[275,0,275,19],[276,0,276,3],[276,4,276,11],[276,12,276,19],[206,14,206,15],[172,12,172,13],[240,0,240,3],[240,4,240,11],[240,12,240,19],[206,2,207,2],[206,3,207,3],[206,4,206,5],[206,6,206,7],[206,8,206,9],[206,10,206,11],[206,12,206,13],[205,0,205,15],[2,12,2,13],[1,0,1,13],[36,0,37,0],[36,1,37,1],[36,2,37,2],[36,3,37,3],[36,4,36,5],[2,3,3,3],[2,2,3,2],[2,1,3,1],[2,0,3,0],[2,4,2,5],[2,6,2,7],[2,8,2,9],[2,10,2,11],[35,0,35,17],[36,14,36,15],[36,16,36,17],[36,6,36,7],[36,8,36,9],[36,10,36,11],[36,12,36,13],[313,5,313,9],[312,4,312,11],[311,0,311,11],[104,0,105,0],[104,1,105,1],[104,2,105,2],[104,3,105,3],[241,5,241,9],[239,0,239,19],[172,0,173,0],[172,1,173,1],[172,2,173,2],[172,3,173,3],[172,4,172,5],[172,6,172,7],[172,14,172,15],[171,0,171,15],[312,0,312,3],[104,10,104,11],[70,2,71,2],[70,3,71,3],[70,4,70,5],[70,6,70,7],[70,8,70,9],[70,10,70,11],[241,13,241,17],[172,8,172,9],[172,10,172,11],[137,0,137,11],[206,0,207,0],[206,1,207,1],[138,0,138,3],[138,4,138,11],[139,5,139,9],[69,0,69,15],[103,0,103,15],[70,1,71,1],[70,14,70,15],[104,14,104,15],[70,0,71,0],[70,12,70,13],[104,12,104,13],[104,4,104,5],[104,6,104,7],[104,8,104,9]]}
[]
["Résultats - 11 ans et -"]
["Club","Nom","Rang","Total","Corde",null,"Remorquage",null,"Obstacle",null,"Portage  + palme",null,"Portage"]
[null,null,null,null,"Pointage","R","Pointage","R","Pointage","R","Pointage","R","Pointage","R"]
[{"$f":"Inscription!A2","v":"SSSL"},{"$f":"Inscription!B2","v":"Missy Roy"},{"$f":"IF(E5=\"\",\"\",RANK(D5,$D$5:$D$34))","v":""},{"$f":"IF(E5=\"\",\"\",SUM(E5,G5,I5,K5,M5))","v":""},{"$f":"'11 ans et -'!I5","v":""},{"$f":"'11 ans et -'!H5","v":""},{"$f":"'11 ans et -'!I39","v":8},{"$f":"'11 ans et -'!H39","v":9},{"$f":"'11 ans et -'!I73","v":10},{"$f":"'11 ans et -'!H73","v":8},{"$f":"'11 ans et -'!I107","v":12},{"$f":"'11 ans et -'!H107","v":6},{"$f":"'11 ans et -'!I141","v":10},{"$f":"'11 ans et -'!H141","v":8}]
[{"$f":"Inscription!A3","v":"CASO"},{"$f":"Inscription!B3","v":"Étienne Roy"},{"$f":"IF(E6=\"\",\"\",RANK(D6,$D$5:$D$34))","v":""},{"$f":"IF(E6=\"\",\"\",SUM(E6,G6,I6,K6,M6))","v":""},{"$f":"'11 ans et -'!I6","v":""},{"$f":"'11 ans et -'!H6","v":""},{"$f":"'11 ans et -'!I40","v":12},{"$f":"'11 ans et -'!H40","v":6},{"$f":"'11 ans et -'!I74","v":14},{"$f":"'11 ans et -'!H74","v":4},{"$f":"'11 ans et -'!I108","v":16},{"$f":"'11 ans et -'!H108","v":3},{"$f":"'11 ans et -'!I142","v":14},{"$f":"'11 ans et -'!H142","v":4}]
[{"$f":"Inscription!A4","v":"CAEM"},{"$f":"Inscription!B4","v":"Emmy Mastrovito"},"","",{"$f":"'11 ans et -'!I7","v":""},{"$f":"'11 ans et -'!H7","v":""},{"$f":"'11 ans et -'!I41","v":16},{"$f":"'11 ans et -'!H41","v":3},{"$f":"'11 ans et -'!I75","v":13},{"$f":"'11 ans et -'!H75","v":5},{"$f":"'11 ans et -'!I109","v":18},{"$f":"'11 ans et -'!H109","v":2},{"$f":"'11 ans et -'!I143","v":18},{"$f":"'11 ans et -'!H143","v":2}]
[{"$f":"Inscription!A5","v":"Dam'eauclès"},{"$f":"Inscription!B5","v":"Katherine Gaulin"},"","",{"$f":"'11 ans et -'!I8","v":""},{"$f":"'11 ans et -'!H8","v":""},{"$f":"'11 ans et -'!I42","v":11},{"$f":"'11 ans et -'!H42","v":7},{"$f":"'11 ans et -'!I76","v":6},{"$f":"'11 ans et -'!H76","v":11},{"$f":"'11 ans et -'!I110","v":7},{"$f":"'11 ans et -'!H110","v":10},{"$f":"'11 ans et -'!I144","v":5},{"$f":"'11 ans et -'!H144","v":12}]
[{"$f":"Inscription!A6","v":"Dam'eauclès"},{"$f":"Inscription!B6","v":"Théodore Turgeon"},"",{"$f":"IF(E9=\"\",\"\",SUM(E9,G9,I9,K9,M9))","v":""},{"$f":"'11 ans et -'!I9","v":""},{"$f":"'11 ans et -'!H9","v":""},{"$f":"'11 ans et -'!I43","v":4},{"$f":"'11 ans et -'!H43","v":13},{"$f":"'11 ans et -'!I77","v":7},{"$f":"'11 ans et -'!H77","v":10},{"$f":"'11 ans et -'!I111","v":2},{"$f":"'11 ans et -'!H111","v":15},{"$f":"'11 ans et -'!I145","v":3},{"$f":"'11 ans et -'!H145","v":14}]
[{"$f":"Inscription!A7","v":"30deux"},{"$f":"Inscription!B7","v":"Émilie Tessier"},"","",{"$f":"'11 ans et -'!I10","v":""},{"$f":"'11 ans et -'!H10","v":""},{"$f":"'11 ans et -'!I44","v":14},{"$f":"'11 ans et -'!H44","v":4},{"$f":"'11 ans et -'!I78","v":18},{"$f":"'11 ans et -'!H78","v":2},{"$f":"'11 ans et -'!I112","v":11},{"$f":"'11 ans et -'!H112","v":7},{"$f":"'11 ans et -'!I146","v":16},{"$f":"'11 ans et -'!H146","v":3}]
[{"$f":"Inscription!A8","v":"30deux"},{"$f":"Inscription!B8","v":"Ève-Marie Bell"},"","",{"$f":"'11 ans et -'!I11","v":""},{"$f":"'11 ans et -'!H11","v":""},{"$f":"'11 ans et -'!I45","v":7},{"$f":"'11 ans et -'!H45","v":10},{"$f":"'11 ans et -'!I79","v":8},{"$f":"'11 ans et -'!H79","v":9},{"$f":"'11 ans et -'!I113","v":6},{"$f":"'11 ans et -'!H113","v":11},{"$f":"'11 ans et -'!I147","v":6},{"$f":"'11 ans et -'!H147","v":11}]
[{"$f":"Inscription!A9","v":"CSRN"},{"$f":"Inscription!B9","v":"Samya Chakir"},"","",{"$f":"'11 ans et -'!I12","v":""},{"$f":"'11 ans et -'!H12","v":""},{"$f":"'11 ans et -'!I46","v":10},{"$f":"'11 ans et -'!H46","v":8},{"$f":"'11 ans et -'!I80","v":11},{"$f":"'11 ans et -'!H80","v":7},{"$f":"'11 ans et -'!I114","v":10},{"$f":"'11 ans et -'!H114","v":8},{"$f":"'11 ans et -'!I148","v":7},{"$f":"'11 ans et -'!H148","v":10}]
[{"$f":"Inscription!A10","v":"CSRN"},{"$f":"Inscription!B10","v":"Zoé Martin"},"","",{"$f":"'11 ans et -'!I13","v":""},{"$f":"'11 ans et -'!H13","v":""},{"$f":"'11 ans et -'!I47","v":5},{"$f":"'11 ans et -'!H47","v":12},{"$f":"'11 ans et -'!I81","v":4},{"$f":"'11 ans et -'!H81","v":13},{"$f":"'11 ans et -'!I115","v":8},{"$f":"'11 ans et -'!H115","v":9},{"$f":"'11 ans et -'!I149","v":8},{"$f":"'11 ans et -'!H149","v":9}]
[{"$f":"Inscription!A11","v":"CSRN"},{"$f":"Inscription!B11","v":"Gabriel Martin"},"","",{"$f":"'11 ans et -'!I14","v":""},{"$f":"'11 ans et -'!H14","v":""},{"$f":"'11 ans et -'!I48","v":"0"},{"$f":"'11 ans et -'!H48","v":"DQ"},{"$f":"'11 ans et -'!I82","v":3},{"$f":"'11 ans et -'!H82","v":14},{"$f":"'11 ans et -'!I116","v":3},{"$f":"'11 ans et -'!H116","v":14},{"$f":"'11 ans et -'!I150","v":2},{"$f":"'11 ans et -'!H150","v":15}]
[{"$f":"Inscription!A12","v":"CSRN"},{"$f":"Inscription!B12","v":"Justin Gauthier"},"","",{"$f":"'11 ans et -'!I15","v":""},{"$f":"'11 ans et -'!H15","v":""},{"$f":"'11 ans et -'!I49","v":18},{"$f":"'11 ans et -'!H49","v":2},{"$f":"'11 ans et -'!I83","v":"0"},{"$f":"'11 ans et -'!H83","v":"DQ"},{"$f":"'11 ans et -'!I117","v":20},{"$f":"'11 ans et -'!H117","v":1},{"$f":"'11 ans et -'!I151","v":20},{"$f":"'11 ans et -'!H151","v":1}]
[{"$f":"Inscription!A13","v":"CSRN"},{"$f":"Inscription!B13","v":"Annabelle Rhéaume"},"","",{"$f":"'11 ans et -'!I16","v":""},{"$f":"'11 ans et -'!H16","v":""},{"$f":"'11 ans et -'!I50","v":6},{"$f":"'11 ans et -'!H50","v":11},{"$f":"'11 ans et -'!I84","v":5},{"$f":"'11 ans et -'!H84","v":12},{"$f":"'11 ans et -'!I118","v":5},{"$f":"'11 ans et -'!H118","v":12},{"$f":"'11 ans et -'!I152","v":4},{"$f":"'11 ans et -'!H152","v":13}]
[{"$f":"Inscription!A14","v":"Gatineau"},{"$f":"Inscription!B14","v":"Andréanne Pichette"},"","",{"$f":"'11 ans et -'!I17","v":""},{"$f":"'11 ans et -'!H17","v":""},{"$f":"'11 ans et -'!I51","v":3},{"$f":"'11 ans et -'!H51","v":14},{"$f":"'11 ans et -'!I85","v":12},{"$f":"'11 ans et -'!H85","v":6},{"$f":"'11 ans et -'!I119","v":4},{"$f":"'11 ans et -'!H119","v":13},{"$f":"'11 ans et -'!I153","v":11},{"$f":"'11 ans et -'!H153","v":7}]
[{"$f":"Inscription!A15","v":"Narval"},{"$f":"Inscription!B15","v":"GabriellePotvin"},"","",{"$f":"'11 ans et -'!I18","v":""},{"$f":"'11 ans et -'!H18","v":""},{"$f":"'11 ans et -'!I52","v":13},{"$f":"'11 ans et -'!H52","v":5},{"$f":"'11 ans et -'!I86","v":16},{"$f":"'11 ans et -'!H86","v":3},{"$f":"'11 ans et -'!I120","v":13},{"$f":"'11 ans et -'!H120","v":5},{"$f":"'11 ans et -'!I154","v":12},{"$f":"'11 ans et -'!H154","v":6}]
[{"$f":"Inscription!A16","v":"CASO"},{"$f":"Inscription!B16","v":"Zacharie Taillefer"},"","",{"$f":"'11 ans et -'!I19","v":""},{"$f":"'11 ans et -'!H19","v":""},{"$f":"'11 ans et -'!I53","v":20},{"$f":"'11 ans et -'!H53","v":1},{"$f":"'11 ans et -'!I87","v":20},{"$f":"'11 ans et -'!H87","v":1},{"$f":"'11 ans et -'!I121","v":14},{"$f":"'11 ans et -'!H121","v":4},{"$f":"'11 ans et -'!I155","v":13},{"$f":"'11 ans et -'!H155","v":5}]
[{"$f":"Inscription!A17","v":0},{"$f":"Inscription!B17","v":0},"","",{"$f":"'11 ans et -'!I20","v":""},{"$f":"'11 ans et -'!H20","v":""},{"$f":"'11 ans et -'!I54","v":""},{"$f":"'11 ans et -'!H54","v":""},{"$f":"'11 ans et -'!I88","v":""},{"$f":"'11 ans et -'!H88","v":""},{"$f":"'11 ans et -'!I122","v":""},{"$f":"'11 ans et -'!H122","v":""},{"$f":"'11 ans et -'!I156","v":""},{"$f":"'11 ans et -'!H156","v":""}]
[{"$f":"Inscription!A18","v":0},{"$f":"Inscription!B18","v":0},"","",{"$f":"'11 ans et -'!I21","v":""},{"$f":"'11 ans et -'!H21","v":""},{"$f":"'11 ans et -'!I55","v":""},{"$f":"'11 ans et -'!H55","v":""},{"$f":"'11 ans et -'!I89","v":""},{"$f":"'11 ans et -'!H89","v":""},{"$f":"'11 ans et -'!I123","v":""},{"$f":"'11 ans et -'!H123","v":""},{"$f":"'11 ans et -'!I157","v":""},{"$f":"'11 ans et -'!H157","v":""}]
[{"$f":"Inscription!A19","v":0},{"$f":"Inscription!B19","v":0},"","",{"$f":"'11 ans et -'!I22","v":""},{"$f":"'11 ans et -'!H22","v":""},{"$f":"'11 ans et -'!I56","v":""},{"$f":"'11 ans et -'!H56","v":""},{"$f":"'11 ans et -'!I90","v":""},{"$f":"'11 ans et -'!H90","v":""},{"$f":"'11 ans et -'!I124","v":""},{"$f":"'11 ans et -'!H124","v":""},{"$f":"'11 ans et -'!I158","v":""},{"$f":"'11 ans et -'!H158","v":""}]
[{"$f":"Inscription!A20","v":0},{"$f":"Inscription!B20","v":0},"","",{"$f":"'11 ans et -'!I23","v":""},{"$f":"'11 ans et -'!H23","v":""},{"$f":"'11 ans et -'!I57","v":""},{"$f":"'11 ans et -'!H57","v":""},{"$f":"'11 ans et -'!I91","v":""},{"$f":"'11 ans et -'!H91","v":""},{"$f":"'11 ans et -'!I125","v":""},{"$f":"'11 ans et -'!H125","v":""},{"$f":"'11 ans et -'!I159","v":""},{"$f":"'11 ans et -'!H159","v":""}]
[{"$f":"Inscription!A21","v":0},{"$f":"Inscription!B21","v":0},"","",{"$f":"'11 ans et -'!I24","v":""},{"$f":"'11 ans et -'!H24","v":""},{"$f":"'11 ans et -'!I58","v":""},{"$f":"'11 ans et -'!H58","v":""},{"$f":"'11 ans et -'!I92","v":""},{"$f":"'11 ans et -'!H92","v":""},{"$f":"'11 ans et -'!I126","v":""},{"$f":"'11 ans et -'!H126","v":""},{"$f":"'11 ans et -'!I160","v":""},{"$f":"'11 ans et -'!H160","v":""}]
[{"$f":"Inscription!A22","v":0},{"$f":"Inscription!B22","v":0},"","",{"$f":"'11 ans et -'!I25","v":""},{"$f":"'11 ans et -'!H25","v":""},{"$f":"'11 ans et -'!I59","v":""},{"$f":"'11 ans et -'!H59","v":""},{"$f":"'11 ans et -'!I93","v":""},{"$f":"'11 ans et -'!H93","v":""},{"$f":"'11 ans et -'!I127","v":""},{"$f":"'11 ans et -'!H127","v":""},{"$f":"'11 ans et -'!I161","v":""},{"$f":"'11 ans et -'!H161","v":""}]
[{"$f":"Inscription!A23","v":0},{"$f":"Inscription!B23","v":0},"","",{"$f":"'11 ans et -'!I26","v":""},{"$f":"'11 ans et -'!H26","v":""},{"$f":"'11 ans et -'!I60","v":""},{"$f":"'11 ans et -'!H60","v":""},{"$f":"'11 ans et -'!I94","v":""},{"$f":"'11 ans et -'!H94","v":""},{"$f":"'11 ans et -'!I128","v":""},{"$f":"'11 ans et -'!H128","v":""},{"$f":"'11 ans et -'!I162","v":""},{"$f":"'11 ans et -'!H162","v":""}]
[{"$f":"Inscription!A24","v":0},{"$f":"Inscription!B24","v":0},"","",{"$f":"'11 ans et -'!I27","v":""},{"$f":"'11 ans et -'!H27","v":""},{"$f":"'11 ans et -'!I61","v":""},{"$f":"'11 ans et -'!H61","v":""},{"$f":"'11 ans et -'!I95","v":""},{"$f":"'11 ans et -'!H95","v":""},{"$f":"'11 ans et -'!I129","v":""},{"$f":"'11 ans et -'!H129","v":""},{"$f":"'11 ans et -'!I163","v":""},{"$f":"'11 ans et -'!H163","v":""}]
[{"$f":"Inscription!A25","v":0},{"$f":"Inscription!B25","v":0},"","",{"$f":"'11 ans et -'!I28","v":""},{"$f":"'11 ans et -'!H28","v":""},{"$f":"'11 ans et -'!I62","v":""},{"$f":"'11 ans et -'!H62","v":""},{"$f":"'11 ans et -'!I96","v":""},{"$f":"'11 ans et -'!H96","v":""},{"$f":"'11 ans et -'!I130","v":""},{"$f":"'11 ans et -'!H130","v":""},{"$f":"'11 ans et -'!I164","v":""},{"$f":"'11 ans et -'!H164","v":""}]
[{"$f":"Inscription!A26","v":0},{"$f":"Inscription!B26","v":0},"","",{"$f":"'11 ans et -'!I29","v":""},{"$f":"'11 ans et -'!H29","v":""},{"$f":"'11 ans et -'!I63","v":""},{"$f":"'11 ans et -'!H63","v":""},{"$f":"'11 ans et -'!I97","v":""},{"$f":"'11 ans et -'!H97","v":""},{"$f":"'11 ans et -'!I131","v":""},{"$f":"'11 ans et -'!H131","v":""},{"$f":"'11 ans et -'!I165","v":""},{"$f":"'11 ans et -'!H165","v":""}]
[{"$f":"Inscription!A27","v":0},{"$f":"Inscription!B27","v":0},"","",{"$f":"'11 ans et -'!I30","v":""},{"$f":"'11 ans et -'!H30","v":""},{"$f":"'11 ans et -'!I64","v":""},{"$f":"'11 ans et -'!H64","v":""},{"$f":"'11 ans et -'!I98","v":""},{"$f":"'11 ans et -'!H98","v":""},{"$f":"'11 ans et -'!I132","v":""},{"$f":"'11 ans et -'!H132","v":""},{"$f":"'11 ans et -'!I166","v":""},{"$f":"'11 ans et -'!H166","v":""}]
[{"$f":"Inscription!A28","v":0},{"$f":"Inscription!B28","v":0},"","",{"$f":"'11 ans et -'!I31","v":""},{"$f":"'11 ans et -'!H31","v":""},{"$f":"'11 ans et -'!I65","v":""},{"$f":"'11 ans et -'!H65","v":""},{"$f":"'11 ans et -'!I99","v":""},{"$f":"'11 ans et -'!H99","v":""},{"$f":"'11 ans et -'!I133","v":""},{"$f":"'11 ans et -'!H133","v":""},{"$f":"'11 ans et -'!I167","v":""},{"$f":"'11 ans et -'!H167","v":""}]
[{"$f":"Inscription!A29","v":0},{"$f":"Inscription!B29","v":0},"","",{"$f":"'11 ans et -'!I32","v":""},{"$f":"'11 ans et -'!H32","v":""},{"$f":"'11 ans et -'!I66","v":""},{"$f":"'11 ans et -'!H66","v":""},{"$f":"'11 ans et -'!I100","v":""},{"$f":"'11 ans et -'!H100","v":""},{"$f":"'11 ans et -'!I134","v":""},{"$f":"'11 ans et -'!H134","v":""},{"$f":"'11 ans et -'!I168","v":""},{"$f":"'11 ans et -'!H168","v":""}]
[{"$f":"Inscription!A30","v":0},{"$f":"Inscription!B30","v":0},"","",{"$f":"'11 ans et -'!I33","v":""},{"$f":"'11 ans et -'!H33","v":""},{"$f":"'11 ans et -'!I67","v":""},{"$f":"'11 ans et -'!H67","v":""},{"$f":"'11 ans et -'!I101","v":""},{"$f":"'11 ans et -'!H101","v":""},{"$f":"'11 ans et -'!I135","v":""},{"$f":"'11 ans et -'!H135","v":""},{"$f":"'11 ans et -'!I169","v":""},{"$f":"'11 ans et -'!H169","v":""}]
[{"$f":"Inscription!A31","v":0},{"$f":"Inscription!B31","v":0},"","",{"$f":"'11 ans et -'!I34","v":""},{"$f":"'11 ans et -'!H34","v":""},{"$f":"'11 ans et -'!I68","v":""},{"$f":"'11 ans et -'!H68","v":""},{"$f":"'11 ans et -'!I102","v":""},{"$f":"'11 ans et -'!H102","v":""},{"$f":"'11 ans et -'!I136","v":""},{"$f":"'11 ans et -'!H136","v":""},{"$f":"'11 ans et -'!I170","v":""},{"$f":"'11 ans et -'!H170","v":""}]
[]
["Résultats - 12 - 13 ans"]
["Club","Nom","Rang","Total","Corde",null,"Remorquage",null,"Obstacle",null,"Portage  + palme",null,"Portage",null,"Sauveteur d'acier",null,"Medley sauvetage"]
[null,null,null,null,"Pointage","R","Pointage","R","Pointage","R","Pointage","R","Pointage","R","Pointage","R","Pointage","R"]
[{"$f":"Inscription!C2","v":"SSSL"},{"$f":"Inscription!D2","v":"Sybel Roy"},{"$f":"IF(E39=\"\",\"\",RANK(D39,$D$39:$D$68))","v":""},{"$f":"IF(E39=\"\",\"\",SUM(E39,G39,I39,M39,O39,Q39))","v":""},{"$f":"'12 - 13 ans'!I5","v":""},{"$f":"'12 - 13 ans'!H5","v":""},{"$f":"'12 - 13 ans'!I39","v":12},{"$f":"'12 - 13 ans'!H39","v":6},{"$f":"'12 - 13 ans'!I73","v":12},{"$f":"'12 - 13 ans'!H73","v":6},{"$f":"'12 - 13 ans'!I107","v":11},{"$f":"'12 - 13 ans'!H107","v":7},{"$f":"'12 - 13 ans'!I141","v":12},{"$f":"'12 - 13 ans'!H141","v":6},{"$f":"'12 - 13 ans'!I175","v":12},{"$f":"'12 - 13 ans'!H175","v":6},{"$f":"'12 - 13 ans'!I209","v":""},{"$f":"'12 - 13 ans'!H209","v":""}]
[{"$f":"Inscription!C3","v":"CAEM"},{"$f":"Inscription!D3","v":"Ariane St-Denis"},{"$f":"IF(E40=\"\",\"\",RANK(D40,$D$39:$D$68))","v":""},{"$f":"IF(E40=\"\",\"\",SUM(E40,G40,I40,M40,O40,Q40))","v":""},{"$f":"'12 - 13 ans'!I6","v":""},{"$f":"'12 - 13 ans'!H6","v":""},{"$f":"'12 - 13 ans'!I40","v":20},{"$f":"'12 - 13 ans'!H40","v":1},{"$f":"'12 - 13 ans'!I74","v":14},{"$f":"'12 - 13 ans'!H74","v":4},{"$f":"'12 - 13 ans'!I108","v":14},{"$f":"'12 - 13 ans'!H108","v":4},{"$f":"'12 - 13 ans'!I142","v":13},{"$f":"'12 - 13 ans'!H142","v":5},{"$f":"'12 - 13 ans'!I176","v":20},{"$f":"'12 - 13 ans'!H176","v":1},{"$f":"'12 - 13 ans'!I210","v":""},{"$f":"'12 - 13 ans'!H210","v":""}]
[{"$f":"Inscription!C4","v":"Dam'eauclès"},{"$f":"Inscription!D4","v":"Émile Turgeon"},"","",{"$f":"'12 - 13 ans'!I7","v":""},{"$f":"'12 - 13 ans'!H7","v":""},{"$f":"'12 - 13 ans'!I41","v":7},{"$f":"'12 - 13 ans'!H41","v":10},{"$f":"'12 - 13 ans'!I75","v":12},{"$f":"'12 - 13 ans'!H75","v":6},{"$f":"'12 - 13 ans'!I109","v":12},{"$f":"'12 - 13 ans'!H109","v":6},{"$f":"'12 - 13 ans'!I143","v":10},{"$f":"'12 - 13 ans'!H143","v":8},{"$f":"'12 - 13 ans'!I177","v":11},{"$f":"'12 - 13 ans'!H177","v":7},{"$f":"'12 - 13 ans'!I211","v":""},{"$f":"'12 - 13 ans'!H211","v":""}]
[{"$f":"Inscription!C5","v":"CSRAD"},{"$f":"Inscription!D5","v":"Malory Boisclair"},"","",{"$f":"'12 - 13 ans'!I8","v":""},{"$f":"'12 - 13 ans'!H8","v":""},{"$f":"'12 - 13 ans'!I42","v":13},{"$f":"'12 - 13 ans'!H42","v":5},{"$f":"'12 - 13 ans'!I76","v":18},{"$f":"'12 - 13 ans'!H76","v":2},{"$f":"'12 - 13 ans'!I110","v":18},{"$f":"'12 - 13 ans'!H110","v":2},{"$f":"'12 - 13 ans'!I144","v":18},{"$f":"'12 - 13 ans'!H144","v":2},{"$f":"'12 - 13 ans'!I178","v":"0"},{"$f":"'12 - 13 ans'!H178","v":"DQ"},{"$f":"'12 - 13 ans'!I212","v":""},{"$f":"'12 - 13 ans'!H212","v":""}]
[{"$f":"Inscription!C6","v":"30deux"},{"$f":"Inscription!D6","v":"Ariane Trudel"},"","",{"$f":"'12 - 13 ans'!I9","v":""},{"$f":"'12 - 13 ans'!H9","v":""},{"$f":"'12 - 13 ans'!I43","v":16},{"$f":"'12 - 13 ans'!H43","v":3},{"$f":"'12 - 13 ans'!I77","v":13},{"$f":"'12 - 13 ans'!H77","v":5},{"$f":"'12 - 13 ans'!I111","v":16},{"$f":"'12 - 13 ans'!H111","v":3},{"$f":"'12 - 13 ans'!I145","v":14},{"$f":"'12 - 13 ans'!H145","v":4},{"$f":"'12 - 13 ans'!I179","v":16},{"$f":"'12 - 13 ans'!H179","v":3},{"$f":"'12 - 13 ans'!I213","v":""},{"$f":"'12 - 13 ans'!H213","v":""}]
[{"$f":"Inscription!C7","v":"CSRN"},{"$f":"Inscription!D7","v":"Thomas Martin"},"","",{"$f":"'12 - 13 ans'!I10","v":""},{"$f":"'12 - 13 ans'!H10","v":""},{"$f":"'12 - 13 ans'!I44","v":18},{"$f":"'12 - 13 ans'!H44","v":2},{"$f":"'12 - 13 ans'!I78","v":20},{"$f":"'12 - 13 ans'!H78","v":1},{"$f":"'12 - 13 ans'!I112","v":20},{"$f":"'12 - 13 ans'!H112","v":1},{"$f":"'12 - 13 ans'!I146","v":20},{"$f":"'12 - 13 ans'!H146","v":1},{"$f":"'12 - 13 ans'!I180","v":18},{"$f":"'12 - 13 ans'!H180","v":2},{"$f":"'12 - 13 ans'!I214","v":""},{"$f":"'12 - 13 ans'!H214","v":""}]
[{"$f":"Inscription!C8","v":"CSRN"},{"$f":"Inscription!D8","v":"Maxime Laurence"},"","",{"$f":"'12 - 13 ans'!I11","v":""},{"$f":"'12 - 13 ans'!H11","v":""},{"$f":"'12 - 13 ans'!I45","v":11},{"$f":"'12 - 13 ans'!H45","v":7},{"$f":"'12 - 13 ans'!I79","v":"0"},{"$f":"'12 - 13 ans'!H79","v":"DQ"},{"$f":"'12 - 13 ans'!I113","v":7},{"$f":"'12 - 13 ans'!H113","v":10},{"$f":"'12 - 13 ans'!I147","v":"0"},{"$f":"'12 - 13 ans'!H147","v":"DNS"},{"$f":"'12 - 13 ans'!I181","v":"0"},{"$f":"'12 - 13 ans'!H181","v":"DNS"},{"$f":"'12 - 13 ans'!I215","v":""},{"$f":"'12 - 13 ans'!H215","v":""}]
[{"$f":"Inscription!C9","v":"CSRN"},{"$f":"Inscription!D9","v":"Eugénie Tétreault"},"","",{"$f":"'12 - 13 ans'!I12","v":""},{"$f":"'12 - 13 ans'!H12","v":""},{"$f":"'12 - 13 ans'!I46","v":10},{"$f":"'12 - 13 ans'!H46","v":8},{"$f":"'12 - 13 ans'!I80","v":12},{"$f":"'12 - 13 ans'!H80","v":6},{"$f":"'12 - 13 ans'!I114","v":8},{"$f":"'12 - 13 ans'!H114","v":9},{"$f":"'12 - 13 ans'!I148","v":11},{"$f":"'12 - 13 ans'!H148","v":7},{"$f":"'12 - 13 ans'!I182","v":13},{"$f":"'12 - 13 ans'!H182","v":5},{"$f":"'12 - 13 ans'!I216","v":""},{"$f":"'12 - 13 ans'!H216","v":""}]
[{"$f":"Inscription!C10","v":"CSRN"},{"$f":"Inscription!D10","v":"Justin Gauthier"},"","",{"$f":"'12 - 13 ans'!I13","v":""},{"$f":"'12 - 13 ans'!H13","v":""},{"$f":"'12 - 13 ans'!I47","v":"0"},{"$f":"'12 - 13 ans'!H47","v":"DNS"},{"$f":"'12 - 13 ans'!I81","v":"0"},{"$f":"'12 - 13 ans'!H81","v":"DNS"},{"$f":"'12 - 13 ans'!I115","v":"0"},{"$f":"'12 - 13 ans'!H115","v":"DNS"},{"$f":"'12 - 13 ans'!I149","v":"0"},{"$f":"'12 - 13 ans'!H149","v":"DNS"},{"$f":"'12 - 13 ans'!I183","v":"0"},{"$f":"'12 - 13 ans'!H183","v":"DNS"},{"$f":"'12 - 13 ans'!I217","v":""},{"$f":"'12 - 13 ans'!H217","v":""}]
[{"$f":"Inscription!C11","v":"Gatineau"},{"$f":"Inscription!D11","v":"Justin Pichette"},"","",{"$f":"'12 - 13 ans'!I14","v":""},{"$f":"'12 - 13 ans'!H14","v":""},{"$f":"'12 - 13 ans'!I48","v":6},{"$f":"'12 - 13 ans'!H48","v":11},{"$f":"'12 - 13 ans'!I82","v":6},{"$f":"'12 - 13 ans'!H82","v":11},{"$f":"'12 - 13 ans'!I116","v":5},{"$f":"'12 - 13 ans'!H116","v":12},{"$f":"'12 - 13 ans'!I150","v":7},{"$f":"'12 - 13 ans'!H150","v":10},{"$f":"'12 - 13 ans'!I184","v":"0"},{"$f":"'12 - 13 ans'!H184","v":"DQ"},{"$f":"'12 - 13 ans'!I218","v":""},{"$f":"'12 - 13 ans'!H218","v":""}]
[{"$f":"Inscription!C12","v":"Gatineau"},{"$f":"Inscription!D12","v":"Marianne Caplette"},"","",{"$f":"'12 - 13 ans'!I15","v":""},{"$f":"'12 - 13 ans'!H15","v":""},{"$f":"'12 - 13 ans'!I49","v":5},{"$f":"'12 - 13 ans'!H49","v":12},{"$f":"'12 - 13 ans'!I83","v":7},{"$f":"'12 - 13 ans'!H83","v":10},{"$f":"'12 - 13 ans'!I117","v":6},{"$f":"'12 - 13 ans'!H117","v":11},{"$f":"'12 - 13 ans'!I151","v":"0"},{"$f":"'12 - 13 ans'!H151","v":"DQ"},{"$f":"'12 - 13 ans'!I185","v":"0"},{"$f":"'12 - 13 ans'!H185","v":"DQ"},{"$f":"'12 - 13 ans'!I219","v":""},{"$f":"'12 - 13 ans'!H219","v":""}]
[{"$f":"Inscription!C13","v":"Narval"},{"$f":"Inscription!D13","v":"Joelle Gauthier-Drapeau"},"","",{"$f":"'12 - 13 ans'!I16","v":""},{"$f":"'12 - 13 ans'!H16","v":""},{"$f":"'12 - 13 ans'!I50","v":8},{"$f":"'12 - 13 ans'!H50","v":9},{"$f":"'12 - 13 ans'!I84","v":8},{"$f":"'12 - 13 ans'!H84","v":9},{"$f":"'12 - 13 ans'!I118","v":10},{"$f":"'12 - 13 ans'!H118","v":8},{"$f":"'12 - 13 ans'!I152","v":8},{"$f":"'12 - 13 ans'!H152","v":9},{"$f":"'12 - 13 ans'!I186","v":10},{"$f":"'12 - 13 ans'!H186","v":8},{"$f":"'12 - 13 ans'!I220","v":""},{"$f":"'12 - 13 ans'!H220","v":""}]
[{"$f":"Inscription!C14","v":"Narval"},{"$f":"Inscription!D14","v":"Léony Gobeil"},"","",{"$f":"'12 - 13 ans'!I17","v":""},{"$f":"'12 - 13 ans'!H17","v":""},{"$f":"'12 - 13 ans'!I51","v":14},{"$f":"'12 - 13 ans'!H51","v":4},{"$f":"'12 - 13 ans'!I85","v":16},{"$f":"'12 - 13 ans'!H85","v":3},{"$f":"'12 - 13 ans'!I119","v":13},{"$f":"'12 - 13 ans'!H119","v":5},{"$f":"'12 - 13 ans'!I153","v":16},{"$f":"'12 - 13 ans'!H153","v":3},{"$f":"'12 - 13 ans'!I187","v":14},{"$f":"'12 - 13 ans'!H187","v":4},{"$f":"'12 - 13 ans'!I221","v":""},{"$f":"'12 - 13 ans'!H221","v":""}]
[{"$f":"Inscription!C15","v":0},{"$f":"Inscription!D15","v":0},"","",{"$f":"'12 - 13 ans'!I18","v":""},{"$f":"'12 - 13 ans'!H18","v":""},{"$f":"'12 - 13 ans'!I52","v":""},{"$f":"'12 - 13 ans'!H52","v":""},{"$f":"'12 - 13 ans'!I86","v":""},{"$f":"'12 - 13 ans'!H86","v":""},{"$f":"'12 - 13 ans'!I120","v":""},{"$f":"'12 - 13 ans'!H120","v":""},{"$f":"'12 - 13 ans'!I154","v":""},{"$f":"'12 - 13 ans'!H154","v":""},{"$f":"'12 - 13 ans'!I188","v":""},{"$f":"'12 - 13 ans'!H188","v":""},{"$f":"'12 - 13 ans'!I222","v":""},{"$f":"'12 - 13 ans'!H222","v":""}]
[{"$f":"Inscription!C16","v":0},{"$f":"Inscription!D16","v":0},"","",{"$f":"'12 - 13 ans'!I19","v":""},{"$f":"'12 - 13 ans'!H19","v":""},{"$f":"'12 - 13 ans'!I53","v":""},{"$f":"'12 - 13 ans'!H53","v":""},{"$f":"'12 - 13 ans'!I87","v":""},{"$f":"'12 - 13 ans'!H87","v":""},{"$f":"'12 - 13 ans'!I121","v":""},{"$f":"'12 - 13 ans'!H121","v":""},{"$f":"'12 - 13 ans'!I155","v":""},{"$f":"'12 - 13 ans'!H155","v":""},{"$f":"'12 - 13 ans'!I189","v":""},{"$f":"'12 - 13 ans'!H189","v":""},{"$f":"'12 - 13 ans'!I223","v":""},{"$f":"'12 - 13 ans'!H223","v":""}]
[{"$f":"Inscription!C17","v":0},{"$f":"Inscription!D17","v":0},"","",{"$f":"'12 - 13 ans'!I20","v":""},{"$f":"'12 - 13 ans'!H20","v":""},{"$f":"'12 - 13 ans'!I54","v":""},{"$f":"'12 - 13 ans'!H54","v":""},{"$f":"'12 - 13 ans'!I88","v":""},{"$f":"'12 - 13 ans'!H88","v":""},{"$f":"'12 - 13 ans'!I122","v":""},{"$f":"'12 - 13 ans'!H122","v":""},{"$f":"'12 - 13 ans'!I156","v":""},{"$f":"'12 - 13 ans'!H156","v":""},{"$f":"'12 - 13 ans'!I190","v":""},{"$f":"'12 - 13 ans'!H190","v":""},{"$f":"'12 - 13 ans'!I224","v":""},{"$f":"'12 - 13 ans'!H224","v":""}]
[{"$f":"Inscription!C18","v":0},{"$f":"Inscription!D18","v":0},"","",{"$f":"'12 - 13 ans'!I21","v":""},{"$f":"'12 - 13 ans'!H21","v":""},{"$f":"'12 - 13 ans'!I55","v":""},{"$f":"'12 - 13 ans'!H55","v":""},{"$f":"'12 - 13 ans'!I89","v":""},{"$f":"'12 - 13 ans'!H89","v":""},{"$f":"'12 - 13 ans'!I123","v":""},{"$f":"'12 - 13 ans'!H123","v":""},{"$f":"'12 - 13 ans'!I157","v":""},{"$f":"'12 - 13 ans'!H157","v":""},{"$f":"'12 - 13 ans'!I191","v":""},{"$f":"'12 - 13 ans'!H191","v":""},{"$f":"'12 - 13 ans'!I225","v":""},{"$f":"'12 - 13 ans'!H225","v":""}]
[{"$f":"Inscription!C19","v":0},{"$f":"Inscription!D19","v":0},"","",{"$f":"'12 - 13 ans'!I22","v":""},{"$f":"'12 - 13 ans'!H22","v":""},{"$f":"'12 - 13 ans'!I56","v":""},{"$f":"'12 - 13 ans'!H56","v":""},{"$f":"'12 - 13 ans'!I90","v":""},{"$f":"'12 - 13 ans'!H90","v":""},{"$f":"'12 - 13 ans'!I124","v":""},{"$f":"'12 - 13 ans'!H124","v":""},{"$f":"'12 - 13 ans'!I158","v":""},{"$f":"'12 - 13 ans'!H158","v":""},{"$f":"'12 - 13 ans'!I192","v":""},{"$f":"'12 - 13 ans'!H192","v":""},{"$f":"'12 - 13 ans'!I226","v":""},{"$f":"'12 - 13 ans'!H226","v":""}]
[{"$f":"Inscription!C20","v":0},{"$f":"Inscription!D20","v":0},"","",{"$f":"'12 - 13 ans'!I23","v":""},{"$f":"'12 - 13 ans'!H23","v":""},{"$f":"'12 - 13 ans'!I57","v":""},{"$f":"'12 - 13 ans'!H57","v":""},{"$f":"'12 - 13 ans'!I91","v":""},{"$f":"'12 - 13 ans'!H91","v":""},{"$f":"'12 - 13 ans'!I125","v":""},{"$f":"'12 - 13 ans'!H125","v":""},{"$f":"'12 - 13 ans'!I159","v":""},{"$f":"'12 - 13 ans'!H159","v":""},{"$f":"'12 - 13 ans'!I193","v":""},{"$f":"'12 - 13 ans'!H193","v":""},{"$f":"'12 - 13 ans'!I227","v":""},{"$f":"'12 - 13 ans'!H227","v":""}]
[{"$f":"Inscription!C21","v":0},{"$f":"Inscription!D21","v":0},"","",{"$f":"'12 - 13 ans'!I24","v":""},{"$f":"'12 - 13 ans'!H24","v":""},{"$f":"'12 - 13 ans'!I58","v":""},{"$f":"'12 - 13 ans'!H58","v":""},{"$f":"'12 - 13 ans'!I92","v":""},{"$f":"'12 - 13 ans'!H92","v":""},{"$f":"'12 - 13 ans'!I126","v":""},{"$f":"'12 - 13 ans'!H126","v":""},{"$f":"'12 - 13 ans'!I160","v":""},{"$f":"'12 - 13 ans'!H160","v":""},{"$f":"'12 - 13 ans'!I194","v":""},{"$f":"'12 - 13 ans'!H194","v":""},{"$f":"'12 - 13 ans'!I228","v":""},{"$f":"'12 - 13 ans'!H228","v":""}]
[{"$f":"Inscription!C22","v":0},{"$f":"Inscription!D22","v":0},"","",{"$f":"'12 - 13 ans'!I25","v":""},{"$f":"'12 - 13 ans'!H25","v":""},{"$f":"'12 - 13 ans'!I59","v":""},{"$f":"'12 - 13 ans'!H59","v":""},{"$f":"'12 - 13 ans'!I93","v":""},{"$f":"'12 - 13 ans'!H93","v":""},{"$f":"'12 - 13 ans'!I127","v":""},{"$f":"'12 - 13 ans'!H127","v":""},{"$f":"'12 - 13 ans'!I161","v":""},{"$f":"'12 - 13 ans'!H161","v":""},{"$f":"'12 - 13 ans'!I195","v":""},{"$f":"'12 - 13 ans'!H195","v":""},{"$f":"'12 - 13 ans'!I229","v":""},{"$f":"'12 - 13 ans'!H229","v":""}]
[{"$f":"Inscription!C23","v":0},{"$f":"Inscription!D23","v":0},"","",{"$f":"'12 - 13 ans'!I26","v":""},{"$f":"'12 - 13 ans'!H26","v":""},{"$f":"'12 - 13 ans'!I60","v":""},{"$f":"'12 - 13 ans'!H60","v":""},{"$f":"'12 - 13 ans'!I94","v":""},{"$f":"'12 - 13 ans'!H94","v":""},{"$f":"'12 - 13 ans'!I128","v":""},{"$f":"'12 - 13 ans'!H128","v":""},{"$f":"'12 - 13 ans'!I162","v":""},{"$f":"'12 - 13 ans'!H162","v":""},{"$f":"'12 - 13 ans'!I196","v":""},{"$f":"'12 - 13 ans'!H196","v":""},{"$f":"'12 - 13 ans'!I230","v":""},{"$f":"'12 - 13 ans'!H230","v":""}]
[{"$f":"Inscription!C24","v":0},{"$f":"Inscription!D24","v":0},"","",{"$f":"'12 - 13 ans'!I27","v":""},{"$f":"'12 - 13 ans'!H27","v":""},{"$f":"'12 - 13 ans'!I61","v":""},{"$f":"'12 - 13 ans'!H61","v":""},{"$f":"'12 - 13 ans'!I95","v":""},{"$f":"'12 - 13 ans'!H95","v":""},{"$f":"'12 - 13 ans'!I129","v":""},{"$f":"'12 - 13 ans'!H129","v":""},{"$f":"'12 - 13 ans'!I163","v":""},{"$f":"'12 - 13 ans'!H163","v":""},{"$f":"'12 - 13 ans'!I197","v":""},{"$f":"'12 - 13 ans'!H197","v":""},{"$f":"'12 - 13 ans'!I231","v":""},{"$f":"'12 - 13 ans'!H231","v":""}]
[{"$f":"Inscription!C25","v":0},{"$f":"Inscription!D25","v":0},"","",{"$f":"'12 - 13 ans'!I28","v":""},{"$f":"'12 - 13 ans'!H28","v":""},{"$f":"'12 - 13 ans'!I62","v":""},{"$f":"'12 - 13 ans'!H62","v":""},{"$f":"'12 - 13 ans'!I96","v":""},{"$f":"'12 - 13 ans'!H96","v":""},{"$f":"'12 - 13 ans'!I130","v":""},{"$f":"'12 - 13 ans'!H130","v":""},{"$f":"'12 - 13 ans'!I164","v":""},{"$f":"'12 - 13 ans'!H164","v":""},{"$f":"'12 - 13 ans'!I198","v":""},{"$f":"'12 - 13 ans'!H198","v":""},{"$f":"'12 - 13 ans'!I232","v":""},{"$f":"'12 - 13 ans'!H232","v":""}]
[{"$f":"Inscription!C26","v":0},{"$f":"Inscription!D26","v":0},"","",{"$f":"'12 - 13 ans'!I29","v":""},{"$f":"'12 - 13 ans'!H29","v":""},{"$f":"'12 - 13 ans'!I63","v":""},{"$f":"'12 - 13 ans'!H63","v":""},{"$f":"'12 - 13 ans'!I97","v":""},{"$f":"'12 - 13 ans'!H97","v":""},{"$f":"'12 - 13 ans'!I131","v":""},{"$f":"'12 - 13 ans'!H131","v":""},{"$f":"'12 - 13 ans'!I165","v":""},{"$f":"'12 - 13 ans'!H165","v":""},{"$f":"'12 - 13 ans'!I199","v":""},{"$f":"'12 - 13 ans'!H199","v":""},{"$f":"'12 - 13 ans'!I233","v":""},{"$f":"'12 - 13 ans'!H233","v":""}]
[{"$f":"Inscription!C27","v":0},{"$f":"Inscription!D27","v":0},"","",{"$f":"'12 - 13 ans'!I30","v":""},{"$f":"'12 - 13 ans'!H30","v":""},{"$f":"'12 - 13 ans'!I64","v":""},{"$f":"'12 - 13 ans'!H64","v":""},{"$f":"'12 - 13 ans'!I98","v":""},{"$f":"'12 - 13 ans'!H98","v":""},{"$f":"'12 - 13 ans'!I132","v":""},{"$f":"'12 - 13 ans'!H132","v":""},{"$f":"'12 - 13 ans'!I166","v":""},{"$f":"'12 - 13 ans'!H166","v":""},{"$f":"'12 - 13 ans'!I200","v":""},{"$f":"'12 - 13 ans'!H200","v":""},{"$f":"'12 - 13 ans'!I234","v":""},{"$f":"'12 - 13 ans'!H234","v":""}]
[{"$f":"Inscription!C28","v":0},{"$f":"Inscription!D28","v":0},"","",{"$f":"'12 - 13 ans'!I31","v":""},{"$f":"'12 - 13 ans'!H31","v":""},{"$f":"'12 - 13 ans'!I65","v":""},{"$f":"'12 - 13 ans'!H65","v":""},{"$f":"'12 - 13 ans'!I99","v":""},{"$f":"'12 - 13 ans'!H99","v":""},{"$f":"'12 - 13 ans'!I133","v":""},{"$f":"'12 - 13 ans'!H133","v":""},{"$f":"'12 - 13 ans'!I167","v":""},{"$f":"'12 - 13 ans'!H167","v":""},{"$f":"'12 - 13 ans'!I201","v":""},{"$f":"'12 - 13 ans'!H201","v":""},{"$f":"'12 - 13 ans'!I235","v":""},{"$f":"'12 - 13 ans'!H235","v":""}]
[{"$f":"Inscription!C29","v":0},{"$f":"Inscription!D29","v":0},"","",{"$f":"'12 - 13 ans'!I32","v":""},{"$f":"'12 - 13 ans'!H32","v":""},{"$f":"'12 - 13 ans'!I66","v":""},{"$f":"'12 - 13 ans'!H66","v":""},{"$f":"'12 - 13 ans'!I100","v":""},{"$f":"'12 - 13 ans'!H100","v":""},{"$f":"'12 - 13 ans'!I134","v":""},{"$f":"'12 - 13 ans'!H134","v":""},{"$f":"'12 - 13 ans'!I168","v":""},{"$f":"'12 - 13 ans'!H168","v":""},{"$f":"'12 - 13 ans'!I202","v":""},{"$f":"'12 - 13 ans'!H202","v":""},{"$f":"'12 - 13 ans'!I236","v":""},{"$f":"'12 - 13 ans'!H236","v":""}]
[{"$f":"Inscription!C30","v":0},{"$f":"Inscription!D30","v":0},"","",{"$f":"'12 - 13 ans'!I33","v":""},{"$f":"'12 - 13 ans'!H33","v":""},{"$f":"'12 - 13 ans'!I67","v":""},{"$f":"'12 - 13 ans'!H67","v":""},{"$f":"'12 - 13 ans'!I101","v":""},{"$f":"'12 - 13 ans'!H101","v":""},{"$f":"'12 - 13 ans'!I135","v":""},{"$f":"'12 - 13 ans'!H135","v":""},{"$f":"'12 - 13 ans'!I169","v":""},{"$f":"'12 - 13 ans'!H169","v":""},{"$f":"'12 - 13 ans'!I203","v":""},{"$f":"'12 - 13 ans'!H203","v":""},{"$f":"'12 - 13 ans'!I237","v":""},{"$f":"'12 - 13 ans'!H237","v":""}]
[{"$f":"Inscription!C31","v":0},{"$f":"Inscription!D31","v":0},"","",{"$f":"'12 - 13 ans'!I34","v":""},{"$f":"'12 - 13 ans'!H34","v":""},{"$f":"'12 - 13 ans'!I68","v":""},{"$f":"'12 - 13 ans'!H68","v":""},{"$f":"'12 - 13 ans'!I102","v":""},{"$f":"'12 - 13 ans'!H102","v":""},{"$f":"'12 - 13 ans'!I136","v":""},{"$f":"'12 - 13 ans'!H136","v":""},{"$f":"'12 - 13 ans'!I170","v":""},{"$f":"'12 - 13 ans'!H170","v":""},{"$f":"'12 - 13 ans'!I204","v":""},{"$f":"'12 - 13 ans'!H204","v":""},{"$f":"'12 - 13 ans'!I238","v":""},{"$f":"'12 - 13 ans'!H238","v":""}]
[]
["Résultats - 14 - 15 ans Femme"]
["Club","Nom","Rang","Total","Remorquage",null,"Obstacle",null,"Portage  + palme",null,"Portage",null,"Sauveteur d'acier",null,"Medley sauvetage"]
[null,null,null,null,"Pointage","R","Pointage","R","Pointage","R","Pointage","R","Pointage","R","Pointage","R"]
[{"$f":"Inscription!E2","v":"SSSL"},{"$f":"Inscription!F2","v":"Paula Loaiza"},{"$f":"IF(D73=\"\",\"\",RANK(D73,$D$73:$D$102))","v":8},{"$f":"IF(E73=\"\",\"\",SUM(E73,G73,I73,K73,M73,O73))","v":53},{"$f":"'14 - 15 ans F'!I39","v":10},{"$f":"'14 - 15 ans F'!H39","v":8},{"$f":"'14 - 15 ans F'!I73","v":12},{"$f":"'14 - 15 ans F'!H73","v":6},{"$f":"'14 - 15 ans F'!I107","v":8},{"$f":"'14 - 15 ans F'!H107","v":9},{"$f":"'14 - 15 ans F'!I141","v":12},{"$f":"'14 - 15 ans F'!H141","v":6},{"$f":"'14 - 15 ans F'!I175","v":11},{"$f":"'14 - 15 ans F'!H175","v":7},{"$f":"'14 - 15 ans F'!I209","v":""},{"$f":"'14 - 15 ans F'!H209","v":""}]
[{"$f":"Inscription!E3","v":"CAEM"},{"$f":"Inscription!F3","v":"Audrey Desroches"},{"$f":"IF(D74=\"\",\"\",RANK(D74,$D$73:$D$102))","v":7},{"$f":"IF(E74=\"\",\"\",SUM(E74,G74,I74,K74,M74,O74))","v":58},{"$f":"'14 - 15 ans F'!I40","v":12},{"$f":"'14 - 15 ans F'!H40","v":6},{"$f":"'14 - 15 ans F'!I74","v":8},{"$f":"'14 - 15 ans F'!H74","v":9},{"$f":"'14 - 15 ans F'!I108","v":12},{"$f":"'14 - 15 ans F'!H108","v":6},{"$f":"'14 - 15 ans F'!I142","v":13},{"$f":"'14 - 15 ans F'!H142","v":5},{"$f":"'14 - 15 ans F'!I176","v":13},{"$f":"'14 - 15 ans F'!H176","v":5},{"$f":"'14 - 15 ans F'!I210","v":""},{"$f":"'14 - 15 ans F'!H210","v":""}]
[{"$f":"Inscription!E4","v":"Dam'eauclès"},{"$f":"Inscription!F4","v":"Manuelle Charbonneau"},1,100,{"$f":"'14 - 15 ans F'!I41","v":20},{"$f":"'14 - 15 ans F'!H41","v":1},{"$f":"'14 - 15 ans F'!I75","v":20},{"$f":"'14 - 15 ans F'!H75","v":1},{"$f":"'14 - 15 ans F'!I109","v":20},{"$f":"'14 - 15 ans F'!H109","v":1},{"$f":"'14 - 15 ans F'!I143","v":20},{"$f":"'14 - 15 ans F'!H143","v":1},{"$f":"'14 - 15 ans F'!I177","v":20},{"$f":"'14 - 15 ans F'!H177","v":1},{"$f":"'14 - 15 ans F'!I211","v":""},{"$f":"'14 - 15 ans F'!H211","v":""}]
[{"$f":"Inscription!E5","v":"Dam'eauclès"},{"$f":"Inscription!F5","v":"Myriam Jacques"},5,62,{"$f":"'14 - 15 ans F'!I42","v":8},{"$f":"'14 - 15 ans F'!H42","v":9},{"$f":"'14 - 15 ans F'!I76","v":14},{"$f":"'14 - 15 ans F'!H76","v":4},{"$f":"'14 - 15 ans F'!I110","v":10},{"$f":"'14 - 15 ans F'!H110","v":8},{"$f":"'14 - 15 ans F'!I144","v":14},{"$f":"'14 - 15 ans F'!H144","v":4},{"$f":"'14 - 15 ans F'!I178","v":16},{"$f":"'14 - 15 ans F'!H178","v":3},{"$f":"'14 - 15 ans F'!I212","v":""},{"$f":"'14 - 15 ans F'!H212","v":""}]
[{"$f":"Inscription!E6","v":"Dam'eauclès"},{"$f":"Inscription!F6","v":"Emma Lajeunesse"},3,68,{"$f":"'14 - 15 ans F'!I43","v":18},{"$f":"'14 - 15 ans F'!H43","v":2},{"$f":"'14 - 15 ans F'!I77","v":16},{"$f":"'14 - 15 ans F'!H77","v":3},{"$f":"'14 - 15 ans F'!I111","v":16},{"$f":"'14 - 15 ans F'!H111","v":3},{"$f":"'14 - 15 ans F'!I145","v":18},{"$f":"'14 - 15 ans F'!H145","v":2},{"$f":"'14 - 15 ans F'!I179","v":"0"},{"$f":"'14 - 15 ans F'!H179","v":"DQ"},{"$f":"'14 - 15 ans F'!I213","v":""},{"$f":"'14 - 15 ans F'!H213","v":""}]
[{"$f":"Inscription!E7","v":"CSRAD"},{"$f":"Inscription!F7","v":"Sarah-Claude Lampron"},6,60,{"$f":"'14 - 15 ans F'!I44","v":11},{"$f":"'14 - 15 ans F'!H44","v":7},{"$f":"'14 - 15 ans F'!I78","v":13},{"$f":"'14 - 15 ans F'!H78","v":5},{"$f":"'14 - 15 ans F'!I112","v":13},{"$f":"'14 - 15 ans F'!H112","v":5},{"$f":"'14 - 15 ans F'!I146","v":11},{"$f":"'14 - 15 ans F'!H146","v":7},{"$f":"'14 - 15 ans F'!I180","v":12},{"$f":"'14 - 15 ans F'!H180","v":6},{"$f":"'14 - 15 ans F'!I214","v":""},{"$f":"'14 - 15 ans F'!H214","v":""}]
[{"$f":"Inscription!E8","v":"O'méga"},{"$f":"Inscription!F8","v":"AnnabelleDuquet"},4,64,{"$f":"'14 - 15 ans F'!I45","v":14},{"$f":"'14 - 15 ans F'!H45","v":4},{"$f":"'14 - 15 ans F'!I79","v":10},{"$f":"'14 - 15 ans F'!H79","v":8},{"$f":"'14 - 15 ans F'!I113","v":18},{"$f":"'14 - 15 ans F'!H113","v":2},{"$f":"'14 - 15 ans F'!I147","v":8},{"$f":"'14 - 15 ans F'!H147","v":9},{"$f":"'14 - 15 ans F'!I181","v":14},{"$f":"'14 - 15 ans F'!H181","v":4},{"$f":"'14 - 15 ans F'!I215","v":""},{"$f":"'14 - 15 ans F'!H215","v":""}]
[{"$f":"Inscription!E9","v":"O'méga"},{"$f":"Inscription!F9","v":"Odette Côté"},10,17,{"$f":"'14 - 15 ans F'!I46","v":7},{"$f":"'14 - 15 ans F'!H46","v":10},{"$f":"'14 - 15 ans F'!I80","v":"0"},{"$f":"'14 - 15 ans F'!H80","v":"DQ"},{"$f":"'14 - 15 ans F'!I114","v":"0"},{"$f":"'14 - 15 ans F'!H114","v":"DQ"},{"$f":"'14 - 15 ans F'!I148","v":10},{"$f":"'14 - 15 ans F'!H148","v":8},{"$f":"'14 - 15 ans F'!I182","v":"0"},{"$f":"'14 - 15 ans F'!H182","v":"DQ"},{"$f":"'14 - 15 ans F'!I216","v":""},{"$f":"'14 - 15 ans F'!H216","v":""}]
[{"$f":"Inscription!E10","v":"30deux"},{"$f":"Inscription!F10","v":"Alexane Thibeault"},9,35,{"$f":"'14 - 15 ans F'!I47","v":13},{"$f":"'14 - 15 ans F'!H47","v":5},{"$f":"'14 - 15 ans F'!I81","v":11},{"$f":"'14 - 15 ans F'!H81","v":7},{"$f":"'14 - 15 ans F'!I115","v":11},{"$f":"'14 - 15 ans F'!H115","v":7},{"$f":"'14 - 15 ans F'!I149","v":"0"},{"$f":"'14 - 15 ans F'!H149","v":"DQ"},{"$f":"'14 - 15 ans F'!I183","v":"0"},{"$f":"'14 - 15 ans F'!H183","v":"DQ"},{"$f":"'14 - 15 ans F'!I217","v":""},{"$f":"'14 - 15 ans F'!H217","v":""}]
[{"$f":"Inscription!E11","v":"CSRN"},{"$f":"Inscription!F11","v":"Rosanne Trépanier"},2,82,{"$f":"'14 - 15 ans F'!I48","v":16},{"$f":"'14 - 15 ans F'!H48","v":3},{"$f":"'14 - 15 ans F'!I82","v":18},{"$f":"'14 - 15 ans F'!H82","v":2},{"$f":"'14 - 15 ans F'!I116","v":14},{"$f":"'14 - 15 ans F'!H116","v":4},{"$f":"'14 - 15 ans F'!I150","v":16},{"$f":"'14 - 15 ans F'!H150","v":3},{"$f":"'14 - 15 ans F'!I184","v":18},{"$f":"'14 - 15 ans F'!H184","v":2},{"$f":"'14 - 15 ans F'!I218","v":""},{"$f":"'14 - 15 ans F'!H218","v":""}]
[{"$f":"Inscription!E12","v":0},{"$f":"Inscription!F12","v":0},"","",{"$f":"'14 - 15 ans F'!I49","v":""},{"$f":"'14 - 15 ans F'!H49","v":""},{"$f":"'14 - 15 ans F'!I83","v":""},{"$f":"'14 - 15 ans F'!H83","v":""},{"$f":"'14 - 15 ans F'!I117","v":""},{"$f":"'14 - 15 ans F'!H117","v":""},{"$f":"'14 - 15 ans F'!I151","v":""},{"$f":"'14 - 15 ans F'!H151","v":""},{"$f":"'14 - 15 ans F'!I185","v":""},{"$f":"'14 - 15 ans F'!H185","v":""},{"$f":"'14 - 15 ans F'!I219","v":""},{"$f":"'14 - 15 ans F'!H219","v":""}]
[{"$f":"Inscription!E13","v":0},{"$f":"Inscription!F13","v":0},"","",{"$f":"'14 - 15 ans F'!I50","v":""},{"$f":"'14 - 15 ans F'!H50","v":""},{"$f":"'14 - 15 ans F'!I84","v":""},{"$f":"'14 - 15 ans F'!H84","v":""},{"$f":"'14 - 15 ans F'!I118","v":""},{"$f":"'14 - 15 ans F'!H118","v":""},{"$f":"'14 - 15 ans F'!I152","v":""},{"$f":"'14 - 15 ans F'!H152","v":""},{"$f":"'14 - 15 ans F'!I186","v":""},{"$f":"'14 - 15 ans F'!H186","v":""},{"$f":"'14 - 15 ans F'!I220","v":""},{"$f":"'14 - 15 ans F'!H220","v":""}]
[{"$f":"Inscription!E14","v":0},{"$f":"Inscription!F14","v":0},"","",{"$f":"'14 - 15 ans F'!I51","v":""},{"$f":"'14 - 15 ans F'!H51","v":""},{"$f":"'14 - 15 ans F'!I85","v":""},{"$f":"'14 - 15 ans F'!H85","v":""},{"$f":"'14 - 15 ans F'!I119","v":""},{"$f":"'14 - 15 ans F'!H119","v":""},{"$f":"'14 - 15 ans F'!I153","v":""},{"$f":"'14 - 15 ans F'!H153","v":""},{"$f":"'14 - 15 ans F'!I187","v":""},{"$f":"'14 - 15 ans F'!H187","v":""},{"$f":"'14 - 15 ans F'!I221","v":""},{"$f":"'14 - 15 ans F'!H221","v":""}]
[{"$f":"Inscription!E15","v":0},{"$f":"Inscription!F15","v":0},"","",{"$f":"'14 - 15 ans F'!I52","v":""},{"$f":"'14 - 15 ans F'!H52","v":""},{"$f":"'14 - 15 ans F'!I86","v":""},{"$f":"'14 - 15 ans F'!H86","v":""},{"$f":"'14 - 15 ans F'!I120","v":""},{"$f":"'14 - 15 ans F'!H120","v":""},{"$f":"'14 - 15 ans F'!I154","v":""},{"$f":"'14 - 15 ans F'!H154","v":""},{"$f":"'14 - 15 ans F'!I188","v":""},{"$f":"'14 - 15 ans F'!H188","v":""},{"$f":"'14 - 15 ans F'!I222","v":""},{"$f":"'14 - 15 ans F'!H222","v":""}]
[{"$f":"Inscription!E16","v":0},{"$f":"Inscription!F16","v":0},"","",{"$f":"'14 - 15 ans F'!I53","v":""},{"$f":"'14 - 15 ans F'!H53","v":""},{"$f":"'14 - 15 ans F'!I87","v":""},{"$f":"'14 - 15 ans F'!H87","v":""},{"$f":"'14 - 15 ans F'!I121","v":""},{"$f":"'14 - 15 ans F'!H121","v":""},{"$f":"'14 - 15 ans F'!I155","v":""},{"$f":"'14 - 15 ans F'!H155","v":""},{"$f":"'14 - 15 ans F'!I189","v":""},{"$f":"'14 - 15 ans F'!H189","v":""},{"$f":"'14 - 15 ans F'!I223","v":""},{"$f":"'14 - 15 ans F'!H223","v":""}]
[{"$f":"Inscription!E17","v":0},{"$f":"Inscription!F17","v":0},"","",{"$f":"'14 - 15 ans F'!I54","v":""},{"$f":"'14 - 15 ans F'!H54","v":""},{"$f":"'14 - 15 ans F'!I88","v":""},{"$f":"'14 - 15 ans F'!H88","v":""},{"$f":"'14 - 15 ans F'!I122","v":""},{"$f":"'14 - 15 ans F'!H122","v":""},{"$f":"'14 - 15 ans F'!I156","v":""},{"$f":"'14 - 15 ans F'!H156","v":""},{"$f":"'14 - 15 ans F'!I190","v":""},{"$f":"'14 - 15 ans F'!H190","v":""},{"$f":"'14 - 15 ans F'!I224","v":""},{"$f":"'14 - 15 ans F'!H224","v":""}]
[{"$f":"Inscription!E18","v":0},{"$f":"Inscription!F18","v":0},"","",{"$f":"'14 - 15 ans F'!I55","v":""},{"$f":"'14 - 15 ans F'!H55","v":""},{"$f":"'14 - 15 ans F'!I89","v":""},{"$f":"'14 - 15 ans F'!H89","v":""},{"$f":"'14 - 15 ans F'!I123","v":""},{"$f":"'14 - 15 ans F'!H123","v":""},{"$f":"'14 - 15 ans F'!I157","v":""},{"$f":"'14 - 15 ans F'!H157","v":""},{"$f":"'14 - 15 ans F'!I191","v":""},{"$f":"'14 - 15 ans F'!H191","v":""},{"$f":"'14 - 15 ans F'!I225","v":""},{"$f":"'14 - 15 ans F'!H225","v":""}]
[{"$f":"Inscription!E19","v":0},{"$f":"Inscription!F19","v":0},"","",{"$f":"'14 - 15 ans F'!I56","v":""},{"$f":"'14 - 15 ans F'!H56","v":""},{"$f":"'14 - 15 ans F'!I90","v":""},{"$f":"'14 - 15 ans F'!H90","v":""},{"$f":"'14 - 15 ans F'!I124","v":""},{"$f":"'14 - 15 ans F'!H124","v":""},{"$f":"'14 - 15 ans F'!I158","v":""},{"$f":"'14 - 15 ans F'!H158","v":""},{"$f":"'14 - 15 ans F'!I192","v":""},{"$f":"'14 - 15 ans F'!H192","v":""},{"$f":"'14 - 15 ans F'!I226","v":""},{"$f":"'14 - 15 ans F'!H226","v":""}]
[{"$f":"Inscription!E20","v":0},{"$f":"Inscription!F20","v":0},"","",{"$f":"'14 - 15 ans F'!I57","v":""},{"$f":"'14 - 15 ans F'!H57","v":""},{"$f":"'14 - 15 ans F'!I91","v":""},{"$f":"'14 - 15 ans F'!H91","v":""},{"$f":"'14 - 15 ans F'!I125","v":""},{"$f":"'14 - 15 ans F'!H125","v":""},{"$f":"'14 - 15 ans F'!I159","v":""},{"$f":"'14 - 15 ans F'!H159","v":""},{"$f":"'14 - 15 ans F'!I193","v":""},{"$f":"'14 - 15 ans F'!H193","v":""},{"$f":"'14 - 15 ans F'!I227","v":""},{"$f":"'14 - 15 ans F'!H227","v":""}]
[{"$f":"Inscription!E21","v":0},{"$f":"Inscription!F21","v":0},"","",{"$f":"'14 - 15 ans F'!I58","v":""},{"$f":"'14 - 15 ans F'!H58","v":""},{"$f":"'14 - 15 ans F'!I92","v":""},{"$f":"'14 - 15 ans F'!H92","v":""},{"$f":"'14 - 15 ans F'!I126","v":""},{"$f":"'14 - 15 ans F'!H126","v":""},{"$f":"'14 - 15 ans F'!I160","v":""},{"$f":"'14 - 15 ans F'!H160","v":""},{"$f":"'14 - 15 ans F'!I194","v":""},{"$f":"'14 - 15 ans F'!H194","v":""},{"$f":"'14 - 15 ans F'!I228","v":""},{"$f":"'14 - 15 ans F'!H228","v":""}]
[{"$f":"Inscription!E22","v":0},{"$f":"Inscription!F22","v":0},"","",{"$f":"'14 - 15 ans F'!I59","v":""},{"$f":"'14 - 15 ans F'!H59","v":""},{"$f":"'14 - 15 ans F'!I93","v":""},{"$f":"'14 - 15 ans F'!H93","v":""},{"$f":"'14 - 15 ans F'!I127","v":""},{"$f":"'14 - 15 ans F'!H127","v":""},{"$f":"'14 - 15 ans F'!I161","v":""},{"$f":"'14 - 15 ans F'!H161","v":""},{"$f":"'14 - 15 ans F'!I195","v":""},{"$f":"'14 - 15 ans F'!H195","v":""},{"$f":"'14 - 15 ans F'!I229","v":""},{"$f":"'14 - 15 ans F'!H229","v":""}]
[{"$f":"Inscription!E23","v":0},{"$f":"Inscription!F23","v":0},"","",{"$f":"'14 - 15 ans F'!I60","v":""},{"$f":"'14 - 15 ans F'!H60","v":""},{"$f":"'14 - 15 ans F'!I94","v":""},{"$f":"'14 - 15 ans F'!H94","v":""},{"$f":"'14 - 15 ans F'!I128","v":""},{"$f":"'14 - 15 ans F'!H128","v":""},{"$f":"'14 - 15 ans F'!I162","v":""},{"$f":"'14 - 15 ans F'!H162","v":""},{"$f":"'14 - 15 ans F'!I196","v":""},{"$f":"'14 - 15 ans F'!H196","v":""},{"$f":"'14 - 15 ans F'!I230","v":""},{"$f":"'14 - 15 ans F'!H230","v":""}]
[{"$f":"Inscription!E24","v":0},{"$f":"Inscription!F24","v":0},"","",{"$f":"'14 - 15 ans F'!I61","v":""},{"$f":"'14 - 15 ans F'!H61","v":""},{"$f":"'14 - 15 ans F'!I95","v":""},{"$f":"'14 - 15 ans F'!H95","v":""},{"$f":"'14 - 15 ans F'!I129","v":""},{"$f":"'14 - 15 ans F'!H129","v":""},{"$f":"'14 - 15 ans F'!I163","v":""},{"$f":"'14 - 15 ans F'!H163","v":""},{"$f":"'14 - 15 ans F'!I197","v":""},{"$f":"'14 - 15 ans F'!H197","v":""},{"$f":"'14 - 15 ans F'!I231","v":""},{"$f":"'14 - 15 ans F'!H231","v":""}]
[{"$f":"Inscription!E25","v":0},{"$f":"Inscription!F25","v":0},"","",{"$f":"'14 - 15 ans F'!I62","v":""},{"$f":"'14 - 15 ans F'!H62","v":""},{"$f":"'14 - 15 ans F'!I96","v":""},{"$f":"'14 - 15 ans F'!H96","v":""},{"$f":"'14 - 15 ans F'!I130","v":""},{"$f":"'14 - 15 ans F'!H130","v":""},{"$f":"'14 - 15 ans F'!I164","v":""},{"$f":"'14 - 15 ans F'!H164","v":""},{"$f":"'14 - 15 ans F'!I198","v":""},{"$f":"'14 - 15 ans F'!H198","v":""},{"$f":"'14 - 15 ans F'!I232","v":""},{"$f":"'14 - 15 ans F'!H232","v":""}]
[{"$f":"Inscription!E26","v":0},{"$f":"Inscription!F26","v":0},"","",{"$f":"'14 - 15 ans F'!I63","v":""},{"$f":"'14 - 15 ans F'!H63","v":""},{"$f":"'14 - 15 ans F'!I97","v":""},{"$f":"'14 - 15 ans F'!H97","v":""},{"$f":"'14 - 15 ans F'!I131","v":""},{"$f":"'14 - 15 ans F'!H131","v":""},{"$f":"'14 - 15 ans F'!I165","v":""},{"$f":"'14 - 15 ans F'!H165","v":""},{"$f":"'14 - 15 ans F'!I199","v":""},{"$f":"'14 - 15 ans F'!H199","v":""},{"$f":"'14 - 15 ans F'!I233","v":""},{"$f":"'14 - 15 ans F'!H233","v":""}]
[{"$f":"Inscription!E27","v":0},{"$f":"Inscription!F27","v":0},"","",{"$f":"'14 - 15 ans F'!I64","v":""},{"$f":"'14 - 15 ans F'!H64","v":""},{"$f":"'14 - 15 ans F'!I98","v":""},{"$f":"'14 - 15 ans F'!H98","v":""},{"$f":"'14 - 15 ans F'!I132","v":""},{"$f":"'14 - 15 ans F'!H132","v":""},{"$f":"'14 - 15 ans F'!I166","v":""},{"$f":"'14 - 15 ans F'!H166","v":""},{"$f":"'14 - 15 ans F'!I200","v":""},{"$f":"'14 - 15 ans F'!H200","v":""},{"$f":"'14 - 15 ans F'!I234","v":""},{"$f":"'14 - 15 ans F'!H234","v":""}]
[{"$f":"Inscription!E28","v":0},{"$f":"Inscription!F28","v":0},"","",{"$f":"'14 - 15 ans F'!I65","v":""},{"$f":"'14 - 15 ans F'!H65","v":""},{"$f":"'14 - 15 ans F'!I99","v":""},{"$f":"'14 - 15 ans F'!H99","v":""},{"$f":"'14 - 15 ans F'!I133","v":""},{"$f":"'14 - 15 ans F'!H133","v":""},{"$f":"'14 - 15 ans F'!I167","v":""},{"$f":"'14 - 15 ans F'!H167","v":""},{"$f":"'14 - 15 ans F'!I201","v":""},{"$f":"'14 - 15 ans F'!H201","v":""},{"$f":"'14 - 15 ans F'!I235","v":""},{"$f":"'14 - 15 ans F'!H235","v":""}]
[{"$f":"Inscription!E29","v":0},{"$f":"Inscription!F29","v":0},"","",{"$f":"'14 - 15 ans F'!I66","v":""},{"$f":"'14 - 15 ans F'!H66","v":""},{"$f":"'14 - 15 ans F'!I100","v":""},{"$f":"'14 - 15 ans F'!H100","v":""},{"$f":"'14 - 15 ans F'!I134","v":""},{"$f":"'14 - 15 ans F'!H134","v":""},{"$f":"'14 - 15 ans F'!I168","v":""},{"$f":"'14 - 15 ans F'!H168","v":""},{"$f":"'14 - 15 ans F'!I202","v":""},{"$f":"'14 - 15 ans F'!H202","v":""},{"$f":"'14 - 15 ans F'!I236","v":""},{"$f":"'14 - 15 ans F'!H236","v":""}]
[{"$f":"Inscription!E30","v":0},{"$f":"Inscription!F30","v":0},"","",{"$f":"'14 - 15 ans F'!I67","v":""},{"$f":"'14 - 15 ans F'!H67","v":""},{"$f":"'14 - 15 ans F'!I101","v":""},{"$f":"'14 - 15 ans F'!H101","v":""},{"$f":"'14 - 15 ans F'!I135","v":""},{"$f":"'14 - 15 ans F'!H135","v":""},{"$f":"'14 - 15 ans F'!I169","v":""},{"$f":"'14 - 15 ans F'!H169","v":""},{"$f":"'14 - 15 ans F'!I203","v":""},{"$f":"'14 - 15 ans F'!H203","v":""},{"$f":"'14 - 15 ans F'!I237","v":""},{"$f":"'14 - 15 ans F'!H237","v":""}]
[{"$f":"Inscription!E31","v":0},{"$f":"Inscription!F31","v":0},"","",{"$f":"'14 - 15 ans F'!I68","v":""},{"$f":"'14 - 15 ans F'!H68","v":""},{"$f":"'14 - 15 ans F'!I102","v":""},{"$f":"'14 - 15 ans F'!H102","v":""},{"$f":"'14 - 15 ans F'!I136","v":""},{"$f":"'14 - 15 ans F'!H136","v":""},{"$f":"'14 - 15 ans F'!I170","v":""},{"$f":"'14 - 15 ans F'!H170","v":""},{"$f":"'14 - 15 ans F'!I204","v":""},{"$f":"'14 - 15 ans F'!H204","v":""},{"$f":"'14 - 15 ans F'!I238","v":""},{"$f":"'14 - 15 ans F'!H238","v":""}]
[]
["Résultats - 14 - 15 ans Homme"]
["Club","Nom","Rang","Total","Remorquage",null,"Obstacle",null,"Portage  + palme",null,"Portage",null,"Sauveteur d'acier",null,"Medley sauvetage"]
[null,null,null,null,"Pointage","R","Pointage","R","Pointage","R","Pointage","R","Pointage","R","Pointage","R"]
[{"$f":"Inscription!G2","v":"Dam'eauclès"},{"$f":"Inscription!H2","v":"Jacob Rousson"},{"$f":"IF(D107=\"\",\"\",RANK(D107,$D$107:$D$136))","v":3},{"$f":"IF(E107=\"\",\"\",SUM(E107,G107,I107,K107,M107,O107))","v":75},{"$f":"'14 - 15 ans H'!I39","v":18},{"$f":"'14 - 15 ans H'!H39","v":2},{"$f":"'14 - 15 ans H'!I73","v":16},{"$f":"'14 - 15 ans H'!H73","v":3},{"$f":"'14 - 15 ans H'!I107","v":12},{"$f":"'14 - 15 ans H'!H107","v":6},{"$f":"'14 - 15 ans H'!I141","v":13},{"$f":"'14 - 15 ans H'!H141","v":5},{"$f":"'14 - 15 ans H'!I175","v":16},{"$f":"'14 - 15 ans H'!H175","v":3},{"$f":"'14 - 15 ans H'!I209","v":""},{"$f":"'14 - 15 ans H'!H209","v":""}]
[{"$f":"Inscription!G3","v":"Dam'eauclès"},{"$f":"Inscription!H3","v":"Julien Turgeon"},{"$f":"IF(D108=\"\",\"\",RANK(D108,$D$107:$D$136))","v":1},{"$f":"IF(E108=\"\",\"\",SUM(E108,G108,I108,K108,M108,O108))","v":100},{"$f":"'14 - 15 ans H'!I40","v":20},{"$f":"'14 - 15 ans H'!H40","v":1},{"$f":"'14 - 15 ans H'!I74","v":20},{"$f":"'14 - 15 ans H'!H74","v":1},{"$f":"'14 - 15 ans H'!I108","v":20},{"$f":"'14 - 15 ans H'!H108","v":1},{"$f":"'14 - 15 ans H'!I142","v":20},{"$f":"'14 - 15 ans H'!H142","v":1},{"$f":"'14 - 15 ans H'!I176","v":20},{"$f":"'14 - 15 ans H'!H176","v":1},{"$f":"'14 - 15 ans H'!I210","v":""},{"$f":"'14 - 15 ans H'!H210","v":""}]
[{"$f":"Inscription!G4","v":"Dam'eauclès"},{"$f":"Inscription!H4","v":"James Willamson"},6,57,{"$f":"'14 - 15 ans H'!I41","v":13},{"$f":"'14 - 15 ans H'!H41","v":5},{"$f":"'14 - 15 ans H'!I75","v":11},{"$f":"'14 - 15 ans H'!H75","v":7},{"$f":"'14 - 15 ans H'!I109","v":11},{"$f":"'14 - 15 ans H'!H109","v":7},{"$f":"'14 - 15 ans H'!I143","v":11},{"$f":"'14 - 15 ans H'!H143","v":7},{"$f":"'14 - 15 ans H'!I177","v":11},{"$f":"'14 - 15 ans H'!H177","v":7},{"$f":"'14 - 15 ans H'!I211","v":""},{"$f":"'14 - 15 ans H'!H211","v":""}]
[{"$f":"Inscription!G5","v":"CSRAD"},{"$f":"Inscription!H5","v":"Alexandre Vincent"},5,63,{"$f":"'14 - 15 ans H'!I42","v":14},{"$f":"'14 - 15 ans H'!H42","v":4},{"$f":"'14 - 15 ans H'!I76","v":12},{"$f":"'14 - 15 ans H'!H76","v":6},{"$f":"'14 - 15 ans H'!I110","v":13},{"$f":"'14 - 15 ans H'!H110","v":5},{"$f":"'14 - 15 ans H'!I144","v":12},{"$f":"'14 - 15 ans H'!H144","v":6},{"$f":"'14 - 15 ans H'!I178","v":12},{"$f":"'14 - 15 ans H'!H178","v":6},{"$f":"'14 - 15 ans H'!I212","v":""},{"$f":"'14 - 15 ans H'!H212","v":""}]
[{"$f":"Inscription!G6","v":"CSRN"},{"$f":"Inscription!H6","v":"Malik Romdhani"},2,78,{"$f":"'14 - 15 ans H'!I43","v":16},{"$f":"'14 - 15 ans H'!H43","v":3},{"$f":"'14 - 15 ans H'!I77","v":14},{"$f":"'14 - 15 ans H'!H77","v":4},{"$f":"'14 - 15 ans H'!I111","v":16},{"$f":"'14 - 15 ans H'!H111","v":3},{"$f":"'14 - 15 ans H'!I145","v":18},{"$f":"'14 - 15 ans H'!H145","v":2},{"$f":"'14 - 15 ans H'!I179","v":14},{"$f":"'14 - 15 ans H'!H179","v":4},{"$f":"'14 - 15 ans H'!I213","v":""},{"$f":"'14 - 15 ans H'!H213","v":""}]
[{"$f":"Inscription!G7","v":"CSRN"},{"$f":"Inscription!H7","v":"Jonathan St-Roch"},4,70,{"$f":"'14 - 15 ans H'!I44","v":"0"},{"$f":"'14 - 15 ans H'!H44","v":"DQ"},{"$f":"'14 - 15 ans H'!I78","v":18},{"$f":"'14 - 15 ans H'!H78","v":2},{"$f":"'14 - 15 ans H'!I112","v":18},{"$f":"'14 - 15 ans H'!H112","v":2},{"$f":"'14 - 15 ans H'!I146","v":16},{"$f":"'14 - 15 ans H'!H146","v":3},{"$f":"'14 - 15 ans H'!I180","v":18},{"$f":"'14 - 15 ans H'!H180","v":2},{"$f":"'14 - 15 ans H'!I214","v":""},{"$f":"'14 - 15 ans H'!H214","v":""}]
[{"$f":"Inscription!G8","v":"Gatineau"},{"$f":"Inscription!H8","v":"Vincent Marsclais"},8,0,{"$f":"'14 - 15 ans H'!I45","v":"0"},{"$f":"'14 - 15 ans H'!H45","v":"DNS"},{"$f":"'14 - 15 ans H'!I79","v":"0"},{"$f":"'14 - 15 ans H'!H79","v":"DNS"},{"$f":"'14 - 15 ans H'!I113","v":"0"},{"$f":"'14 - 15 ans H'!H113","v":"DNS"},{"$f":"'14 - 15 ans H'!I147","v":"0"},{"$f":"'14 - 15 ans H'!H147","v":"DNS"},{"$f":"'14 - 15 ans H'!I181","v":"0"},{"$f":"'14 - 15 ans H'!H181","v":"DNS"},{"$f":"'14 - 15 ans H'!I215","v":""},{"$f":"'14 - 15 ans H'!H215","v":""}]
[{"$f":"Inscription!G9","v":"Gatineau"},{"$f":"Inscription!H9","v":"Benjamin Lapointe"},7,54,{"$f":"'14 - 15 ans H'!I46","v":"0"},{"$f":"'14 - 15 ans H'!H46","v":"DQ"},{"$f":"'14 - 15 ans H'!I80","v":13},{"$f":"'14 - 15 ans H'!H80","v":5},{"$f":"'14 - 15 ans H'!I114","v":14},{"$f":"'14 - 15 ans H'!H114","v":4},{"$f":"'14 - 15 ans H'!I148","v":14},{"$f":"'14 - 15 ans H'!H148","v":4},{"$f":"'14 - 15 ans H'!I182","v":13},{"$f":"'14 - 15 ans H'!H182","v":5},{"$f":"'14 - 15 ans H'!I216","v":""},{"$f":"'14 - 15 ans H'!H216","v":""}]
[{"$f":"Inscription!G10","v":0},{"$f":"Inscription!H10","v":0},"","",{"$f":"'14 - 15 ans H'!I47","v":""},{"$f":"'14 - 15 ans H'!H47","v":""},{"$f":"'14 - 15 ans H'!I81","v":""},{"$f":"'14 - 15 ans H'!H81","v":""},{"$f":"'14 - 15 ans H'!I115","v":""},{"$f":"'14 - 15 ans H'!H115","v":""},{"$f":"'14 - 15 ans H'!I149","v":""},{"$f":"'14 - 15 ans H'!H149","v":""},{"$f":"'14 - 15 ans H'!I183","v":""},{"$f":"'14 - 15 ans H'!H183","v":""},{"$f":"'14 - 15 ans H'!I217","v":""},{"$f":"'14 - 15 ans H'!H217","v":""}]
[{"$f":"Inscription!G11","v":0},{"$f":"Inscription!H11","v":0},"","",{"$f":"'14 - 15 ans H'!I48","v":""},{"$f":"'14 - 15 ans H'!H48","v":""},{"$f":"'14 - 15 ans H'!I82","v":""},{"$f":"'14 - 15 ans H'!H82","v":""},{"$f":"'14 - 15 ans H'!I116","v":""},{"$f":"'14 - 15 ans H'!H116","v":""},{"$f":"'14 - 15 ans H'!I150","v":""},{"$f":"'14 - 15 ans H'!H150","v":""},{"$f":"'14 - 15 ans H'!I184","v":""},{"$f":"'14 - 15 ans H'!H184","v":""},{"$f":"'14 - 15 ans H'!I218","v":""},{"$f":"'14 - 15 ans H'!H218","v":""}]
[{"$f":"Inscription!G12","v":0},{"$f":"Inscription!H12","v":0},"","",{"$f":"'14 - 15 ans H'!I49","v":""},{"$f":"'14 - 15 ans H'!H49","v":""},{"$f":"'14 - 15 ans H'!I83","v":""},{"$f":"'14 - 15 ans H'!H83","v":""},{"$f":"'14 - 15 ans H'!I117","v":""},{"$f":"'14 - 15 ans H'!H117","v":""},{"$f":"'14 - 15 ans H'!I151","v":""},{"$f":"'14 - 15 ans H'!H151","v":""},{"$f":"'14 - 15 ans H'!I185","v":""},{"$f":"'14 - 15 ans H'!H185","v":""},{"$f":"'14 - 15 ans H'!I219","v":""},{"$f":"'14 - 15 ans H'!H219","v":""}]
[{"$f":"Inscription!G13","v":0},{"$f":"Inscription!H13","v":0},"","",{"$f":"'14 - 15 ans H'!I50","v":""},{"$f":"'14 - 15 ans H'!H50","v":""},{"$f":"'14 - 15 ans H'!I84","v":""},{"$f":"'14 - 15 ans H'!H84","v":""},{"$f":"'14 - 15 ans H'!I118","v":""},{"$f":"'14 - 15 ans H'!H118","v":""},{"$f":"'14 - 15 ans H'!I152","v":""},{"$f":"'14 - 15 ans H'!H152","v":""},{"$f":"'14 - 15 ans H'!I186","v":""},{"$f":"'14 - 15 ans H'!H186","v":""},{"$f":"'14 - 15 ans H'!I220","v":""},{"$f":"'14 - 15 ans H'!H220","v":""}]
[{"$f":"Inscription!G14","v":0},{"$f":"Inscription!H14","v":0},"","",{"$f":"'14 - 15 ans H'!I51","v":""},{"$f":"'14 - 15 ans H'!H51","v":""},{"$f":"'14 - 15 ans H'!I85","v":""},{"$f":"'14 - 15 ans H'!H85","v":""},{"$f":"'14 - 15 ans H'!I119","v":""},{"$f":"'14 - 15 ans H'!H119","v":""},{"$f":"'14 - 15 ans H'!I153","v":""},{"$f":"'14 - 15 ans H'!H153","v":""},{"$f":"'14 - 15 ans H'!I187","v":""},{"$f":"'14 - 15 ans H'!H187","v":""},{"$f":"'14 - 15 ans H'!I221","v":""},{"$f":"'14 - 15 ans H'!H221","v":""}]
[{"$f":"Inscription!G15","v":0},{"$f":"Inscription!H15","v":0},"","",{"$f":"'14 - 15 ans H'!I52","v":""},{"$f":"'14 - 15 ans H'!H52","v":""},{"$f":"'14 - 15 ans H'!I86","v":""},{"$f":"'14 - 15 ans H'!H86","v":""},{"$f":"'14 - 15 ans H'!I120","v":""},{"$f":"'14 - 15 ans H'!H120","v":""},{"$f":"'14 - 15 ans H'!I154","v":""},{"$f":"'14 - 15 ans H'!H154","v":""},{"$f":"'14 - 15 ans H'!I188","v":""},{"$f":"'14 - 15 ans H'!H188","v":""},{"$f":"'14 - 15 ans H'!I222","v":""},{"$f":"'14 - 15 ans H'!H222","v":""}]
[{"$f":"Inscription!G16","v":0},{"$f":"Inscription!H16","v":0},"","",{"$f":"'14 - 15 ans H'!I53","v":""},{"$f":"'14 - 15 ans H'!H53","v":""},{"$f":"'14 - 15 ans H'!I87","v":""},{"$f":"'14 - 15 ans H'!H87","v":""},{"$f":"'14 - 15 ans H'!I121","v":""},{"$f":"'14 - 15 ans H'!H121","v":""},{"$f":"'14 - 15 ans H'!I155","v":""},{"$f":"'14 - 15 ans H'!H155","v":""},{"$f":"'14 - 15 ans H'!I189","v":""},{"$f":"'14 - 15 ans H'!H189","v":""},{"$f":"'14 - 15 ans H'!I223","v":""},{"$f":"'14 - 15 ans H'!H223","v":""}]
[{"$f":"Inscription!G17","v":0},{"$f":"Inscription!H17","v":0},"","",{"$f":"'14 - 15 ans H'!I54","v":""},{"$f":"'14 - 15 ans H'!H54","v":""},{"$f":"'14 - 15 ans H'!I88","v":""},{"$f":"'14 - 15 ans H'!H88","v":""},{"$f":"'14 - 15 ans H'!I122","v":""},{"$f":"'14 - 15 ans H'!H122","v":""},{"$f":"'14 - 15 ans H'!I156","v":""},{"$f":"'14 - 15 ans H'!H156","v":""},{"$f":"'14 - 15 ans H'!I190","v":""},{"$f":"'14 - 15 ans H'!H190","v":""},{"$f":"'14 - 15 ans H'!I224","v":""},{"$f":"'14 - 15 ans H'!H224","v":""}]
[{"$f":"Inscription!G18","v":0},{"$f":"Inscription!H18","v":0},"","",{"$f":"'14 - 15 ans H'!I55","v":""},{"$f":"'14 - 15 ans H'!H55","v":""},{"$f":"'14 - 15 ans H'!I89","v":""},{"$f":"'14 - 15 ans H'!H89","v":""},{"$f":"'14 - 15 ans H'!I123","v":""},{"$f":"'14 - 15 ans H'!H123","v":""},{"$f":"'14 - 15 ans H'!I157","v":""},{"$f":"'14 - 15 ans H'!H157","v":""},{"$f":"'14 - 15 ans H'!I191","v":""},{"$f":"'14 - 15 ans H'!H191","v":""},{"$f":"'14 - 15 ans H'!I225","v":""},{"$f":"'14 - 15 ans H'!H225","v":""}]
[{"$f":"Inscription!G19","v":0},{"$f":"Inscription!H19","v":0},"","",{"$f":"'14 - 15 ans H'!I56","v":""},{"$f":"'14 - 15 ans H'!H56","v":""},{"$f":"'14 - 15 ans H'!I90","v":""},{"$f":"'14 - 15 ans H'!H90","v":""},{"$f":"'14 - 15 ans H'!I124","v":""},{"$f":"'14 - 15 ans H'!H124","v":""},{"$f":"'14 - 15 ans H'!I158","v":""},{"$f":"'14 - 15 ans H'!H158","v":""},{"$f":"'14 - 15 ans H'!I192","v":""},{"$f":"'14 - 15 ans H'!H192","v":""},{"$f":"'14 - 15 ans H'!I226","v":""},{"$f":"'14 - 15 ans H'!H226","v":""}]
[{"$f":"Inscription!G20","v":0},{"$f":"Inscription!H20","v":0},"","",{"$f":"'14 - 15 ans H'!I57","v":""},{"$f":"'14 - 15 ans H'!H57","v":""},{"$f":"'14 - 15 ans H'!I91","v":""},{"$f":"'14 - 15 ans H'!H91","v":""},{"$f":"'14 - 15 ans H'!I125","v":""},{"$f":"'14 - 15 ans H'!H125","v":""},{"$f":"'14 - 15 ans H'!I159","v":""},{"$f":"'14 - 15 ans H'!H159","v":""},{"$f":"'14 - 15 ans H'!I193","v":""},{"$f":"'14 - 15 ans H'!H193","v":""},{"$f":"'14 - 15 ans H'!I227","v":""},{"$f":"'14 - 15 ans H'!H227","v":""}]
[{"$f":"Inscription!G21","v":0},{"$f":"Inscription!H21","v":0},"","",{"$f":"'14 - 15 ans H'!I58","v":""},{"$f":"'14 - 15 ans H'!H58","v":""},{"$f":"'14 - 15 ans H'!I92","v":""},{"$f":"'14 - 15 ans H'!H92","v":""},{"$f":"'14 - 15 ans H'!I126","v":""},{"$f":"'14 - 15 ans H'!H126","v":""},{"$f":"'14 - 15 ans H'!I160","v":""},{"$f":"'14 - 15 ans H'!H160","v":""},{"$f":"'14 - 15 ans H'!I194","v":""},{"$f":"'14 - 15 ans H'!H194","v":""},{"$f":"'14 - 15 ans H'!I228","v":""},{"$f":"'14 - 15 ans H'!H228","v":""}]
[{"$f":"Inscription!G22","v":0},{"$f":"Inscription!H22","v":0},"","",{"$f":"'14 - 15 ans H'!I59","v":""},{"$f":"'14 - 15 ans H'!H59","v":""},{"$f":"'14 - 15 ans H'!I93","v":""},{"$f":"'14 - 15 ans H'!H93","v":""},{"$f":"'14 - 15 ans H'!I127","v":""},{"$f":"'14 - 15 ans H'!H127","v":""},{"$f":"'14 - 15 ans H'!I161","v":""},{"$f":"'14 - 15 ans H'!H161","v":""},{"$f":"'14 - 15 ans H'!I195","v":""},{"$f":"'14 - 15 ans H'!H195","v":""},{"$f":"'14 - 15 ans H'!I229","v":""},{"$f":"'14 - 15 ans H'!H229","v":""}]
[{"$f":"Inscription!G23","v":0},{"$f":"Inscription!H23","v":0},"","",{"$f":"'14 - 15 ans H'!I60","v":""},{"$f":"'14 - 15 ans H'!H60","v":""},{"$f":"'14 - 15 ans H'!I94","v":""},{"$f":"'14 - 15 ans H'!H94","v":""},{"$f":"'14 - 15 ans H'!I128","v":""},{"$f":"'14 - 15 ans H'!H128","v":""},{"$f":"'14 - 15 ans H'!I162","v":""},{"$f":"'14 - 15 ans H'!H162","v":""},{"$f":"'14 - 15 ans H'!I196","v":""},{"$f":"'14 - 15 ans H'!H196","v":""},{"$f":"'14 - 15 ans H'!I230","v":""},{"$f":"'14 - 15 ans H'!H230","v":""}]
[{"$f":"Inscription!G24","v":0},{"$f":"Inscription!H24","v":0},"","",{"$f":"'14 - 15 ans H'!I61","v":""},{"$f":"'14 - 15 ans H'!H61","v":""},{"$f":"'14 - 15 ans H'!I95","v":""},{"$f":"'14 - 15 ans H'!H95","v":""},{"$f":"'14 - 15 ans H'!I129","v":""},{"$f":"'14 - 15 ans H'!H129","v":""},{"$f":"'14 - 15 ans H'!I163","v":""},{"$f":"'14 - 15 ans H'!H163","v":""},{"$f":"'14 - 15 ans H'!I197","v":""},{"$f":"'14 - 15 ans H'!H197","v":""},{"$f":"'14 - 15 ans H'!I231","v":""},{"$f":"'14 - 15 ans H'!H231","v":""}]
[{"$f":"Inscription!G25","v":0},{"$f":"Inscription!H25","v":0},"","",{"$f":"'14 - 15 ans H'!I62","v":""},{"$f":"'14 - 15 ans H'!H62","v":""},{"$f":"'14 - 15 ans H'!I96","v":""},{"$f":"'14 - 15 ans H'!H96","v":""},{"$f":"'14 - 15 ans H'!I130","v":""},{"$f":"'14 - 15 ans H'!H130","v":""},{"$f":"'14 - 15 ans H'!I164","v":""},{"$f":"'14 - 15 ans H'!H164","v":""},{"$f":"'14 - 15 ans H'!I198","v":""},{"$f":"'14 - 15 ans H'!H198","v":""},{"$f":"'14 - 15 ans H'!I232","v":""},{"$f":"'14 - 15 ans H'!H232","v":""}]
[{"$f":"Inscription!G26","v":0},{"$f":"Inscription!H26","v":0},"","",{"$f":"'14 - 15 ans H'!I63","v":""},{"$f":"'14 - 15 ans H'!H63","v":""},{"$f":"'14 - 15 ans H'!I97","v":""},{"$f":"'14 - 15 ans H'!H97","v":""},{"$f":"'14 - 15 ans H'!I131","v":""},{"$f":"'14 - 15 ans H'!H131","v":""},{"$f":"'14 - 15 ans H'!I165","v":""},{"$f":"'14 - 15 ans H'!H165","v":""},{"$f":"'14 - 15 ans H'!I199","v":""},{"$f":"'14 - 15 ans H'!H199","v":""},{"$f":"'14 - 15 ans H'!I233","v":""},{"$f":"'14 - 15 ans H'!H233","v":""}]
[{"$f":"Inscription!G27","v":0},{"$f":"Inscription!H27","v":0},"","",{"$f":"'14 - 15 ans H'!I64","v":""},{"$f":"'14 - 15 ans H'!H64","v":""},{"$f":"'14 - 15 ans H'!I98","v":""},{"$f":"'14 - 15 ans H'!H98","v":""},{"$f":"'14 - 15 ans H'!I132","v":""},{"$f":"'14 - 15 ans H'!H132","v":""},{"$f":"'14 - 15 ans H'!I166","v":""},{"$f":"'14 - 15 ans H'!H166","v":""},{"$f":"'14 - 15 ans H'!I200","v":""},{"$f":"'14 - 15 ans H'!H200","v":""},{"$f":"'14 - 15 ans H'!I234","v":""},{"$f":"'14 - 15 ans H'!H234","v":""}]
[{"$f":"Inscription!G28","v":0},{"$f":"Inscription!H28","v":0},"","",{"$f":"'14 - 15 ans H'!I65","v":""},{"$f":"'14 - 15 ans H'!H65","v":""},{"$f":"'14 - 15 ans H'!I99","v":""},{"$f":"'14 - 15 ans H'!H99","v":""},{"$f":"'14 - 15 ans H'!I133","v":""},{"$f":"'14 - 15 ans H'!H133","v":""},{"$f":"'14 - 15 ans H'!I167","v":""},{"$f":"'14 - 15 ans H'!H167","v":""},{"$f":"'14 - 15 ans H'!I201","v":""},{"$f":"'14 - 15 ans H'!H201","v":""},{"$f":"'14 - 15 ans H'!I235","v":""},{"$f":"'14 - 15 ans H'!H235","v":""}]
[{"$f":"Inscription!G29","v":0},{"$f":"Inscription!H29","v":0},"","",{"$f":"'14 - 15 ans H'!I66","v":""},{"$f":"'14 - 15 ans H'!H66","v":""},{"$f":"'14 - 15 ans H'!I100","v":""},{"$f":"'14 - 15 ans H'!H100","v":""},{"$f":"'14 - 15 ans H'!I134","v":""},{"$f":"'14 - 15 ans H'!H134","v":""},{"$f":"'14 - 15 ans H'!I168","v":""},{"$f":"'14 - 15 ans H'!H168","v":""},{"$f":"'14 - 15 ans H'!I202","v":""},{"$f":"'14 - 15 ans H'!H202","v":""},{"$f":"'14 - 15 ans H'!I236","v":""},{"$f":"'14 - 15 ans H'!H236","v":""}]
[{"$f":"Inscription!G30","v":0},{"$f":"Inscription!H30","v":0},"","",{"$f":"'14 - 15 ans H'!I67","v":""},{"$f":"'14 - 15 ans H'!H67","v":""},{"$f":"'14 - 15 ans H'!I101","v":""},{"$f":"'14 - 15 ans H'!H101","v":""},{"$f":"'14 - 15 ans H'!I135","v":""},{"$f":"'14 - 15 ans H'!H135","v":""},{"$f":"'14 - 15 ans H'!I169","v":""},{"$f":"'14 - 15 ans H'!H169","v":""},{"$f":"'14 - 15 ans H'!I203","v":""},{"$f":"'14 - 15 ans H'!H203","v":""},{"$f":"'14 - 15 ans H'!I237","v":""},{"$f":"'14 - 15 ans H'!H237","v":""}]
[{"$f":"Inscription!G31","v":0},{"$f":"Inscription!H31","v":0},"","",{"$f":"'14 - 15 ans H'!I68","v":""},{"$f":"'14 - 15 ans H'!H68","v":""},{"$f":"'14 - 15 ans H'!I102","v":""},{"$f":"'14 - 15 ans H'!H102","v":""},{"$f":"'14 - 15 ans H'!I136","v":""},{"$f":"'14 - 15 ans H'!H136","v":""},{"$f":"'14 - 15 ans H'!I170","v":""},{"$f":"'14 - 15 ans H'!H170","v":""},{"$f":"'14 - 15 ans H'!I204","v":""},{"$f":"'14 - 15 ans H'!H204","v":""},{"$f":"'14 - 15 ans H'!I238","v":""},{"$f":"'14 - 15 ans H'!H238","v":""}]
[]
["Résultats - Lancer de la corde"]
["14 - 15 ans Femme",null,null,null,"14 - 15 ans Homme"]
["Club","Nom","R","Pointage","Club","Nom",null,null,null,null,"Pointage","R"]
[{"$f":"'14 - 15 ans F'!A5","v":0},{"$f":"'14 - 15 ans F'!B5","v":0},{"$f":"'14 - 15 ans F'!H5","v":""},{"$f":"'14 - 15 ans F'!I5","v":""},{"$f":"'14 - 15 ans H'!A5","v":0},{"$f":"'14 - 15 ans H'!B5","v":0},null,null,null,null,{"$f":"'14 - 15 ans H'!I5","v":""},{"$f":"'14 - 15 ans H'!H5","v":""}]
[null,{"$f":"'14 - 15 ans F'!B6","v":0},null,null,null,{"$f":"'14 - 15 ans H'!B6","v":0}]
[{"$f":"'14 - 15 ans F'!A7","v":0},{"$f":"'14 - 15 ans F'!B7","v":0},{"$f":"'14 - 15 ans F'!H7","v":""},{"$f":"'14 - 15 ans F'!I7","v":""},{"$f":"'14 - 15 ans H'!A7","v":0},{"$f":"'14 - 15 ans H'!B7","v":0},null,null,null,null,{"$f":"'14 - 15 ans H'!I7","v":""},{"$f":"'14 - 15 ans H'!H7","v":""}]
[null,{"$f":"'14 - 15 ans F'!B8","v":0},null,null,null,{"$f":"'14 - 15 ans H'!B8","v":0}]
[{"$f":"'14 - 15 ans F'!A9","v":0},{"$f":"'14 - 15 ans F'!B9","v":0},{"$f":"'14 - 15 ans F'!H9","v":""},{"$f":"'14 - 15 ans F'!I9","v":""},{"$f":"'14 - 15 ans H'!A9","v":0},{"$f":"'14 - 15 ans H'!B9","v":0},null,null,null,null,{"$f":"'14 - 15 ans H'!I9","v":""},{"$f":"'14 - 15 ans H'!H9","v":""}]
[null,{"$f":"'14 - 15 ans F'!B10","v":0},null,null,null,{"$f":"'14 - 15 ans H'!B10","v":0}]
[{"$f":"'14 - 15 ans F'!A11","v":0},{"$f":"'14 - 15 ans F'!B11","v":0},{"$f":"'14 - 15 ans F'!H11","v":""},{"$f":"'14 - 15 ans F'!I11","v":""},{"$f":"'14 - 15 ans H'!A11","v":0},{"$f":"'14 - 15 ans H'!B11","v":0},null,null,null,null,{"$f":"'14 - 15 ans H'!I11","v":""},{"$f":"'14 - 15 ans H'!H11","v":""}]
[null,{"$f":"'14 - 15 ans F'!B12","v":0},null,null,null,{"$f":"'14 - 15 ans H'!B12","v":0}]
[{"$f":"'14 - 15 ans F'!A13","v":0},{"$f":"'14 - 15 ans F'!B13","v":0},{"$f":"'14 - 15 ans F'!H13","v":""},{"$f":"'14 - 15 ans F'!I13","v":""},{"$f":"'14 - 15 ans H'!A13","v":0},{"$f":"'14 - 15 ans H'!B13","v":0},null,null,null,null,{"$f":"'14 - 15 ans H'!I13","v":""},{"$f":"'14 - 15 ans H'!H13","v":""}]
[null,{"$f":"'14 - 15 ans F'!B14","v":0},null,null,null,{"$f":"'14 - 15 ans H'!B14","v":0}]
[{"$f":"'14 - 15 ans F'!A15","v":0},{"$f":"'14 - 15 ans F'!B15","v":0},{"$f":"'14 - 15 ans F'!H15","v":""},{"$f":"'14 - 15 ans F'!I15","v":""},{"$f":"'14 - 15 ans H'!A15","v":0},{"$f":"'14 - 15 ans H'!B15","v":0},null,null,null,null,{"$f":"'14 - 15 ans H'!I15","v":""},{"$f":"'14 - 15 ans H'!H15","v":""}]
[null,{"$f":"'14 - 15 ans F'!B16","v":0},null,null,null,{"$f":"'14 - 15 ans H'!B16","v":0}]
[{"$f":"'14 - 15 ans F'!A17","v":0},{"$f":"'14 - 15 ans F'!B17","v":0},{"$f":"'14 - 15 ans F'!H17","v":""},{"$f":"'14 - 15 ans F'!I17","v":""},{"$f":"'14 - 15 ans H'!A17","v":0},{"$f":"'14 - 15 ans H'!B17","v":0},null,null,null,null,{"$f":"'14 - 15 ans H'!I17","v":""},{"$f":"'14 - 15 ans H'!H17","v":""}]
[null,{"$f":"'14 - 15 ans F'!B18","v":0},null,null,null,{"$f":"'14 - 15 ans H'!B18","v":0}]
[{"$f":"'14 - 15 ans F'!A19","v":0},{"$f":"'14 - 15 ans F'!B19","v":0},{"$f":"'14 - 15 ans F'!H19","v":""},{"$f":"'14 - 15 ans F'!I19","v":""},{"$f":"'14 - 15 ans H'!A19","v":0},{"$f":"'14 - 15 ans H'!B19","v":0},null,null,null,null,{"$f":"'14 - 15 ans H'!I19","v":""},{"$f":"'14 - 15 ans H'!H19","v":""}]
[null,{"$f":"'14 - 15 ans F'!B20","v":0},null,null,null,{"$f":"'14 - 15 ans H'!B20","v":0}]
[{"$f":"'14 - 15 ans F'!A21","v":0},{"$f":"'14 - 15 ans F'!B21","v":0},{"$f":"'14 - 15 ans F'!H21","v":""},{"$f":"'14 - 15 ans F'!I21","v":""},{"$f":"'14 - 15 ans H'!A21","v":0},{"$f":"'14 - 15 ans H'!B21","v":0},null,null,null,null,{"$f":"'14 - 15 ans H'!I21","v":""},{"$f":"'14 - 15 ans H'!H21","v":""}]
[null,{"$f":"'14 - 15 ans F'!B22","v":0},null,null,null,{"$f":"'14 - 15 ans H'!B22","v":0}]
[{"$f":"'14 - 15 ans F'!A23","v":0},{"$f":"'14 - 15 ans F'!B23","v":0},{"$f":"'14 - 15 ans F'!H23","v":""},{"$f":"'14 - 15 ans F'!I23","v":""},{"$f":"'14 - 15 ans H'!A23","v":0},{"$f":"'14 - 15 ans H'!B23","v":0},null,null,null,null,{"$f":"'14 - 15 ans H'!I23","v":""},{"$f":"'14 - 15 ans H'!H23","v":""}]
[null,{"$f":"'14 - 15 ans F'!B24","v":0},null,null,null,{"$f":"'14 - 15 ans H'!B24","v":0}]
[{"$f":"'14 - 15 ans F'!A25","v":0},{"$f":"'14 - 15 ans F'!B25","v":0},{"$f":"'14 - 15 ans F'!H25","v":""},{"$f":"'14 - 15 ans F'!I25","v":""},{"$f":"'14 - 15 ans H'!A25","v":0},{"$f":"'14 - 15 ans H'!B25","v":0},null,null,null,null,{"$f":"'14 - 15 ans H'!I25","v":""},{"$f":"'14 - 15 ans H'!H25","v":""}]
[null,{"$f":"'14 - 15 ans F'!B26","v":0},null,null,null,{"$f":"'14 - 15 ans H'!B26","v":0}]
[{"$f":"'14 - 15 ans F'!A27","v":0},{"$f":"'14 - 15 ans F'!B27","v":0},{"$f":"'14 - 15 ans F'!H27","v":""},{"$f":"'14 - 15 ans F'!I27","v":""},{"$f":"'14 - 15 ans H'!A27","v":0},{"$f":"'14 - 15 ans H'!B27","v":0},null,null,null,null,{"$f":"'14 - 15 ans H'!I27","v":""},{"$f":"'14 - 15 ans H'!H27","v":""}]
[null,{"$f":"'14 - 15 ans F'!B28","v":0},null,null,null,{"$f":"'14 - 15 ans H'!B28","v":0}]
[{"$f":"'14 - 15 ans F'!A29","v":0},{"$f":"'14 - 15 ans F'!B29","v":0},{"$f":"'14 - 15 ans F'!H29","v":""},{"$f":"'14 - 15 ans F'!I29","v":""},{"$f":"'14 - 15 ans H'!A29","v":0},{"$f":"'14 - 15 ans H'!B29","v":0},null,null,null,null,{"$f":"'14 - 15 ans H'!I29","v":""},{"$f":"'14 - 15 ans H'!H29","v":""}]
[null,{"$f":"'14 - 15 ans F'!B30","v":0},null,null,null,{"$f":"'14 - 15 ans H'!B30","v":0}]
[{"$f":"'14 - 15 ans F'!A31","v":0},{"$f":"'14 - 15 ans F'!B31","v":0},{"$f":"'14 - 15 ans F'!H31","v":""},{"$f":"'14 - 15 ans F'!I31","v":""},{"$f":"'14 - 15 ans H'!A31","v":0},{"$f":"'14 - 15 ans H'!B31","v":0},null,null,null,null,{"$f":"'14 - 15 ans H'!I31","v":""},{"$f":"'14 - 15 ans H'!H31","v":""}]
[null,{"$f":"'14 - 15 ans F'!B32","v":0},null,null,null,{"$f":"'14 - 15 ans H'!B32","v":0}]
[{"$f":"'14 - 15 ans F'!A33","v":0},{"$f":"'14 - 15 ans F'!B33","v":0},{"$f":"'14 - 15 ans F'!H33","v":""},{"$f":"'14 - 15 ans F'!I33","v":""},{"$f":"'14 - 15 ans H'!A33","v":0},{"$f":"'14 - 15 ans H'!B33","v":0},null,null,null,null,{"$f":"'14 - 15 ans H'!I33","v":""},{"$f":"'14 - 15 ans H'!H33","v":""}]
[null,{"$f":"'14 - 15 ans F'!B34","v":0},null,null,null,{"$f":"'14 - 15 ans H'!B34","v":0}]
[]
["Résultats - Senior Femme"]
["Club","Nom","Rang","Total","Remorquage",null,"Obstacle",null,"Portage  + palme",null,"Portage",null,"Sauveteur d'acier",null,"Medley sauvetage"]
[null,null,null,null,"Pointage","R","Pointage","R","Pointage","R","Pointage","R","Pointage","R","Pointage","R"]
[{"$f":"Inscription!I2","v":"SSSL"},{"$f":"Inscription!J2","v":"Célia Crivellaro Kingsbury"},{"$f":"IF(D175=\"\",\"\",RANK(D175,$D$175:$D$204))","v":13},{"$f":"IF(E175=\"\",\"\",SUM(E175,G175,I175,K175,M175,O175))","v":26},{"$f":"'Senior F'!I39","v":5},{"$f":"'Senior F'!H39","v":12},{"$f":"'Senior F'!I73","v":6},{"$f":"'Senior F'!H73","v":11},{"$f":"'Senior F'!I107","v":4},{"$f":"'Senior F'!H107","v":13},{"$f":"'Senior F'!I141","v":6},{"$f":"'Senior F'!H141","v":11},{"$f":"'Senior F'!I175","v":5},{"$f":"'Senior F'!H175","v":12},{"$f":"'Senior F'!I209","v":""},{"$f":"'Senior F'!H209","v":""}]
[{"$f":"Inscription!I3","v":"CASO"},{"$f":"Inscription!J3","v":"Laurence Lamarre"},{"$f":"IF(D176=\"\",\"\",RANK(D176,$D$175:$D$204))","v":10},{"$f":"IF(E176=\"\",\"\",SUM(E176,G176,I176,K176,M176,O176))","v":38},{"$f":"'Senior F'!I40","v":11},{"$f":"'Senior F'!H40","v":7},{"$f":"'Senior F'!I74","v":10},{"$f":"'Senior F'!H74","v":8},{"$f":"'Senior F'!I108","v":7},{"$f":"'Senior F'!H108","v":10},{"$f":"'Senior F'!I142","v":"0"},{"$f":"'Senior F'!H142","v":"DNS"},{"$f":"'Senior F'!I176","v":10},{"$f":"'Senior F'!H176","v":8},{"$f":"'Senior F'!I210","v":""},{"$f":"'Senior F'!H210","v":""}]
[{"$f":"Inscription!I4","v":"CASO"},{"$f":"Inscription!J4","v":"Émilie Boulerne"},5,62,{"$f":"'Senior F'!I41","v":7},{"$f":"'Senior F'!H41","v":10},{"$f":"'Senior F'!I75","v":14},{"$f":"'Senior F'!H75","v":4},{"$f":"'Senior F'!I109","v":12},{"$f":"'Senior F'!H109","v":6},{"$f":"'Senior F'!I143","v":16},{"$f":"'Senior F'!H143","v":3},{"$f":"'Senior F'!I177","v":13},{"$f":"'Senior F'!H177","v":5},{"$f":"'Senior F'!I211","v":""},{"$f":"'Senior F'!H211","v":""}]
[{"$f":"Inscription!I5","v":"Dam'eauclès"},{"$f":"Inscription!J5","v":"Caroline Arcand"},6,53,{"$f":"'Senior F'!I42","v":8},{"$f":"'Senior F'!H42","v":9},{"$f":"'Senior F'!I76","v":11},{"$f":"'Senior F'!H76","v":7},{"$f":"'Senior F'!I110","v":11},{"$f":"'Senior F'!H110","v":7},{"$f":"'Senior F'!I144","v":11},{"$f":"'Senior F'!H144","v":7},{"$f":"'Senior F'!I178","v":12},{"$f":"'Senior F'!H178","v":6},{"$f":"'Senior F'!I212","v":""},{"$f":"'Senior F'!H212","v":""}]
[{"$f":"Inscription!I6","v":"Dam'eauclès"},{"$f":"Inscription!J6","v":"Tamara Jacques"},11,30,{"$f":"'Senior F'!I43","v":4},{"$f":"'Senior F'!H43","v":13},{"$f":"'Senior F'!I77","v":5},{"$f":"'Senior F'!H77","v":12},{"$f":"'Senior F'!I111","v":3},{"$f":"'Senior F'!H111","v":14},{"$f":"'Senior F'!I145","v":12},{"$f":"'Senior F'!H145","v":6},{"$f":"'Senior F'!I179","v":6},{"$f":"'Senior F'!H179","v":11},{"$f":"'Senior F'!I213","v":""},{"$f":"'Senior F'!H213","v":""}]
[{"$f":"Inscription!I7","v":"O'méga"},{"$f":"Inscription!J7","v":"Josée Miron"},17,7,{"$f":"'Senior F'!I44","v":0},{"$f":"'Senior F'!H44","v":17},{"$f":"'Senior F'!I78","v":1},{"$f":"'Senior F'!H78","v":16},{"$f":"'Senior F'!I112","v":0},{"$f":"'Senior F'!H112","v":18},{"$f":"'Senior F'!I146","v":2},{"$f":"'Senior F'!H146","v":15},{"$f":"'Senior F'!I180","v":4},{"$f":"'Senior F'!H180","v":13},{"$f":"'Senior F'!I214","v":""},{"$f":"'Senior F'!H214","v":""}]
[{"$f":"Inscription!I8","v":"Rouville Surf"},{"$f":"Inscription!J8","v":"Marie-Hélène Paquette"},14,14,{"$f":"'Senior F'!I45","v":"0"},{"$f":"'Senior F'!H45","v":"DNS"},{"$f":"'Senior F'!I79","v":"0"},{"$f":"'Senior F'!H79","v":"DNS"},{"$f":"'Senior F'!I113","v":14},{"$f":"'Senior F'!H113","v":4},{"$f":"'Senior F'!I147","v":"0"},{"$f":"'Senior F'!H147","v":"DNS"},{"$f":"'Senior F'!I181","v":"0"},{"$f":"'Senior F'!H181","v":"DNS"},{"$f":"'Senior F'!I215","v":""},{"$f":"'Senior F'!H215","v":""}]
[{"$f":"Inscription!I9","v":"Rouville Surf"},{"$f":"Inscription!J9","v":"Claudine Courteau-Godmaire"},2,78,{"$f":"'Senior F'!I46","v":18},{"$f":"'Senior F'!H46","v":2},{"$f":"'Senior F'!I80","v":16},{"$f":"'Senior F'!H80","v":3},{"$f":"'Senior F'!I114","v":16},{"$f":"'Senior F'!H114","v":3},{"$f":"'Senior F'!I148","v":14},{"$f":"'Senior F'!H148","v":4},{"$f":"'Senior F'!I182","v":14},{"$f":"'Senior F'!H182","v":4},{"$f":"'Senior F'!I216","v":""},{"$f":"'Senior F'!H216","v":""}]
[{"$f":"Inscription!I10","v":"Rouville Surf"},{"$f":"Inscription!J10","v":"Ana Jaimes"},9,43,{"$f":"'Senior F'!I47","v":6},{"$f":"'Senior F'!H47","v":11},{"$f":"'Senior F'!I81","v":13},{"$f":"'Senior F'!H81","v":5},{"$f":"'Senior F'!I115","v":6},{"$f":"'Senior F'!H115","v":11},{"$f":"'Senior F'!I149","v":10},{"$f":"'Senior F'!H149","v":8},{"$f":"'Senior F'!I183","v":8},{"$f":"'Senior F'!H183","v":9},{"$f":"'Senior F'!I217","v":""},{"$f":"'Senior F'!H217","v":""}]
[{"$f":"Inscription!I11","v":"Rouville Surf"},{"$f":"Inscription!J11","v":"Gabrièle St-Georges"},8,48,{"$f":"'Senior F'!I48","v":13},{"$f":"'Senior F'!H48","v":5},{"$f":"'Senior F'!I82","v":7},{"$f":"'Senior F'!H82","v":10},{"$f":"'Senior F'!I116","v":10},{"$f":"'Senior F'!H116","v":8},{"$f":"'Senior F'!I150","v":7},{"$f":"'Senior F'!H150","v":10},{"$f":"'Senior F'!I184","v":11},{"$f":"'Senior F'!H184","v":7},{"$f":"'Senior F'!I218","v":""},{"$f":"'Senior F'!H218","v":""}]
[{"$f":"Inscription!I12","v":"Rouville Surf"},{"$f":"Inscription!J12","v":"Mariama Keita"},7,52,{"$f":"'Senior F'!I49","v":12},{"$f":"'Senior F'!H49","v":6},{"$f":"'Senior F'!I83","v":12},{"$f":"'Senior F'!H83","v":6},{"$f":"'Senior F'!I117","v":8},{"$f":"'Senior F'!H117","v":9},{"$f":"'Senior F'!I151","v":13},{"$f":"'Senior F'!H151","v":5},{"$f":"'Senior F'!I185","v":7},{"$f":"'Senior F'!H185","v":10},{"$f":"'Senior F'!I219","v":""},{"$f":"'Senior F'!H219","v":""}]
[{"$f":"Inscription!I13","v":"30deux"},{"$f":"Inscription!J13","v":"Marie-Pier Anctil"},15,9,{"$f":"'Senior F'!I50","v":2},{"$f":"'Senior F'!H50","v":15},{"$f":"'Senior F'!I84","v":3},{"$f":"'Senior F'!H84","v":14},{"$f":"'Senior F'!I118","v":1},{"$f":"'Senior F'!H118","v":16},{"$f":"'Senior F'!I152","v":3},{"$f":"'Senior F'!H152","v":14},{"$f":"'Senior F'!I186","v":"0"},{"$f":"'Senior F'!H186","v":"DNS"},{"$f":"'Senior F'!I220","v":""},{"$f":"'Senior F'!H220","v":""}]
[{"$f":"Inscription!I14","v":"30deux"},{"$f":"Inscription!J14","v":"Emmanuelle Hudon"},12,27,{"$f":"'Senior F'!I51","v":10},{"$f":"'Senior F'!H51","v":8},{"$f":"'Senior F'!I85","v":8},{"$f":"'Senior F'!H85","v":9},{"$f":"'Senior F'!I119","v":5},{"$f":"'Senior F'!H119","v":12},{"$f":"'Senior F'!I153","v":4},{"$f":"'Senior F'!H153","v":13},{"$f":"'Senior F'!I187","v":"0"},{"$f":"'Senior F'!H187","v":"DNS"},{"$f":"'Senior F'!I221","v":""},{"$f":"'Senior F'!H221","v":""}]
[{"$f":"Inscription!I15","v":"30deux"},{"$f":"Inscription!J15","v":"Alexandra Ladouceur"},3,74,{"$f":"'Senior F'!I52","v":20},{"$f":"'Senior F'!H52","v":1},{"$f":"'Senior F'!I86","v":"0"},{"$f":"'Senior F'!H86","v":"DNS"},{"$f":"'Senior F'!I120","v":20},{"$f":"'Senior F'!H120","v":1},{"$f":"'Senior F'!I154","v":18},{"$f":"'Senior F'!H154","v":2},{"$f":"'Senior F'!I188","v":16},{"$f":"'Senior F'!H188","v":3},{"$f":"'Senior F'!I222","v":""},{"$f":"'Senior F'!H222","v":""}]
[{"$f":"Inscription!I16","v":"30deux"},{"$f":"Inscription!J16","v":"Camille Gaudreault"},4,71,{"$f":"'Senior F'!I53","v":14},{"$f":"'Senior F'!H53","v":4},{"$f":"'Senior F'!I87","v":18},{"$f":"'Senior F'!H87","v":2},{"$f":"'Senior F'!I121","v":13},{"$f":"'Senior F'!H121","v":5},{"$f":"'Senior F'!I155","v":8},{"$f":"'Senior F'!H155","v":9},{"$f":"'Senior F'!I189","v":18},{"$f":"'Senior F'!H189","v":2},{"$f":"'Senior F'!I223","v":""},{"$f":"'Senior F'!H223","v":""}]
[{"$f":"Inscription!I17","v":"30deux"},{"$f":"Inscription!J17","v":"Sarah-Laurence Morin"},1,94,{"$f":"'Senior F'!I54","v":16},{"$f":"'Senior F'!H54","v":3},{"$f":"'Senior F'!I88","v":20},{"$f":"'Senior F'!H88","v":1},{"$f":"'Senior F'!I122","v":18},{"$f":"'Senior F'!H122","v":2},{"$f":"'Senior F'!I156","v":20},{"$f":"'Senior F'!H156","v":1},{"$f":"'Senior F'!I190","v":20},{"$f":"'Senior F'!H190","v":1},{"$f":"'Senior F'!I224","v":""},{"$f":"'Senior F'!H224","v":""}]
[{"$f":"Inscription!I18","v":"30deux"},{"$f":"Inscription!J18","v":"Noémie Desjardins"},20,0,{"$f":"'Senior F'!I55","v":"0"},{"$f":"'Senior F'!H55","v":"DNS"},{"$f":"'Senior F'!I89","v":"0"},{"$f":"'Senior F'!H89","v":"DNS"},{"$f":"'Senior F'!I123","v":"0"},{"$f":"'Senior F'!H123","v":"DNS"},{"$f":"'Senior F'!I157","v":"0"},{"$f":"'Senior F'!H157","v":"DNS"},{"$f":"'Senior F'!I191","v":"0"},{"$f":"'Senior F'!H191","v":"DNS"},{"$f":"'Senior F'!I225","v":""},{"$f":"'Senior F'!H225","v":""}]
[{"$f":"Inscription!I19","v":"CSRN"},{"$f":"Inscription!J19","v":"Raphaëlle Tétreault"},16,8,{"$f":"'Senior F'!I56","v":3},{"$f":"'Senior F'!H56","v":14},{"$f":"'Senior F'!I90","v":"0"},{"$f":"'Senior F'!H90","v":"DNS"},{"$f":"'Senior F'!I124","v":0},{"$f":"'Senior F'!H124","v":19},{"$f":"'Senior F'!I158","v":5},{"$f":"'Senior F'!H158","v":12},{"$f":"'Senior F'!I192","v":"0"},{"$f":"'Senior F'!H192","v":"DNS"},{"$f":"'Senior F'!I226","v":""},{"$f":"'Senior F'!H226","v":""}]
[{"$f":"Inscription!I20","v":"Gatineau"},{"$f":"Inscription!J20","v":"Isabelle Carrier"},17,7,{"$f":"'Senior F'!I57","v":"0"},{"$f":"'Senior F'!H57","v":"DQ"},{"$f":"'Senior F'!I91","v":4},{"$f":"'Senior F'!H91","v":13},{"$f":"'Senior F'!I125","v":2},{"$f":"'Senior F'!H125","v":15},{"$f":"'Senior F'!I159","v":1},{"$f":"'Senior F'!H159","v":16},{"$f":"'Senior F'!I193","v":"0"},{"$f":"'Senior F'!H193","v":"DNS"},{"$f":"'Senior F'!I227","v":""},{"$f":"'Senior F'!H227","v":""}]
[{"$f":"Inscription!I21","v":"Gatineau"},{"$f":"Inscription!J21","v":"Jessica Carrier"},19,3,{"$f":"'Senior F'!I58","v":1},{"$f":"'Senior F'!H58","v":16},{"$f":"'Senior F'!I92","v":2},{"$f":"'Senior F'!H92","v":15},{"$f":"'Senior F'!I126","v":0},{"$f":"'Senior F'!H126","v":17},{"$f":"'Senior F'!I160","v":0},{"$f":"'Senior F'!H160","v":17},{"$f":"'Senior F'!I194","v":"0"},{"$f":"'Senior F'!H194","v":"DNS"},{"$f":"'Senior F'!I228","v":""},{"$f":"'Senior F'!H228","v":""}]
[{"$f":"Inscription!I22","v":0},{"$f":"Inscription!J22","v":0},"","",{"$f":"'Senior F'!I59","v":""},{"$f":"'Senior F'!H59","v":""},{"$f":"'Senior F'!I93","v":""},{"$f":"'Senior F'!H93","v":""},{"$f":"'Senior F'!I127","v":""},{"$f":"'Senior F'!H127","v":""},{"$f":"'Senior F'!I161","v":""},{"$f":"'Senior F'!H161","v":""},{"$f":"'Senior F'!I195","v":""},{"$f":"'Senior F'!H195","v":""},{"$f":"'Senior F'!I229","v":""},{"$f":"'Senior F'!H229","v":""}]
[{"$f":"Inscription!I23","v":0},{"$f":"Inscription!J23","v":0},"","",{"$f":"'Senior F'!I60","v":""},{"$f":"'Senior F'!H60","v":""},{"$f":"'Senior F'!I94","v":""},{"$f":"'Senior F'!H94","v":""},{"$f":"'Senior F'!I128","v":""},{"$f":"'Senior F'!H128","v":""},{"$f":"'Senior F'!I162","v":""},{"$f":"'Senior F'!H162","v":""},{"$f":"'Senior F'!I196","v":""},{"$f":"'Senior F'!H196","v":""},{"$f":"'Senior F'!I230","v":""},{"$f":"'Senior F'!H230","v":""}]
[{"$f":"Inscription!I24","v":0},{"$f":"Inscription!J24","v":0},"","",{"$f":"'Senior F'!I61","v":""},{"$f":"'Senior F'!H61","v":""},{"$f":"'Senior F'!I95","v":""},{"$f":"'Senior F'!H95","v":""},{"$f":"'Senior F'!I129","v":""},{"$f":"'Senior F'!H129","v":""},{"$f":"'Senior F'!I163","v":""},{"$f":"'Senior F'!H163","v":""},{"$f":"'Senior F'!I197","v":""},{"$f":"'Senior F'!H197","v":""},{"$f":"'Senior F'!I231","v":""},{"$f":"'Senior F'!H231","v":""}]
[{"$f":"Inscription!I25","v":0},{"$f":"Inscription!J25","v":0},"","",{"$f":"'Senior F'!I62","v":""},{"$f":"'Senior F'!H62","v":""},{"$f":"'Senior F'!I96","v":""},{"$f":"'Senior F'!H96","v":""},{"$f":"'Senior F'!I130","v":""},{"$f":"'Senior F'!H130","v":""},{"$f":"'Senior F'!I164","v":""},{"$f":"'Senior F'!H164","v":""},{"$f":"'Senior F'!I198","v":""},{"$f":"'Senior F'!H198","v":""},{"$f":"'Senior F'!I232","v":""},{"$f":"'Senior F'!H232","v":""}]
[{"$f":"Inscription!I26","v":0},{"$f":"Inscription!J26","v":0},"","",{"$f":"'Senior F'!I63","v":""},{"$f":"'Senior F'!H63","v":""},{"$f":"'Senior F'!I97","v":""},{"$f":"'Senior F'!H97","v":""},{"$f":"'Senior F'!I131","v":""},{"$f":"'Senior F'!H131","v":""},{"$f":"'Senior F'!I165","v":""},{"$f":"'Senior F'!H165","v":""},{"$f":"'Senior F'!I199","v":""},{"$f":"'Senior F'!H199","v":""},{"$f":"'Senior F'!I233","v":""},{"$f":"'Senior F'!H233","v":""}]
[{"$f":"Inscription!I27","v":0},{"$f":"Inscription!J27","v":0},"","",{"$f":"'Senior F'!I64","v":""},{"$f":"'Senior F'!H64","v":""},{"$f":"'Senior F'!I98","v":""},{"$f":"'Senior F'!H98","v":""},{"$f":"'Senior F'!I132","v":""},{"$f":"'Senior F'!H132","v":""},{"$f":"'Senior F'!I166","v":""},{"$f":"'Senior F'!H166","v":""},{"$f":"'Senior F'!I200","v":""},{"$f":"'Senior F'!H200","v":""},{"$f":"'Senior F'!I234","v":""},{"$f":"'Senior F'!H234","v":""}]
[{"$f":"Inscription!I28","v":0},{"$f":"Inscription!J28","v":0},"","",{"$f":"'Senior F'!I65","v":""},{"$f":"'Senior F'!H65","v":""},{"$f":"'Senior F'!I99","v":""},{"$f":"'Senior F'!H99","v":""},{"$f":"'Senior F'!I133","v":""},{"$f":"'Senior F'!H133","v":""},{"$f":"'Senior F'!I167","v":""},{"$f":"'Senior F'!H167","v":""},{"$f":"'Senior F'!I201","v":""},{"$f":"'Senior F'!H201","v":""},{"$f":"'Senior F'!I235","v":""},{"$f":"'Senior F'!H235","v":""}]
[{"$f":"Inscription!I29","v":0},{"$f":"Inscription!J29","v":0},"","",{"$f":"'Senior F'!I66","v":""},{"$f":"'Senior F'!H66","v":""},{"$f":"'Senior F'!I100","v":""},{"$f":"'Senior F'!H100","v":""},{"$f":"'Senior F'!I134","v":""},{"$f":"'Senior F'!H134","v":""},{"$f":"'Senior F'!I168","v":""},{"$f":"'Senior F'!H168","v":""},{"$f":"'Senior F'!I202","v":""},{"$f":"'Senior F'!H202","v":""},{"$f":"'Senior F'!I236","v":""},{"$f":"'Senior F'!H236","v":""}]
[{"$f":"Inscription!I30","v":0},{"$f":"Inscription!J30","v":0},"","",{"$f":"'Senior F'!I67","v":""},{"$f":"'Senior F'!H67","v":""},{"$f":"'Senior F'!I101","v":""},{"$f":"'Senior F'!H101","v":""},{"$f":"'Senior F'!I135","v":""},{"$f":"'Senior F'!H135","v":""},{"$f":"'Senior F'!I169","v":""},{"$f":"'Senior F'!H169","v":""},{"$f":"'Senior F'!I203","v":""},{"$f":"'Senior F'!H203","v":""},{"$f":"'Senior F'!I237","v":""},{"$f":"'Senior F'!H237","v":""}]
[{"$f":"Inscription!I31","v":0},{"$f":"Inscription!J31","v":0},"","",{"$f":"'Senior F'!I68","v":""},{"$f":"'Senior F'!H68","v":""},{"$f":"'Senior F'!I102","v":""},{"$f":"'Senior F'!H102","v":""},{"$f":"'Senior F'!I136","v":""},{"$f":"'Senior F'!H136","v":""},{"$f":"'Senior F'!I170","v":""},{"$f":"'Senior F'!H170","v":""},{"$f":"'Senior F'!I204","v":""},{"$f":"'Senior F'!H204","v":""},{"$f":"'Senior F'!I238","v":""},{"$f":"'Senior F'!H238","v":""}]
[]
["Résultats - Senior Homme"]
["Club","Nom","Rang","Total","Remorquage",null,"Obstacle",null,"Portage  + palme",null,"Portage",null,"Sauveteur d'acier",null,"Medley sauvetage"]
[null,null,null,null,"Pointage","R","Pointage","R","Pointage","R","Pointage","R","Pointage","R","Pointage","R"]
[{"$f":"Inscription!K2","v":"Dam'eauclès"},{"$f":"Inscription!L2","v":"Charles GIrouard"},{"$f":"IF(E209=\"\",\"\",RANK(D209,$D$209:$D$238))","v":8},{"$f":"IF(E209=\"\",\"\",SUM(E209,G209,I209,K209,M209,O209))","v":53},{"$f":"'Senior H'!I39","v":8},{"$f":"'Senior H'!H39","v":9},{"$f":"'Senior H'!I73","v":12},{"$f":"'Senior H'!H73","v":6},{"$f":"'Senior H'!I107","v":3},{"$f":"'Senior H'!H107","v":14},{"$f":"'Senior H'!I141","v":12},{"$f":"'Senior H'!H141","v":6},{"$f":"'Senior H'!I175","v":18},{"$f":"'Senior H'!H175","v":2},{"$f":"'Senior H'!I209","v":""},{"$f":"'Senior H'!H209","v":""}]
[{"$f":"Inscription!K3","v":"SSSL"},{"$f":"Inscription!L3","v":"Félix Labelle"},{"$f":"IF(E210=\"\",\"\",RANK(D210,$D$209:$D$238))","v":14},{"$f":"IF(E210=\"\",\"\",SUM(E210,G210,I210,K210,M210,O210))","v":17},{"$f":"'Senior H'!I40","v":6},{"$f":"'Senior H'!H40","v":11},{"$f":"'Senior H'!I74","v":"0"},{"$f":"'Senior H'!H74","v":"DNS"},{"$f":"'Senior H'!I108","v":4},{"$f":"'Senior H'!H108","v":13},{"$f":"'Senior H'!I142","v":2},{"$f":"'Senior H'!H142","v":15},{"$f":"'Senior H'!I176","v":5},{"$f":"'Senior H'!H176","v":12},{"$f":"'Senior H'!I210","v":""},{"$f":"'Senior H'!H210","v":""}]
[{"$f":"Inscription!K4","v":"SSSL"},{"$f":"Inscription!L4","v":"Thomas Willame"},6,57,{"$f":"'Senior H'!I41","v":13},{"$f":"'Senior H'!H41","v":5},{"$f":"'Senior H'!I75","v":13},{"$f":"'Senior H'!H75","v":5},{"$f":"'Senior H'!I109","v":13},{"$f":"'Senior H'!H109","v":5},{"$f":"'Senior H'!I143","v":7},{"$f":"'Senior H'!H143","v":10},{"$f":"'Senior H'!I177","v":11},{"$f":"'Senior H'!H177","v":7},{"$f":"'Senior H'!I211","v":""},{"$f":"'Senior H'!H211","v":""}]
[{"$f":"Inscription!K5","v":"Rouville Surf"},{"$f":"Inscription!L5","v":"Miguel Jean"},3,64,{"$f":"'Senior H'!I42","v":18},{"$f":"'Senior H'!H42","v":2},{"$f":"'Senior H'!I76","v":18},{"$f":"'Senior H'!H76","v":2},{"$f":"'Senior H'!I110","v":7},{"$f":"'Senior H'!H110","v":10},{"$f":"'Senior H'!I144","v":13},{"$f":"'Senior H'!H144","v":5},{"$f":"'Senior H'!I178","v":8},{"$f":"'Senior H'!H178","v":9},{"$f":"'Senior H'!I212","v":""},{"$f":"'Senior H'!H212","v":""}]
[{"$f":"Inscription!K6","v":"Rouville Surf"},{"$f":"Inscription!L6","v":"Dimitri Jean"},11,35,{"$f":"'Senior H'!I43","v":12},{"$f":"'Senior H'!H43","v":6},{"$f":"'Senior H'!I77","v":"0"},{"$f":"'Senior H'!H77","v":"DNS"},{"$f":"'Senior H'!I111","v":6},{"$f":"'Senior H'!H111","v":11},{"$f":"'Senior H'!I145","v":11},{"$f":"'Senior H'!H145","v":7},{"$f":"'Senior H'!I179","v":6},{"$f":"'Senior H'!H179","v":11},{"$f":"'Senior H'!I213","v":""},{"$f":"'Senior H'!H213","v":""}]
[{"$f":"Inscription!K7","v":"Rouville Surf"},{"$f":"Inscription!L7","v":"Kevin Bustamante-Cortés"},4,60,{"$f":"'Senior H'!I44","v":"0"},{"$f":"'Senior H'!H44","v":"DNS"},{"$f":"'Senior H'!I78","v":20},{"$f":"'Senior H'!H78","v":1},{"$f":"'Senior H'!I112","v":20},{"$f":"'Senior H'!H112","v":1},{"$f":"'Senior H'!I146","v":20},{"$f":"'Senior H'!H146","v":1},{"$f":"'Senior H'!I180","v":"0"},{"$f":"'Senior H'!H180","v":"DQ"},{"$f":"'Senior H'!I214","v":""},{"$f":"'Senior H'!H214","v":""}]
[{"$f":"Inscription!K8","v":"30deux"},{"$f":"Inscription!L8","v":"Thomas Lavoie"},1,82,{"$f":"'Senior H'!I45","v":16},{"$f":"'Senior H'!H45","v":3},{"$f":"'Senior H'!I79","v":14},{"$f":"'Senior H'!H79","v":4},{"$f":"'Senior H'!I113","v":16},{"$f":"'Senior H'!H113","v":3},{"$f":"'Senior H'!I147","v":16},{"$f":"'Senior H'!H147","v":3},{"$f":"'Senior H'!I181","v":20},{"$f":"'Senior H'!H181","v":1},{"$f":"'Senior H'!I215","v":""},{"$f":"'Senior H'!H215","v":""}]
[{"$f":"Inscription!K9","v":"30deux"},{"$f":"Inscription!L9","v":"Samuel Lévesque"},15,16,{"$f":"'Senior H'!I46","v":5},{"$f":"'Senior H'!H46","v":12},{"$f":"'Senior H'!I80","v":5},{"$f":"'Senior H'!H80","v":12},{"$f":"'Senior H'!I114","v":1},{"$f":"'Senior H'!H114","v":16},{"$f":"'Senior H'!I148","v":1},{"$f":"'Senior H'!H148","v":16},{"$f":"'Senior H'!I182","v":4},{"$f":"'Senior H'!H182","v":13},{"$f":"'Senior H'!I216","v":""},{"$f":"'Senior H'!H216","v":""}]
[{"$f":"Inscription!K10","v":"30deux"},{"$f":"Inscription!L10","v":"François Houle"},7,54,{"$f":"'Senior H'!I47","v":14},{"$f":"'Senior H'!H47","v":4},{"$f":"'Senior H'!I81","v":10},{"$f":"'Senior H'!H81","v":8},{"$f":"'Senior H'!I115","v":10},{"$f":"'Senior H'!H115","v":8},{"$f":"'Senior H'!I149","v":8},{"$f":"'Senior H'!H149","v":9},{"$f":"'Senior H'!I183","v":12},{"$f":"'Senior H'!H183","v":6},{"$f":"'Senior H'!I217","v":""},{"$f":"'Senior H'!H217","v":""}]
[{"$f":"Inscription!K11","v":"30deux"},{"$f":"Inscription!L11","v":"Maxime Chamberland"},2,73,{"$f":"'Senior H'!I48","v":20},{"$f":"'Senior H'!H48","v":1},{"$f":"'Senior H'!I82","v":8},{"$f":"'Senior H'!H82","v":9},{"$f":"'Senior H'!I116","v":11},{"$f":"'Senior H'!H116","v":7},{"$f":"'Senior H'!I150","v":18},{"$f":"'Senior H'!H150","v":2},{"$f":"'Senior H'!I184","v":16},{"$f":"'Senior H'!H184","v":3},{"$f":"'Senior H'!I218","v":""},{"$f":"'Senior H'!H218","v":""}]
[{"$f":"Inscription!K12","v":"30deux"},{"$f":"Inscription!L12","v":"Marco Patriarco"},13,28,{"$f":"'Senior H'!I49","v":"0"},{"$f":"'Senior H'!H49","v":"DQ"},{"$f":"'Senior H'!I83","v":"0"},{"$f":"'Senior H'!H83","v":"DNS"},{"$f":"'Senior H'!I117","v":18},{"$f":"'Senior H'!H117","v":2},{"$f":"'Senior H'!I151","v":10},{"$f":"'Senior H'!H151","v":8},{"$f":"'Senior H'!I185","v":"0"},{"$f":"'Senior H'!H185","v":"DNS"},{"$f":"'Senior H'!I219","v":""},{"$f":"'Senior H'!H219","v":""}]
[{"$f":"Inscription!K13","v":"CSRN"},{"$f":"Inscription!L13","v":"Ismaël Chakir"},12,32,{"$f":"'Senior H'!I50","v":4},{"$f":"'Senior H'!H50","v":13},{"$f":"'Senior H'!I84","v":4},{"$f":"'Senior H'!H84","v":13},{"$f":"'Senior H'!I118","v":8},{"$f":"'Senior H'!H118","v":9},{"$f":"'Senior H'!I152","v":6},{"$f":"'Senior H'!H152","v":11},{"$f":"'Senior H'!I186","v":10},{"$f":"'Senior H'!H186","v":8},{"$f":"'Senior H'!I220","v":""},{"$f":"'Senior H'!H220","v":""}]
[{"$f":"Inscription!K14","v":"CSRN"},{"$f":"Inscription!L14","v":"Kamil Romdhani"},4,60,{"$f":"'Senior H'!I51","v":10},{"$f":"'Senior H'!H51","v":8},{"$f":"'Senior H'!I85","v":11},{"$f":"'Senior H'!H85","v":7},{"$f":"'Senior H'!I119","v":12},{"$f":"'Senior H'!H119","v":6},{"$f":"'Senior H'!I153","v":14},{"$f":"'Senior H'!H153","v":4},{"$f":"'Senior H'!I187","v":13},{"$f":"'Senior H'!H187","v":5},{"$f":"'Senior H'!I221","v":""},{"$f":"'Senior H'!H221","v":""}]
[{"$f":"Inscription!K15","v":"CSRN"},{"$f":"Inscription!L15","v":"William Laurence"},17,8,{"$f":"'Senior H'!I52","v":2},{"$f":"'Senior H'!H52","v":15},{"$f":"'Senior H'!I86","v":3},{"$f":"'Senior H'!H86","v":14},{"$f":"'Senior H'!I120","v":0},{"$f":"'Senior H'!H120","v":17},{"$f":"'Senior H'!I154","v":0},{"$f":"'Senior H'!H154","v":17},{"$f":"'Senior H'!I188","v":3},{"$f":"'Senior H'!H188","v":14},{"$f":"'Senior H'!I222","v":""},{"$f":"'Senior H'!H222","v":""}]
[{"$f":"Inscription!K16","v":"Gatineau"},{"$f":"Inscription!L16","v":"Olivier Breton"},9,49,{"$f":"'Senior H'!I53","v":7},{"$f":"'Senior H'!H53","v":10},{"$f":"'Senior H'!I87","v":16},{"$f":"'Senior H'!H87","v":3},{"$f":"'Senior H'!I121","v":14},{"$f":"'Senior H'!H121","v":4},{"$f":"'Senior H'!I155","v":5},{"$f":"'Senior H'!H155","v":12},{"$f":"'Senior H'!I189","v":7},{"$f":"'Senior H'!H189","v":10},{"$f":"'Senior H'!I223","v":""},{"$f":"'Senior H'!H223","v":""}]
[{"$f":"Inscription!K17","v":"Narval"},{"$f":"Inscription!L17","v":"Alex Tremblay"},16,15,{"$f":"'Senior H'!I54","v":3},{"$f":"'Senior H'!H54","v":14},{"$f":"'Senior H'!I88","v":6},{"$f":"'Senior H'!H88","v":11},{"$f":"'Senior H'!I122","v":2},{"$f":"'Senior H'!H122","v":15},{"$f":"'Senior H'!I156","v":4},{"$f":"'Senior H'!H156","v":13},{"$f":"'Senior H'!I190","v":"0"},{"$f":"'Senior H'!H190","v":"DQ"},{"$f":"'Senior H'!I224","v":""},{"$f":"'Senior H'!H224","v":""}]
[{"$f":"Inscription!K18","v":"Narval"},{"$f":"Inscription!L18","v":"David Comeau"},10,40,{"$f":"'Senior H'!I55","v":11},{"$f":"'Senior H'!H55","v":7},{"$f":"'Senior H'!I89","v":7},{"$f":"'Senior H'!H89","v":10},{"$f":"'Senior H'!I123","v":5},{"$f":"'Senior H'!H123","v":12},{"$f":"'Senior H'!I157","v":3},{"$f":"'Senior H'!H157","v":14},{"$f":"'Senior H'!I191","v":14},{"$f":"'Senior H'!H191","v":4},{"$f":"'Senior H'!I225","v":""},{"$f":"'Senior H'!H225","v":""}]
[{"$f":"Inscription!K19","v":0},{"$f":"Inscription!L19","v":0},"","",{"$f":"'Senior H'!I56","v":""},{"$f":"'Senior H'!H56","v":""},{"$f":"'Senior H'!I90","v":""},{"$f":"'Senior H'!H90","v":""},{"$f":"'Senior H'!I124","v":""},{"$f":"'Senior H'!H124","v":""},{"$f":"'Senior H'!I158","v":""},{"$f":"'Senior H'!H158","v":""},{"$f":"'Senior H'!I192","v":""},{"$f":"'Senior H'!H192","v":""},{"$f":"'Senior H'!I226","v":""},{"$f":"'Senior H'!H226","v":""}]
[{"$f":"Inscription!K20","v":0},{"$f":"Inscription!L20","v":0},"","",{"$f":"'Senior H'!I57","v":""},{"$f":"'Senior H'!H57","v":""},{"$f":"'Senior H'!I91","v":""},{"$f":"'Senior H'!H91","v":""},{"$f":"'Senior H'!I125","v":""},{"$f":"'Senior H'!H125","v":""},{"$f":"'Senior H'!I159","v":""},{"$f":"'Senior H'!H159","v":""},{"$f":"'Senior H'!I193","v":""},{"$f":"'Senior H'!H193","v":""},{"$f":"'Senior H'!I227","v":""},{"$f":"'Senior H'!H227","v":""}]
[{"$f":"Inscription!K21","v":0},{"$f":"Inscription!L21","v":0},"","",{"$f":"'Senior H'!I58","v":""},{"$f":"'Senior H'!H58","v":""},{"$f":"'Senior H'!I92","v":""},{"$f":"'Senior H'!H92","v":""},{"$f":"'Senior H'!I126","v":""},{"$f":"'Senior H'!H126","v":""},{"$f":"'Senior H'!I160","v":""},{"$f":"'Senior H'!H160","v":""},{"$f":"'Senior H'!I194","v":""},{"$f":"'Senior H'!H194","v":""},{"$f":"'Senior H'!I228","v":""},{"$f":"'Senior H'!H228","v":""}]
[{"$f":"Inscription!K22","v":0},{"$f":"Inscription!L22","v":0},"","",{"$f":"'Senior H'!I59","v":""},{"$f":"'Senior H'!H59","v":""},{"$f":"'Senior H'!I93","v":""},{"$f":"'Senior H'!H93","v":""},{"$f":"'Senior H'!I127","v":""},{"$f":"'Senior H'!H127","v":""},{"$f":"'Senior H'!I161","v":""},{"$f":"'Senior H'!H161","v":""},{"$f":"'Senior H'!I195","v":""},{"$f":"'Senior H'!H195","v":""},{"$f":"'Senior H'!I229","v":""},{"$f":"'Senior H'!H229","v":""}]
[{"$f":"Inscription!K23","v":0},{"$f":"Inscription!L23","v":0},"","",{"$f":"'Senior H'!I60","v":""},{"$f":"'Senior H'!H60","v":""},{"$f":"'Senior H'!I94","v":""},{"$f":"'Senior H'!H94","v":""},{"$f":"'Senior H'!I128","v":""},{"$f":"'Senior H'!H128","v":""},{"$f":"'Senior H'!I162","v":""},{"$f":"'Senior H'!H162","v":""},{"$f":"'Senior H'!I196","v":""},{"$f":"'Senior H'!H196","v":""},{"$f":"'Senior H'!I230","v":""},{"$f":"'Senior H'!H230","v":""}]
[{"$f":"Inscription!K24","v":0},{"$f":"Inscription!L24","v":0},"","",{"$f":"'Senior H'!I61","v":""},{"$f":"'Senior H'!H61","v":""},{"$f":"'Senior H'!I95","v":""},{"$f":"'Senior H'!H95","v":""},{"$f":"'Senior H'!I129","v":""},{"$f":"'Senior H'!H129","v":""},{"$f":"'Senior H'!I163","v":""},{"$f":"'Senior H'!H163","v":""},{"$f":"'Senior H'!I197","v":""},{"$f":"'Senior H'!H197","v":""},{"$f":"'Senior H'!I231","v":""},{"$f":"'Senior H'!H231","v":""}]
[{"$f":"Inscription!K25","v":0},{"$f":"Inscription!L25","v":0},"","",{"$f":"'Senior H'!I62","v":""},{"$f":"'Senior H'!H62","v":""},{"$f":"'Senior H'!I96","v":""},{"$f":"'Senior H'!H96","v":""},{"$f":"'Senior H'!I130","v":""},{"$f":"'Senior H'!H130","v":""},{"$f":"'Senior H'!I164","v":""},{"$f":"'Senior H'!H164","v":""},{"$f":"'Senior H'!I198","v":""},{"$f":"'Senior H'!H198","v":""},{"$f":"'Senior H'!I232","v":""},{"$f":"'Senior H'!H232","v":""}]
[{"$f":"Inscription!K26","v":0},{"$f":"Inscription!L26","v":0},"","",{"$f":"'Senior H'!I63","v":""},{"$f":"'Senior H'!H63","v":""},{"$f":"'Senior H'!I97","v":""},{"$f":"'Senior H'!H97","v":""},{"$f":"'Senior H'!I131","v":""},{"$f":"'Senior H'!H131","v":""},{"$f":"'Senior H'!I165","v":""},{"$f":"'Senior H'!H165","v":""},{"$f":"'Senior H'!I199","v":""},{"$f":"'Senior H'!H199","v":""},{"$f":"'Senior H'!I233","v":""},{"$f":"'Senior H'!H233","v":""}]
[{"$f":"Inscription!K27","v":0},{"$f":"Inscription!L27","v":0},"","",{"$f":"'Senior H'!I64","v":""},{"$f":"'Senior H'!H64","v":""},{"$f":"'Senior H'!I98","v":""},{"$f":"'Senior H'!H98","v":""},{"$f":"'Senior H'!I132","v":""},{"$f":"'Senior H'!H132","v":""},{"$f":"'Senior H'!I166","v":""},{"$f":"'Senior H'!H166","v":""},{"$f":"'Senior H'!I200","v":""},{"$f":"'Senior H'!H200","v":""},{"$f":"'Senior H'!I234","v":""},{"$f":"'Senior H'!H234","v":""}]
[{"$f":"Inscription!K28","v":0},{"$f":"Inscription!L28","v":0},"","",{"$f":"'Senior H'!I65","v":""},{"$f":"'Senior H'!H65","v":""},{"$f":"'Senior H'!I99","v":""},{"$f":"'Senior H'!H99","v":""},{"$f":"'Senior H'!I133","v":""},{"$f":"'Senior H'!H133","v":""},{"$f":"'Senior H'!I167","v":""},{"$f":"'Senior H'!H167","v":""},{"$f":"'Senior H'!I201","v":""},{"$f":"'Senior H'!H201","v":""},{"$f":"'Senior H'!I235","v":""},{"$f":"'Senior H'!H235","v":""}]
[{"$f":"Inscription!K29","v":0},{"$f":"Inscription!L29","v":0},"","",{"$f":"'Senior H'!I66","v":""},{"$f":"'Senior H'!H66","v":""},{"$f":"'Senior H'!I100","v":""},{"$f":"'Senior H'!H100","v":""},{"$f":"'Senior H'!I134","v":""},{"$f":"'Senior H'!H134","v":""},{"$f":"'Senior H'!I168","v":""},{"$f":"'Senior H'!H168","v":""},{"$f":"'Senior H'!I202","v":""},{"$f":"'Senior H'!H202","v":""},{"$f":"'Senior H'!I236","v":""},{"$f":"'Senior H'!H236","v":""}]
[{"$f":"Inscription!K30","v":0},{"$f":"Inscription!L30","v":0},"","",{"$f":"'Senior H'!I67","v":""},{"$f":"'Senior H'!H67","v":""},{"$f":"'Senior H'!I101","v":""},{"$f":"'Senior H'!H101","v":""},{"$f":"'Senior H'!I135","v":""},{"$f":"'Senior H'!H135","v":""},{"$f":"'Senior H'!I169","v":""},{"$f":"'Senior H'!H169","v":""},{"$f":"'Senior H'!I203","v":""},{"$f":"'Senior H'!H203","v":""},{"$f":"'Senior H'!I237","v":""},{"$f":"'Senior H'!H237","v":""}]
[{"$f":"Inscription!K31","v":0},{"$f":"Inscription!L31","v":0},"","",{"$f":"'Senior H'!I68","v":""},{"$f":"'Senior H'!H68","v":""},{"$f":"'Senior H'!I102","v":""},{"$f":"'Senior H'!H102","v":""},{"$f":"'Senior H'!I136","v":""},{"$f":"'Senior H'!H136","v":""},{"$f":"'Senior H'!I170","v":""},{"$f":"'Senior H'!H170","v":""},{"$f":"'Senior H'!I204","v":""},{"$f":"'Senior H'!H204","v":""},{"$f":"'Senior H'!I238","v":""},{"$f":"'Senior H'!H238","v":""}]
[]
["Résultats - Relais Senior Femme"]
["Relais Medley",null,null,null,"Relais Obstacles",null,null,null,null,null,null,null,"Relais Portage mannequin"]
["Club","Nom","R","Pointage","Club","Nom",null,null,null,null,"Pointage","R","Club","Nom",null,null,null,null,"Pointage","R"]
[{"$f":"'Senior F'!A244","v":"Dam'eauclès"},{"$f":"'Senior F'!B244","v":"Caroline Arcand"},{"$f":"'Senior F'!H244","v":3},{"$f":"'Senior F'!I244","v":16},{"$f":"'Senior F'!A280","v":"Dam'eauclès"},{"$f":"'Senior F'!B280","v":"Caroline Arcand"},null,null,null,null,{"$f":"'Senior F'!I280","v":16},{"$f":"'Senior F'!H280","v":3},{"$f":"'Senior F'!A316","v":"Dam'eauclès"},{"$f":"'Senior F'!B316","v":"Caroline Arcand"},null,null,null,null,{"$f":"'Senior F'!I316","v":18},{"$f":"'Senior F'!H316","v":2}]
[null,{"$f":"'Senior F'!B245","v":"Manuelle Charbonneau"},null,null,null,{"$f":"'Senior F'!B281","v":"Myriam Jacques"},null,null,null,null,null,null,null,{"$f":"'Senior F'!B317","v":"Manuelle Charbonneau"}]
[null,{"$f":"'Senior F'!B246","v":"Myriam Jacques"},null,null,null,{"$f":"'Senior F'!B282","v":"Tamara Jacques"},null,null,null,null,null,null,null,{"$f":"'Senior F'!B318","v":"Tamara Jacques"}]
[null,{"$f":"'Senior F'!B247","v":"Tamara Jacques"},null,null,null,{"$f":"'Senior F'!B283","v":"Emma Lajeunesse"},null,null,null,null,null,null,null,{"$f":"'Senior F'!B319","v":"Emma Lajeunesse"}]
[{"$f":"'Senior F'!A248","v":"Rouville Surf"},{"$f":"'Senior F'!B248","v":"Ana Jaimes"},{"$f":"'Senior F'!H248","v":2},{"$f":"'Senior F'!I248","v":18},{"$f":"'Senior F'!A284","v":"Rouville"},{"$f":"'Senior F'!B284","v":"Claudine Courteau-Godmaire"},null,null,null,null,{"$f":"'Senior F'!I284","v":18},{"$f":"'Senior F'!H284","v":2},{"$f":"'Senior F'!A320","v":"Rouville Surf"},{"$f":"'Senior F'!B320","v":"Claudine Courteau-Godmaire"},null,null,null,null,{"$f":"'Senior F'!I320","v":16},{"$f":"'Senior F'!H320","v":3}]
[null,{"$f":"'Senior F'!B249","v":"Marie-Hélène Paquette"},null,null,null,{"$f":"'Senior F'!B285","v":"Ana Jaimes"},null,null,null,null,null,null,null,{"$f":"'Senior F'!B321","v":"Ana Jaimes"}]
[null,{"$f":"'Senior F'!B250","v":"Mariama Kelta"},null,null,null,{"$f":"'Senior F'!B286","v":"Gabrièle St-Georges"},null,null,null,null,null,null,null,{"$f":"'Senior F'!B322","v":"Marie-Hélène Paquette"}]
[null,{"$f":"'Senior F'!B251","v":"Claudine Courteau-Godmaire"},null,null,null,{"$f":"'Senior F'!B287","v":"Mariama Kelta"},null,null,null,null,null,null,null,{"$f":"'Senior F'!B323","v":"Mariama Kelta"}]
[{"$f":"'Senior F'!A252","v":"30deux"},{"$f":"'Senior F'!B252","v":"Alexandra Ladouceur"},{"$f":"'Senior F'!H252","v":1},{"$f":"'Senior F'!I252","v":20},{"$f":"'Senior F'!A288","v":"30deux"},{"$f":"'Senior F'!B288","v":"Alexandra Ladouceur"},null,null,null,null,{"$f":"'Senior F'!I288","v":20},{"$f":"'Senior F'!H288","v":1},{"$f":"'Senior F'!A324","v":"30deux"},{"$f":"'Senior F'!B324","v":"Alexandra Ladouceur"},null,null,null,null,{"$f":"'Senior F'!I324","v":20},{"$f":"'Senior F'!H324","v":1}]
[null,{"$f":"'Senior F'!B253","v":"Noemie Desjardins"},null,null,null,{"$f":"'Senior F'!B289","v":"Noemie Desjardins"},null,null,null,null,null,null,null,{"$f":"'Senior F'!B325","v":"Noemie Desjardins"}]
[null,{"$f":"'Senior F'!B254","v":"Camille Gaudreault"},null,null,null,{"$f":"'Senior F'!B290","v":"Camille Gaudreault"},null,null,null,null,null,null,null,{"$f":"'Senior F'!B326","v":"Camille Gaudreault"}]
[null,{"$f":"'Senior F'!B255","v":"Sarah-Laurence Morin"},null,null,null,{"$f":"'Senior F'!B291","v":"Sarah-Laurence Morin"},null,null,null,null,null,null,null,{"$f":"'Senior F'!B327","v":"Sarah-Laurence Morin"}]
[{"$f":"'Senior F'!A256","v":0},{"$f":"'Senior F'!B256","v":0},{"$f":"'Senior F'!H256","v":""},{"$f":"'Senior F'!I256","v":""},{"$f":"'Senior F'!A292","v":0},{"$f":"'Senior F'!B292","v":0},null,null,null,null,{"$f":"'Senior F'!I292","v":""},{"$f":"'Senior F'!H292","v":""},{"$f":"'Senior F'!A328","v":0},{"$f":"'Senior F'!B328","v":0},null,null,null,null,{"$f":"'Senior F'!I328","v":""},{"$f":"'Senior F'!H328","v":""}]
[null,{"$f":"'Senior F'!B257","v":0},null,null,null,{"$f":"'Senior F'!B293","v":0},null,null,null,null,null,null,null,{"$f":"'Senior F'!B329","v":0}]
[null,{"$f":"'Senior F'!B258","v":0},null,null,null,{"$f":"'Senior F'!B294","v":0},null,null,null,null,null,null,null,{"$f":"'Senior F'!B330","v":0}]
[null,{"$f":"'Senior F'!B259","v":0},null,null,null,{"$f":"'Senior F'!B295","v":0},null,null,null,null,null,null,null,{"$f":"'Senior F'!B331","v":0}]
[{"$f":"'Senior F'!A260","v":0},{"$f":"'Senior F'!B260","v":0},{"$f":"'Senior F'!H260","v":""},{"$f":"'Senior F'!I260","v":""},{"$f":"'Senior F'!A296","v":0},{"$f":"'Senior F'!B296","v":0},null,null,null,null,{"$f":"'Senior F'!I296","v":""},{"$f":"'Senior F'!H296","v":""},{"$f":"'Senior F'!A332","v":0},{"$f":"'Senior F'!B332","v":0},null,null,null,null,{"$f":"'Senior F'!I332","v":""},{"$f":"'Senior F'!H332","v":""}]
[null,{"$f":"'Senior F'!B261","v":0},null,null,null,{"$f":"'Senior F'!B297","v":0},null,null,null,null,null,null,null,{"$f":"'Senior F'!B333","v":0}]
[null,{"$f":"'Senior F'!B262","v":0},null,null,null,{"$f":"'Senior F'!B298","v":0},null,null,null,null,null,null,null,{"$f":"'Senior F'!B334","v":0}]
[null,{"$f":"'Senior F'!B263","v":0},null,null,null,{"$f":"'Senior F'!B299","v":0},null,null,null,null,null,null,null,{"$f":"'Senior F'!B335","v":0}]
[{"$f":"'Senior F'!A264","v":0},{"$f":"'Senior F'!B264","v":0},{"$f":"'Senior F'!H264","v":""},{"$f":"'Senior F'!I264","v":""},{"$f":"'Senior F'!A300","v":0},{"$f":"'Senior F'!B300","v":0},null,null,null,null,{"$f":"'Senior F'!I300","v":""},{"$f":"'Senior F'!H300","v":""},{"$f":"'Senior F'!A336","v":0},{"$f":"'Senior F'!B336","v":0},null,null,null,null,{"$f":"'Senior F'!I336","v":""},{"$f":"'Senior F'!H336","v":""}]
[null,{"$f":"'Senior F'!B265","v":0},null,null,null,{"$f":"'Senior F'!B301","v":0},null,null,null,null,null,null,null,{"$f":"'Senior F'!B337","v":0}]
[null,{"$f":"'Senior F'!B266","v":0},null,null,null,{"$f":"'Senior F'!B302","v":0},null,null,null,null,null,null,null,{"$f":"'Senior F'!B338","v":0}]
[null,{"$f":"'Senior F'!B267","v":0},null,null,null,{"$f":"'Senior F'!B303","v":0},null,null,null,null,null,null,null,{"$f":"'Senior F'!B339","v":0}]
[{"$f":"'Senior F'!A268","v":0},{"$f":"'Senior F'!B268","v":0},{"$f":"'Senior F'!H268","v":""},{"$f":"'Senior F'!I268","v":""},{"$f":"'Senior F'!A304","v":0},{"$f":"'Senior F'!B304","v":0},null,null,null,null,{"$f":"'Senior F'!I304","v":""},{"$f":"'Senior F'!H304","v":""},{"$f":"'Senior F'!A340","v":0},{"$f":"'Senior F'!B340","v":0},null,null,null,null,{"$f":"'Senior F'!I340","v":""},{"$f":"'Senior F'!H340","v":""}]
[null,{"$f":"'Senior F'!B269","v":0},null,null,null,{"$f":"'Senior F'!B305","v":0},null,null,null,null,null,null,null,{"$f":"'Senior F'!B341","v":0}]
[null,{"$f":"'Senior F'!B270","v":0},null,null,null,{"$f":"'Senior F'!B306","v":0},null,null,null,null,null,null,null,{"$f":"'Senior F'!B342","v":0}]
[null,{"$f":"'Senior F'!B271","v":0},null,null,null,{"$f":"'Senior F'!B307","v":0},null,null,null,null,null,null,null,{"$f":"'Senior F'!B343","v":0}]
[{"$f":"'Senior F'!A272","v":0},{"$f":"'Senior F'!B272","v":0},{"$f":"'Senior F'!H272","v":""},{"$f":"'Senior F'!I272","v":""},{"$f":"'Senior F'!A308","v":0},{"$f":"'Senior F'!B308","v":0},null,null,null,null,{"$f":"'Senior F'!I308","v":""},{"$f":"'Senior F'!H308","v":""},{"$f":"'Senior F'!A344","v":0},{"$f":"'Senior F'!B344","v":0},null,null,null,null,{"$f":"'Senior F'!I344","v":""},{"$f":"'Senior F'!H344","v":""}]
[null,{"$f":"'Senior F'!B273","v":0},null,null,null,{"$f":"'Senior F'!B309","v":0},null,null,null,null,null,null,null,{"$f":"'Senior F'!B345","v":0}]
[null,{"$f":"'Senior F'!B274","v":0},null,null,null,{"$f":"'Senior F'!B310","v":0},null,null,null,null,null,null,null,{"$f":"'Senior F'!B346","v":0}]
[null,{"$f":"'Senior F'!B275","v":0},null,null,null,{"$f":"'Senior F'!B311","v":0},null,null,null,null,null,null,null,{"$f":"'Senior F'!B347","v":0}]
[]
["Résultats - Relais Senior Homme"]
["Relais Medley",null,null,null,"Relais Obstacles",null,null,null,null,null,null,null,"Relais Portage mannequin"]
["Club","Nom","R","Pointage","Club","Nom",null,null,null,null,"Pointage","R","Club","Nom",null,null,null,null,"Pointage","R"]
[{"$f":"'Senior H'!A243","v":"Dam'eauclès"},{"$f":"'Senior H'!B243","v":"Charles Girouard"},{"$f":"'Senior H'!H243","v":3},{"$f":"'Senior H'!I243","v":16},{"$f":"'Senior H'!A279","v":"Dam'eauclès"},{"$f":"'Senior H'!B279","v":"Charles Girouard"},null,null,null,null,{"$f":"'Senior H'!I279","v":16},{"$f":"'Senior H'!H279","v":3},{"$f":"'Senior H'!A315","v":"30deux"},{"$f":"'Senior H'!B315","v":"Thomas Lavoie"},null,null,null,null,{"$f":"'Senior H'!I315","v":20},{"$f":"'Senior H'!H315","v":1}]
[null,{"$f":"'Senior H'!B244","v":"Julien Turgeon"},null,null,null,{"$f":"'Senior H'!B280","v":"Julien Turgeon"},null,null,null,null,null,null,null,{"$f":"'Senior H'!B316","v":"Marco Patriarco"}]
[null,{"$f":"'Senior H'!B245","v":"Jacob Rousson"},null,null,null,{"$f":"'Senior H'!B281","v":"Jacob Rousson"},null,null,null,null,null,null,null,{"$f":"'Senior H'!B317","v":"François Houle"}]
[null,{"$f":"'Senior H'!B246","v":"James Williamson"},null,null,null,{"$f":"'Senior H'!B282","v":"James Williamson"},null,null,null,null,null,null,null,{"$f":"'Senior H'!B318","v":"Maxime Chamberlant"}]
[{"$f":"'Senior H'!A247","v":"30deux"},{"$f":"'Senior H'!B247","v":"Thomas Lavoie"},{"$f":"'Senior H'!H247","v":1},{"$f":"'Senior H'!I247","v":20},{"$f":"'Senior H'!A283","v":"30deux"},{"$f":"'Senior H'!B283","v":"Thomas Lavoie"},null,null,null,null,{"$f":"'Senior H'!I283","v":20},{"$f":"'Senior H'!H283","v":1},{"$f":"'Senior H'!A319","v":"CSRN"},{"$f":"'Senior H'!B319","v":"Kamil Romdhani"},null,null,null,null,{"$f":"'Senior H'!I319","v":18},{"$f":"'Senior H'!H319","v":2}]
[null,{"$f":"'Senior H'!B248","v":"Marco Patriarco"},null,null,null,{"$f":"'Senior H'!B284","v":"Samuel Léversque"},null,null,null,null,null,null,null,{"$f":"'Senior H'!B320","v":"Ismael Chakir"}]
[null,{"$f":"'Senior H'!B249","v":"François Houle"},null,null,null,{"$f":"'Senior H'!B285","v":"François Houle"},null,null,null,null,null,null,null,{"$f":"'Senior H'!B321","v":"William Laurence"}]
[null,{"$f":"'Senior H'!B250","v":"Maxime Chamberlant"},null,null,null,{"$f":"'Senior H'!B286","v":"Maxime Chamberlant"},null,null,null,null,null,null,null,{"$f":"'Senior H'!B322","v":"Malik Romdhani"}]
[{"$f":"'Senior H'!A251","v":"CSRN"},{"$f":"'Senior H'!B251","v":"Kamil Romdhani"},{"$f":"'Senior H'!H251","v":2},{"$f":"'Senior H'!I251","v":18},{"$f":"'Senior H'!A287","v":"CSRN"},{"$f":"'Senior H'!B287","v":"Kamil Romdhani"},null,null,null,null,{"$f":"'Senior H'!I287","v":18},{"$f":"'Senior H'!H287","v":2},{"$f":"'Senior H'!A323","v":"Dam'eauclès"},{"$f":"'Senior H'!B323","v":"Charles Girouard"},null,null,null,null,{"$f":"'Senior H'!I323","v":16},{"$f":"'Senior H'!H323","v":3}]
[null,{"$f":"'Senior H'!B252","v":"Ismael Chakir"},null,null,null,{"$f":"'Senior H'!B288","v":"Ismael Chakir"},null,null,null,null,null,null,null,{"$f":"'Senior H'!B324","v":"Julien Turgeon"}]
[null,{"$f":"'Senior H'!B253","v":"William Laurence"},null,null,null,{"$f":"'Senior H'!B289","v":"William Laurence"},null,null,null,null,null,null,null,{"$f":"'Senior H'!B325","v":"Jacob Rousson"}]
[null,{"$f":"'Senior H'!B254","v":"Malik Romdhani"},null,null,null,{"$f":"'Senior H'!B290","v":"Malik Romdhani"},null,null,null,null,null,null,null,{"$f":"'Senior H'!B326","v":"James Williamson"}]
[{"$f":"'Senior H'!A255","v":0},{"$f":"'Senior H'!B255","v":0},{"$f":"'Senior H'!H255","v":""},{"$f":"'Senior H'!I255","v":""},{"$f":"'Senior H'!A291","v":0},{"$f":"'Senior H'!B291","v":0},null,null,null,null,{"$f":"'Senior H'!I291","v":""},{"$f":"'Senior H'!H291","v":""},{"$f":"'Senior H'!A327","v":0},{"$f":"'Senior H'!B327","v":0},null,null,null,null,{"$f":"'Senior H'!I327","v":""},{"$f":"'Senior H'!H327","v":""}]
[null,{"$f":"'Senior H'!B256","v":0},null,null,null,{"$f":"'Senior H'!B292","v":0},null,null,null,null,null,null,null,{"$f":"'Senior H'!B328","v":0}]
[null,{"$f":"'Senior H'!B257","v":0},null,null,null,{"$f":"'Senior H'!B293","v":0},null,null,null,null,null,null,null,{"$f":"'Senior H'!B329","v":0}]
[null,{"$f":"'Senior H'!B258","v":0},null,null,null,{"$f":"'Senior H'!B294","v":0},null,null,null,null,null,null,null,{"$f":"'Senior H'!B330","v":0}]
[{"$f":"'Senior H'!A259","v":0},{"$f":"'Senior H'!B259","v":0},{"$f":"'Senior H'!H259","v":""},{"$f":"'Senior H'!I259","v":""},{"$f":"'Senior H'!A295","v":0},{"$f":"'Senior H'!B295","v":0},null,null,null,null,{"$f":"'Senior H'!I295","v":""},{"$f":"'Senior H'!H295","v":""},{"$f":"'Senior H'!A331","v":0},{"$f":"'Senior H'!B331","v":0},null,null,null,null,{"$f":"'Senior H'!I331","v":""},{"$f":"'Senior H'!H331","v":""}]
[null,{"$f":"'Senior H'!B260","v":0},null,null,null,{"$f":"'Senior H'!B296","v":0},null,null,null,null,null,null,null,{"$f":"'Senior H'!B332","v":0}]
[null,{"$f":"'Senior H'!B261","v":0},null,null,null,{"$f":"'Senior H'!B297","v":0},null,null,null,null,null,null,null,{"$f":"'Senior H'!B333","v":0}]
[null,{"$f":"'Senior H'!B262","v":0},null,null,null,{"$f":"'Senior H'!B298","v":0},null,null,null,null,null,null,null,{"$f":"'Senior H'!B334","v":0}]
[{"$f":"'Senior H'!A263","v":0},{"$f":"'Senior H'!B263","v":0},{"$f":"'Senior H'!H263","v":""},{"$f":"'Senior H'!I263","v":""},{"$f":"'Senior H'!A299","v":0},{"$f":"'Senior H'!B299","v":0},null,null,null,null,{"$f":"'Senior H'!I299","v":""},{"$f":"'Senior H'!H299","v":""},{"$f":"'Senior H'!A335","v":0},{"$f":"'Senior H'!B335","v":0},null,null,null,null,{"$f":"'Senior H'!I335","v":""},{"$f":"'Senior H'!H335","v":""}]
[null,{"$f":"'Senior H'!B264","v":0},null,null,null,{"$f":"'Senior H'!B300","v":0},null,null,null,null,null,null,null,{"$f":"'Senior H'!B336","v":0}]
[null,{"$f":"'Senior H'!B265","v":0},null,null,null,{"$f":"'Senior H'!B301","v":0},null,null,null,null,null,null,null,{"$f":"'Senior H'!B337","v":0}]
[null,{"$f":"'Senior H'!B266","v":0},null,null,null,{"$f":"'Senior H'!B302","v":0},null,null,null,null,null,null,null,{"$f":"'Senior H'!B338","v":0}]
[{"$f":"'Senior H'!A267","v":0},{"$f":"'Senior H'!B267","v":0},{"$f":"'Senior H'!H267","v":""},{"$f":"'Senior H'!I267","v":""},{"$f":"'Senior H'!A303","v":0},{"$f":"'Senior H'!B303","v":0},null,null,null,null,{"$f":"'Senior H'!I303","v":""},{"$f":"'Senior H'!H303","v":""},{"$f":"'Senior H'!A339","v":0},{"$f":"'Senior H'!B339","v":0},null,null,null,null,{"$f":"'Senior H'!I339","v":""},{"$f":"'Senior H'!H339","v":""}]
[null,{"$f":"'Senior H'!B268","v":0},null,null,null,{"$f":"'Senior H'!B304","v":0},null,null,null,null,null,null,null,{"$f":"'Senior H'!B340","v":0}]
[null,{"$f":"'Senior H'!B269","v":0},null,null,null,{"$f":"'Senior H'!B305","v":0},null,null,null,null,null,null,null,{"$f":"'Senior H'!B341","v":0}]
[null,{"$f":"'Senior H'!B270","v":0},null,null,null,{"$f":"'Senior H'!B306","v":0},null,null,null,null,null,null,null,{"$f":"'Senior H'!B342","v":0}]
[{"$f":"'Senior H'!A271","v":0},{"$f":"'Senior H'!B271","v":0},{"$f":"'Senior H'!H271","v":""},{"$f":"'Senior H'!I271","v":""},{"$f":"'Senior H'!A307","v":0},{"$f":"'Senior H'!B307","v":0},null,null,null,null,{"$f":"'Senior H'!I307","v":""},{"$f":"'Senior H'!H307","v":""},{"$f":"'Senior H'!A343","v":0},{"$f":"'Senior H'!B343","v":0},null,null,null,null,{"$f":"'Senior H'!I343","v":""},{"$f":"'Senior H'!H343","v":""}]
[null,{"$f":"'Senior H'!B272","v":0},null,null,null,{"$f":"'Senior H'!B308","v":0},null,null,null,null,null,null,null,{"$f":"'Senior H'!B344","v":0}]
[null,{"$f":"'Senior H'!B273","v":0},null,null,null,{"$f":"'Senior H'!B309","v":0},null,null,null,null,null,null,null,{"$f":"'Senior H'!B345","v":0}]
[null,{"$f":"'Senior H'!B274","v":0},null,null,null,{"$f":"'Senior H'!B310","v":0},null,null,null,null,null,null,null,{"$f":"'Senior H'!B346","v":0}]
[]
["Résultats - Lancer de la corde"]
["Femme",null,null,null,"Homme"]
["Club","Nom","R","Pointage","Club","Nom",null,null,null,null,"Pointage","R"]
[{"$f":"'Senior F'!A5","v":"Caso"},{"$f":"'Senior F'!B5","v":"Émilie Boulerne"},{"$f":"'Senior F'!H5","v":2},{"$f":"'Senior F'!I5","v":18},{"$f":"'Senior H'!A5","v":"Dam'eauclès"},{"$f":"'Senior H'!B5","v":"Charles Girouard"},null,null,null,null,{"$f":"'Senior H'!I5","v":14},{"$f":"'Senior H'!H5","v":4}]
[null,{"$f":"'Senior F'!B6","v":"Laurence Lamarre"},null,null,null,{"$f":"'Senior H'!B6","v":"Julien Turgeon"}]
[{"$f":"'Senior F'!A7","v":"CAEM"},{"$f":"'Senior F'!B7","v":"Marie-Chantale Giroux"},{"$f":"'Senior F'!H7","v":"DNS"},{"$f":"'Senior F'!I7","v":"0"},{"$f":"'Senior H'!A7","v":"SSSL"},{"$f":"'Senior H'!B7","v":"Félix Labelle"},null,null,null,null,{"$f":"'Senior H'!I7","v":"0"},{"$f":"'Senior H'!H7","v":"DNF"}]
[null,{"$f":"'Senior F'!B8","v":"Audrey Desroches"},null,null,null,{"$f":"'Senior H'!B8","v":"Thomas Willame"}]
[{"$f":"'Senior F'!A9","v":"Dam'eauclès"},{"$f":"'Senior F'!B9","v":"Caroline Arcand "},{"$f":"'Senior F'!H9","v":6},{"$f":"'Senior F'!I9","v":12},{"$f":"'Senior H'!A9","v":"Rouville Surf"},{"$f":"'Senior H'!B9","v":"Miguel Jean"},null,null,null,null,{"$f":"'Senior H'!I9","v":16},{"$f":"'Senior H'!H9","v":3}]
[null,{"$f":"'Senior F'!B10","v":"Tamara Jacques"},null,null,null,{"$f":"'Senior H'!B10","v":"Dimitri Jean"}]
[{"$f":"'Senior F'!A11","v":"Rouville Surf"},{"$f":"'Senior F'!B11","v":"Marie-Hélène Paquette"},{"$f":"'Senior F'!H11","v":3},{"$f":"'Senior F'!I11","v":16},{"$f":"'Senior H'!A11","v":"30deux"},{"$f":"'Senior H'!B11","v":"Thomas Lavoie"},null,null,null,null,{"$f":"'Senior H'!I11","v":12},{"$f":"'Senior H'!H11","v":6}]
[null,{"$f":"'Senior F'!B12","v":"Claudine Courteau-Godmaire"},null,null,null,{"$f":"'Senior H'!B12","v":"Samuel Lévesque"}]
[{"$f":"'Senior F'!A13","v":"Rouville Surf"},{"$f":"'Senior F'!B13","v":"Mariama Keita"},{"$f":"'Senior F'!H13","v":"DNF"},{"$f":"'Senior F'!I13","v":"0"},{"$f":"'Senior H'!A13","v":"30deux"},{"$f":"'Senior H'!B13","v":"François Houle"},null,null,null,null,{"$f":"'Senior H'!I13","v":20},{"$f":"'Senior H'!H13","v":1}]
[null,{"$f":"'Senior F'!B14","v":"Gabrièle St-Georges"},null,null,null,{"$f":"'Senior H'!B14","v":"Maxime Chamberland"}]
[{"$f":"'Senior F'!A15","v":"30deux"},{"$f":"'Senior F'!B15","v":"Marie-Pier Anctil"},{"$f":"'Senior F'!H15","v":5},{"$f":"'Senior F'!I15","v":13},{"$f":"'Senior H'!A15","v":"CSRN"},{"$f":"'Senior H'!B15","v":"Ismael Chakir"},null,null,null,null,{"$f":"'Senior H'!I15","v":18},{"$f":"'Senior H'!H15","v":2}]
[null,{"$f":"'Senior F'!B16","v":"Emmanuelle Hudon"},null,null,null,{"$f":"'Senior H'!B16","v":"Kamil Romdhni"}]
[{"$f":"'Senior F'!A17","v":"30deux"},{"$f":"'Senior F'!B17","v":"Alexandra Ladouceur"},{"$f":"'Senior F'!H17","v":1},{"$f":"'Senior F'!I17","v":20},{"$f":"'Senior H'!A17","v":"Narval"},{"$f":"'Senior H'!B17","v":"Alex Tremblay"},null,null,null,null,{"$f":"'Senior H'!I17","v":"0"},{"$f":"'Senior H'!H17","v":"DNF"}]
[null,{"$f":"'Senior F'!B18","v":"Camille Gaudrealt"},null,null,null,{"$f":"'Senior H'!B18","v":"David Comeau"}]
[{"$f":"'Senior F'!A19","v":"30deux"},{"$f":"'Senior F'!B19","v":"Sarah-Laurence Morin"},{"$f":"'Senior F'!H19","v":"DNF"},{"$f":"'Senior F'!I19","v":"0"},{"$f":"'Senior H'!A19","v":"CSRN"},{"$f":"'Senior H'!B19","v":"Wiliam Laurence"},null,null,null,null,{"$f":"'Senior H'!I19","v":13},{"$f":"'Senior H'!H19","v":5}]
[null,{"$f":"'Senior F'!B20","v":"Noémie Desjardins"},null,null,null,{"$f":"'Senior H'!B20","v":"Jonathan St-Roch"}]
[{"$f":"'Senior F'!A21","v":"CSRN"},{"$f":"'Senior F'!B21","v":"Raphaëlle Tétreault"},{"$f":"'Senior F'!H21","v":4},{"$f":"'Senior F'!I21","v":14},{"$f":"'Senior H'!A21","v":0},{"$f":"'Senior H'!B21","v":0},null,null,null,null,{"$f":"'Senior H'!I21","v":""},{"$f":"'Senior H'!H21","v":""}]
[null,{"$f":"'Senior F'!B22","v":"Rosanne Trépanier"},null,null,null,{"$f":"'Senior H'!B22","v":0}]
[{"$f":"'Senior F'!A23","v":"SSSL"},{"$f":"'Senior F'!B23","v":"Célia Crivellaro Kingsbury"},{"$f":"'Senior F'!H23","v":"DNF"},{"$f":"'Senior F'!I23","v":"0"},{"$f":"'Senior H'!A23","v":0},{"$f":"'Senior H'!B23","v":0},null,null,null,null,{"$f":"'Senior H'!I23","v":""},{"$f":"'Senior H'!H23","v":""}]
[null,{"$f":"'Senior F'!B24","v":"Paula Loaiza"},null,null,null,{"$f":"'Senior H'!B24","v":0}]
[{"$f":"'Senior F'!A25","v":"Gatineau"},{"$f":"'Senior F'!B25","v":"Jessica Carrier"},{"$f":"'Senior F'!H25","v":"DNF"},{"$f":"'Senior F'!I25","v":"0"},{"$f":"'Senior H'!A25","v":0},{"$f":"'Senior H'!B25","v":0},null,null,null,null,{"$f":"'Senior H'!I25","v":""},{"$f":"'Senior H'!H25","v":""}]
[null,{"$f":"'Senior F'!B26","v":"Isabelle Carrier"},null,null,null,{"$f":"'Senior H'!B26","v":0}]
[{"$f":"'Senior F'!A27","v":0},{"$f":"'Senior F'!B27","v":0},{"$f":"'Senior F'!H27","v":""},{"$f":"'Senior F'!I27","v":""},{"$f":"'Senior H'!A27","v":0},{"$f":"'Senior H'!B27","v":0},null,null,null,null,{"$f":"'Senior H'!I27","v":""},{"$f":"'Senior H'!H27","v":""}]
[null,{"$f":"'Senior F'!B28","v":0},null,null,null,{"$f":"'Senior H'!B28","v":0}]
[{"$f":"'Senior F'!A29","v":0},{"$f":"'Senior F'!B29","v":0},{"$f":"'Senior F'!H29","v":""},{"$f":"'Senior F'!I29","v":""},{"$f":"'Senior H'!A29","v":0},{"$f":"'Senior H'!B29","v":0},null,null,null,null,{"$f":"'Senior H'!I29","v":""},{"$f":"'Senior H'!H29","v":""}]
[null,{"$f":"'Senior F'!B30","v":0},null,null,null,{"$f":"'Senior H'!B30","v":0}]
[{"$f":"'Senior F'!A31","v":0},{"$f":"'Senior F'!B31","v":0},{"$f":"'Senior F'!H31","v":""},{"$f":"'Senior F'!I31","v":""},{"$f":"'Senior H'!A31","v":0},{"$f":"'Senior H'!B31","v":0},null,null,null,null,{"$f":"'Senior H'!I31","v":""},{"$f":"'Senior H'!H31","v":""}]
[null,{"$f":"'Senior F'!B32","v":0},null,null,null,{"$f":"'Senior H'!B32","v":0}]
[{"$f":"'Senior F'!A33","v":0},{"$f":"'Senior F'!B33","v":0},{"$f":"'Senior F'!H33","v":""},{"$f":"'Senior F'!I33","v":""},{"$f":"'Senior H'!A33","v":0},{"$f":"'Senior H'!B33","v":0},null,null,null,null,{"$f":"'Senior H'!I33","v":""},{"$f":"'Senior H'!H33","v":""}]
[null,{"$f":"'Senior F'!B34","v":0},null,null,null,{"$f":"'Senior H'!B34","v":0}]

{"sheet":"Présentation","index":9,"n_rows":330,"n_cols":27,"rows_kept":330,"cut":false,"hidden":false,"merged":[[300,1,300,3],[300,4,300,6],[300,7,300,9],[300,10,300,12],[289,1,289,3],[289,4,289,6],[289,7,289,9],[289,10,289,12],[299,0,299,13],[256,10,256,12],[224,0,224,10],[225,0,225,4],[225,6,225,10],[226,0,226,3],[226,6,226,9],[244,0,244,13],[245,1,245,3],[245,4,245,6],[245,7,245,9],[245,10,245,12],[255,0,255,13],[104,19,104,23],[157,15,157,16],[191,0,191,1],[191,3,191,4],[191,6,191,7],[191,9,191,10],[191,12,191,13],[191,15,191,16],[157,0,157,1],[157,3,157,4],[157,6,157,7],[157,9,157,10],[157,12,157,13],[190,0,190,16],[190,19,190,23],[191,19,191,23],[310,12,310,14],[311,6,311,8],[311,12,311,14],[104,15,104,16],[70,0,70,1],[70,3,70,4],[70,6,70,7],[70,9,70,10],[104,0,104,1],[104,3,104,4],[104,6,104,7],[104,9,104,10],[104,12,104,13],[256,1,256,3],[256,4,256,6],[256,7,256,9],[2,0,2,1],[2,3,2,4],[310,0,310,2],[311,0,311,2],[310,6,310,8],[266,0,266,13],[267,1,267,3],[267,4,267,6],[267,7,267,9],[267,10,267,12],[277,0,277,13],[278,1,278,3],[278,4,278,6],[278,7,278,9],[278,10,278,12],[288,0,288,13],[70,19,70,23],[103,19,103,23],[103,0,103,16],[35,22,35,26],[36,22,36,26],[70,12,70,13],[70,15,70,16],[156,19,156,23],[157,19,157,23],[137,0,137,10],[138,0,138,4],[138,6,138,10],[139,0,139,3],[139,6,139,9],[156,0,156,16],[1,0,1,13],[35,0,35,19],[69,0,69,16],[2,6,2,7],[2,9,2,10],[2,12,2,13],[36,0,36,1],[36,3,36,4],[36,6,36,7],[36,9,36,10],[36,12,36,13],[36,15,36,16],[36,18,36,19],[1,16,1,20],[2,16,2,20],[69,19,69,23]]}
["Jeunes Sauveteurs :",null,null,"Seniors :",null,null,"Pentathlon :"]
["Résultats - 11 ans et -",null,null,null,null,null,null,null,null,null,null,null,null,null,null,null,"Pentathlon par athlètes"]
["Corde",null,null,"Remorquage",null,null,"Obstacle",null,null,"Portage  + palme",null,null,"Portage",null,null,null,"Jeunes Sauveteurs 11 ans et -"]
["Nom","R",null,"Nom","R",null,"Nom","R",null,"Nom","R",null,"Nom","R",null,null,"Club",null,"Nom","Points","R"]
[{"$f":"'11 ans et -'!B10","v":"Émilie Tessier"},{"$f":"'11 ans et -'!H10","v":""},null,{"$f":"'11 ans et -'!B53","v":"Zacharie Taillefer"},{"$f":"'11 ans et -'!H53","v":1},null,{"$f":"'11 ans et -'!B87","v":"Zacharie Taillefer"},{"$f":"'11 ans et -'!H87","v":1},null,{"$f":"'11 ans et -'!B117","v":"Justin Gauthier"},{"$f":"'11 ans et -'!H117","v":1},null,{"$f":"'11 ans et -'!B151","v":"Justin Gauthier"},{"$f":"'11 ans et -'!H151","v":1},null,null,{"$f":"'Déconte ATHL'!B17","v":"CASO"},null,{"$f":"'Déconte ATHL'!C17","v":"Zacharie Taillefer"},{"$f":"'Déconte ATHL'!I17","v":67},{"$f":"'Déconte ATHL'!J17","v":1}]
[{"$f":"'11 ans et -'!B5","v":"Missy Roy"},{"$f":"'11 ans et -'!H5","v":""},null,{"$f":"'11 ans et -'!B49","v":"Justin Gauthier"},{"$f":"'11 ans et -'!H49","v":2},null,{"$f":"'11 ans et -'!B78","v":"Émilie Tessier"},{"$f":"'11 ans et -'!H78","v":2},null,{"$f":"'11 ans et -'!B109","v":"Emmy Mastrovito"},{"$f":"'11 ans et -'!H109","v":2},null,{"$f":"'11 ans et -'!B143","v":"Emmy Mastrovito"},{"$f":"'11 ans et -'!H143","v":2},null,null,{"$f":"'Déconte ATHL'!B5","v":"CAEM"},null,{"$f":"'Déconte ATHL'!C5","v":"Emmy Mastrovito"},{"$f":"'Déconte ATHL'!I5","v":65},{"$f":"'Déconte ATHL'!J5","v":2}]
[{"$f":"'11 ans et -'!B6","v":"Étienne Roy"},{"$f":"'11 ans et -'!H6","v":""},null,{"$f":"'11 ans et -'!B41","v":"Emmy Mastrovito"},{"$f":"'11 ans et -'!H41","v":3},null,{"$f":"'11 ans et -'!B86","v":"GabriellePotvin"},{"$f":"'11 ans et -'!H86","v":3},null,{"$f":"'11 ans et -'!B108","v":"Étienne Roy"},{"$f":"'11 ans et -'!H108","v":3},null,{"$f":"'11 ans et -'!B146","v":"Émilie Tessier"},{"$f":"'11 ans et -'!H146","v":3},null,null,{"$f":"'Déconte ATHL'!B8","v":"30deux"},null,{"$f":"'Déconte ATHL'!C8","v":"Émilie Tessier"},{"$f":"'Déconte ATHL'!I8","v":59},{"$f":"'Déconte ATHL'!J8","v":3}]
[{"$f":"'11 ans et -'!B7","v":"Emmy Mastrovito"},{"$f":"'11 ans et -'!H7","v":""},null,{"$f":"'11 ans et -'!B44","v":"Émilie Tessier"},{"$f":"'11 ans et -'!H44","v":4},null,{"$f":"'11 ans et -'!B74","v":"Étienne Roy"},{"$f":"'11 ans et -'!H74","v":4},null,{"$f":"'11 ans et -'!B121","v":"Zacharie Taillefer"},{"$f":"'11 ans et -'!H121","v":4},null,{"$f":"'11 ans et -'!B142","v":"Étienne Roy"},{"$f":"'11 ans et -'!H142","v":4},null,null,{"$f":"'Déconte ATHL'!B13","v":"CSRN"},null,{"$f":"'Déconte ATHL'!C13","v":"Justin Gauthier"},{"$f":"'Déconte ATHL'!I13","v":58},{"$f":"'Déconte ATHL'!J13","v":4}]
[{"$f":"'11 ans et -'!B8","v":"Katherine Gaulin"},{"$f":"'11 ans et -'!H8","v":""},null,{"$f":"'11 ans et -'!B52","v":"GabriellePotvin"},{"$f":"'11 ans et -'!H52","v":5},null,{"$f":"'11 ans et -'!B75","v":"Emmy Mastrovito"},{"$f":"'11 ans et -'!H75","v":5},null,{"$f":"'11 ans et -'!B120","v":"GabriellePotvin"},{"$f":"'11 ans et -'!H120","v":5},null,{"$f":"'11 ans et -'!B155","v":"Zacharie Taillefer"},{"$f":"'11 ans et -'!H155","v":5},null,null,{"$f":"'Déconte ATHL'!B4","v":"CASO"},null,{"$f":"'Déconte ATHL'!C4","v":"Étienne Roy"},{"$f":"'Déconte ATHL'!I4","v":56},{"$f":"'Déconte ATHL'!J4","v":5}]
[{"$f":"'11 ans et -'!B9","v":"Théodore Turgeon"},{"$f":"'11 ans et -'!H9","v":""},null,{"$f":"'11 ans et -'!B40","v":"Étienne Roy"},{"$f":"'11 ans et -'!H40","v":6},null,{"$f":"'11 ans et -'!B85","v":"Andréanne Pichette"},{"$f":"'11 ans et -'!H85","v":6},null,{"$f":"'11 ans et -'!B107","v":"Missy Roy"},{"$f":"'11 ans et -'!H107","v":6},null,{"$f":"'11 ans et -'!B154","v":"GabriellePotvin"},{"$f":"'11 ans et -'!H154","v":6},null,null,{"$f":"'Déconte ATHL'!B16","v":"Narval"},null,{"$f":"'Déconte ATHL'!C16","v":"GabriellePotvin"},{"$f":"'Déconte ATHL'!I16","v":54},{"$f":"'Déconte ATHL'!J16","v":6}]
[{"$f":"'11 ans et -'!B11","v":"Ève-Marie Bell"},{"$f":"'11 ans et -'!H11","v":""},null,{"$f":"'11 ans et -'!B42","v":"Katherine Gaulin"},{"$f":"'11 ans et -'!H42","v":7},null,{"$f":"'11 ans et -'!B80","v":"Samya Chakir"},{"$f":"'11 ans et -'!H80","v":7},null,{"$f":"'11 ans et -'!B112","v":"Émilie Tessier"},{"$f":"'11 ans et -'!H112","v":7},null,{"$f":"'11 ans et -'!B153","v":"Andréanne Pichette"},{"$f":"'11 ans et -'!H153","v":7},null,null,{"$f":"'Déconte ATHL'!B3","v":"SSSL"},null,{"$f":"'Déconte ATHL'!C3","v":"Missy Roy"},{"$f":"'Déconte ATHL'!I3","v":40},{"$f":"'Déconte ATHL'!J3","v":7}]
[{"$f":"'11 ans et -'!B12","v":"Samya Chakir"},{"$f":"'11 ans et -'!H12","v":""},null,{"$f":"'11 ans et -'!B46","v":"Samya Chakir"},{"$f":"'11 ans et -'!H46","v":8},null,{"$f":"'11 ans et -'!B73","v":"Missy Roy"},{"$f":"'11 ans et -'!H73","v":8},null,{"$f":"'11 ans et -'!B114","v":"Samya Chakir"},{"$f":"'11 ans et -'!H114","v":8},null,{"$f":"'11 ans et -'!B141","v":"Missy Roy"},{"$f":"'11 ans et -'!H141","v":8},null,null,{"$f":"'Déconte ATHL'!B10","v":"CSRN"},null,{"$f":"'Déconte ATHL'!C10","v":"Samya Chakir"},{"$f":"'Déconte ATHL'!I10","v":38},{"$f":"'Déconte ATHL'!J10","v":8}]
[{"$f":"'11 ans et -'!B13","v":"Zoé Martin"},{"$f":"'11 ans et -'!H13","v":""},null,{"$f":"'11 ans et -'!B39","v":"Missy Roy"},{"$f":"'11 ans et -'!H39","v":9},null,{"$f":"'11 ans et -'!B79","v":"Ève-Marie Bell"},{"$f":"'11 ans et -'!H79","v":9},null,{"$f":"'11 ans et -'!B115","v":"Zoé Martin"},{"$f":"'11 ans et -'!H115","v":9},null,{"$f":"'11 ans et -'!B149","v":"Zoé Martin"},{"$f":"'11 ans et -'!H149","v":9},null,null,{"$f":"'Déconte ATHL'!B15","v":"Gatineau"},null,{"$f":"'Déconte ATHL'!C15","v":"Andréanne Pichette"},{"$f":"'Déconte ATHL'!I15","v":30},{"$f":"'Déconte ATHL'!J15","v":9}]
[{"$f":"'11 ans et -'!B14","v":"Gabriel Martin"},{"$f":"'11 ans et -'!H14","v":""},null,{"$f":"'11 ans et -'!B45","v":"Ève-Marie Bell"},{"$f":"'11 ans et -'!H45","v":10},null,{"$f":"'11 ans et -'!B77","v":"Théodore Turgeon"},{"$f":"'11 ans et -'!H77","v":10},null,{"$f":"'11 ans et -'!B110","v":"Katherine Gaulin"},{"$f":"'11 ans et -'!H110","v":10},null,{"$f":"'11 ans et -'!B148","v":"Samya Chakir"},{"$f":"'11 ans et -'!H148","v":10},null,null,{"$f":"'Déconte ATHL'!B6","v":"Dam'eauclès"},null,{"$f":"'Déconte ATHL'!C6","v":"Katherine Gaulin"},{"$f":"'Déconte ATHL'!I6","v":29},{"$f":"'Déconte ATHL'!J6","v":10}]
[{"$f":"'11 ans et -'!B15","v":"Justin Gauthier"},{"$f":"'11 ans et -'!H15","v":""},null,{"$f":"'11 ans et -'!B50","v":"Annabelle Rhéaume"},{"$f":"'11 ans et -'!H50","v":11},null,{"$f":"'11 ans et -'!B76","v":"Katherine Gaulin"},{"$f":"'11 ans et -'!H76","v":11},null,{"$f":"'11 ans et -'!B113","v":"Ève-Marie Bell"},{"$f":"'11 ans et -'!H113","v":11},null,{"$f":"'11 ans et -'!B147","v":"Ève-Marie Bell"},{"$f":"'11 ans et -'!H147","v":11},null,null,{"$f":"'Déconte ATHL'!B9","v":"30deux"},null,{"$f":"'Déconte ATHL'!C9","v":"Ève-Marie Bell"},{"$f":"'Déconte ATHL'!I9","v":27},{"$f":"'Déconte ATHL'!J9","v":11}]
[{"$f":"'11 ans et -'!B16","v":"Annabelle Rhéaume"},{"$f":"'11 ans et -'!H16","v":""},null,{"$f":"'11 ans et -'!B47","v":"Zoé Martin"},{"$f":"'11 ans et -'!H47","v":12},null,{"$f":"'11 ans et -'!B84","v":"Annabelle Rhéaume"},{"$f":"'11 ans et -'!H84","v":12},null,{"$f":"'11 ans et -'!B118","v":"Annabelle Rhéaume"},{"$f":"'11 ans et -'!H118","v":12},null,{"$f":"'11 ans et -'!B144","v":"Katherine Gaulin"},{"$f":"'11 ans et -'!H144","v":12},null,null,{"$f":"'Déconte ATHL'!B11","v":"CSRN"},null,{"$f":"'Déconte ATHL'!C11","v":"Zoé Martin"},{"$f":"'Déconte ATHL'!I11","v":25},{"$f":"'Déconte ATHL'!J11","v":12}]
[{"$f":"'11 ans et -'!B17","v":"Andréanne Pichette"},{"$f":"'11 ans et -'!H17","v":""},null,{"$f":"'11 ans et -'!B43","v":"Théodore Turgeon"},{"$f":"'11 ans et -'!H43","v":13},null,{"$f":"'11 ans et -'!B81","v":"Zoé Martin"},{"$f":"'11 ans et -'!H81","v":13},null,{"$f":"'11 ans et -'!B119","v":"Andréanne Pichette"},{"$f":"'11 ans et -'!H119","v":13},null,{"$f":"'11 ans et -'!B152","v":"Annabelle Rhéaume"},{"$f":"'11 ans et -'!H152","v":13},null,null,{"$f":"'Déconte ATHL'!B14","v":"CSRN"},null,{"$f":"'Déconte ATHL'!C14","v":"Annabelle Rhéaume"},{"$f":"'Déconte ATHL'!I14","v":20},{"$f":"'Déconte ATHL'!J14","v":13}]
[{"$f":"'11 ans et -'!B18","v":"GabriellePotvin"},{"$f":"'11 ans et -'!H18","v":""},null,{"$f":"'11 ans et -'!B51","v":"Andréanne Pichette"},{"$f":"'11 ans et -'!H51","v":14},null,{"$f":"'11 ans et -'!B82","v":"Gabriel Martin"},{"$f":"'11 ans et -'!H82","v":14},null,{"$f":"'11 ans et -'!B116","v":"Gabriel Martin"},{"$f":"'11 ans et -'!H116","v":14},null,{"$f":"'11 ans et -'!B145","v":"Théodore Turgeon"},{"$f":"'11 ans et -'!H145","v":14},null,null,{"$f":"'Déconte ATHL'!B7","v":"Dam'eauclès"},null,{"$f":"'Déconte ATHL'!C7","v":"Théodore Turgeon"},{"$f":"'Déconte ATHL'!I7","v":16},{"$f":"'Déconte ATHL'!J7","v":14}]
[{"$f":"'11 ans et -'!B19","v":"Zacharie Taillefer"},{"$f":"'11 ans et -'!H19","v":""},null,{"$f":"'11 ans et -'!B54","v":0},{"$f":"'11 ans et -'!H54","v":""},null,{"$f":"'11 ans et -'!B88","v":0},{"$f":"'11 ans et -'!H88","v":""},null,{"$f":"'11 ans et -'!B111","v":"Théodore Turgeon"},{"$f":"'11 ans et -'!H111","v":15},null,{"$f":"'11 ans et -'!B150","v":"Gabriel Martin"},{"$f":"'11 ans et -'!H150","v":15},null,null,{"$f":"'Déconte ATHL'!B12","v":"CSRN"},null,{"$f":"'Déconte ATHL'!C12","v":"Gabriel Martin"},{"$f":"'Déconte ATHL'!I12","v":8},{"$f":"'Déconte ATHL'!J12","v":15}]
[{"$f":"'11 ans et -'!B20","v":0},{"$f":"'11 ans et -'!H20","v":""},null,{"$f":"'11 ans et -'!B55","v":0},{"$f":"'11 ans et -'!H55","v":""},null,{"$f":"'11 ans et -'!B89","v":0},{"$f":"'11 ans et -'!H89","v":""},null,{"$f":"'11 ans et -'!B122","v":0},{"$f":"'11 ans et -'!H122","v":""},null,{"$f":"'11 ans et -'!B156","v":0},{"$f":"'11 ans et -'!H156","v":""},null,null,{"$f":"'Déconte ATHL'!B18","v":0},null,{"$f":"'Déconte ATHL'!C18","v":0},{"$f":"'Déconte ATHL'!I18","v":0},{"$f":"'Déconte ATHL'!J18","v":16}]
[{"$f":"'11 ans et -'!B21","v":0},{"$f":"'11 ans et -'!H21","v":""},null,{"$f":"'11 ans et -'!B56","v":0},{"$f":"'11 ans et -'!H56","v":""},null,{"$f":"'11 ans et -'!B90","v":0},{"$f":"'11 ans et -'!H90","v":""},null,{"$f":"'11 ans et -'!B123","v":0},{"$f":"'11 ans et -'!H123","v":""},null,{"$f":"'11 ans et -'!B157","v":0},{"$f":"'11 ans et -'!H157","v":""},null,null,{"$f":"'Déconte ATHL'!B19","v":0},null,{"$f":"'Déconte ATHL'!C19","v":0},{"$f":"'Déconte ATHL'!I19","v":0},{"$f":"'Déconte ATHL'!J19","v":16}]
[{"$f":"'11 ans et -'!B22","v":0},{"$f":"'11 ans et -'!H22","v":""},null,{"$f":"'11 ans et -'!B57","v":0},{"$f":"'11 ans et -'!H57","v":""},null,{"$f":"'11 ans et -'!B91","v":0},{"$f":"'11 ans et -'!H91","v":""},null,{"$f":"'11 ans et -'!B124","v":0},{"$f":"'11 ans et -'!H124","v":""},null,{"$f":"'11 ans et -'!B158","v":0},{"$f":"'11 ans et -'!H158","v":""},null,null,{"$f":"'Déconte ATHL'!B20","v":0},null,{"$f":"'Déconte ATHL'!C20","v":0},{"$f":"'Déconte ATHL'!I20","v":0},{"$f":"'Déconte ATHL'!J20","v":16}]
[{"$f":"'11 ans et -'!B23","v":0},{"$f":"'11 ans et -'!H23","v":""},null,{"$f":"'11 ans et -'!B58","v":0},{"$f":"'11 ans et -'!H58","v":""},null,{"$f":"'11 ans et -'!B92","v":0},{"$f":"'11 ans et -'!H92","v":""},null,{"$f":"'11 ans et -'!B125","v":0},{"$f":"'11 ans et -'!H125","v":""},null,{"$f":"'11 ans et -'!B159","v":0},{"$f":"'11 ans et -'!H159","v":""},null,null,{"$f":"'Déconte ATHL'!B21","v":0},null,{"$f":"'Déconte ATHL'!C21","v":0},{"$f":"'Déconte ATHL'!I21","v":0},{"$f":"'Déconte ATHL'!J21","v":16}]
[{"$f":"'11 ans et -'!B24","v":0},{"$f":"'11 ans et -'!H24","v":""},null,{"$f":"'11 ans et -'!B59","v":0},{"$f":"'11 ans et -'!H59","v":""},null,{"$f":"'11 ans et -'!B93","v":0},{"$f":"'11 ans et -'!H93","v":""},null,{"$f":"'11 ans et -'!B126","v":0},{"$f":"'11 ans et -'!H126","v":""},null,{"$f":"'11 ans et -'!B160","v":0},{"$f":"'11 ans et -'!H160","v":""},null,null,{"$f":"'Déconte ATHL'!B22","v":0},null,{"$f":"'Déconte ATHL'!C22","v":0},{"$f":"'Déconte ATHL'!I22","v":0},{"$f":"'Déconte ATHL'!J22","v":16}]
[{"$f":"'11 ans et -'!B25","v":0},{"$f":"'11 ans et -'!H25","v":""},null,{"$f":"'11 ans et -'!B60","v":0},{"$f":"'11 ans et -'!H60","v":""},null,{"$f":"'11 ans et -'!B94","v":0},{"$f":"'11 ans et -'!H94","v":""},null,{"$f":"'11 ans et -'!B127","v":0},{"$f":"'11 ans et -'!H127","v":""},null,{"$f":"'11 ans et -'!B161","v":0},{"$f":"'11 ans et -'!H161","v":""},null,null,{"$f":"'Déconte ATHL'!B23","v":0},null,{"$f":"'Déconte ATHL'!C23","v":0},{"$f":"'Déconte ATHL'!I23","v":0},{"$f":"'Déconte ATHL'!J23","v":16}]
[{"$f":"'11 ans et -'!B26","v":0},{"$f":"'11 ans et -'!H26","v":""},null,{"$f":"'11 ans et -'!B61","v":0},{"$f":"'11 ans et -'!H61","v":""},null,{"$f":"'11 ans et -'!B95","v":0},{"$f":"'11 ans et -'!H95","v":""},null,{"$f":"'11 ans et -'!B128","v":0},{"$f":"'11 ans et -'!H128","v":""},null,{"$f":"'11 ans et -'!B162","v":0},{"$f":"'11 ans et -'!H162","v":""},null,null,{"$f":"'Déconte ATHL'!B24","v":0},null,{"$f":"'Déconte ATHL'!C24","v":0},{"$f":"'Déconte ATHL'!I24","v":0},{"$f":"'Déconte ATHL'!J24","v":16}]
[{"$f":"'11 ans et -'!B27","v":0},{"$f":"'11 ans et -'!H27","v":""},null,{"$f":"'11 ans et -'!B62","v":0},{"$f":"'11 ans et -'!H62","v":""},null,{"$f":"'11 ans et -'!B96","v":0},{"$f":"'11 ans et -'!H96","v":""},null,{"$f":"'11 ans et -'!B129","v":0},{"$f":"'11 ans et -'!H129","v":""},null,{"$f":"'11 ans et -'!B163","v":0},{"$f":"'11 ans et -'!H163","v":""},null,null,{"$f":"'Déconte ATHL'!B25","v":0},null,{"$f":"'Déconte ATHL'!C25","v":0},{"$f":"'Déconte ATHL'!I25","v":0},{"$f":"'Déconte ATHL'!J25","v":16}]
[{"$f":"'11 ans et -'!B28","v":0},{"$f":"'11 ans et -'!H28","v":""},null,{"$f":"'11 ans et -'!B63","v":0},{"$f":"'11 ans et -'!H63","v":""},null,{"$f":"'11 ans et -'!B97","v":0},{"$f":"'11 ans et -'!H97","v":""},null,{"$f":"'11 ans et -'!B130","v":0},{"$f":"'11 ans et -'!H130","v":""},null,{"$f":"'11 ans et -'!B164","v":0},{"$f":"'11 ans et -'!H164","v":""},null,null,{"$f":"'Déconte ATHL'!B26","v":0},null,{"$f":"'Déconte ATHL'!C26","v":0},{"$f":"'Déconte ATHL'!I26","v":0},{"$f":"'Déconte ATHL'!J26","v":16}]
[{"$f":"'11 ans et -'!B29","v":0},{"$f":"'11 ans et -'!H29","v":""},null,{"$f":"'11 ans et -'!B64","v":0},{"$f":"'11 ans et -'!H64","v":""},null,{"$f":"'11 ans et -'!B98","v":0},{"$f":"'11 ans et -'!H98","v":""},null,{"$f":"'11 ans et -'!B131","v":0},{"$f":"'11 ans et -'!H131","v":""},null,{"$f":"'11 ans et -'!B165","v":0},{"$f":"'11 ans et -'!H165","v":""},null,null,{"$f":"'Déconte ATHL'!B27","v":0},null,{"$f":"'Déconte ATHL'!C27","v":0},{"$f":"'Déconte ATHL'!I27","v":0},{"$f":"'Déconte ATHL'!J27","v":16}]
[{"$f":"'11 ans et -'!B30","v":0},{"$f":"'11 ans et -'!H30","v":""},null,{"$f":"'11 ans et -'!B65","v":0},{"$f":"'11 ans et -'!H65","v":""},null,{"$f":"'11 ans et -'!B99","v":0},{"$f":"'11 ans et -'!H99","v":""},null,{"$f":"'11 ans et -'!B132","v":0},{"$f":"'11 ans et -'!H132","v":""},null,{"$f":"'11 ans et -'!B166","v":0},{"$f":"'11 ans et -'!H166","v":""},null,null,{"$f":"'Déconte ATHL'!B28","v":0},null,{"$f":"'Déconte ATHL'!C28","v":0},{"$f":"'Déconte ATHL'!I28","v":0},{"$f":"'Déconte ATHL'!J28","v":16}]
[{"$f":"'11 ans et -'!B31","v":0},{"$f":"'11 ans et -'!H31","v":""},null,{"$f":"'11 ans et -'!B66","v":0},{"$f":"'11 ans et -'!H66","v":""},null,{"$f":"'11 ans et -'!B100","v":0},{"$f":"'11 ans et -'!H100","v":""},null,{"$f":"'11 ans et -'!B133","v":0},{"$f":"'11 ans et -'!H133","v":""},null,{"$f":"'11 ans et -'!B167","v":0},{"$f":"'11 ans et -'!H167","v":""},null,null,{"$f":"'Déconte ATHL'!B29","v":0},null,{"$f":"'Déconte ATHL'!C29","v":0},{"$f":"'Déconte ATHL'!I29","v":0},{"$f":"'Déconte ATHL'!J29","v":16}]
[{"$f":"'11 ans et -'!B32","v":0},{"$f":"'11 ans et -'!H32","v":""},null,{"$f":"'11 ans et -'!B67","v":0},{"$f":"'11 ans et -'!H67","v":""},null,{"$f":"'11 ans et -'!B101","v":0},{"$f":"'11 ans et -'!H101","v":""},null,{"$f":"'11 ans et -'!B134","v":0},{"$f":"'11 ans et -'!H134","v":""},null,{"$f":"'11 ans et -'!B168","v":0},{"$f":"'11 ans et -'!H168","v":""},null,null,{"$f":"'Déconte ATHL'!B30","v":0},null,{"$f":"'Déconte ATHL'!C30","v":0},{"$f":"'Déconte ATHL'!I30","v":0},{"$f":"'Déconte ATHL'!J30","v":16}]
[{"$f":"'11 ans et -'!B33","v":0},{"$f":"'11 ans et -'!H33","v":""},null,{"$f":"'11 ans et -'!B68","v":0},{"$f":"'11 ans et -'!H68","v":""},null,{"$f":"'11 ans et -'!B102","v":0},{"$f":"'11 ans et -'!H102","v":""},null,{"$f":"'11 ans et -'!B135","v":0},{"$f":"'11 ans et -'!H135","v":""},null,{"$f":"'11 ans et -'!B169","v":0},{"$f":"'11 ans et -'!H169","v":""},null,null,{"$f":"'Déconte ATHL'!B31","v":0},null,{"$f":"'Déconte ATHL'!C31","v":0},{"$f":"'Déconte ATHL'!I31","v":0},{"$f":"'Déconte ATHL'!J31","v":16}]
[{"$f":"'11 ans et -'!B34","v":0},{"$f":"'11 ans et -'!H34","v":""},null,{"$f":"'11 ans et -'!B48","v":"Gabriel Martin"},{"$f":"'11 ans et -'!H48","v":"DQ"},null,{"$f":"'11 ans et -'!B83","v":"Justin Gauthier"},{"$f":"'11 ans et -'!H83","v":"DQ"},null,{"$f":"'11 ans et -'!B136","v":0},{"$f":"'11 ans et -'!H136","v":""},null,{"$f":"'11 ans et -'!B170","v":0},{"$f":"'11 ans et -'!H170","v":""},null,null,{"$f":"'Déconte ATHL'!B32","v":0},null,{"$f":"'Déconte ATHL'!C32","v":0},{"$f":"'Déconte ATHL'!I32","v":0},{"$f":"'Déconte ATHL'!J32","v":16}]
[]
["Résultats - 12 - 13 ans",null,null,null,null,null,null,null,null,null,null,null,null,null,null,null,null,null,null,null,null,null,"Pentathlon par athlètes"]
["Corde",null,null,"Remorquage",null,null,"Obstacle",null,null,"Portage  + palme",null,null,"Portage",null,null,"Sauveteur d'acier",null,null,"Medley sauvetage",null,null,null,"Jeunes Sauveteurs 12 - 13 ans"]
["Nom","R",null,"Nom","R",null,"Nom","R",null,"Nom","R",null,"Nom","R",null,"Nom","R",null,"Nom","R",null,null,"Club",null,"Nom","Points","R"]
[{"$f":"'12 - 13 ans'!B17","v":"Léony Gobeil"},{"$f":"'12 - 13 ans'!H17","v":""},null,{"$f":"'12 - 13 ans'!B40","v":"Ariane St-Denis"},{"$f":"'12 - 13 ans'!H40","v":1},null,{"$f":"'12 - 13 ans'!B78","v":"Thomas Martin"},{"$f":"'12 - 13 ans'!H78","v":1},null,{"$f":"'12 - 13 ans'!B112","v":"Thomas Martin"},{"$f":"'12 - 13 ans'!H112","v":1},null,{"$f":"'12 - 13 ans'!B146","v":"Thomas Martin"},{"$f":"'12 - 13 ans'!H146","v":1},null,{"$f":"'12 - 13 ans'!B176","v":"Ariane St-Denis"},{"$f":"'12 - 13 ans'!H176","v":1},null,{"$f":"'12 - 13 ans'!B209","v":"Sybel Roy"},{"$f":"'12 - 13 ans'!H209","v":""},null,null,{"$f":"'Déconte ATHL'!B38","v":"CSRN"},null,{"$f":"'Déconte ATHL'!C38","v":"Thomas Martin"},{"$f":"'Déconte ATHL'!R38","v":96},{"$f":"'Déconte ATHL'!S38","v":1}]
[{"$f":"'12 - 13 ans'!B16","v":"Joelle Gauthier-Drapeau"},{"$f":"'12 - 13 ans'!H16","v":""},null,{"$f":"'12 - 13 ans'!B44","v":"Thomas Martin"},{"$f":"'12 - 13 ans'!H44","v":2},null,{"$f":"'12 - 13 ans'!B76","v":"Malory Boisclair"},{"$f":"'12 - 13 ans'!H76","v":2},null,{"$f":"'12 - 13 ans'!B110","v":"Malory Boisclair"},{"$f":"'12 - 13 ans'!H110","v":2},null,{"$f":"'12 - 13 ans'!B144","v":"Malory Boisclair"},{"$f":"'12 - 13 ans'!H144","v":2},null,{"$f":"'12 - 13 ans'!B180","v":"Thomas Martin"},{"$f":"'12 - 13 ans'!H180","v":2},null,{"$f":"'12 - 13 ans'!B210","v":"Ariane St-Denis"},{"$f":"'12 - 13 ans'!H210","v":""},null,null,{"$f":"'Déconte ATHL'!B34","v":"CAEM"},null,{"$f":"'Déconte ATHL'!C34","v":"Ariane St-Denis"},{"$f":"'Déconte ATHL'!R34","v":81},{"$f":"'Déconte ATHL'!S34","v":2}]
[{"$f":"'12 - 13 ans'!B15","v":"Marianne Caplette"},{"$f":"'12 - 13 ans'!H15","v":""},null,{"$f":"'12 - 13 ans'!B43","v":"Ariane Trudel"},{"$f":"'12 - 13 ans'!H43","v":3},null,{"$f":"'12 - 13 ans'!B85","v":"Léony Gobeil"},{"$f":"'12 - 13 ans'!H85","v":3},null,{"$f":"'12 - 13 ans'!B111","v":"Ariane Trudel"},{"$f":"'12 - 13 ans'!H111","v":3},null,{"$f":"'12 - 13 ans'!B153","v":"Léony Gobeil"},{"$f":"'12 - 13 ans'!H153","v":3},null,{"$f":"'12 - 13 ans'!B179","v":"Ariane Trudel"},{"$f":"'12 - 13 ans'!H179","v":3},null,{"$f":"'12 - 13 ans'!B211","v":"Émile Turgeon"},{"$f":"'12 - 13 ans'!H211","v":""},null,null,{"$f":"'Déconte ATHL'!B37","v":"30deux"},null,{"$f":"'Déconte ATHL'!C37","v":"Ariane Trudel"},{"$f":"'Déconte ATHL'!R37","v":75},{"$f":"'Déconte ATHL'!S37","v":3}]
[{"$f":"'12 - 13 ans'!B14","v":"Justin Pichette"},{"$f":"'12 - 13 ans'!H14","v":""},null,{"$f":"'12 - 13 ans'!B51","v":"Léony Gobeil"},{"$f":"'12 - 13 ans'!H51","v":4},null,{"$f":"'12 - 13 ans'!B74","v":"Ariane St-Denis"},{"$f":"'12 - 13 ans'!H74","v":4},null,{"$f":"'12 - 13 ans'!B108","v":"Ariane St-Denis"},{"$f":"'12 - 13 ans'!H108","v":4},null,{"$f":"'12 - 13 ans'!B145","v":"Ariane Trudel"},{"$f":"'12 - 13 ans'!H145","v":4},null,{"$f":"'12 - 13 ans'!B187","v":"Léony Gobeil"},{"$f":"'12 - 13 ans'!H187","v":4},null,{"$f":"'12 - 13 ans'!B212","v":"Malory Boisclair"},{"$f":"'12 - 13 ans'!H212","v":""},null,null,{"$f":"'Déconte ATHL'!B45","v":"Narval"},null,{"$f":"'Déconte ATHL'!C45","v":"Léony Gobeil"},{"$f":"'Déconte ATHL'!R45","v":73},{"$f":"'Déconte ATHL'!S45","v":4}]
[{"$f":"'12 - 13 ans'!B13","v":"Justin Gauthier"},{"$f":"'12 - 13 ans'!H13","v":""},null,{"$f":"'12 - 13 ans'!B42","v":"Malory Boisclair"},{"$f":"'12 - 13 ans'!H42","v":5},null,{"$f":"'12 - 13 ans'!B77","v":"Ariane Trudel"},{"$f":"'12 - 13 ans'!H77","v":5},null,{"$f":"'12 - 13 ans'!B119","v":"Léony Gobeil"},{"$f":"'12 - 13 ans'!H119","v":5},null,{"$f":"'12 - 13 ans'!B142","v":"Ariane St-Denis"},{"$f":"'12 - 13 ans'!H142","v":5},null,{"$f":"'12 - 13 ans'!B182","v":"Eugénie Tétreault"},{"$f":"'12 - 13 ans'!H182","v":5},null,{"$f":"'12 - 13 ans'!B213","v":"Ariane Trudel"},{"$f":"'12 - 13 ans'!H213","v":""},null,null,{"$f":"'Déconte ATHL'!B36","v":"CSRAD"},null,{"$f":"'Déconte ATHL'!C36","v":"Malory Boisclair"},{"$f":"'Déconte ATHL'!R36","v":67},{"$f":"'Déconte ATHL'!S36","v":5}]
[{"$f":"'12 - 13 ans'!B12","v":"Eugénie Tétreault"},{"$f":"'12 - 13 ans'!H12","v":""},null,{"$f":"'12 - 13 ans'!B39","v":"Sybel Roy"},{"$f":"'12 - 13 ans'!H39","v":6},null,{"$f":"'12 - 13 ans'!B75","v":"Émile Turgeon"},{"$f":"'12 - 13 ans'!H75","v":6},null,{"$f":"'12 - 13 ans'!B109","v":"Émile Turgeon"},{"$f":"'12 - 13 ans'!H109","v":6},null,{"$f":"'12 - 13 ans'!B141","v":"Sybel Roy"},{"$f":"'12 - 13 ans'!H141","v":6},null,{"$f":"'12 - 13 ans'!B175","v":"Sybel Roy"},{"$f":"'12 - 13 ans'!H175","v":6},null,{"$f":"'12 - 13 ans'!B214","v":"Thomas Martin"},{"$f":"'12 - 13 ans'!H214","v":""},null,null,{"$f":"'Déconte ATHL'!B33","v":"SSSL"},null,{"$f":"'Déconte ATHL'!C33","v":"Sybel Roy"},{"$f":"'Déconte ATHL'!R33","v":59},{"$f":"'Déconte ATHL'!S33","v":6}]
[{"$f":"'12 - 13 ans'!B11","v":"Maxime Laurence"},{"$f":"'12 - 13 ans'!H11","v":""},null,{"$f":"'12 - 13 ans'!B45","v":"Maxime Laurence"},{"$f":"'12 - 13 ans'!H45","v":7},null,{"$f":"'12 - 13 ans'!B73","v":"Sybel Roy"},{"$f":"'12 - 13 ans'!H73","v":6},null,{"$f":"'12 - 13 ans'!B107","v":"Sybel Roy"},{"$f":"'12 - 13 ans'!H107","v":7},null,{"$f":"'12 - 13 ans'!B148","v":"Eugénie Tétreault"},{"$f":"'12 - 13 ans'!H148","v":7},null,{"$f":"'12 - 13 ans'!B177","v":"Émile Turgeon"},{"$f":"'12 - 13 ans'!H177","v":7},null,{"$f":"'12 - 13 ans'!B215","v":"Maxime Laurence"},{"$f":"'12 - 13 ans'!H215","v":""},null,null,{"$f":"'Déconte ATHL'!B40","v":"CSRN"},null,{"$f":"'Déconte ATHL'!C40","v":"Eugénie Tétreault"},{"$f":"'Déconte ATHL'!R40","v":54},{"$f":"'Déconte ATHL'!S40","v":7}]
[{"$f":"'12 - 13 ans'!B10","v":"Thomas Martin"},{"$f":"'12 - 13 ans'!H10","v":""},null,{"$f":"'12 - 13 ans'!B46","v":"Eugénie Tétreault"},{"$f":"'12 - 13 ans'!H46","v":8},null,{"$f":"'12 - 13 ans'!B80","v":"Eugénie Tétreault"},{"$f":"'12 - 13 ans'!H80","v":6},null,{"$f":"'12 - 13 ans'!B118","v":"Joelle Gauthier-Drapeau"},{"$f":"'12 - 13 ans'!H118","v":8},null,{"$f":"'12 - 13 ans'!B143","v":"Émile Turgeon"},{"$f":"'12 - 13 ans'!H143","v":8},null,{"$f":"'12 - 13 ans'!B186","v":"Joelle Gauthier-Drapeau"},{"$f":"'12 - 13 ans'!H186","v":8},null,{"$f":"'12 - 13 ans'!B216","v":"Eugénie Tétreault"},{"$f":"'12 - 13 ans'!H216","v":""},null,null,{"$f":"'Déconte ATHL'!B35","v":"Dam'eauclès"},null,{"$f":"'Déconte ATHL'!C35","v":"Émile Turgeon"},{"$f":"'Déconte ATHL'!R35","v":52},{"$f":"'Déconte ATHL'!S35","v":8}]
[{"$f":"'12 - 13 ans'!B9","v":"Ariane Trudel"},{"$f":"'12 - 13 ans'!H9","v":""},null,{"$f":"'12 - 13 ans'!B50","v":"Joelle Gauthier-Drapeau"},{"$f":"'12 - 13 ans'!H50","v":9},null,{"$f":"'12 - 13 ans'!B84","v":"Joelle Gauthier-Drapeau"},{"$f":"'12 - 13 ans'!H84","v":9},null,{"$f":"'12 - 13 ans'!B114","v":"Eugénie Tétreault"},{"$f":"'12 - 13 ans'!H114","v":9},null,{"$f":"'12 - 13 ans'!B152","v":"Joelle Gauthier-Drapeau"},{"$f":"'12 - 13 ans'!H152","v":9},null,{"$f":"'12 - 13 ans'!B190","v":0},{"$f":"'12 - 13 ans'!H190","v":""},null,{"$f":"'12 - 13 ans'!B217","v":"Justin Gauthier"},{"$f":"'12 - 13 ans'!H217","v":""},null,null,{"$f":"'Déconte ATHL'!B44","v":"Narval"},null,{"$f":"'Déconte ATHL'!C44","v":"Joelle Gauthier-Drapeau"},{"$f":"'Déconte ATHL'!R44","v":44},{"$f":"'Déconte ATHL'!S44","v":9}]
[{"$f":"'12 - 13 ans'!B8","v":"Malory Boisclair"},{"$f":"'12 - 13 ans'!H8","v":""},null,{"$f":"'12 - 13 ans'!B41","v":"Émile Turgeon"},{"$f":"'12 - 13 ans'!H41","v":10},null,{"$f":"'12 - 13 ans'!B83","v":"Marianne Caplette"},{"$f":"'12 - 13 ans'!H83","v":10},null,{"$f":"'12 - 13 ans'!B113","v":"Maxime Laurence"},{"$f":"'12 - 13 ans'!H113","v":10},null,{"$f":"'12 - 13 ans'!B150","v":"Justin Pichette"},{"$f":"'12 - 13 ans'!H150","v":10},null,{"$f":"'12 - 13 ans'!B194","v":0},{"$f":"'12 - 13 ans'!H194","v":""},null,{"$f":"'12 - 13 ans'!B218","v":"Justin Pichette"},{"$f":"'12 - 13 ans'!H218","v":""},null,null,{"$f":"'Déconte ATHL'!B42","v":"Gatineau"},null,{"$f":"'Déconte ATHL'!C42","v":"Justin Pichette"},{"$f":"'Déconte ATHL'!R42","v":24},{"$f":"'Déconte ATHL'!S42","v":10}]
[{"$f":"'12 - 13 ans'!B7","v":"Émile Turgeon"},{"$f":"'12 - 13 ans'!H7","v":""},null,{"$f":"'12 - 13 ans'!B48","v":"Justin Pichette"},{"$f":"'12 - 13 ans'!H48","v":11},null,{"$f":"'12 - 13 ans'!B82","v":"Justin Pichette"},{"$f":"'12 - 13 ans'!H82","v":11},null,{"$f":"'12 - 13 ans'!B117","v":"Marianne Caplette"},{"$f":"'12 - 13 ans'!H117","v":11},null,{"$f":"'12 - 13 ans'!B158","v":0},{"$f":"'12 - 13 ans'!H158","v":""},null,{"$f":"'12 - 13 ans'!B195","v":0},{"$f":"'12 - 13 ans'!H195","v":""},null,{"$f":"'12 - 13 ans'!B219","v":"Marianne Caplette"},{"$f":"'12 - 13 ans'!H219","v":""},null,null,{"$f":"'Déconte ATHL'!B43","v":"Gatineau"},null,{"$f":"'Déconte ATHL'!C43","v":"Marianne Caplette"},{"$f":"'Déconte ATHL'!R43","v":18},{"$f":"'Déconte ATHL'!S43","v":11}]
[{"$f":"'12 - 13 ans'!B6","v":"Ariane St-Denis"},{"$f":"'12 - 13 ans'!H6","v":""},null,{"$f":"'12 - 13 ans'!B49","v":"Marianne Caplette"},{"$f":"'12 - 13 ans'!H49","v":12},null,{"$f":"'12 - 13 ans'!B88","v":0},{"$f":"'12 - 13 ans'!H88","v":""},null,{"$f":"'12 - 13 ans'!B116","v":"Justin Pichette"},{"$f":"'12 - 13 ans'!H116","v":12},null,{"$f":"'12 - 13 ans'!B156","v":0},{"$f":"'12 - 13 ans'!H156","v":""},null,{"$f":"'12 - 13 ans'!B196","v":0},{"$f":"'12 - 13 ans'!H196","v":""},null,{"$f":"'12 - 13 ans'!B220","v":"Joelle Gauthier-Drapeau"},{"$f":"'12 - 13 ans'!H220","v":""},null,null,{"$f":"'Déconte ATHL'!B39","v":"CSRN"},null,{"$f":"'Déconte ATHL'!C39","v":"Maxime Laurence"},{"$f":"'Déconte ATHL'!R39","v":18},{"$f":"'Déconte ATHL'!S39","v":11}]
[{"$f":"'12 - 13 ans'!B5","v":"Sybel Roy"},{"$f":"'12 - 13 ans'!H5","v":""},null,{"$f":"'12 - 13 ans'!B54","v":0},{"$f":"'12 - 13 ans'!H54","v":""},null,{"$f":"'12 - 13 ans'!B92","v":0},{"$f":"'12 - 13 ans'!H92","v":""},null,{"$f":"'12 - 13 ans'!B122","v":0},{"$f":"'12 - 13 ans'!H122","v":""},null,{"$f":"'12 - 13 ans'!B160","v":0},{"$f":"'12 - 13 ans'!H160","v":""},null,{"$f":"'12 - 13 ans'!B197","v":0},{"$f":"'12 - 13 ans'!H197","v":""},null,{"$f":"'12 - 13 ans'!B221","v":"Léony Gobeil"},{"$f":"'12 - 13 ans'!H221","v":""},null,null,{"$f":"'Déconte ATHL'!B41","v":"CSRN"},null,{"$f":"'Déconte ATHL'!C41","v":"Justin Gauthier"},{"$f":"'Déconte ATHL'!R41","v":0},{"$f":"'Déconte ATHL'!S41","v":13}]
[{"$f":"'12 - 13 ans'!B22","v":0},{"$f":"'12 - 13 ans'!H22","v":""},null,{"$f":"'12 - 13 ans'!B56","v":0},{"$f":"'12 - 13 ans'!H56","v":""},null,{"$f":"'12 - 13 ans'!B93","v":0},{"$f":"'12 - 13 ans'!H93","v":""},null,{"$f":"'12 - 13 ans'!B124","v":0},{"$f":"'12 - 13 ans'!H124","v":""},null,{"$f":"'12 - 13 ans'!B161","v":0},{"$f":"'12 - 13 ans'!H161","v":""},null,{"$f":"'12 - 13 ans'!B198","v":0},{"$f":"'12 - 13 ans'!H198","v":""},null,{"$f":"'12 - 13 ans'!B222","v":0},{"$f":"'12 - 13 ans'!H222","v":""},null,null,{"$f":"'Déconte ATHL'!B48","v":0},null,{"$f":"'Déconte ATHL'!C48","v":0},{"$f":"'Déconte ATHL'!R48","v":0},{"$f":"'Déconte ATHL'!S48","v":13}]
[{"$f":"'12 - 13 ans'!B20","v":0},{"$f":"'12 - 13 ans'!H20","v":""},null,{"$f":"'12 - 13 ans'!B58","v":0},{"$f":"'12 - 13 ans'!H58","v":""},null,{"$f":"'12 - 13 ans'!B94","v":0},{"$f":"'12 - 13 ans'!H94","v":""},null,{"$f":"'12 - 13 ans'!B126","v":0},{"$f":"'12 - 13 ans'!H126","v":""},null,{"$f":"'12 - 13 ans'!B162","v":0},{"$f":"'12 - 13 ans'!H162","v":""},null,{"$f":"'12 - 13 ans'!B199","v":0},{"$f":"'12 - 13 ans'!H199","v":""},null,{"$f":"'12 - 13 ans'!B223","v":0},{"$f":"'12 - 13 ans'!H223","v":""},null,null,{"$f":"'Déconte ATHL'!B50","v":0},null,{"$f":"'Déconte ATHL'!C50","v":0},{"$f":"'Déconte ATHL'!R50","v":0},{"$f":"'Déconte ATHL'!S50","v":13}]
[{"$f":"'12 - 13 ans'!B24","v":0},{"$f":"'12 - 13 ans'!H24","v":""},null,{"$f":"'12 - 13 ans'!B59","v":0},{"$f":"'12 - 13 ans'!H59","v":""},null,{"$f":"'12 - 13 ans'!B95","v":0},{"$f":"'12 - 13 ans'!H95","v":""},null,{"$f":"'12 - 13 ans'!B127","v":0},{"$f":"'12 - 13 ans'!H127","v":""},null,{"$f":"'12 - 13 ans'!B163","v":0},{"$f":"'12 - 13 ans'!H163","v":""},null,{"$f":"'12 - 13 ans'!B200","v":0},{"$f":"'12 - 13 ans'!H200","v":""},null,{"$f":"'12 - 13 ans'!B224","v":0},{"$f":"'12 - 13 ans'!H224","v":""},null,null,{"$f":"'Déconte ATHL'!B46","v":0},null,{"$f":"'Déconte ATHL'!C46","v":0},{"$f":"'Déconte ATHL'!R46","v":0},{"$f":"'Déconte ATHL'!S46","v":13}]
[{"$f":"'12 - 13 ans'!B25","v":0},{"$f":"'12 - 13 ans'!H25","v":""},null,{"$f":"'12 - 13 ans'!B60","v":0},{"$f":"'12 - 13 ans'!H60","v":""},null,{"$f":"'12 - 13 ans'!B96","v":0},{"$f":"'12 - 13 ans'!H96","v":""},null,{"$f":"'12 - 13 ans'!B128","v":0},{"$f":"'12 - 13 ans'!H128","v":""},null,{"$f":"'12 - 13 ans'!B164","v":0},{"$f":"'12 - 13 ans'!H164","v":""},null,{"$f":"'12 - 13 ans'!B201","v":0},{"$f":"'12 - 13 ans'!H201","v":""},null,{"$f":"'12 - 13 ans'!B225","v":0},{"$f":"'12 - 13 ans'!H225","v":""},null,null,{"$f":"'Déconte ATHL'!B47","v":0},null,{"$f":"'Déconte ATHL'!C47","v":0},{"$f":"'Déconte ATHL'!R47","v":0},{"$f":"'Déconte ATHL'!S47","v":13}]
[{"$f":"'12 - 13 ans'!B26","v":0},{"$f":"'12 - 13 ans'!H26","v":""},null,{"$f":"'12 - 13 ans'!B61","v":0},{"$f":"'12 - 13 ans'!H61","v":""},null,{"$f":"'12 - 13 ans'!B97","v":0},{"$f":"'12 - 13 ans'!H97","v":""},null,{"$f":"'12 - 13 ans'!B129","v":0},{"$f":"'12 - 13 ans'!H129","v":""},null,{"$f":"'12 - 13 ans'!B165","v":0},{"$f":"'12 - 13 ans'!H165","v":""},null,{"$f":"'12 - 13 ans'!B202","v":0},{"$f":"'12 - 13 ans'!H202","v":""},null,{"$f":"'12 - 13 ans'!B226","v":0},{"$f":"'12 - 13 ans'!H226","v":""},null,null,{"$f":"'Déconte ATHL'!B49","v":0},null,{"$f":"'Déconte ATHL'!C49","v":0},{"$f":"'Déconte ATHL'!R49","v":0},{"$f":"'Déconte ATHL'!S49","v":13}]
[{"$f":"'12 - 13 ans'!B27","v":0},{"$f":"'12 - 13 ans'!H27","v":""},null,{"$f":"'12 - 13 ans'!B62","v":0},{"$f":"'12 - 13 ans'!H62","v":""},null,{"$f":"'12 - 13 ans'!B98","v":0},{"$f":"'12 - 13 ans'!H98","v":""},null,{"$f":"'12 - 13 ans'!B130","v":0},{"$f":"'12 - 13 ans'!H130","v":""},null,{"$f":"'12 - 13 ans'!B166","v":0},{"$f":"'12 - 13 ans'!H166","v":""},null,{"$f":"'12 - 13 ans'!B203","v":0},{"$f":"'12 - 13 ans'!H203","v":""},null,{"$f":"'12 - 13 ans'!B227","v":0},{"$f":"'12 - 13 ans'!H227","v":""},null,null,{"$f":"'Déconte ATHL'!B51","v":0},null,{"$f":"'Déconte ATHL'!C51","v":0},{"$f":"'Déconte ATHL'!R51","v":0},{"$f":"'Déconte ATHL'!S51","v":13}]
[{"$f":"'12 - 13 ans'!B28","v":0},{"$f":"'12 - 13 ans'!H28","v":""},null,{"$f":"'12 - 13 ans'!B63","v":0},{"$f":"'12 - 13 ans'!H63","v":""},null,{"$f":"'12 - 13 ans'!B99","v":0},{"$f":"'12 - 13 ans'!H99","v":""},null,{"$f":"'12 - 13 ans'!B131","v":0},{"$f":"'12 - 13 ans'!H131","v":""},null,{"$f":"'12 - 13 ans'!B167","v":0},{"$f":"'12 - 13 ans'!H167","v":""},null,{"$f":"'12 - 13 ans'!B204","v":0},{"$f":"'12 - 13 ans'!H204","v":""},null,{"$f":"'12 - 13 ans'!B228","v":0},{"$f":"'12 - 13 ans'!H228","v":""},null,null,{"$f":"'Déconte ATHL'!B52","v":0},null,{"$f":"'Déconte ATHL'!C52","v":0},{"$f":"'Déconte ATHL'!R52","v":0},{"$f":"'Déconte ATHL'!S52","v":13}]
[{"$f":"'12 - 13 ans'!B29","v":0},{"$f":"'12 - 13 ans'!H29","v":""},null,{"$f":"'12 - 13 ans'!B64","v":0},{"$f":"'12 - 13 ans'!H64","v":""},null,{"$f":"'12 - 13 ans'!B100","v":0},{"$f":"'12 - 13 ans'!H100","v":""},null,{"$f":"'12 - 13 ans'!B132","v":0},{"$f":"'12 - 13 ans'!H132","v":""},null,{"$f":"'12 - 13 ans'!B168","v":0},{"$f":"'12 - 13 ans'!H168","v":""},null,{"$f":"'12 - 13 ans'!B188","v":0},{"$f":"'12 - 13 ans'!H188","v":""},null,{"$f":"'12 - 13 ans'!B229","v":0},{"$f":"'12 - 13 ans'!H229","v":""},null,null,{"$f":"'Déconte ATHL'!B53","v":0},null,{"$f":"'Déconte ATHL'!C53","v":0},{"$f":"'Déconte ATHL'!R53","v":0},{"$f":"'Déconte ATHL'!S53","v":13}]
[{"$f":"'12 - 13 ans'!B30","v":0},{"$f":"'12 - 13 ans'!H30","v":""},null,{"$f":"'12 - 13 ans'!B65","v":0},{"$f":"'12 - 13 ans'!H65","v":""},null,{"$f":"'12 - 13 ans'!B101","v":0},{"$f":"'12 - 13 ans'!H101","v":""},null,{"$f":"'12 - 13 ans'!B133","v":0},{"$f":"'12 - 13 ans'!H133","v":""},null,{"$f":"'12 - 13 ans'!B169","v":0},{"$f":"'12 - 13 ans'!H169","v":""},null,{"$f":"'12 - 13 ans'!B189","v":0},{"$f":"'12 - 13 ans'!H189","v":""},null,{"$f":"'12 - 13 ans'!B230","v":0},{"$f":"'12 - 13 ans'!H230","v":""},null,null,{"$f":"'Déconte ATHL'!B54","v":0},null,{"$f":"'Déconte ATHL'!C54","v":0},{"$f":"'Déconte ATHL'!R54","v":0},{"$f":"'Déconte ATHL'!S54","v":13}]
[{"$f":"'12 - 13 ans'!B31","v":0},{"$f":"'12 - 13 ans'!H31","v":""},null,{"$f":"'12 - 13 ans'!B66","v":0},{"$f":"'12 - 13 ans'!H66","v":""},null,{"$f":"'12 - 13 ans'!B102","v":0},{"$f":"'12 - 13 ans'!H102","v":""},null,{"$f":"'12 - 13 ans'!B134","v":0},{"$f":"'12 - 13 ans'!H134","v":""},null,{"$f":"'12 - 13 ans'!B170","v":0},{"$f":"'12 - 13 ans'!H170","v":""},null,{"$f":"'12 - 13 ans'!B191","v":0},{"$f":"'12 - 13 ans'!H191","v":""},null,{"$f":"'12 - 13 ans'!B231","v":0},{"$f":"'12 - 13 ans'!H231","v":""},null,null,{"$f":"'Déconte ATHL'!B55","v":0},null,{"$f":"'Déconte ATHL'!C55","v":0},{"$f":"'Déconte ATHL'!R55","v":0},{"$f":"'Déconte ATHL'!S55","v":13}]
[{"$f":"'12 - 13 ans'!B32","v":0},{"$f":"'12 - 13 ans'!H32","v":""},null,{"$f":"'12 - 13 ans'!B67","v":0},{"$f":"'12 - 13 ans'!H67","v":""},null,{"$f":"'12 - 13 ans'!B86","v":0},{"$f":"'12 - 13 ans'!H86","v":""},null,{"$f":"'12 - 13 ans'!B135","v":0},{"$f":"'12 - 13 ans'!H135","v":""},null,{"$f":"'12 - 13 ans'!B154","v":0},{"$f":"'12 - 13 ans'!H154","v":""},null,{"$f":"'12 - 13 ans'!B192","v":0},{"$f":"'12 - 13 ans'!H192","v":""},null,{"$f":"'12 - 13 ans'!B232","v":0},{"$f":"'12 - 13 ans'!H232","v":""},null,null,{"$f":"'Déconte ATHL'!B56","v":0},null,{"$f":"'Déconte ATHL'!C56","v":0},{"$f":"'Déconte ATHL'!R56","v":0},{"$f":"'Déconte ATHL'!S56","v":13}]
[{"$f":"'12 - 13 ans'!B33","v":0},{"$f":"'12 - 13 ans'!H33","v":""},null,{"$f":"'12 - 13 ans'!B68","v":0},{"$f":"'12 - 13 ans'!H68","v":""},null,{"$f":"'12 - 13 ans'!B87","v":0},{"$f":"'12 - 13 ans'!H87","v":""},null,{"$f":"'12 - 13 ans'!B136","v":0},{"$f":"'12 - 13 ans'!H136","v":""},null,{"$f":"'12 - 13 ans'!B155","v":0},{"$f":"'12 - 13 ans'!H155","v":""},null,{"$f":"'12 - 13 ans'!B193","v":0},{"$f":"'12 - 13 ans'!H193","v":""},null,{"$f":"'12 - 13 ans'!B233","v":0},{"$f":"'12 - 13 ans'!H233","v":""},null,null,{"$f":"'Déconte ATHL'!B57","v":0},null,{"$f":"'Déconte ATHL'!C57","v":0},{"$f":"'Déconte ATHL'!R57","v":0},{"$f":"'Déconte ATHL'!S57","v":13}]
[{"$f":"'12 - 13 ans'!B34","v":0},{"$f":"'12 - 13 ans'!H34","v":""},null,{"$f":"'12 - 13 ans'!B52","v":0},{"$f":"'12 - 13 ans'!H52","v":""},null,{"$f":"'12 - 13 ans'!B89","v":0},{"$f":"'12 - 13 ans'!H89","v":""},null,{"$f":"'12 - 13 ans'!B120","v":0},{"$f":"'12 - 13 ans'!H120","v":""},null,{"$f":"'12 - 13 ans'!B157","v":0},{"$f":"'12 - 13 ans'!H157","v":""},null,{"$f":"'12 - 13 ans'!B181","v":"Maxime Laurence"},{"$f":"'12 - 13 ans'!H181","v":"DNS"},null,{"$f":"'12 - 13 ans'!B234","v":0},{"$f":"'12 - 13 ans'!H234","v":""},null,null,{"$f":"'Déconte ATHL'!B58","v":0},null,{"$f":"'Déconte ATHL'!C58","v":0},{"$f":"'Déconte ATHL'!R58","v":0},{"$f":"'Déconte ATHL'!S58","v":13}]
[{"$f":"'12 - 13 ans'!B19","v":0},{"$f":"'12 - 13 ans'!H19","v":""},null,{"$f":"'12 - 13 ans'!B53","v":0},{"$f":"'12 - 13 ans'!H53","v":""},null,{"$f":"'12 - 13 ans'!B90","v":0},{"$f":"'12 - 13 ans'!H90","v":""},null,{"$f":"'12 - 13 ans'!B121","v":0},{"$f":"'12 - 13 ans'!H121","v":""},null,{"$f":"'12 - 13 ans'!B159","v":0},{"$f":"'12 - 13 ans'!H159","v":""},null,{"$f":"'12 - 13 ans'!B183","v":"Justin Gauthier"},{"$f":"'12 - 13 ans'!H183","v":"DNS"},null,{"$f":"'12 - 13 ans'!B235","v":0},{"$f":"'12 - 13 ans'!H235","v":""},null,null,{"$f":"'Déconte ATHL'!B59","v":0},null,{"$f":"'Déconte ATHL'!C59","v":0},{"$f":"'Déconte ATHL'!R59","v":0},{"$f":"'Déconte ATHL'!S59","v":13}]
[{"$f":"'12 - 13 ans'!B21","v":0},{"$f":"'12 - 13 ans'!H21","v":""},null,{"$f":"'12 - 13 ans'!B55","v":0},{"$f":"'12 - 13 ans'!H55","v":""},null,{"$f":"'12 - 13 ans'!B91","v":0},{"$f":"'12 - 13 ans'!H91","v":""},null,{"$f":"'12 - 13 ans'!B123","v":0},{"$f":"'12 - 13 ans'!H123","v":""},null,{"$f":"'12 - 13 ans'!B147","v":"Maxime Laurence"},{"$f":"'12 - 13 ans'!H147","v":"DNS"},null,{"$f":"'12 - 13 ans'!B178","v":"Malory Boisclair"},{"$f":"'12 - 13 ans'!H178","v":"DQ"},null,{"$f":"'12 - 13 ans'!B236","v":0},{"$f":"'12 - 13 ans'!H236","v":""},null,null,{"$f":"'Déconte ATHL'!B60","v":0},null,{"$f":"'Déconte ATHL'!C60","v":0},{"$f":"'Déconte ATHL'!R60","v":0},{"$f":"'Déconte ATHL'!S60","v":13}]
[{"$f":"'12 - 13 ans'!B23","v":0},{"$f":"'12 - 13 ans'!H23","v":""},null,{"$f":"'12 - 13 ans'!B57","v":0},{"$f":"'12 - 13 ans'!H57","v":""},null,{"$f":"'12 - 13 ans'!B81","v":"Justin Gauthier"},{"$f":"'12 - 13 ans'!H81","v":"DNS"},null,{"$f":"'12 - 13 ans'!B125","v":0},{"$f":"'12 - 13 ans'!H125","v":""},null,{"$f":"'12 - 13 ans'!B149","v":"Justin Gauthier"},{"$f":"'12 - 13 ans'!H149","v":"DNS"},null,{"$f":"'12 - 13 ans'!B184","v":"Justin Pichette"},{"$f":"'12 - 13 ans'!H184","v":"DQ"},null,{"$f":"'12 - 13 ans'!B237","v":0},{"$f":"'12 - 13 ans'!H237","v":""},null,null,{"$f":"'Déconte ATHL'!B61","v":0},null,{"$f":"'Déconte ATHL'!C61","v":0},{"$f":"'Déconte ATHL'!R61","v":0},{"$f":"'Déconte ATHL'!S61","v":13}]
[{"$f":"'12 - 13 ans'!B18","v":0},{"$f":"'12 - 13 ans'!H18","v":""},null,{"$f":"'12 - 13 ans'!B47","v":"Justin Gauthier"},{"$f":"'12 - 13 ans'!H47","v":"DNS"},null,{"$f":"'12 - 13 ans'!B79","v":"Maxime Laurence"},{"$f":"'12 - 13 ans'!H79","v":"DQ"},null,{"$f":"'12 - 13 ans'!B115","v":"Justin Gauthier"},{"$f":"'12 - 13 ans'!H115","v":"DNS"},null,{"$f":"'12 - 13 ans'!B151","v":"Marianne Caplette"},{"$f":"'12 - 13 ans'!H151","v":"DQ"},null,{"$f":"'12 - 13 ans'!B185","v":"Marianne Caplette"},{"$f":"'12 - 13 ans'!H185","v":"DQ"},null,{"$f":"'12 - 13 ans'!B238","v":0},{"$f":"'12 - 13 ans'!H238","v":""},null,null,{"$f":"'Déconte ATHL'!B62","v":0},null,{"$f":"'Déconte ATHL'!C62","v":0},{"$f":"'Déconte ATHL'!R62","v":0},{"$f":"'Déconte ATHL'!S62","v":13}]
[]
["Résultats - 14 - 15 ans Femme",null,null,null,null,null,null,null,null,null,null,null,null,null,null,null,null,null,null,"Pentathlon par athlètes"]
["Remorquage",null,null,"Obstacle",null,null,"Portage  + palme",null,null,"Portage",null,null,"Sauveteur d'acier",null,null,"Medley sauvetage",null,null,null,"Jeunes Sauveteurs 14 - 15 Femme"]
["Nom","R",null,"Nom","R",null,"Nom","R",null,"Nom","R",null,"Nom","R",null,"Nom","R",null,null,"Club",null,"Nom","Points","R"]
[{"$f":"'14 - 15 ans F'!B41","v":"Manuelle Charbonneau"},{"$f":"'14 - 15 ans F'!H41","v":1},null,{"$f":"'14 - 15 ans F'!B75","v":"Manuelle Charbonneau"},{"$f":"'14 - 15 ans F'!H75","v":1},null,{"$f":"'14 - 15 ans F'!B109","v":"Manuelle Charbonneau"},{"$f":"'14 - 15 ans F'!H109","v":1},null,{"$f":"'14 - 15 ans F'!B143","v":"Manuelle Charbonneau"},{"$f":"'14 - 15 ans F'!H143","v":1},null,{"$f":"'14 - 15 ans F'!B177","v":"Manuelle Charbonneau"},{"$f":"'14 - 15 ans F'!H177","v":1},null,{"$f":"'14 - 15 ans F'!B209","v":"Paula Loaiza"},{"$f":"'14 - 15 ans F'!H209","v":""},null,null,{"$f":"'Déconte ATHL'!B65","v":"Dam'eauclès"},null,{"$f":"'Déconte ATHL'!C65","v":"Manuelle Charbonneau"},{"$f":"'Déconte ATHL'!AA65","v":100},{"$f":"'Déconte ATHL'!AB65","v":1}]
[{"$f":"'14 - 15 ans F'!B43","v":"Emma Lajeunesse"},{"$f":"'14 - 15 ans F'!H43","v":2},null,{"$f":"'14 - 15 ans F'!B82","v":"Rosanne Trépanier"},{"$f":"'14 - 15 ans F'!H82","v":2},null,{"$f":"'14 - 15 ans F'!B113","v":"AnnabelleDuquet"},{"$f":"'14 - 15 ans F'!H113","v":2},null,{"$f":"'14 - 15 ans F'!B145","v":"Emma Lajeunesse"},{"$f":"'14 - 15 ans F'!H145","v":2},null,{"$f":"'14 - 15 ans F'!B184","v":"Rosanne Trépanier"},{"$f":"'14 - 15 ans F'!H184","v":2},null,{"$f":"'14 - 15 ans F'!B210","v":"Audrey Desroches"},{"$f":"'14 - 15 ans F'!H210","v":""},null,null,{"$f":"'Déconte ATHL'!B71","v":"30deux"},null,{"$f":"'Déconte ATHL'!C71","v":"Rosanne Trépanier"},{"$f":"'Déconte ATHL'!AA71","v":82},{"$f":"'Déconte ATHL'!AB71","v":2}]
[{"$f":"'14 - 15 ans F'!B48","v":"Rosanne Trépanier"},{"$f":"'14 - 15 ans F'!H48","v":3},null,{"$f":"'14 - 15 ans F'!B77","v":"Emma Lajeunesse"},{"$f":"'14 - 15 ans F'!H77","v":3},null,{"$f":"'14 - 15 ans F'!B111","v":"Emma Lajeunesse"},{"$f":"'14 - 15 ans F'!H111","v":3},null,{"$f":"'14 - 15 ans F'!B150","v":"Rosanne Trépanier"},{"$f":"'14 - 15 ans F'!H150","v":3},null,{"$f":"'14 - 15 ans F'!B178","v":"Myriam Jacques"},{"$f":"'14 - 15 ans F'!H178","v":3},null,{"$f":"'14 - 15 ans F'!B211","v":"Manuelle Charbonneau"},{"$f":"'14 - 15 ans F'!H211","v":""},null,null,{"$f":"'Déconte ATHL'!B67","v":"Dam'eauclès"},null,{"$f":"'Déconte ATHL'!C67","v":"Emma Lajeunesse"},{"$f":"'Déconte ATHL'!AA67","v":68},{"$f":"'Déconte ATHL'!AB67","v":3}]
[{"$f":"'14 - 15 ans F'!B45","v":"AnnabelleDuquet"},{"$f":"'14 - 15 ans F'!H45","v":4},null,{"$f":"'14 - 15 ans F'!B76","v":"Myriam Jacques"},{"$f":"'14 - 15 ans F'!H76","v":4},null,{"$f":"'14 - 15 ans F'!B116","v":"Rosanne Trépanier"},{"$f":"'14 - 15 ans F'!H116","v":4},null,{"$f":"'14 - 15 ans F'!B144","v":"Myriam Jacques"},{"$f":"'14 - 15 ans F'!H144","v":4},null,{"$f":"'14 - 15 ans F'!B181","v":"AnnabelleDuquet"},{"$f":"'14 - 15 ans F'!H181","v":4},null,{"$f":"'14 - 15 ans F'!B212","v":"Myriam Jacques"},{"$f":"'14 - 15 ans F'!H212","v":""},null,null,{"$f":"'Déconte ATHL'!B69","v":"O'méga"},null,{"$f":"'Déconte ATHL'!C69","v":"AnnabelleDuquet"},{"$f":"'Déconte ATHL'!AA69","v":64},{"$f":"'Déconte ATHL'!AB69","v":4}]
[{"$f":"'14 - 15 ans F'!B47","v":"Alexane Thibeault"},{"$f":"'14 - 15 ans F'!H47","v":5},null,{"$f":"'14 - 15 ans F'!B78","v":"Sarah-Claude Lampron"},{"$f":"'14 - 15 ans F'!H78","v":5},null,{"$f":"'14 - 15 ans F'!B112","v":"Sarah-Claude Lampron"},{"$f":"'14 - 15 ans F'!H112","v":5},null,{"$f":"'14 - 15 ans F'!B142","v":"Audrey Desroches"},{"$f":"'14 - 15 ans F'!H142","v":5},null,{"$f":"'14 - 15 ans F'!B176","v":"Audrey Desroches"},{"$f":"'14 - 15 ans F'!H176","v":5},null,{"$f":"'14 - 15 ans F'!B213","v":"Emma Lajeunesse"},{"$f":"'14 - 15 ans F'!H213","v":""},null,null,{"$f":"'Déconte ATHL'!B66","v":"Dam'eauclès"},null,{"$f":"'Déconte ATHL'!C66","v":"Myriam Jacques"},{"$f":"'Déconte ATHL'!AA66","v":62},{"$f":"'Déconte ATHL'!AB66","v":5}]
[{"$f":"'14 - 15 ans F'!B40","v":"Audrey Desroches"},{"$f":"'14 - 15 ans F'!H40","v":6},null,{"$f":"'14 - 15 ans F'!B73","v":"Paula Loaiza"},{"$f":"'14 - 15 ans F'!H73","v":6},null,{"$f":"'14 - 15 ans F'!B108","v":"Audrey Desroches"},{"$f":"'14 - 15 ans F'!H108","v":6},null,{"$f":"'14 - 15 ans F'!B141","v":"Paula Loaiza"},{"$f":"'14 - 15 ans F'!H141","v":6},null,{"$f":"'14 - 15 ans F'!B180","v":"Sarah-Claude Lampron"},{"$f":"'14 - 15 ans F'!H180","v":6},null,{"$f":"'14 - 15 ans F'!B214","v":"Sarah-Claude Lampron"},{"$f":"'14 - 15 ans F'!H214","v":""},null,null,{"$f":"'Déconte ATHL'!B68","v":"CSRAD"},null,{"$f":"'Déconte ATHL'!C68","v":"Sarah-Claude Lampron"},{"$f":"'Déconte ATHL'!AA68","v":60},{"$f":"'Déconte ATHL'!AB68","v":6}]
[{"$f":"'14 - 15 ans F'!B44","v":"Sarah-Claude Lampron"},{"$f":"'14 - 15 ans F'!H44","v":7},null,{"$f":"'14 - 15 ans F'!B81","v":"Alexane Thibeault"},{"$f":"'14 - 15 ans F'!H81","v":7},null,{"$f":"'14 - 15 ans F'!B115","v":"Alexane Thibeault"},{"$f":"'14 - 15 ans F'!H115","v":7},null,{"$f":"'14 - 15 ans F'!B146","v":"Sarah-Claude Lampron"},{"$f":"'14 - 15 ans F'!H146","v":7},null,{"$f":"'14 - 15 ans F'!B175","v":"Paula Loaiza"},{"$f":"'14 - 15 ans F'!H175","v":7},null,{"$f":"'14 - 15 ans F'!B215","v":"AnnabelleDuquet"},{"$f":"'14 - 15 ans F'!H215","v":""},null,null,{"$f":"'Déconte ATHL'!B64","v":"CAEM"},null,{"$f":"'Déconte ATHL'!C64","v":"Audrey Desroches"},{"$f":"'Déconte ATHL'!AA64","v":58},{"$f":"'Déconte ATHL'!AB64","v":7}]
[{"$f":"'14 - 15 ans F'!B39","v":"Paula Loaiza"},{"$f":"'14 - 15 ans F'!H39","v":8},null,{"$f":"'14 - 15 ans F'!B79","v":"AnnabelleDuquet"},{"$f":"'14 - 15 ans F'!H79","v":8},null,{"$f":"'14 - 15 ans F'!B110","v":"Myriam Jacques"},{"$f":"'14 - 15 ans F'!H110","v":8},null,{"$f":"'14 - 15 ans F'!B148","v":"Odette Côté"},{"$f":"'14 - 15 ans F'!H148","v":8},null,{"$f":"'14 - 15 ans F'!B185","v":0},{"$f":"'14 - 15 ans F'!H185","v":""},null,{"$f":"'14 - 15 ans F'!B216","v":"Odette Côté"},{"$f":"'14 - 15 ans F'!H216","v":""},null,null,{"$f":"'Déconte ATHL'!B63","v":"SSSL"},null,{"$f":"'Déconte ATHL'!C63","v":"Paula Loaiza"},{"$f":"'Déconte ATHL'!AA63","v":53},{"$f":"'Déconte ATHL'!AB63","v":8}]
[{"$f":"'14 - 15 ans F'!B42","v":"Myriam Jacques"},{"$f":"'14 - 15 ans F'!H42","v":9},null,{"$f":"'14 - 15 ans F'!B74","v":"Audrey Desroches"},{"$f":"'14 - 15 ans F'!H74","v":9},null,{"$f":"'14 - 15 ans F'!B107","v":"Paula Loaiza"},{"$f":"'14 - 15 ans F'!H107","v":9},null,{"$f":"'14 - 15 ans F'!B147","v":"AnnabelleDuquet"},{"$f":"'14 - 15 ans F'!H147","v":9},null,{"$f":"'14 - 15 ans F'!B187","v":0},{"$f":"'14 - 15 ans F'!H187","v":""},null,{"$f":"'14 - 15 ans F'!B217","v":"Alexane Thibeault"},{"$f":"'14 - 15 ans F'!H217","v":""},null,null,{"$f":"'Déconte ATHL'!B72","v":"CSRN"},null,{"$f":"'Déconte ATHL'!C72","v":"Alexane Thibeault"},{"$f":"'Déconte ATHL'!AA72","v":35},{"$f":"'Déconte ATHL'!AB72","v":9}]
[{"$f":"'14 - 15 ans F'!B46","v":"Odette Côté"},{"$f":"'14 - 15 ans F'!H46","v":10},null,{"$f":"'14 - 15 ans F'!B83","v":0},{"$f":"'14 - 15 ans F'!H83","v":""},null,{"$f":"'14 - 15 ans F'!B117","v":0},{"$f":"'14 - 15 ans F'!H117","v":""},null,{"$f":"'14 - 15 ans F'!B151","v":0},{"$f":"'14 - 15 ans F'!H151","v":""},null,{"$f":"'14 - 15 ans F'!B188","v":0},{"$f":"'14 - 15 ans F'!H188","v":""},null,{"$f":"'14 - 15 ans F'!B218","v":"Rosanne Trépanier"},{"$f":"'14 - 15 ans F'!H218","v":""},null,null,{"$f":"'Déconte ATHL'!B70","v":"O'méga"},null,{"$f":"'Déconte ATHL'!C70","v":"Odette Côté"},{"$f":"'Déconte ATHL'!AA70","v":17},{"$f":"'Déconte ATHL'!AB70","v":10}]
[{"$f":"'14 - 15 ans F'!B49","v":0},{"$f":"'14 - 15 ans F'!H49","v":""},null,{"$f":"'14 - 15 ans F'!B85","v":0},{"$f":"'14 - 15 ans F'!H85","v":""},null,{"$f":"'14 - 15 ans F'!B119","v":0},{"$f":"'14 - 15 ans F'!H119","v":""},null,{"$f":"'14 - 15 ans F'!B153","v":0},{"$f":"'14 - 15 ans F'!H153","v":""},null,{"$f":"'14 - 15 ans F'!B189","v":0},{"$f":"'14 - 15 ans F'!H189","v":""},null,{"$f":"'14 - 15 ans F'!B219","v":0},{"$f":"'14 - 15 ans F'!H219","v":""},null,null,{"$f":"'Déconte ATHL'!B73","v":0},null,{"$f":"'Déconte ATHL'!C73","v":0},{"$f":"'Déconte ATHL'!AA73","v":0},{"$f":"'Déconte ATHL'!AB73","v":11}]
[{"$f":"'14 - 15 ans F'!B51","v":0},{"$f":"'14 - 15 ans F'!H51","v":""},null,{"$f":"'14 - 15 ans F'!B86","v":0},{"$f":"'14 - 15 ans F'!H86","v":""},null,{"$f":"'14 - 15 ans F'!B120","v":0},{"$f":"'14 - 15 ans F'!H120","v":""},null,{"$f":"'14 - 15 ans F'!B154","v":0},{"$f":"'14 - 15 ans F'!H154","v":""},null,{"$f":"'14 - 15 ans F'!B190","v":0},{"$f":"'14 - 15 ans F'!H190","v":""},null,{"$f":"'14 - 15 ans F'!B220","v":0},{"$f":"'14 - 15 ans F'!H220","v":""},null,null,{"$f":"'Déconte ATHL'!B74","v":0},null,{"$f":"'Déconte ATHL'!C74","v":0},{"$f":"'Déconte ATHL'!AA74","v":0},{"$f":"'Déconte ATHL'!AB74","v":11}]
[{"$f":"'14 - 15 ans F'!B52","v":0},{"$f":"'14 - 15 ans F'!H52","v":""},null,{"$f":"'14 - 15 ans F'!B87","v":0},{"$f":"'14 - 15 ans F'!H87","v":""},null,{"$f":"'14 - 15 ans F'!B121","v":0},{"$f":"'14 - 15 ans F'!H121","v":""},null,{"$f":"'14 - 15 ans F'!B155","v":0},{"$f":"'14 - 15 ans F'!H155","v":""},null,{"$f":"'14 - 15 ans F'!B191","v":0},{"$f":"'14 - 15 ans F'!H191","v":""},null,{"$f":"'14 - 15 ans F'!B221","v":0},{"$f":"'14 - 15 ans F'!H221","v":""},null,null,{"$f":"'Déconte ATHL'!B75","v":0},null,{"$f":"'Déconte ATHL'!C75","v":0},{"$f":"'Déconte ATHL'!AA75","v":0},{"$f":"'Déconte ATHL'!AB75","v":11}]
[{"$f":"'14 - 15 ans F'!B53","v":0},{"$f":"'14 - 15 ans F'!H53","v":""},null,{"$f":"'14 - 15 ans F'!B88","v":0},{"$f":"'14 - 15 ans F'!H88","v":""},null,{"$f":"'14 - 15 ans F'!B122","v":0},{"$f":"'14 - 15 ans F'!H122","v":""},null,{"$f":"'14 - 15 ans F'!B156","v":0},{"$f":"'14 - 15 ans F'!H156","v":""},null,{"$f":"'14 - 15 ans F'!B192","v":0},{"$f":"'14 - 15 ans F'!H192","v":""},null,{"$f":"'14 - 15 ans F'!B222","v":0},{"$f":"'14 - 15 ans F'!H222","v":""},null,null,{"$f":"'Déconte ATHL'!B76","v":0},null,{"$f":"'Déconte ATHL'!C76","v":0},{"$f":"'Déconte ATHL'!AA76","v":0},{"$f":"'Déconte ATHL'!AB76","v":11}]
[{"$f":"'14 - 15 ans F'!B54","v":0},{"$f":"'14 - 15 ans F'!H54","v":""},null,{"$f":"'14 - 15 ans F'!B89","v":0},{"$f":"'14 - 15 ans F'!H89","v":""},null,{"$f":"'14 - 15 ans F'!B123","v":0},{"$f":"'14 - 15 ans F'!H123","v":""},null,{"$f":"'14 - 15 ans F'!B157","v":0},{"$f":"'14 - 15 ans F'!H157","v":""},null,{"$f":"'14 - 15 ans F'!B193","v":0},{"$f":"'14 - 15 ans F'!H193","v":""},null,{"$f":"'14 - 15 ans F'!B223","v":0},{"$f":"'14 - 15 ans F'!H223","v":""},null,null,{"$f":"'Déconte ATHL'!B77","v":0},null,{"$f":"'Déconte ATHL'!C77","v":0},{"$f":"'Déconte ATHL'!AA77","v":0},{"$f":"'Déconte ATHL'!AB77","v":11}]
[{"$f":"'14 - 15 ans F'!B55","v":0},{"$f":"'14 - 15 ans F'!H55","v":""},null,{"$f":"'14 - 15 ans F'!B90","v":0},{"$f":"'14 - 15 ans F'!H90","v":""},null,{"$f":"'14 - 15 ans F'!B124","v":0},{"$f":"'14 - 15 ans F'!H124","v":""},null,{"$f":"'14 - 15 ans F'!B158","v":0},{"$f":"'14 - 15 ans F'!H158","v":""},null,{"$f":"'14 - 15 ans F'!B194","v":0},{"$f":"'14 - 15 ans F'!H194","v":""},null,{"$f":"'14 - 15 ans F'!B224","v":0},{"$f":"'14 - 15 ans F'!H224","v":""},null,null,{"$f":"'Déconte ATHL'!B78","v":0},null,{"$f":"'Déconte ATHL'!C78","v":0},{"$f":"'Déconte ATHL'!AA78","v":0},{"$f":"'Déconte ATHL'!AB78","v":11}]
[{"$f":"'14 - 15 ans F'!B56","v":0},{"$f":"'14 - 15 ans F'!H56","v":""},null,{"$f":"'14 - 15 ans F'!B91","v":0},{"$f":"'14 - 15 ans F'!H91","v":""},null,{"$f":"'14 - 15 ans F'!B125","v":0},{"$f":"'14 - 15 ans F'!H125","v":""},null,{"$f":"'14 - 15 ans F'!B159","v":0},{"$f":"'14 - 15 ans F'!H159","v":""},null,{"$f":"'14 - 15 ans F'!B195","v":0},{"$f":"'14 - 15 ans F'!H195","v":""},null,{"$f":"'14 - 15 ans F'!B225","v":0},{"$f":"'14 - 15 ans F'!H225","v":""},null,null,{"$f":"'Déconte ATHL'!B79","v":0},null,{"$f":"'Déconte ATHL'!C79","v":0},{"$f":"'Déconte ATHL'!AA79","v":0},{"$f":"'Déconte ATHL'!AB79","v":11}]
[{"$f":"'14 - 15 ans F'!B57","v":0},{"$f":"'14 - 15 ans F'!H57","v":""},null,{"$f":"'14 - 15 ans F'!B92","v":0},{"$f":"'14 - 15 ans F'!H92","v":""},null,{"$f":"'14 - 15 ans F'!B126","v":0},{"$f":"'14 - 15 ans F'!H126","v":""},null,{"$f":"'14 - 15 ans F'!B160","v":0},{"$f":"'14 - 15 ans F'!H160","v":""},null,{"$f":"'14 - 15 ans F'!B196","v":0},{"$f":"'14 - 15 ans F'!H196","v":""},null,{"$f":"'14 - 15 ans F'!B226","v":0},{"$f":"'14 - 15 ans F'!H226","v":""},null,null,{"$f":"'Déconte ATHL'!B80","v":0},null,{"$f":"'Déconte ATHL'!C80","v":0},{"$f":"'Déconte ATHL'!AA80","v":0},{"$f":"'Déconte ATHL'!AB80","v":11}]
[{"$f":"'14 - 15 ans F'!B58","v":0},{"$f":"'14 - 15 ans F'!H58","v":""},null,{"$f":"'14 - 15 ans F'!B93","v":0},{"$f":"'14 - 15 ans F'!H93","v":""},null,{"$f":"'14 - 15 ans F'!B127","v":0},{"$f":"'14 - 15 ans F'!H127","v":""},null,{"$f":"'14 - 15 ans F'!B161","v":0},{"$f":"'14 - 15 ans F'!H161","v":""},null,{"$f":"'14 - 15 ans F'!B197","v":0},{"$f":"'14 - 15 ans F'!H197","v":""},null,{"$f":"'14 - 15 ans F'!B227","v":0},{"$f":"'14 - 15 ans F'!H227","v":""},null,null,{"$f":"'Déconte ATHL'!B81","v":0},null,{"$f":"'Déconte ATHL'!C81","v":0},{"$f":"'Déconte ATHL'!AA81","v":0},{"$f":"'Déconte ATHL'!AB81","v":11}]
[{"$f":"'14 - 15 ans F'!B59","v":0},{"$f":"'14 - 15 ans F'!H59","v":""},null,{"$f":"'14 - 15 ans F'!B94","v":0},{"$f":"'14 - 15 ans F'!H94","v":""},null,{"$f":"'14 - 15 ans F'!B128","v":0},{"$f":"'14 - 15 ans F'!H128","v":""},null,{"$f":"'14 - 15 ans F'!B162","v":0},{"$f":"'14 - 15 ans F'!H162","v":""},null,{"$f":"'14 - 15 ans F'!B198","v":0},{"$f":"'14 - 15 ans F'!H198","v":""},null,{"$f":"'14 - 15 ans F'!B228","v":0},{"$f":"'14 - 15 ans F'!H228","v":""},null,null,{"$f":"'Déconte ATHL'!B82","v":0},null,{"$f":"'Déconte ATHL'!C82","v":0},{"$f":"'Déconte ATHL'!AA82","v":0},{"$f":"'Déconte ATHL'!AB82","v":11}]
[{"$f":"'14 - 15 ans F'!B60","v":0},{"$f":"'14 - 15 ans F'!H60","v":""},null,{"$f":"'14 - 15 ans F'!B95","v":0},{"$f":"'14 - 15 ans F'!H95","v":""},null,{"$f":"'14 - 15 ans F'!B129","v":0},{"$f":"'14 - 15 ans F'!H129","v":""},null,{"$f":"'14 - 15 ans F'!B163","v":0},{"$f":"'14 - 15 ans F'!H163","v":""},null,{"$f":"'14 - 15 ans F'!B199","v":0},{"$f":"'14 - 15 ans F'!H199","v":""},null,{"$f":"'14 - 15 ans F'!B229","v":0},{"$f":"'14 - 15 ans F'!H229","v":""},null,null,{"$f":"'Déconte ATHL'!B83","v":0},null,{"$f":"'Déconte ATHL'!C83","v":0},{"$f":"'Déconte ATHL'!AA83","v":0},{"$f":"'Déconte ATHL'!AB83","v":11}]
[{"$f":"'14 - 15 ans F'!B61","v":0},{"$f":"'14 - 15 ans F'!H61","v":""},null,{"$f":"'14 - 15 ans F'!B96","v":0},{"$f":"'14 - 15 ans F'!H96","v":""},null,{"$f":"'14 - 15 ans F'!B130","v":0},{"$f":"'14 - 15 ans F'!H130","v":""},null,{"$f":"'14 - 15 ans F'!B164","v":0},{"$f":"'14 - 15 ans F'!H164","v":""},null,{"$f":"'14 - 15 ans F'!B200","v":0},{"$f":"'14 - 15 ans F'!H200","v":""},null,{"$f":"'14 - 15 ans F'!B230","v":0},{"$f":"'14 - 15 ans F'!H230","v":""},null,null,{"$f":"'Déconte ATHL'!B84","v":0},null,{"$f":"'Déconte ATHL'!C84","v":0},{"$f":"'Déconte ATHL'!AA84","v":0},{"$f":"'Déconte ATHL'!AB84","v":11}]
[{"$f":"'14 - 15 ans F'!B62","v":0},{"$f":"'14 - 15 ans F'!H62","v":""},null,{"$f":"'14 - 15 ans F'!B97","v":0},{"$f":"'14 - 15 ans F'!H97","v":""},null,{"$f":"'14 - 15 ans F'!B131","v":0},{"$f":"'14 - 15 ans F'!H131","v":""},null,{"$f":"'14 - 15 ans F'!B165","v":0},{"$f":"'14 - 15 ans F'!H165","v":""},null,{"$f":"'14 - 15 ans F'!B201","v":0},{"$f":"'14 - 15 ans F'!H201","v":""},null,{"$f":"'14 - 15 ans F'!B231","v":0},{"$f":"'14 - 15 ans F'!H231","v":""},null,null,{"$f":"'Déconte ATHL'!B85","v":0},null,{"$f":"'Déconte ATHL'!C85","v":0},{"$f":"'Déconte ATHL'!AA85","v":0},{"$f":"'Déconte ATHL'!AB85","v":11}]
[{"$f":"'14 - 15 ans F'!B63","v":0},{"$f":"'14 - 15 ans F'!H63","v":""},null,{"$f":"'14 - 15 ans F'!B98","v":0},{"$f":"'14 - 15 ans F'!H98","v":""},null,{"$f":"'14 - 15 ans F'!B132","v":0},{"$f":"'14 - 15 ans F'!H132","v":""},null,{"$f":"'14 - 15 ans F'!B166","v":0},{"$f":"'14 - 15 ans F'!H166","v":""},null,{"$f":"'14 - 15 ans F'!B202","v":0},{"$f":"'14 - 15 ans F'!H202","v":""},null,{"$f":"'14 - 15 ans F'!B232","v":0},{"$f":"'14 - 15 ans F'!H232","v":""},null,null,{"$f":"'Déconte ATHL'!B86","v":0},null,{"$f":"'Déconte ATHL'!C86","v":0},{"$f":"'Déconte ATHL'!AA86","v":0},{"$f":"'Déconte ATHL'!AB86","v":11}]
[{"$f":"'14 - 15 ans F'!B64","v":0},{"$f":"'14 - 15 ans F'!H64","v":""},null,{"$f":"'14 - 15 ans F'!B99","v":0},{"$f":"'14 - 15 ans F'!H99","v":""},null,{"$f":"'14 - 15 ans F'!B133","v":0},{"$f":"'14 - 15 ans F'!H133","v":""},null,{"$f":"'14 - 15 ans F'!B167","v":0},{"$f":"'14 - 15 ans F'!H167","v":""},null,{"$f":"'14 - 15 ans F'!B203","v":0},{"$f":"'14 - 15 ans F'!H203","v":""},null,{"$f":"'14 - 15 ans F'!B233","v":0},{"$f":"'14 - 15 ans F'!H233","v":""},null,null,{"$f":"'Déconte ATHL'!B87","v":0},null,{"$f":"'Déconte ATHL'!C87","v":0},{"$f":"'Déconte ATHL'!AA87","v":0},{"$f":"'Déconte ATHL'!AB87","v":11}]
[{"$f":"'14 - 15 ans F'!B65","v":0},{"$f":"'14 - 15 ans F'!H65","v":""},null,{"$f":"'14 - 15 ans F'!B100","v":0},{"$f":"'14 - 15 ans F'!H100","v":""},null,{"$f":"'14 - 15 ans F'!B134","v":0},{"$f":"'14 - 15 ans F'!H134","v":""},null,{"$f":"'14 - 15 ans F'!B168","v":0},{"$f":"'14 - 15 ans F'!H168","v":""},null,{"$f":"'14 - 15 ans F'!B204","v":0},{"$f":"'14 - 15 ans F'!H204","v":""},null,{"$f":"'14 - 15 ans F'!B234","v":0},{"$f":"'14 - 15 ans F'!H234","v":""},null,null,{"$f":"'Déconte ATHL'!B88","v":0},null,{"$f":"'Déconte ATHL'!C88","v":0},{"$f":"'Déconte ATHL'!AA88","v":0},{"$f":"'Déconte ATHL'!AB88","v":11}]
[{"$f":"'14 - 15 ans F'!B66","v":0},{"$f":"'14 - 15 ans F'!H66","v":""},null,{"$f":"'14 - 15 ans F'!B101","v":0},{"$f":"'14 - 15 ans F'!H101","v":""},null,{"$f":"'14 - 15 ans F'!B135","v":0},{"$f":"'14 - 15 ans F'!H135","v":""},null,{"$f":"'14 - 15 ans F'!B169","v":0},{"$f":"'14 - 15 ans F'!H169","v":""},null,{"$f":"'14 - 15 ans F'!B186","v":0},{"$f":"'14 - 15 ans F'!H186","v":""},null,{"$f":"'14 - 15 ans F'!B235","v":0},{"$f":"'14 - 15 ans F'!H235","v":""},null,null,{"$f":"'Déconte ATHL'!B89","v":0},null,{"$f":"'Déconte ATHL'!C89","v":0},{"$f":"'Déconte ATHL'!AA89","v":0},{"$f":"'Déconte ATHL'!AB89","v":11}]
[{"$f":"'14 - 15 ans F'!B67","v":0},{"$f":"'14 - 15 ans F'!H67","v":""},null,{"$f":"'14 - 15 ans F'!B102","v":0},{"$f":"'14 - 15 ans F'!H102","v":""},null,{"$f":"'14 - 15 ans F'!B136","v":0},{"$f":"'14 - 15 ans F'!H136","v":""},null,{"$f":"'14 - 15 ans F'!B170","v":0},{"$f":"'14 - 15 ans F'!H170","v":""},null,{"$f":"'14 - 15 ans F'!B179","v":"Emma Lajeunesse"},{"$f":"'14 - 15 ans F'!H179","v":"DQ"},null,{"$f":"'14 - 15 ans F'!B236","v":0},{"$f":"'14 - 15 ans F'!H236","v":""},null,null,{"$f":"'Déconte ATHL'!B90","v":0},null,{"$f":"'Déconte ATHL'!C90","v":0},{"$f":"'Déconte ATHL'!AA90","v":0},{"$f":"'Déconte ATHL'!AB90","v":11}]
[{"$f":"'14 - 15 ans F'!B68","v":0},{"$f":"'14 - 15 ans F'!H68","v":""},null,{"$f":"'14 - 15 ans F'!B84","v":0},{"$f":"'14 - 15 ans F'!H84","v":""},null,{"$f":"'14 - 15 ans F'!B118","v":0},{"$f":"'14 - 15 ans F'!H118","v":""},null,{"$f":"'14 - 15 ans F'!B152","v":0},{"$f":"'14 - 15 ans F'!H152","v":""},null,{"$f":"'14 - 15 ans F'!B182","v":"Odette Côté"},{"$f":"'14 - 15 ans F'!H182","v":"DQ"},null,{"$f":"'14 - 15 ans F'!B237","v":0},{"$f":"'14 - 15 ans F'!H237","v":""},null,null,{"$f":"'Déconte ATHL'!B91","v":0},null,{"$f":"'Déconte ATHL'!C91","v":0},{"$f":"'Déconte ATHL'!AA91","v":0},{"$f":"'Déconte ATHL'!AB91","v":11}]
[{"$f":"'14 - 15 ans F'!B50","v":0},{"$f":"'14 - 15 ans F'!H50","v":""},null,{"$f":"'14 - 15 ans F'!B80","v":"Odette Côté"},{"$f":"'14 - 15 ans F'!H80","v":"DQ"},null,{"$f":"'14 - 15 ans F'!B114","v":"Odette Côté"},{"$f":"'14 - 15 ans F'!H114","v":"DQ"},null,{"$f":"'14 - 15 ans F'!B149","v":"Alexane Thibeault"},{"$f":"'14 - 15 ans F'!H149","v":"DQ"},null,{"$f":"'14 - 15 ans F'!B183","v":"Alexane Thibeault"},{"$f":"'14 - 15 ans F'!H183","v":"DQ"},null,{"$f":"'14 - 15 ans F'!B238","v":0},{"$f":"'14 - 15 ans F'!H238","v":""},null,null,{"$f":"'Déconte ATHL'!B92","v":0},null,{"$f":"'Déconte ATHL'!C92","v":0},{"$f":"'Déconte ATHL'!AA92","v":0},{"$f":"'Déconte ATHL'!AB92","v":11}]
[]
["Résultats - 14 - 15 ans Homme",null,null,null,null,null,null,null,null,null,null,null,null,null,null,null,null,null,null,"Pentathlon par athlètes"]
["Remorquage",null,null,"Obstacle",null,null,"Portage  + palme",null,null,"Portage",null,null,"Sauveteur d'acier",null,null,"Medley sauvetage",null,null,null,"Jeunes Sauveteurs 14 - 15 Homme"]
["Nom","R",null,"Nom","R",null,"Nom","R",null,"Nom","R",null,"Nom","R",null,"Nom","R",null,null,"Club",null,"Nom","Points","R"]
[{"$f":"'14 - 15 ans H'!B40","v":"Julien Turgeon"},{"$f":"'14 - 15 ans H'!H40","v":1},null,{"$f":"'14 - 15 ans H'!B74","v":"Julien Turgeon"},{"$f":"'14 - 15 ans H'!H74","v":1},null,{"$f":"'14 - 15 ans H'!B108","v":"Julien Turgeon"},{"$f":"'14 - 15 ans H'!H108","v":1},null,{"$f":"'14 - 15 ans H'!B142","v":"Julien Turgeon"},{"$f":"'14 - 15 ans H'!H142","v":1},null,{"$f":"'14 - 15 ans H'!B176","v":"Julien Turgeon"},{"$f":"'14 - 15 ans H'!H176","v":1},null,{"$f":"'14 - 15 ans H'!B209","v":"Jacob Rousson"},{"$f":"'14 - 15 ans H'!H209","v":""},null,null,{"$f":"'Déconte ATHL'!B94","v":"Dam'eauclès"},null,{"$f":"'Déconte ATHL'!C94","v":"Julien Turgeon"},{"$f":"'Déconte ATHL'!AJ94","v":100},{"$f":"'Déconte ATHL'!AK94","v":1}]
[{"$f":"'14 - 15 ans H'!B39","v":"Jacob Rousson"},{"$f":"'14 - 15 ans H'!H39","v":2},null,{"$f":"'14 - 15 ans H'!B78","v":"Jonathan St-Roch"},{"$f":"'14 - 15 ans H'!H78","v":2},null,{"$f":"'14 - 15 ans H'!B112","v":"Jonathan St-Roch"},{"$f":"'14 - 15 ans H'!H112","v":2},null,{"$f":"'14 - 15 ans H'!B145","v":"Malik Romdhani"},{"$f":"'14 - 15 ans H'!H145","v":2},null,{"$f":"'14 - 15 ans H'!B180","v":"Jonathan St-Roch"},{"$f":"'14 - 15 ans H'!H180","v":2},null,{"$f":"'14 - 15 ans H'!B210","v":"Julien Turgeon"},{"$f":"'14 - 15 ans H'!H210","v":""},null,null,{"$f":"'Déconte ATHL'!B97","v":"CSRN"},null,{"$f":"'Déconte ATHL'!C97","v":"Malik Romdhani"},{"$f":"'Déconte ATHL'!AJ97","v":78},{"$f":"'Déconte ATHL'!AK97","v":2}]
[{"$f":"'14 - 15 ans H'!B43","v":"Malik Romdhani"},{"$f":"'14 - 15 ans H'!H43","v":3},null,{"$f":"'14 - 15 ans H'!B73","v":"Jacob Rousson"},{"$f":"'14 - 15 ans H'!H73","v":3},null,{"$f":"'14 - 15 ans H'!B111","v":"Malik Romdhani"},{"$f":"'14 - 15 ans H'!H111","v":3},null,{"$f":"'14 - 15 ans H'!B146","v":"Jonathan St-Roch"},{"$f":"'14 - 15 ans H'!H146","v":3},null,{"$f":"'14 - 15 ans H'!B175","v":"Jacob Rousson"},{"$f":"'14 - 15 ans H'!H175","v":3},null,{"$f":"'14 - 15 ans H'!B211","v":"James Willamson"},{"$f":"'14 - 15 ans H'!H211","v":""},null,null,{"$f":"'Déconte ATHL'!B93","v":"Dam'eauclès"},null,{"$f":"'Déconte ATHL'!C93","v":"Jacob Rousson"},{"$f":"'Déconte ATHL'!AJ93","v":75},{"$f":"'Déconte ATHL'!AK93","v":3}]
[{"$f":"'14 - 15 ans H'!B42","v":"Alexandre Vincent"},{"$f":"'14 - 15 ans H'!H42","v":4},null,{"$f":"'14 - 15 ans H'!B77","v":"Malik Romdhani"},{"$f":"'14 - 15 ans H'!H77","v":4},null,{"$f":"'14 - 15 ans H'!B114","v":"Benjamin Lapointe"},{"$f":"'14 - 15 ans H'!H114","v":4},null,{"$f":"'14 - 15 ans H'!B148","v":"Benjamin Lapointe"},{"$f":"'14 - 15 ans H'!H148","v":4},null,{"$f":"'14 - 15 ans H'!B179","v":"Malik Romdhani"},{"$f":"'14 - 15 ans H'!H179","v":4},null,{"$f":"'14 - 15 ans H'!B212","v":"Alexandre Vincent"},{"$f":"'14 - 15 ans H'!H212","v":""},null,null,{"$f":"'Déconte ATHL'!B98","v":"CSRN"},null,{"$f":"'Déconte ATHL'!C98","v":"Jonathan St-Roch"},{"$f":"'Déconte ATHL'!AJ98","v":70},{"$f":"'Déconte ATHL'!AK98","v":4}]
[{"$f":"'14 - 15 ans H'!B41","v":"James Willamson"},{"$f":"'14 - 15 ans H'!H41","v":5},null,{"$f":"'14 - 15 ans H'!B80","v":"Benjamin Lapointe"},{"$f":"'14 - 15 ans H'!H80","v":5},null,{"$f":"'14 - 15 ans H'!B110","v":"Alexandre Vincent"},{"$f":"'14 - 15 ans H'!H110","v":5},null,{"$f":"'14 - 15 ans H'!B141","v":"Jacob Rousson"},{"$f":"'14 - 15 ans H'!H141","v":5},null,{"$f":"'14 - 15 ans H'!B182","v":"Benjamin Lapointe"},{"$f":"'14 - 15 ans H'!H182","v":5},null,{"$f":"'14 - 15 ans H'!B213","v":"Malik Romdhani"},{"$f":"'14 - 15 ans H'!H213","v":""},null,null,{"$f":"'Déconte ATHL'!B96","v":"CSRAD"},null,{"$f":"'Déconte ATHL'!C96","v":"Alexandre Vincent"},{"$f":"'Déconte ATHL'!AJ96","v":63},{"$f":"'Déconte ATHL'!AK96","v":5}]
[{"$f":"'14 - 15 ans H'!B47","v":0},{"$f":"'14 - 15 ans H'!H47","v":""},null,{"$f":"'14 - 15 ans H'!B76","v":"Alexandre Vincent"},{"$f":"'14 - 15 ans H'!H76","v":6},null,{"$f":"'14 - 15 ans H'!B107","v":"Jacob Rousson"},{"$f":"'14 - 15 ans H'!H107","v":6},null,{"$f":"'14 - 15 ans H'!B144","v":"Alexandre Vincent"},{"$f":"'14 - 15 ans H'!H144","v":6},null,{"$f":"'14 - 15 ans H'!B178","v":"Alexandre Vincent"},{"$f":"'14 - 15 ans H'!H178","v":6},null,{"$f":"'14 - 15 ans H'!B214","v":"Jonathan St-Roch"},{"$f":"'14 - 15 ans H'!H214","v":""},null,null,{"$f":"'Déconte ATHL'!B95","v":"Dam'eauclès"},null,{"$f":"'Déconte ATHL'!C95","v":"James Willamson"},{"$f":"'Déconte ATHL'!AJ95","v":57},{"$f":"'Déconte ATHL'!AK95","v":6}]
[{"$f":"'14 - 15 ans H'!B48","v":0},{"$f":"'14 - 15 ans H'!H48","v":""},null,{"$f":"'14 - 15 ans H'!B75","v":"James Willamson"},{"$f":"'14 - 15 ans H'!H75","v":7},null,{"$f":"'14 - 15 ans H'!B109","v":"James Willamson"},{"$f":"'14 - 15 ans H'!H109","v":7},null,{"$f":"'14 - 15 ans H'!B143","v":"James Willamson"},{"$f":"'14 - 15 ans H'!H143","v":7},null,{"$f":"'14 - 15 ans H'!B177","v":"James Willamson"},{"$f":"'14 - 15 ans H'!H177","v":7},null,{"$f":"'14 - 15 ans H'!B215","v":"Vincent Marsclais"},{"$f":"'14 - 15 ans H'!H215","v":""},null,null,{"$f":"'Déconte ATHL'!B100","v":"Gatineau"},null,{"$f":"'Déconte ATHL'!C100","v":"Benjamin Lapointe"},{"$f":"'Déconte ATHL'!AJ100","v":54},{"$f":"'Déconte ATHL'!AK100","v":7}]
[{"$f":"'14 - 15 ans H'!B49","v":0},{"$f":"'14 - 15 ans H'!H49","v":""},null,{"$f":"'14 - 15 ans H'!B81","v":0},{"$f":"'14 - 15 ans H'!H81","v":""},null,{"$f":"'14 - 15 ans H'!B115","v":0},{"$f":"'14 - 15 ans H'!H115","v":""},null,{"$f":"'14 - 15 ans H'!B149","v":0},{"$f":"'14 - 15 ans H'!H149","v":""},null,{"$f":"'14 - 15 ans H'!B183","v":0},{"$f":"'14 - 15 ans H'!H183","v":""},null,{"$f":"'14 - 15 ans H'!B216","v":"Benjamin Lapointe"},{"$f":"'14 - 15 ans H'!H216","v":""},null,null,{"$f":"'Déconte ATHL'!B99","v":"Gatineau"},null,{"$f":"'Déconte ATHL'!C99","v":"Vincent Marsclais"},{"$f":"'Déconte ATHL'!AJ99","v":0},{"$f":"'Déconte ATHL'!AK99","v":8}]
[{"$f":"'14 - 15 ans H'!B50","v":0},{"$f":"'14 - 15 ans H'!H50","v":""},null,{"$f":"'14 - 15 ans H'!B82","v":0},{"$f":"'14 - 15 ans H'!H82","v":""},null,{"$f":"'14 - 15 ans H'!B116","v":0},{"$f":"'14 - 15 ans H'!H116","v":""},null,{"$f":"'14 - 15 ans H'!B150","v":0},{"$f":"'14 - 15 ans H'!H150","v":""},null,{"$f":"'14 - 15 ans H'!B184","v":0},{"$f":"'14 - 15 ans H'!H184","v":""},null,{"$f":"'14 - 15 ans H'!B217","v":0},{"$f":"'14 - 15 ans H'!H217","v":""},null,null,{"$f":"'Déconte ATHL'!B101","v":0},null,{"$f":"'Déconte ATHL'!C101","v":0},{"$f":"'Déconte ATHL'!AJ101","v":0},{"$f":"'Déconte ATHL'!AK101","v":8}]
[{"$f":"'14 - 15 ans H'!B51","v":0},{"$f":"'14 - 15 ans H'!H51","v":""},null,{"$f":"'14 - 15 ans H'!B83","v":0},{"$f":"'14 - 15 ans H'!H83","v":""},null,{"$f":"'14 - 15 ans H'!B117","v":0},{"$f":"'14 - 15 ans H'!H117","v":""},null,{"$f":"'14 - 15 ans H'!B151","v":0},{"$f":"'14 - 15 ans H'!H151","v":""},null,{"$f":"'14 - 15 ans H'!B185","v":0},{"$f":"'14 - 15 ans H'!H185","v":""},null,{"$f":"'14 - 15 ans H'!B218","v":0},{"$f":"'14 - 15 ans H'!H218","v":""},null,null,{"$f":"'Déconte ATHL'!B102","v":0},null,{"$f":"'Déconte ATHL'!C102","v":0},{"$f":"'Déconte ATHL'!AJ102","v":0},{"$f":"'Déconte ATHL'!AK102","v":8}]
[{"$f":"'14 - 15 ans H'!B52","v":0},{"$f":"'14 - 15 ans H'!H52","v":""},null,{"$f":"'14 - 15 ans H'!B84","v":0},{"$f":"'14 - 15 ans H'!H84","v":""},null,{"$f":"'14 - 15 ans H'!B118","v":0},{"$f":"'14 - 15 ans H'!H118","v":""},null,{"$f":"'14 - 15 ans H'!B152","v":0},{"$f":"'14 - 15 ans H'!H152","v":""},null,{"$f":"'14 - 15 ans H'!B186","v":0},{"$f":"'14 - 15 ans H'!H186","v":""},null,{"$f":"'14 - 15 ans H'!B219","v":0},{"$f":"'14 - 15 ans H'!H219","v":""},null,null,{"$f":"'Déconte ATHL'!B103","v":0},null,{"$f":"'Déconte ATHL'!C103","v":0},{"$f":"'Déconte ATHL'!AJ103","v":0},{"$f":"'Déconte ATHL'!AK103","v":8}]
[{"$f":"'14 - 15 ans H'!B53","v":0},{"$f":"'14 - 15 ans H'!H53","v":""},null,{"$f":"'14 - 15 ans H'!B85","v":0},{"$f":"'14 - 15 ans H'!H85","v":""},null,{"$f":"'14 - 15 ans H'!B119","v":0},{"$f":"'14 - 15 ans H'!H119","v":""},null,{"$f":"'14 - 15 ans H'!B153","v":0},{"$f":"'14 - 15 ans H'!H153","v":""},null,{"$f":"'14 - 15 ans H'!B187","v":0},{"$f":"'14 - 15 ans H'!H187","v":""},null,{"$f":"'14 - 15 ans H'!B220","v":0},{"$f":"'14 - 15 ans H'!H220","v":""},null,null,{"$f":"'Déconte ATHL'!B104","v":0},null,{"$f":"'Déconte ATHL'!C104","v":0},{"$f":"'Déconte ATHL'!AJ104","v":0},{"$f":"'Déconte ATHL'!AK104","v":8}]
[{"$f":"'14 - 15 ans H'!B54","v":0},{"$f":"'14 - 15 ans H'!H54","v":""},null,{"$f":"'14 - 15 ans H'!B86","v":0},{"$f":"'14 - 15 ans H'!H86","v":""},null,{"$f":"'14 - 15 ans H'!B120","v":0},{"$f":"'14 - 15 ans H'!H120","v":""},null,{"$f":"'14 - 15 ans H'!B154","v":0},{"$f":"'14 - 15 ans H'!H154","v":""},null,{"$f":"'14 - 15 ans H'!B188","v":0},{"$f":"'14 - 15 ans H'!H188","v":""},null,{"$f":"'14 - 15 ans H'!B221","v":0},{"$f":"'14 - 15 ans H'!H221","v":""},null,null,{"$f":"'Déconte ATHL'!B105","v":0},null,{"$f":"'Déconte ATHL'!C105","v":0},{"$f":"'Déconte ATHL'!AJ105","v":0},{"$f":"'Déconte ATHL'!AK105","v":8}]
[{"$f":"'14 - 15 ans H'!B55","v":0},{"$f":"'14 - 15 ans H'!H55","v":""},null,{"$f":"'14 - 15 ans H'!B87","v":0},{"$f":"'14 - 15 ans H'!H87","v":""},null,{"$f":"'14 - 15 ans H'!B121","v":0},{"$f":"'14 - 15 ans H'!H121","v":""},null,{"$f":"'14 - 15 ans H'!B155","v":0},{"$f":"'14 - 15 ans H'!H155","v":""},null,{"$f":"'14 - 15 ans H'!B189","v":0},{"$f":"'14 - 15 ans H'!H189","v":""},null,{"$f":"'14 - 15 ans H'!B222","v":0},{"$f":"'14 - 15 ans H'!H222","v":""},null,null,{"$f":"'Déconte ATHL'!B106","v":0},null,{"$f":"'Déconte ATHL'!C106","v":0},{"$f":"'Déconte ATHL'!AJ106","v":0},{"$f":"'Déconte ATHL'!AK106","v":8}]
[{"$f":"'14 - 15 ans H'!B56","v":0},{"$f":"'14 - 15 ans H'!H56","v":""},null,{"$f":"'14 - 15 ans H'!B88","v":0},{"$f":"'14 - 15 ans H'!H88","v":""},null,{"$f":"'14 - 15 ans H'!B122","v":0},{"$f":"'14 - 15 ans H'!H122","v":""},null,{"$f":"'14 - 15 ans H'!B156","v":0},{"$f":"'14 - 15 ans H'!H156","v":""},null,{"$f":"'14 - 15 ans H'!B190","v":0},{"$f":"'14 - 15 ans H'!H190","v":""},null,{"$f":"'14 - 15 ans H'!B223","v":0},{"$f":"'14 - 15 ans H'!H223","v":""},null,null,{"$f":"'Déconte ATHL'!B107","v":0},null,{"$f":"'Déconte ATHL'!C107","v":0},{"$f":"'Déconte ATHL'!AJ107","v":0},{"$f":"'Déconte ATHL'!AK107","v":8}]
[{"$f":"'14 - 15 ans H'!B57","v":0},{"$f":"'14 - 15 ans H'!H57","v":""},null,{"$f":"'14 - 15 ans H'!B89","v":0},{"$f":"'14 - 15 ans H'!H89","v":""},null,{"$f":"'14 - 15 ans H'!B123","v":0},{"$f":"'14 - 15 ans H'!H123","v":""},null,{"$f":"'14 - 15 ans H'!B157","v":0},{"$f":"'14 - 15 ans H'!H157","v":""},null,{"$f":"'14 - 15 ans H'!B191","v":0},{"$f":"'14 - 15 ans H'!H191","v":""},null,{"$f":"'14 - 15 ans H'!B224","v":0},{"$f":"'14 - 15 ans H'!H224","v":""},null,null,{"$f":"'Déconte ATHL'!B108","v":0},null,{"$f":"'Déconte ATHL'!C108","v":0},{"$f":"'Déconte ATHL'!AJ108","v":0},{"$f":"'Déconte ATHL'!AK108","v":8}]
[{"$f":"'14 - 15 ans H'!B58","v":0},{"$f":"'14 - 15 ans H'!H58","v":""},null,{"$f":"'14 - 15 ans H'!B90","v":0},{"$f":"'14 - 15 ans H'!H90","v":""},null,{"$f":"'14 - 15 ans H'!B124","v":0},{"$f":"'14 - 15 ans H'!H124","v":""},null,{"$f":"'14 - 15 ans H'!B158","v":0},{"$f":"'14 - 15 ans H'!H158","v":""},null,{"$f":"'14 - 15 ans H'!B192","v":0},{"$f":"'14 - 15 ans H'!H192","v":""},null,{"$f":"'14 - 15 ans H'!B225","v":0},{"$f":"'14 - 15 ans H'!H225","v":""},null,null,{"$f":"'Déconte ATHL'!B109","v":0},null,{"$f":"'Déconte ATHL'!C109","v":0},{"$f":"'Déconte ATHL'!AJ109","v":0},{"$f":"'Déconte ATHL'!AK109","v":8}]
[{"$f":"'14 - 15 ans H'!B59","v":0},{"$f":"'14 - 15 ans H'!H59","v":""},null,{"$f":"'14 - 15 ans H'!B91","v":0},{"$f":"'14 - 15 ans H'!H91","v":""},null,{"$f":"'14 - 15 ans H'!B125","v":0},{"$f":"'14 - 15 ans H'!H125","v":""},null,{"$f":"'14 - 15 ans H'!B159","v":0},{"$f":"'14 - 15 ans H'!H159","v":""},null,{"$f":"'14 - 15 ans H'!B193","v":0},{"$f":"'14 - 15 ans H'!H193","v":""},null,{"$f":"'14 - 15 ans H'!B226","v":0},{"$f":"'14 - 15 ans H'!H226","v":""},null,null,{"$f":"'Déconte ATHL'!B110","v":0},null,{"$f":"'Déconte ATHL'!C110","v":0},{"$f":"'Déconte ATHL'!AJ110","v":0},{"$f":"'Déconte ATHL'!AK110","v":8}]
[{"$f":"'14 - 15 ans H'!B60","v":0},{"$f":"'14 - 15 ans H'!H60","v":""},null,{"$f":"'14 - 15 ans H'!B92","v":0},{"$f":"'14 - 15 ans H'!H92","v":""},null,{"$f":"'14 - 15 ans H'!B126","v":0},{"$f":"'14 - 15 ans H'!H126","v":""},null,{"$f":"'14 - 15 ans H'!B160","v":0},{"$f":"'14 - 15 ans H'!H160","v":""},null,{"$f":"'14 - 15 ans H'!B194","v":0},{"$f":"'14 - 15 ans H'!H194","v":""},null,{"$f":"'14 - 15 ans H'!B227","v":0},{"$f":"'14 - 15 ans H'!H227","v":""},null,null,{"$f":"'Déconte ATHL'!B111","v":0},null,{"$f":"'Déconte ATHL'!C111","v":0},{"$f":"'Déconte ATHL'!AJ111","v":0},{"$f":"'Déconte ATHL'!AK111","v":8}]
[{"$f":"'14 - 15 ans H'!B61","v":0},{"$f":"'14 - 15 ans H'!H61","v":""},null,{"$f":"'14 - 15 ans H'!B93","v":0},{"$f":"'14 - 15 ans H'!H93","v":""},null,{"$f":"'14 - 15 ans H'!B127","v":0},{"$f":"'14 - 15 ans H'!H127","v":""},null,{"$f":"'14 - 15 ans H'!B161","v":0},{"$f":"'14 - 15 ans H'!H161","v":""},null,{"$f":"'14 - 15 ans H'!B195","v":0},{"$f":"'14 - 15 ans H'!H195","v":""},null,{"$f":"'14 - 15 ans H'!B228","v":0},{"$f":"'14 - 15 ans H'!H228","v":""},null,null,{"$f":"'Déconte ATHL'!B112","v":0},null,{"$f":"'Déconte ATHL'!C112","v":0},{"$f":"'Déconte ATHL'!AJ112","v":0},{"$f":"'Déconte ATHL'!AK112","v":8}]
[{"$f":"'14 - 15 ans H'!B62","v":0},{"$f":"'14 - 15 ans H'!H62","v":""},null,{"$f":"'14 - 15 ans H'!B94","v":0},{"$f":"'14 - 15 ans H'!H94","v":""},null,{"$f":"'14 - 15 ans H'!B128","v":0},{"$f":"'14 - 15 ans H'!H128","v":""},null,{"$f":"'14 - 15 ans H'!B162","v":0},{"$f":"'14 - 15 ans H'!H162","v":""},null,{"$f":"'14 - 15 ans H'!B196","v":0},{"$f":"'14 - 15 ans H'!H196","v":""},null,{"$f":"'14 - 15 ans H'!B229","v":0},{"$f":"'14 - 15 ans H'!H229","v":""},null,null,{"$f":"'Déconte ATHL'!B113","v":0},null,{"$f":"'Déconte ATHL'!C113","v":0},{"$f":"'Déconte ATHL'!AJ113","v":0},{"$f":"'Déconte ATHL'!AK113","v":8}]
[{"$f":"'14 - 15 ans H'!B63","v":0},{"$f":"'14 - 15 ans H'!H63","v":""},null,{"$f":"'14 - 15 ans H'!B95","v":0},{"$f":"'14 - 15 ans H'!H95","v":""},null,{"$f":"'14 - 15 ans H'!B129","v":0},{"$f":"'14 - 15 ans H'!H129","v":""},null,{"$f":"'14 - 15 ans H'!B163","v":0},{"$f":"'14 - 15 ans H'!H163","v":""},null,{"$f":"'14 - 15 ans H'!B197","v":0},{"$f":"'14 - 15 ans H'!H197","v":""},null,{"$f":"'14 - 15 ans H'!B230","v":0},{"$f":"'14 - 15 ans H'!H230","v":""},null,null,{"$f":"'Déconte ATHL'!B114","v":0},null,{"$f":"'Déconte ATHL'!C114","v":0},{"$f":"'Déconte ATHL'!AJ114","v":0},{"$f":"'Déconte ATHL'!AK114","v":8}]
[{"$f":"'14 - 15 ans H'!B64","v":0},{"$f":"'14 - 15 ans H'!H64","v":""},null,{"$f":"'14 - 15 ans H'!B96","v":0},{"$f":"'14 - 15 ans H'!H96","v":""},null,{"$f":"'14 - 15 ans H'!B130","v":0},{"$f":"'14 - 15 ans H'!H130","v":""},null,{"$f":"'14 - 15 ans H'!B164","v":0},{"$f":"'14 - 15 ans H'!H164","v":""},null,{"$f":"'14 - 15 ans H'!B198","v":0},{"$f":"'14 - 15 ans H'!H198","v":""},null,{"$f":"'14 - 15 ans H'!B231","v":0},{"$f":"'14 - 15 ans H'!H231","v":""},null,null,{"$f":"'Déconte ATHL'!B115","v":0},null,{"$f":"'Déconte ATHL'!C115","v":0},{"$f":"'Déconte ATHL'!AJ115","v":0},{"$f":"'Déconte ATHL'!AK115","v":8}]
[{"$f":"'14 - 15 ans H'!B65","v":0},{"$f":"'14 - 15 ans H'!H65","v":""},null,{"$f":"'14 - 15 ans H'!B97","v":0},{"$f":"'14 - 15 ans H'!H97","v":""},null,{"$f":"'14 - 15 ans H'!B131","v":0},{"$f":"'14 - 15 ans H'!H131","v":""},null,{"$f":"'14 - 15 ans H'!B165","v":0},{"$f":"'14 - 15 ans H'!H165","v":""},null,{"$f":"'14 - 15 ans H'!B199","v":0},{"$f":"'14 - 15 ans H'!H199","v":""},null,{"$f":"'14 - 15 ans H'!B232","v":0},{"$f":"'14 - 15 ans H'!H232","v":""},null,null,{"$f":"'Déconte ATHL'!B116","v":0},null,{"$f":"'Déconte ATHL'!C116","v":0},{"$f":"'Déconte ATHL'!AJ116","v":0},{"$f":"'Déconte ATHL'!AK116","v":8}]
[{"$f":"'14 - 15 ans H'!B66","v":0},{"$f":"'14 - 15 ans H'!H66","v":""},null,{"$f":"'14 - 15 ans H'!B98","v":0},{"$f":"'14 - 15 ans H'!H98","v":""},null,{"$f":"'14 - 15 ans H'!B132","v":0},{"$f":"'14 - 15 ans H'!H132","v":""},null,{"$f":"'14 - 15 ans H'!B166","v":0},{"$f":"'14 - 15 ans H'!H166","v":""},null,{"$f":"'14 - 15 ans H'!B200","v":0},{"$f":"'14 - 15 ans H'!H200","v":""},null,{"$f":"'14 - 15 ans H'!B233","v":0},{"$f":"'14 - 15 ans H'!H233","v":""},null,null,{"$f":"'Déconte ATHL'!B117","v":0},null,{"$f":"'Déconte ATHL'!C117","v":0},{"$f":"'Déconte ATHL'!AJ117","v":0},{"$f":"'Déconte ATHL'!AK117","v":8}]
[{"$f":"'14 - 15 ans H'!B67","v":0},{"$f":"'14 - 15 ans H'!H67","v":""},null,{"$f":"'14 - 15 ans H'!B99","v":0},{"$f":"'14 - 15 ans H'!H99","v":""},null,{"$f":"'14 - 15 ans H'!B133","v":0},{"$f":"'14 - 15 ans H'!H133","v":""},null,{"$f":"'14 - 15 ans H'!B167","v":0},{"$f":"'14 - 15 ans H'!H167","v":""},null,{"$f":"'14 - 15 ans H'!B201","v":0},{"$f":"'14 - 15 ans H'!H201","v":""},null,{"$f":"'14 - 15 ans H'!B234","v":0},{"$f":"'14 - 15 ans H'!H234","v":""},null,null,{"$f":"'Déconte ATHL'!B118","v":0},null,{"$f":"'Déconte ATHL'!C118","v":0},{"$f":"'Déconte ATHL'!AJ118","v":0},{"$f":"'Déconte ATHL'!AK118","v":8}]
[{"$f":"'14 - 15 ans H'!B68","v":0},{"$f":"'14 - 15 ans H'!H68","v":""},null,{"$f":"'14 - 15 ans H'!B100","v":0},{"$f":"'14 - 15 ans H'!H100","v":""},null,{"$f":"'14 - 15 ans H'!B134","v":0},{"$f":"'14 - 15 ans H'!H134","v":""},null,{"$f":"'14 - 15 ans H'!B168","v":0},{"$f":"'14 - 15 ans H'!H168","v":""},null,{"$f":"'14 - 15 ans H'!B202","v":0},{"$f":"'14 - 15 ans H'!H202","v":""},null,{"$f":"'14 - 15 ans H'!B235","v":0},{"$f":"'14 - 15 ans H'!H235","v":""},null,null,{"$f":"'Déconte ATHL'!B119","v":0},null,{"$f":"'Déconte ATHL'!C119","v":0},{"$f":"'Déconte ATHL'!AJ119","v":0},{"$f":"'Déconte ATHL'!AK119","v":8}]
[{"$f":"'14 - 15 ans H'!B45","v":"Vincent Marsclais"},{"$f":"'14 - 15 ans H'!H45","v":"DNS"},null,{"$f":"'14 - 15 ans H'!B101","v":0},{"$f":"'14 - 15 ans H'!H101","v":""},null,{"$f":"'14 - 15 ans H'!B135","v":0},{"$f":"'14 - 15 ans H'!H135","v":""},null,{"$f":"'14 - 15 ans H'!B169","v":0},{"$f":"'14 - 15 ans H'!H169","v":""},null,{"$f":"'14 - 15 ans H'!B203","v":0},{"$f":"'14 - 15 ans H'!H203","v":""},null,{"$f":"'14 - 15 ans H'!B236","v":0},{"$f":"'14 - 15 ans H'!H236","v":""},null,null,{"$f":"'Déconte ATHL'!B120","v":0},null,{"$f":"'Déconte ATHL'!C120","v":0},{"$f":"'Déconte ATHL'!AJ120","v":0},{"$f":"'Déconte ATHL'!AK120","v":8}]
[{"$f":"'14 - 15 ans H'!B44","v":"Jonathan St-Roch"},{"$f":"'14 - 15 ans H'!H44","v":"DQ"},null,{"$f":"'14 - 15 ans H'!B102","v":0},{"$f":"'14 - 15 ans H'!H102","v":""},null,{"$f":"'14 - 15 ans H'!B136","v":0},{"$f":"'14 - 15 ans H'!H136","v":""},null,{"$f":"'14 - 15 ans H'!B170","v":0},{"$f":"'14 - 15 ans H'!H170","v":""},null,{"$f":"'14 - 15 ans H'!B204","v":0},{"$f":"'14 - 15 ans H'!H204","v":""},null,{"$f":"'14 - 15 ans H'!B237","v":0},{"$f":"'14 - 15 ans H'!H237","v":""},null,null,{"$f":"'Déconte ATHL'!B121","v":0},null,{"$f":"'Déconte ATHL'!C121","v":0},{"$f":"'Déconte ATHL'!AJ121","v":0},{"$f":"'Déconte ATHL'!AK121","v":8}]
[{"$f":"'14 - 15 ans H'!B46","v":"Benjamin Lapointe"},{"$f":"'14 - 15 ans H'!H46","v":"DQ"},null,{"$f":"'14 - 15 ans H'!B79","v":"Vincent Marsclais"},{"$f":"'14 - 15 ans H'!H79","v":"DNS"},null,{"$f":"'14 - 15 ans H'!B113","v":"Vincent Marsclais"},{"$f":"'14 - 15 ans H'!H113","v":"DNS"},null,{"$f":"'14 - 15 ans H'!B147","v":"Vincent Marsclais"},{"$f":"'14 - 15 ans H'!H147","v":"DNS"},null,{"$f":"'14 - 15 ans H'!B181","v":"Vincent Marsclais"},{"$f":"'14 - 15 ans H'!H181","v":"DNS"},null,{"$f":"'14 - 15 ans H'!B238","v":0},{"$f":"'14 - 15 ans H'!H238","v":""},null,null,{"$f":"'Déconte ATHL'!B122","v":0},null,{"$f":"'Déconte ATHL'!C122","v":0},{"$f":"'Déconte ATHL'!AJ122","v":0},{"$f":"'Déconte ATHL'!AK122","v":8}]
[]
["Juniors Corde"]
["Femme",null,null,null,null,null,"Homme"]
["Noms",null,null,null,"R",null,"Noms",null,null,null,"R"]
[{"$f":"'Résultats PRÉLIMINAIRES'!B141","v":0},null,{"$f":"'Résultats PRÉLIMINAIRES'!B142","v":0},null,{"$f":"'Résultats PRÉLIMINAIRES'!C141","v":""},null,{"$f":"'Résultats PRÉLIMINAIRES'!F141","v":0},null,{"$f":"'Résultats PRÉLIMINAIRES'!F142","v":0},null,{"$f":"'Résultats PRÉLIMINAIRES'!L141","v":""}]
[{"$f":"'Résultats PRÉLIMINAIRES'!B143","v":0},null,{"$f":"'Résultats PRÉLIMINAIRES'!B144","v":0},null,{"$f":"'Résultats PRÉLIMINAIRES'!C143","v":""},null,{"$f":"'Résultats PRÉLIMINAIRES'!F143","v":0},null,{"$f":"'Résultats PRÉLIMINAIRES'!F144","v":0},null,{"$f":"'Résultats PRÉLIMINAIRES'!L143","v":""}]
[{"$f":"'Résultats PRÉLIMINAIRES'!B145","v":0},null,{"$f":"'Résultats PRÉLIMINAIRES'!B146","v":0},null,{"$f":"'Résultats PRÉLIMINAIRES'!C145","v":""},null,{"$f":"'Résultats PRÉLIMINAIRES'!F147","v":0},null,{"$f":"'Résultats PRÉLIMINAIRES'!F148","v":0},null,{"$f":"'Résultats PRÉLIMINAIRES'!L147","v":""}]
[{"$f":"'Résultats PRÉLIMINAIRES'!B147","v":0},null,{"$f":"'Résultats PRÉLIMINAIRES'!B148","v":0},null,{"$f":"'Résultats PRÉLIMINAIRES'!C147","v":""},null,{"$f":"'Résultats PRÉLIMINAIRES'!F149","v":0},null,{"$f":"'Résultats PRÉLIMINAIRES'!F150","v":0},null,{"$f":"'Résultats PRÉLIMINAIRES'!L149","v":""}]
[{"$f":"'Résultats PRÉLIMINAIRES'!B149","v":0},null,{"$f":"'Résultats PRÉLIMINAIRES'!B150","v":0},null,{"$f":"'Résultats PRÉLIMINAIRES'!C149","v":""},null,{"$f":"'Résultats PRÉLIMINAIRES'!F151","v":0},null,{"$f":"'Résultats PRÉLIMINAIRES'!F152","v":0},null,{"$f":"'Résultats PRÉLIMINAIRES'!L151","v":""}]
[{"$f":"'Résultats PRÉLIMINAIRES'!B151","v":0},null,{"$f":"'Résultats PRÉLIMINAIRES'!B152","v":0},null,{"$f":"'Résultats PRÉLIMINAIRES'!C151","v":""},null,{"$f":"'Résultats PRÉLIMINAIRES'!F153","v":0},null,{"$f":"'Résultats PRÉLIMINAIRES'!F154","v":0},null,{"$f":"'Résultats PRÉLIMINAIRES'!L153","v":""}]
[{"$f":"'Résultats PRÉLIMINAIRES'!B153","v":0},null,{"$f":"'Résultats PRÉLIMINAIRES'!B154","v":0},null,{"$f":"'Résultats PRÉLIMINAIRES'!C153","v":""},null,{"$f":"'Résultats PRÉLIMINAIRES'!F155","v":0},null,{"$f":"'Résultats PRÉLIMINAIRES'!F156","v":0},null,{"$f":"'Résultats PRÉLIMINAIRES'!L155","v":""}]
[{"$f":"'Résultats PRÉLIMINAIRES'!B155","v":0},null,{"$f":"'Résultats PRÉLIMINAIRES'!B156","v":0},null,{"$f":"'Résultats PRÉLIMINAIRES'!C155","v":""},null,{"$f":"'Résultats PRÉLIMINAIRES'!F157","v":0},null,{"$f":"'Résultats PRÉLIMINAIRES'!F158","v":0},null,{"$f":"'Résultats PRÉLIMINAIRES'!L157","v":""}]
[{"$f":"'Résultats PRÉLIMINAIRES'!B157","v":0},null,{"$f":"'Résultats PRÉLIMINAIRES'!B158","v":0},null,{"$f":"'Résultats PRÉLIMINAIRES'!C157","v":""},null,{"$f":"'Résultats PRÉLIMINAIRES'!F159","v":0},null,{"$f":"'Résultats PRÉLIMINAIRES'!F160","v":0},null,{"$f":"'Résultats PRÉLIMINAIRES'!L159","v":""}]
[{"$f":"'Résultats PRÉLIMINAIRES'!B159","v":0},null,{"$f":"'Résultats PRÉLIMINAIRES'!B160","v":0},null,{"$f":"'Résultats PRÉLIMINAIRES'!C159","v":""},null,{"$f":"'Résultats PRÉLIMINAIRES'!F161","v":0},null,{"$f":"'Résultats PRÉLIMINAIRES'!F162","v":0},null,{"$f":"'Résultats PRÉLIMINAIRES'!L161","v":""}]
[{"$f":"'Résultats PRÉLIMINAIRES'!B161","v":0},null,{"$f":"'Résultats PRÉLIMINAIRES'!B162","v":0},null,{"$f":"'Résultats PRÉLIMINAIRES'!C161","v":""},null,{"$f":"'Résultats PRÉLIMINAIRES'!F163","v":0},null,{"$f":"'Résultats PRÉLIMINAIRES'!F164","v":0},null,{"$f":"'Résultats PRÉLIMINAIRES'!L163","v":""}]
[{"$f":"'Résultats PRÉLIMINAIRES'!B163","v":0},null,{"$f":"'Résultats PRÉLIMINAIRES'!B164","v":0},null,{"$f":"'Résultats PRÉLIMINAIRES'!C163","v":""},null,{"$f":"'Résultats PRÉLIMINAIRES'!F165","v":0},null,{"$f":"'Résultats PRÉLIMINAIRES'!F166","v":0},null,{"$f":"'Résultats PRÉLIMINAIRES'!L165","v":""}]
[{"$f":"'Résultats PRÉLIMINAIRES'!B165","v":0},null,{"$f":"'Résultats PRÉLIMINAIRES'!B166","v":0},null,{"$f":"'Résultats PRÉLIMINAIRES'!C165","v":""},null,{"$f":"'Résultats PRÉLIMINAIRES'!F167","v":0},null,{"$f":"'Résultats PRÉLIMINAIRES'!F168","v":0},null,{"$f":"'Résultats PRÉLIMINAIRES'!L167","v":""}]
[{"$f":"'Résultats PRÉLIMINAIRES'!B167","v":0},null,{"$f":"'Résultats PRÉLIMINAIRES'!B168","v":0},null,{"$f":"'Résultats PRÉLIMINAIRES'!C167","v":""},null,{"$f":"'Résultats PRÉLIMINAIRES'!F169","v":0},null,{"$f":"'Résultats PRÉLIMINAIRES'!F170","v":0},null,{"$f":"'Résultats PRÉLIMINAIRES'!L169","v":""}]
[{"$f":"'Résultats PRÉLIMINAIRES'!B169","v":0},null,{"$f":"'Résultats PRÉLIMINAIRES'!B170","v":0},null,{"$f":"'Résultats PRÉLIMINAIRES'!C169","v":""},null,{"$f":"'Résultats PRÉLIMINAIRES'!F145","v":0},null,{"$f":"'Résultats PRÉLIMINAIRES'!F146","v":0},null,{"$f":"'Résultats PRÉLIMINAIRES'!L145","v":""}]
[]
["Résultats - Senior Femme",null,null,null,null,null,null,null,null,null,null,null,null,null,null,null,null,null,null,"Pentathlon par athlètes"]
["Remorquage",null,null,"Obstacle",null,null,"Portage  + palme",null,null,"Portage",null,null,"Sauveteur d'acier",null,null,"Medley sauvetage",null,null,null,"Senior Femme"]
["Nom","R",null,"Nom","R",null,"Nom","R",null,"Nom","R",null,"Nom","R",null,"Nom","R",null,null,"Club",null,"Nom","Points","R"]
[{"$f":"'Senior F'!B52","v":"Alexandra Ladouceur"},{"$f":"'Senior F'!H52","v":1},null,{"$f":"'Senior F'!B88","v":"Sarah-Laurence Morin"},{"$f":"'Senior F'!H88","v":1},null,{"$f":"'Senior F'!B120","v":"Alexandra Ladouceur"},{"$f":"'Senior F'!H120","v":1},null,{"$f":"'Senior F'!B156","v":"Sarah-Laurence Morin"},{"$f":"'Senior F'!H156","v":1},null,{"$f":"'Senior F'!B190","v":"Sarah-Laurence Morin"},{"$f":"'Senior F'!H190","v":1},null,{"$f":"'Senior F'!B209","v":"Célia Crivellaro Kingsbury"},{"$f":"'Senior F'!H209","v":""},null,null,{"$f":"'Déconte ATHL'!B138","v":"30deux"},null,{"$f":"'Déconte ATHL'!C138","v":"Sarah-Laurence Morin"},{"$f":"'Déconte ATHL'!AV138","v":94},{"$f":"'Déconte ATHL'!AW138","v":1}]
[{"$f":"'Senior F'!B46","v":"Claudine Courteau-Godmaire"},{"$f":"'Senior F'!H46","v":2},null,{"$f":"'Senior F'!B87","v":"Camille Gaudreault"},{"$f":"'Senior F'!H87","v":2},null,{"$f":"'Senior F'!B122","v":"Sarah-Laurence Morin"},{"$f":"'Senior F'!H122","v":2},null,{"$f":"'Senior F'!B154","v":"Alexandra Ladouceur"},{"$f":"'Senior F'!H154","v":2},null,{"$f":"'Senior F'!B189","v":"Camille Gaudreault"},{"$f":"'Senior F'!H189","v":2},null,{"$f":"'Senior F'!B210","v":"Laurence Lamarre"},{"$f":"'Senior F'!H210","v":""},null,null,{"$f":"'Déconte ATHL'!B130","v":"Rouville Surf"},null,{"$f":"'Déconte ATHL'!C130","v":"Claudine Courteau-Godmaire"},{"$f":"'Déconte ATHL'!AV130","v":78},{"$f":"'Déconte ATHL'!AW130","v":2}]
[{"$f":"'Senior F'!B54","v":"Sarah-Laurence Morin"},{"$f":"'Senior F'!H54","v":3},null,{"$f":"'Senior F'!B80","v":"Claudine Courteau-Godmaire"},{"$f":"'Senior F'!H80","v":3},null,{"$f":"'Senior F'!B114","v":"Claudine Courteau-Godmaire"},{"$f":"'Senior F'!H114","v":3},null,{"$f":"'Senior F'!B143","v":"Émilie Boulerne"},{"$f":"'Senior F'!H143","v":3},null,{"$f":"'Senior F'!B188","v":"Alexandra Ladouceur"},{"$f":"'Senior F'!H188","v":3},null,{"$f":"'Senior F'!B211","v":"Émilie Boulerne"},{"$f":"'Senior F'!H211","v":""},null,null,{"$f":"'Déconte ATHL'!B136","v":"30deux"},null,{"$f":"'Déconte ATHL'!C136","v":"Alexandra Ladouceur"},{"$f":"'Déconte ATHL'!AV136","v":74},{"$f":"'Déconte ATHL'!AW136","v":3}]
[{"$f":"'Senior F'!B53","v":"Camille Gaudreault"},{"$f":"'Senior F'!H53","v":4},null,{"$f":"'Senior F'!B75","v":"Émilie Boulerne"},{"$f":"'Senior F'!H75","v":4},null,{"$f":"'Senior F'!B113","v":"Marie-Hélène Paquette"},{"$f":"'Senior F'!H113","v":4},null,{"$f":"'Senior F'!B148","v":"Claudine Courteau-Godmaire"},{"$f":"'Senior F'!H148","v":4},null,{"$f":"'Senior F'!B182","v":"Claudine Courteau-Godmaire"},{"$f":"'Senior F'!H182","v":4},null,{"$f":"'Senior F'!B212","v":"Caroline Arcand"},{"$f":"'Senior F'!H212","v":""},null,null,{"$f":"'Déconte ATHL'!B137","v":"30deux"},null,{"$f":"'Déconte ATHL'!C137","v":"Camille Gaudreault"},{"$f":"'Déconte ATHL'!AV137","v":71},{"$f":"'Déconte ATHL'!AW137","v":4}]
[{"$f":"'Senior F'!B48","v":"Gabrièle St-Georges"},{"$f":"'Senior F'!H48","v":5},null,{"$f":"'Senior F'!B81","v":"Ana Jaimes"},{"$f":"'Senior F'!H81","v":5},null,{"$f":"'Senior F'!B121","v":"Camille Gaudreault"},{"$f":"'Senior F'!H121","v":5},null,{"$f":"'Senior F'!B151","v":"Mariama Keita"},{"$f":"'Senior F'!H151","v":5},null,{"$f":"'Senior F'!B177","v":"Émilie Boulerne"},{"$f":"'Senior F'!H177","v":5},null,{"$f":"'Senior F'!B213","v":"Tamara Jacques"},{"$f":"'Senior F'!H213","v":""},null,null,{"$f":"'Déconte ATHL'!B125","v":"CASO"},null,{"$f":"'Déconte ATHL'!C125","v":"Émilie Boulerne"},{"$f":"'Déconte ATHL'!AV125","v":62},{"$f":"'Déconte ATHL'!AW125","v":5}]
[{"$f":"'Senior F'!B49","v":"Mariama Keita"},{"$f":"'Senior F'!H49","v":6},null,{"$f":"'Senior F'!B83","v":"Mariama Keita"},{"$f":"'Senior F'!H83","v":6},null,{"$f":"'Senior F'!B109","v":"Émilie Boulerne"},{"$f":"'Senior F'!H109","v":6},null,{"$f":"'Senior F'!B145","v":"Tamara Jacques"},{"$f":"'Senior F'!H145","v":6},null,{"$f":"'Senior F'!B178","v":"Caroline Arcand"},{"$f":"'Senior F'!H178","v":6},null,{"$f":"'Senior F'!B214","v":"Josée Miron"},{"$f":"'Senior F'!H214","v":""},null,null,{"$f":"'Déconte ATHL'!B126","v":"Dam'eauclès"},null,{"$f":"'Déconte ATHL'!C126","v":"Caroline Arcand"},{"$f":"'Déconte ATHL'!AV126","v":53},{"$f":"'Déconte ATHL'!AW126","v":6}]
[{"$f":"'Senior F'!B40","v":"Laurence Lamarre"},{"$f":"'Senior F'!H40","v":7},null,{"$f":"'Senior F'!B76","v":"Caroline Arcand"},{"$f":"'Senior F'!H76","v":7},null,{"$f":"'Senior F'!B110","v":"Caroline Arcand"},{"$f":"'Senior F'!H110","v":7},null,{"$f":"'Senior F'!B144","v":"Caroline Arcand"},{"$f":"'Senior F'!H144","v":7},null,{"$f":"'Senior F'!B184","v":"Gabrièle St-Georges"},{"$f":"'Senior F'!H184","v":7},null,{"$f":"'Senior F'!B215","v":"Marie-Hélène Paquette"},{"$f":"'Senior F'!H215","v":""},null,null,{"$f":"'Déconte ATHL'!B133","v":"Rouville Surf"},null,{"$f":"'Déconte ATHL'!C133","v":"Mariama Keita"},{"$f":"'Déconte ATHL'!AV133","v":52},{"$f":"'Déconte ATHL'!AW133","v":7}]
[{"$f":"'Senior F'!B51","v":"Emmanuelle Hudon"},{"$f":"'Senior F'!H51","v":8},null,{"$f":"'Senior F'!B74","v":"Laurence Lamarre"},{"$f":"'Senior F'!H74","v":8},null,{"$f":"'Senior F'!B116","v":"Gabrièle St-Georges"},{"$f":"'Senior F'!H116","v":8},null,{"$f":"'Senior F'!B149","v":"Ana Jaimes"},{"$f":"'Senior F'!H149","v":8},null,{"$f":"'Senior F'!B176","v":"Laurence Lamarre"},{"$f":"'Senior F'!H176","v":8},null,{"$f":"'Senior F'!B216","v":"Claudine Courteau-Godmaire"},{"$f":"'Senior F'!H216","v":""},null,null,{"$f":"'Déconte ATHL'!B132","v":"Rouville Surf"},null,{"$f":"'Déconte ATHL'!C132","v":"Gabrièle St-Georges"},{"$f":"'Déconte ATHL'!AV132","v":48},{"$f":"'Déconte ATHL'!AW132","v":8}]
[{"$f":"'Senior F'!B42","v":"Caroline Arcand"},{"$f":"'Senior F'!H42","v":9},null,{"$f":"'Senior F'!B85","v":"Emmanuelle Hudon"},{"$f":"'Senior F'!H85","v":9},null,{"$f":"'Senior F'!B117","v":"Mariama Keita"},{"$f":"'Senior F'!H117","v":9},null,{"$f":"'Senior F'!B155","v":"Camille Gaudreault"},{"$f":"'Senior F'!H155","v":9},null,{"$f":"'Senior F'!B183","v":"Ana Jaimes"},{"$f":"'Senior F'!H183","v":9},null,{"$f":"'Senior F'!B217","v":"Ana Jaimes"},{"$f":"'Senior F'!H217","v":""},null,null,{"$f":"'Déconte ATHL'!B131","v":"Rouville Surf"},null,{"$f":"'Déconte ATHL'!C131","v":"Ana Jaimes"},{"$f":"'Déconte ATHL'!AV131","v":43},{"$f":"'Déconte ATHL'!AW131","v":9}]
[{"$f":"'Senior F'!B41","v":"Émilie Boulerne"},{"$f":"'Senior F'!H41","v":10},null,{"$f":"'Senior F'!B82","v":"Gabrièle St-Georges"},{"$f":"'Senior F'!H82","v":10},null,{"$f":"'Senior F'!B108","v":"Laurence Lamarre"},{"$f":"'Senior F'!H108","v":10},null,{"$f":"'Senior F'!B150","v":"Gabrièle St-Georges"},{"$f":"'Senior F'!H150","v":10},null,{"$f":"'Senior F'!B185","v":"Mariama Keita"},{"$f":"'Senior F'!H185","v":10},null,{"$f":"'Senior F'!B218","v":"Gabrièle St-Georges"},{"$f":"'Senior F'!H218","v":""},null,null,{"$f":"'Déconte ATHL'!B124","v":"CASO"},null,{"$f":"'Déconte ATHL'!C124","v":"Laurence Lamarre"},{"$f":"'Déconte ATHL'!AV124","v":38},{"$f":"'Déconte ATHL'!AW124","v":10}]
[{"$f":"'Senior F'!B47","v":"Ana Jaimes"},{"$f":"'Senior F'!H47","v":11},null,{"$f":"'Senior F'!B73","v":"Célia Crivellaro Kingsbury"},{"$f":"'Senior F'!H73","v":11},null,{"$f":"'Senior F'!B115","v":"Ana Jaimes"},{"$f":"'Senior F'!H115","v":11},null,{"$f":"'Senior F'!B141","v":"Célia Crivellaro Kingsbury"},{"$f":"'Senior F'!H141","v":11},null,{"$f":"'Senior F'!B179","v":"Tamara Jacques"},{"$f":"'Senior F'!H179","v":11},null,{"$f":"'Senior F'!B219","v":"Mariama Keita"},{"$f":"'Senior F'!H219","v":""},null,null,{"$f":"'Déconte ATHL'!B127","v":"Dam'eauclès"},null,{"$f":"'Déconte ATHL'!C127","v":"Tamara Jacques"},{"$f":"'Déconte ATHL'!AV127","v":30},{"$f":"'Déconte ATHL'!AW127","v":11}]
[{"$f":"'Senior F'!B39","v":"Célia Crivellaro Kingsbury"},{"$f":"'Senior F'!H39","v":12},null,{"$f":"'Senior F'!B77","v":"Tamara Jacques"},{"$f":"'Senior F'!H77","v":12},null,{"$f":"'Senior F'!B119","v":"Emmanuelle Hudon"},{"$f":"'Senior F'!H119","v":12},null,{"$f":"'Senior F'!B158","v":"Raphaëlle Tétreault"},{"$f":"'Senior F'!H158","v":12},null,{"$f":"'Senior F'!B175","v":"Célia Crivellaro Kingsbury"},{"$f":"'Senior F'!H175","v":12},null,{"$f":"'Senior F'!B220","v":"Marie-Pier Anctil"},{"$f":"'Senior F'!H220","v":""},null,null,{"$f":"'Déconte ATHL'!B135","v":"30deux"},null,{"$f":"'Déconte ATHL'!C135","v":"Emmanuelle Hudon"},{"$f":"'Déconte ATHL'!AV135","v":27},{"$f":"'Déconte ATHL'!AW135","v":12}]
[{"$f":"'Senior F'!B43","v":"Tamara Jacques"},{"$f":"'Senior F'!H43","v":13},null,{"$f":"'Senior F'!B91","v":"Isabelle Carrier"},{"$f":"'Senior F'!H91","v":13},null,{"$f":"'Senior F'!B107","v":"Célia Crivellaro Kingsbury"},{"$f":"'Senior F'!H107","v":13},null,{"$f":"'Senior F'!B153","v":"Emmanuelle Hudon"},{"$f":"'Senior F'!H153","v":13},null,{"$f":"'Senior F'!B180","v":"Josée Miron"},{"$f":"'Senior F'!H180","v":13},null,{"$f":"'Senior F'!B221","v":"Emmanuelle Hudon"},{"$f":"'Senior F'!H221","v":""},null,null,{"$f":"'Déconte ATHL'!B123","v":"SSSL"},null,{"$f":"'Déconte ATHL'!C123","v":"Célia Crivellaro Kingsbury"},{"$f":"'Déconte ATHL'!AV123","v":26},{"$f":"'Déconte ATHL'!AW123","v":13}]
[{"$f":"'Senior F'!B56","v":"Raphaëlle Tétreault"},{"$f":"'Senior F'!H56","v":14},null,{"$f":"'Senior F'!B84","v":"Marie-Pier Anctil"},{"$f":"'Senior F'!H84","v":14},null,{"$f":"'Senior F'!B111","v":"Tamara Jacques"},{"$f":"'Senior F'!H111","v":14},null,{"$f":"'Senior F'!B152","v":"Marie-Pier Anctil"},{"$f":"'Senior F'!H152","v":14},null,{"$f":"'Senior F'!B195","v":0},{"$f":"'Senior F'!H195","v":""},null,{"$f":"'Senior F'!B222","v":"Alexandra Ladouceur"},{"$f":"'Senior F'!H222","v":""},null,null,{"$f":"'Déconte ATHL'!B129","v":"Rouville Surf"},null,{"$f":"'Déconte ATHL'!C129","v":"Marie-Hélène Paquette"},{"$f":"'Déconte ATHL'!AV129","v":14},{"$f":"'Déconte ATHL'!AW129","v":14}]
[{"$f":"'Senior F'!B50","v":"Marie-Pier Anctil"},{"$f":"'Senior F'!H50","v":15},null,{"$f":"'Senior F'!B92","v":"Jessica Carrier"},{"$f":"'Senior F'!H92","v":15},null,{"$f":"'Senior F'!B125","v":"Isabelle Carrier"},{"$f":"'Senior F'!H125","v":15},null,{"$f":"'Senior F'!B146","v":"Josée Miron"},{"$f":"'Senior F'!H146","v":15},null,{"$f":"'Senior F'!B196","v":0},{"$f":"'Senior F'!H196","v":""},null,{"$f":"'Senior F'!B223","v":"Camille Gaudreault"},{"$f":"'Senior F'!H223","v":""},null,null,{"$f":"'Déconte ATHL'!B134","v":"30deux"},null,{"$f":"'Déconte ATHL'!C134","v":"Marie-Pier Anctil"},{"$f":"'Déconte ATHL'!AV134","v":9},{"$f":"'Déconte ATHL'!AW134","v":15}]
[{"$f":"'Senior F'!B58","v":"Jessica Carrier"},{"$f":"'Senior F'!H58","v":16},null,{"$f":"'Senior F'!B78","v":"Josée Miron"},{"$f":"'Senior F'!H78","v":16},null,{"$f":"'Senior F'!B118","v":"Marie-Pier Anctil"},{"$f":"'Senior F'!H118","v":16},null,{"$f":"'Senior F'!B159","v":"Isabelle Carrier"},{"$f":"'Senior F'!H159","v":16},null,{"$f":"'Senior F'!B197","v":0},{"$f":"'Senior F'!H197","v":""},null,{"$f":"'Senior F'!B224","v":"Sarah-Laurence Morin"},{"$f":"'Senior F'!H224","v":""},null,null,{"$f":"'Déconte ATHL'!B140","v":"CSRN"},null,{"$f":"'Déconte ATHL'!C140","v":"Raphaëlle Tétreault"},{"$f":"'Déconte ATHL'!AV140","v":8},{"$f":"'Déconte ATHL'!AW140","v":16}]
[{"$f":"'Senior F'!B44","v":"Josée Miron"},{"$f":"'Senior F'!H44","v":17},null,{"$f":"'Senior F'!B93","v":0},{"$f":"'Senior F'!H93","v":""},null,{"$f":"'Senior F'!B126","v":"Jessica Carrier"},{"$f":"'Senior F'!H126","v":17},null,{"$f":"'Senior F'!B160","v":"Jessica Carrier"},{"$f":"'Senior F'!H160","v":17},null,{"$f":"'Senior F'!B198","v":0},{"$f":"'Senior F'!H198","v":""},null,{"$f":"'Senior F'!B225","v":"Noémie Desjardins"},{"$f":"'Senior F'!H225","v":""},null,null,{"$f":"'Déconte ATHL'!B141","v":"Gatineau"},null,{"$f":"'Déconte ATHL'!C141","v":"Isabelle Carrier"},{"$f":"'Déconte ATHL'!AV141","v":7},{"$f":"'Déconte ATHL'!AW141","v":17}]
[{"$f":"'Senior F'!B59","v":0},{"$f":"'Senior F'!H59","v":""},null,{"$f":"'Senior F'!B94","v":0},{"$f":"'Senior F'!H94","v":""},null,{"$f":"'Senior F'!B112","v":"Josée Miron"},{"$f":"'Senior F'!H112","v":18},null,{"$f":"'Senior F'!B161","v":0},{"$f":"'Senior F'!H161","v":""},null,{"$f":"'Senior F'!B199","v":0},{"$f":"'Senior F'!H199","v":""},null,{"$f":"'Senior F'!B226","v":"Raphaëlle Tétreault"},{"$f":"'Senior F'!H226","v":""},null,null,{"$f":"'Déconte ATHL'!B128","v":"O'méga"},null,{"$f":"'Déconte ATHL'!C128","v":"Josée Miron"},{"$f":"'Déconte ATHL'!AV128","v":7},{"$f":"'Déconte ATHL'!AW128","v":17}]
[{"$f":"'Senior F'!B60","v":0},{"$f":"'Senior F'!H60","v":""},null,{"$f":"'Senior F'!B95","v":0},{"$f":"'Senior F'!H95","v":""},null,{"$f":"'Senior F'!B124","v":"Raphaëlle Tétreault"},{"$f":"'Senior F'!H124","v":19},null,{"$f":"'Senior F'!B162","v":0},{"$f":"'Senior F'!H162","v":""},null,{"$f":"'Senior F'!B200","v":0},{"$f":"'Senior F'!H200","v":""},null,{"$f":"'Senior F'!B227","v":"Isabelle Carrier"},{"$f":"'Senior F'!H227","v":""},null,null,{"$f":"'Déconte ATHL'!B142","v":"Gatineau"},null,{"$f":"'Déconte ATHL'!C142","v":"Jessica Carrier"},{"$f":"'Déconte ATHL'!AV142","v":3},{"$f":"'Déconte ATHL'!AW142","v":19}]
[{"$f":"'Senior F'!B61","v":0},{"$f":"'Senior F'!H61","v":""},null,{"$f":"'Senior F'!B96","v":0},{"$f":"'Senior F'!H96","v":""},null,{"$f":"'Senior F'!B127","v":0},{"$f":"'Senior F'!H127","v":""},null,{"$f":"'Senior F'!B163","v":0},{"$f":"'Senior F'!H163","v":""},null,{"$f":"'Senior F'!B201","v":0},{"$f":"'Senior F'!H201","v":""},null,{"$f":"'Senior F'!B228","v":"Jessica Carrier"},{"$f":"'Senior F'!H228","v":""},null,null,{"$f":"'Déconte ATHL'!B139","v":"30deux"},null,{"$f":"'Déconte ATHL'!C139","v":"Noémie Desjardins"},{"$f":"'Déconte ATHL'!AV139","v":0},{"$f":"'Déconte ATHL'!AW139","v":20}]
[{"$f":"'Senior F'!B62","v":0},{"$f":"'Senior F'!H62","v":""},null,{"$f":"'Senior F'!B97","v":0},{"$f":"'Senior F'!H97","v":""},null,{"$f":"'Senior F'!B128","v":0},{"$f":"'Senior F'!H128","v":""},null,{"$f":"'Senior F'!B164","v":0},{"$f":"'Senior F'!H164","v":""},null,{"$f":"'Senior F'!B202","v":0},{"$f":"'Senior F'!H202","v":""},null,{"$f":"'Senior F'!B229","v":0},{"$f":"'Senior F'!H229","v":""},null,null,{"$f":"'Déconte ATHL'!B143","v":0},null,{"$f":"'Déconte ATHL'!C143","v":0},{"$f":"'Déconte ATHL'!AV143","v":0},{"$f":"'Déconte ATHL'!AW143","v":20}]
[{"$f":"'Senior F'!B63","v":0},{"$f":"'Senior F'!H63","v":""},null,{"$f":"'Senior F'!B98","v":0},{"$f":"'Senior F'!H98","v":""},null,{"$f":"'Senior F'!B129","v":0},{"$f":"'Senior F'!H129","v":""},null,{"$f":"'Senior F'!B165","v":0},{"$f":"'Senior F'!H165","v":""},null,{"$f":"'Senior F'!B203","v":0},{"$f":"'Senior F'!H203","v":""},null,{"$f":"'Senior F'!B230","v":0},{"$f":"'Senior F'!H230","v":""},null,null,{"$f":"'Déconte ATHL'!B144","v":0},null,{"$f":"'Déconte ATHL'!C144","v":0},{"$f":"'Déconte ATHL'!AV144","v":0},{"$f":"'Déconte ATHL'!AW144","v":20}]
[{"$f":"'Senior F'!B64","v":0},{"$f":"'Senior F'!H64","v":""},null,{"$f":"'Senior F'!B99","v":0},{"$f":"'Senior F'!H99","v":""},null,{"$f":"'Senior F'!B130","v":0},{"$f":"'Senior F'!H130","v":""},null,{"$f":"'Senior F'!B166","v":0},{"$f":"'Senior F'!H166","v":""},null,{"$f":"'Senior F'!B204","v":0},{"$f":"'Senior F'!H204","v":""},null,{"$f":"'Senior F'!B231","v":0},{"$f":"'Senior F'!H231","v":""},null,null,{"$f":"'Déconte ATHL'!B145","v":0},null,{"$f":"'Déconte ATHL'!C145","v":0},{"$f":"'Déconte ATHL'!AV145","v":0},{"$f":"'Déconte ATHL'!AW145","v":20}]
[{"$f":"'Senior F'!B65","v":0},{"$f":"'Senior F'!H65","v":""},null,{"$f":"'Senior F'!B100","v":0},{"$f":"'Senior F'!H100","v":""},null,{"$f":"'Senior F'!B131","v":0},{"$f":"'Senior F'!H131","v":""},null,{"$f":"'Senior F'!B167","v":0},{"$f":"'Senior F'!H167","v":""},null,{"$f":"'Senior F'!B181","v":"Marie-Hélène Paquette"},{"$f":"'Senior F'!H181","v":"DNS"},null,{"$f":"'Senior F'!B232","v":0},{"$f":"'Senior F'!H232","v":""},null,null,{"$f":"'Déconte ATHL'!B146","v":0},null,{"$f":"'Déconte ATHL'!C146","v":0},{"$f":"'Déconte ATHL'!AV146","v":0},{"$f":"'Déconte ATHL'!AW146","v":20}]
[{"$f":"'Senior F'!B66","v":0},{"$f":"'Senior F'!H66","v":""},null,{"$f":"'Senior F'!B101","v":0},{"$f":"'Senior F'!H101","v":""},null,{"$f":"'Senior F'!B132","v":0},{"$f":"'Senior F'!H132","v":""},null,{"$f":"'Senior F'!B168","v":0},{"$f":"'Senior F'!H168","v":""},null,{"$f":"'Senior F'!B186","v":"Marie-Pier Anctil"},{"$f":"'Senior F'!H186","v":"DNS"},null,{"$f":"'Senior F'!B233","v":0},{"$f":"'Senior F'!H233","v":""},null,null,{"$f":"'Déconte ATHL'!B147","v":0},null,{"$f":"'Déconte ATHL'!C147","v":0},{"$f":"'Déconte ATHL'!AV147","v":0},{"$f":"'Déconte ATHL'!AW147","v":20}]
[{"$f":"'Senior F'!B67","v":0},{"$f":"'Senior F'!H67","v":""},null,{"$f":"'Senior F'!B102","v":0},{"$f":"'Senior F'!H102","v":""},null,{"$f":"'Senior F'!B133","v":0},{"$f":"'Senior F'!H133","v":""},null,{"$f":"'Senior F'!B169","v":0},{"$f":"'Senior F'!H169","v":""},null,{"$f":"'Senior F'!B187","v":"Emmanuelle Hudon"},{"$f":"'Senior F'!H187","v":"DNS"},null,{"$f":"'Senior F'!B234","v":0},{"$f":"'Senior F'!H234","v":""},null,null,{"$f":"'Déconte ATHL'!B148","v":0},null,{"$f":"'Déconte ATHL'!C148","v":0},{"$f":"'Déconte ATHL'!AV148","v":0},{"$f":"'Déconte ATHL'!AW148","v":20}]
[{"$f":"'Senior F'!B68","v":0},{"$f":"'Senior F'!H68","v":""},null,{"$f":"'Senior F'!B79","v":"Marie-Hélène Paquette"},{"$f":"'Senior F'!H79","v":"DNS"},null,{"$f":"'Senior F'!B134","v":0},{"$f":"'Senior F'!H134","v":""},null,{"$f":"'Senior F'!B170","v":0},{"$f":"'Senior F'!H170","v":""},null,{"$f":"'Senior F'!B191","v":"Noémie Desjardins"},{"$f":"'Senior F'!H191","v":"DNS"},null,{"$f":"'Senior F'!B235","v":0},{"$f":"'Senior F'!H235","v":""},null,null,{"$f":"'Déconte ATHL'!B149","v":0},null,{"$f":"'Déconte ATHL'!C149","v":0},{"$f":"'Déconte ATHL'!AV149","v":0},{"$f":"'Déconte ATHL'!AW149","v":20}]
[{"$f":"'Senior F'!B45","v":"Marie-Hélène Paquette"},{"$f":"'Senior F'!H45","v":"DNS"},null,{"$f":"'Senior F'!B86","v":"Alexandra Ladouceur"},{"$f":"'Senior F'!H86","v":"DNS"},null,{"$f":"'Senior F'!B135","v":0},{"$f":"'Senior F'!H135","v":""},null,{"$f":"'Senior F'!B142","v":"Laurence Lamarre"},{"$f":"'Senior F'!H142","v":"DNS"},null,{"$f":"'Senior F'!B192","v":"Raphaëlle Tétreault"},{"$f":"'Senior F'!H192","v":"DNS"},null,{"$f":"'Senior F'!B236","v":0},{"$f":"'Senior F'!H236","v":""},null,null,{"$f":"'Déconte ATHL'!B150","v":0},null,{"$f":"'Déconte ATHL'!C150","v":0},{"$f":"'Déconte ATHL'!AV150","v":0},{"$f":"'Déconte ATHL'!AW150","v":20}]
[{"$f":"'Senior F'!B55","v":"Noémie Desjardins"},{"$f":"'Senior F'!H55","v":"DNS"},null,{"$f":"'Senior F'!B89","v":"Noémie Desjardins"},{"$f":"'Senior F'!H89","v":"DNS"},null,{"$f":"'Senior F'!B136","v":0},{"$f":"'Senior F'!H136","v":""},null,{"$f":"'Senior F'!B147","v":"Marie-Hélène Paquette"},{"$f":"'Senior F'!H147","v":"DNS"},null,{"$f":"'Senior F'!B193","v":"Isabelle Carrier"},{"$f":"'Senior F'!H193","v":"DNS"},null,{"$f":"'Senior F'!B237","v":0},{"$f":"'Senior F'!H237","v":""},null,null,{"$f":"'Déconte ATHL'!B151","v":0},null,{"$f":"'Déconte ATHL'!C151","v":0},{"$f":"'Déconte ATHL'!AV151","v":0},{"$f":"'Déconte ATHL'!AW151","v":20}]
[{"$f":"'Senior F'!B57","v":"Isabelle Carrier"},{"$f":"'Senior F'!H57","v":"DQ"},null,{"$f":"'Senior F'!B90","v":"Raphaëlle Tétreault"},{"$f":"'Senior F'!H90","v":"DNS"},null,{"$f":"'Senior F'!B123","v":"Noémie Desjardins"},{"$f":"'Senior F'!H123","v":"DNS"},null,{"$f":"'Senior F'!B157","v":"Noémie Desjardins"},{"$f":"'Senior F'!H157","v":"DNS"},null,{"$f":"'Senior F'!B194","v":"Jessica Carrier"},{"$f":"'Senior F'!H194","v":"DNS"},null,{"$f":"'Senior F'!B238","v":0},{"$f":"'Senior F'!H238","v":""},null,null,{"$f":"'Déconte ATHL'!B152","v":0},null,{"$f":"'Déconte ATHL'!C152","v":0},{"$f":"'Déconte ATHL'!AV152","v":0},{"$f":"'Déconte ATHL'!AW152","v":20}]
[]
["Résultats - Senior Homme",null,null,null,null,null,null,null,null,null,null,null,null,null,null,null,null,null,null,"Pentathlon par athlètes"]
["Remorquage",null,null,"Obstacle",null,null,"Portage  + palme",null,null,"Portage",null,null,"Sauveteur d'acier",null,null,"Medley sauvetage",null,null,null,"Senior Homme"]
["Nom","R",null,"Nom","R",null,"Nom","R",null,"Nom","R",null,"Nom","R",null,"Nom","R",null,null,"Club",null,"Nom","Points","R"]
[{"$f":"'Senior H'!B48","v":"Maxime Chamberland"},{"$f":"'Senior H'!H48","v":1},null,{"$f":"'Senior H'!B78","v":"Kevin Bustamante-Cortés"},{"$f":"'Senior H'!H78","v":1},null,{"$f":"'Senior H'!B112","v":"Kevin Bustamante-Cortés"},{"$f":"'Senior H'!H112","v":1},null,{"$f":"'Senior H'!B146","v":"Kevin Bustamante-Cortés"},{"$f":"'Senior H'!H146","v":1},null,{"$f":"'Senior H'!B181","v":"Thomas Lavoie"},{"$f":"'Senior H'!H181","v":1},null,{"$f":"'Senior H'!B210","v":"Félix Labelle"},{"$f":"'Senior H'!H210","v":""},null,null,{"$f":"'Déconte ATHL'!B159","v":"30deux"},null,{"$f":"'Déconte ATHL'!C159","v":"Thomas Lavoie"},{"$f":"'Déconte ATHL'!BH159","v":82},{"$f":"'Déconte ATHL'!BI159","v":1}]
[{"$f":"'Senior H'!B42","v":"Miguel Jean"},{"$f":"'Senior H'!H42","v":2},null,{"$f":"'Senior H'!B76","v":"Miguel Jean"},{"$f":"'Senior H'!H76","v":2},null,{"$f":"'Senior H'!B117","v":"Marco Patriarco"},{"$f":"'Senior H'!H117","v":2},null,{"$f":"'Senior H'!B150","v":"Maxime Chamberland"},{"$f":"'Senior H'!H150","v":2},null,{"$f":"'Senior H'!B175","v":"Charles GIrouard"},{"$f":"'Senior H'!H175","v":2},null,{"$f":"'Senior H'!B211","v":"Thomas Willame"},{"$f":"'Senior H'!H211","v":""},null,null,{"$f":"'Déconte ATHL'!B162","v":"30deux"},null,{"$f":"'Déconte ATHL'!C162","v":"Maxime Chamberland"},{"$f":"'Déconte ATHL'!BH162","v":73},{"$f":"'Déconte ATHL'!BI162","v":2}]
[{"$f":"'Senior H'!B45","v":"Thomas Lavoie"},{"$f":"'Senior H'!H45","v":3},null,{"$f":"'Senior H'!B87","v":"Olivier Breton"},{"$f":"'Senior H'!H87","v":3},null,{"$f":"'Senior H'!B113","v":"Thomas Lavoie"},{"$f":"'Senior H'!H113","v":3},null,{"$f":"'Senior H'!B147","v":"Thomas Lavoie"},{"$f":"'Senior H'!H147","v":3},null,{"$f":"'Senior H'!B184","v":"Maxime Chamberland"},{"$f":"'Senior H'!H184","v":3},null,{"$f":"'Senior H'!B212","v":"Miguel Jean"},{"$f":"'Senior H'!H212","v":""},null,null,{"$f":"'Déconte ATHL'!B156","v":"Rouville Surf"},null,{"$f":"'Déconte ATHL'!C156","v":"Miguel Jean"},{"$f":"'Déconte ATHL'!BH156","v":64},{"$f":"'Déconte ATHL'!BI156","v":3}]
[{"$f":"'Senior H'!B47","v":"François Houle"},{"$f":"'Senior H'!H47","v":4},null,{"$f":"'Senior H'!B79","v":"Thomas Lavoie"},{"$f":"'Senior H'!H79","v":4},null,{"$f":"'Senior H'!B121","v":"Olivier Breton"},{"$f":"'Senior H'!H121","v":4},null,{"$f":"'Senior H'!B153","v":"Kamil Romdhani"},{"$f":"'Senior H'!H153","v":4},null,{"$f":"'Senior H'!B191","v":"David Comeau"},{"$f":"'Senior H'!H191","v":4},null,{"$f":"'Senior H'!B213","v":"Dimitri Jean"},{"$f":"'Senior H'!H213","v":""},null,null,{"$f":"'Déconte ATHL'!B158","v":"Rouville Surf"},null,{"$f":"'Déconte ATHL'!C158","v":"Kevin Bustamante-Cortés"},{"$f":"'Déconte ATHL'!BH158","v":60},{"$f":"'Déconte ATHL'!BI158","v":4}]
[{"$f":"'Senior H'!B41","v":"Thomas Willame"},{"$f":"'Senior H'!H41","v":5},null,{"$f":"'Senior H'!B75","v":"Thomas Willame"},{"$f":"'Senior H'!H75","v":5},null,{"$f":"'Senior H'!B109","v":"Thomas Willame"},{"$f":"'Senior H'!H109","v":5},null,{"$f":"'Senior H'!B144","v":"Miguel Jean"},{"$f":"'Senior H'!H144","v":5},null,{"$f":"'Senior H'!B187","v":"Kamil Romdhani"},{"$f":"'Senior H'!H187","v":5},null,{"$f":"'Senior H'!B214","v":"Kevin Bustamante-Cortés"},{"$f":"'Senior H'!H214","v":""},null,null,{"$f":"'Déconte ATHL'!B165","v":"CSRN"},null,{"$f":"'Déconte ATHL'!C165","v":"Kamil Romdhani"},{"$f":"'Déconte ATHL'!BH165","v":60},{"$f":"'Déconte ATHL'!BI165","v":4}]
[{"$f":"'Senior H'!B43","v":"Dimitri Jean"},{"$f":"'Senior H'!H43","v":6},null,{"$f":"'Senior H'!B73","v":"Charles GIrouard"},{"$f":"'Senior H'!H73","v":6},null,{"$f":"'Senior H'!B119","v":"Kamil Romdhani"},{"$f":"'Senior H'!H119","v":6},null,{"$f":"'Senior H'!B141","v":"Charles GIrouard"},{"$f":"'Senior H'!H141","v":6},null,{"$f":"'Senior H'!B183","v":"François Houle"},{"$f":"'Senior H'!H183","v":6},null,{"$f":"'Senior H'!B215","v":"Thomas Lavoie"},{"$f":"'Senior H'!H215","v":""},null,null,{"$f":"'Déconte ATHL'!B155","v":"SSSL"},null,{"$f":"'Déconte ATHL'!C155","v":"Thomas Willame"},{"$f":"'Déconte ATHL'!BH155","v":57},{"$f":"'Déconte ATHL'!BI155","v":6}]
[{"$f":"'Senior H'!B55","v":"David Comeau"},{"$f":"'Senior H'!H55","v":7},null,{"$f":"'Senior H'!B85","v":"Kamil Romdhani"},{"$f":"'Senior H'!H85","v":7},null,{"$f":"'Senior H'!B116","v":"Maxime Chamberland"},{"$f":"'Senior H'!H116","v":7},null,{"$f":"'Senior H'!B145","v":"Dimitri Jean"},{"$f":"'Senior H'!H145","v":7},null,{"$f":"'Senior H'!B177","v":"Thomas Willame"},{"$f":"'Senior H'!H177","v":7},null,{"$f":"'Senior H'!B216","v":"Samuel Lévesque"},{"$f":"'Senior H'!H216","v":""},null,null,{"$f":"'Déconte ATHL'!B161","v":"30deux"},null,{"$f":"'Déconte ATHL'!C161","v":"François Houle"},{"$f":"'Déconte ATHL'!BH161","v":54},{"$f":"'Déconte ATHL'!BI161","v":7}]
[{"$f":"'Senior H'!B51","v":"Kamil Romdhani"},{"$f":"'Senior H'!H51","v":8},null,{"$f":"'Senior H'!B81","v":"François Houle"},{"$f":"'Senior H'!H81","v":8},null,{"$f":"'Senior H'!B115","v":"François Houle"},{"$f":"'Senior H'!H115","v":8},null,{"$f":"'Senior H'!B151","v":"Marco Patriarco"},{"$f":"'Senior H'!H151","v":8},null,{"$f":"'Senior H'!B186","v":"Ismaël Chakir"},{"$f":"'Senior H'!H186","v":8},null,{"$f":"'Senior H'!B217","v":"François Houle"},{"$f":"'Senior H'!H217","v":""},null,null,{"$f":"'Déconte ATHL'!B153","v":"Dam'eauclès"},null,{"$f":"'Déconte ATHL'!C153","v":"Charles GIrouard"},{"$f":"'Déconte ATHL'!BH153","v":53},{"$f":"'Déconte ATHL'!BI153","v":8}]
[{"$f":"'Senior H'!B39","v":"Charles GIrouard"},{"$f":"'Senior H'!H39","v":9},null,{"$f":"'Senior H'!B82","v":"Maxime Chamberland"},{"$f":"'Senior H'!H82","v":9},null,{"$f":"'Senior H'!B118","v":"Ismaël Chakir"},{"$f":"'Senior H'!H118","v":9},null,{"$f":"'Senior H'!B149","v":"François Houle"},{"$f":"'Senior H'!H149","v":9},null,{"$f":"'Senior H'!B178","v":"Miguel Jean"},{"$f":"'Senior H'!H178","v":9},null,{"$f":"'Senior H'!B218","v":"Maxime Chamberland"},{"$f":"'Senior H'!H218","v":""},null,null,{"$f":"'Déconte ATHL'!B167","v":"Gatineau"},null,{"$f":"'Déconte ATHL'!C167","v":"Olivier Breton"},{"$f":"'Déconte ATHL'!BH167","v":49},{"$f":"'Déconte ATHL'!BI167","v":9}]
[{"$f":"'Senior H'!B53","v":"Olivier Breton"},{"$f":"'Senior H'!H53","v":10},null,{"$f":"'Senior H'!B89","v":"David Comeau"},{"$f":"'Senior H'!H89","v":10},null,{"$f":"'Senior H'!B110","v":"Miguel Jean"},{"$f":"'Senior H'!H110","v":10},null,{"$f":"'Senior H'!B143","v":"Thomas Willame"},{"$f":"'Senior H'!H143","v":10},null,{"$f":"'Senior H'!B189","v":"Olivier Breton"},{"$f":"'Senior H'!H189","v":10},null,{"$f":"'Senior H'!B219","v":"Marco Patriarco"},{"$f":"'Senior H'!H219","v":""},null,null,{"$f":"'Déconte ATHL'!B169","v":"Narval"},null,{"$f":"'Déconte ATHL'!C169","v":"David Comeau"},{"$f":"'Déconte ATHL'!BH169","v":40},{"$f":"'Déconte ATHL'!BI169","v":10}]
[{"$f":"'Senior H'!B40","v":"Félix Labelle"},{"$f":"'Senior H'!H40","v":11},null,{"$f":"'Senior H'!B88","v":"Alex Tremblay"},{"$f":"'Senior H'!H88","v":11},null,{"$f":"'Senior H'!B111","v":"Dimitri Jean"},{"$f":"'Senior H'!H111","v":11},null,{"$f":"'Senior H'!B152","v":"Ismaël Chakir"},{"$f":"'Senior H'!H152","v":11},null,{"$f":"'Senior H'!B179","v":"Dimitri Jean"},{"$f":"'Senior H'!H179","v":11},null,{"$f":"'Senior H'!B220","v":"Ismaël Chakir"},{"$f":"'Senior H'!H220","v":""},null,null,{"$f":"'Déconte ATHL'!B157","v":"Rouville Surf"},null,{"$f":"'Déconte ATHL'!C157","v":"Dimitri Jean"},{"$f":"'Déconte ATHL'!BH157","v":35},{"$f":"'Déconte ATHL'!BI157","v":11}]
[{"$f":"'Senior H'!B46","v":"Samuel Lévesque"},{"$f":"'Senior H'!H46","v":12},null,{"$f":"'Senior H'!B80","v":"Samuel Lévesque"},{"$f":"'Senior H'!H80","v":12},null,{"$f":"'Senior H'!B123","v":"David Comeau"},{"$f":"'Senior H'!H123","v":12},null,{"$f":"'Senior H'!B155","v":"Olivier Breton"},{"$f":"'Senior H'!H155","v":12},null,{"$f":"'Senior H'!B176","v":"Félix Labelle"},{"$f":"'Senior H'!H176","v":12},null,{"$f":"'Senior H'!B221","v":"Kamil Romdhani"},{"$f":"'Senior H'!H221","v":""},null,null,{"$f":"'Déconte ATHL'!B164","v":"CSRN"},null,{"$f":"'Déconte ATHL'!C164","v":"Ismaël Chakir"},{"$f":"'Déconte ATHL'!BH164","v":32},{"$f":"'Déconte ATHL'!BI164","v":12}]
[{"$f":"'Senior H'!B50","v":"Ismaël Chakir"},{"$f":"'Senior H'!H50","v":13},null,{"$f":"'Senior H'!B84","v":"Ismaël Chakir"},{"$f":"'Senior H'!H84","v":13},null,{"$f":"'Senior H'!B108","v":"Félix Labelle"},{"$f":"'Senior H'!H108","v":13},null,{"$f":"'Senior H'!B156","v":"Alex Tremblay"},{"$f":"'Senior H'!H156","v":13},null,{"$f":"'Senior H'!B182","v":"Samuel Lévesque"},{"$f":"'Senior H'!H182","v":13},null,{"$f":"'Senior H'!B222","v":"William Laurence"},{"$f":"'Senior H'!H222","v":""},null,null,{"$f":"'Déconte ATHL'!B163","v":"30deux"},null,{"$f":"'Déconte ATHL'!C163","v":"Marco Patriarco"},{"$f":"'Déconte ATHL'!BH163","v":28},{"$f":"'Déconte ATHL'!BI163","v":13}]
[{"$f":"'Senior H'!B54","v":"Alex Tremblay"},{"$f":"'Senior H'!H54","v":14},null,{"$f":"'Senior H'!B86","v":"William Laurence"},{"$f":"'Senior H'!H86","v":14},null,{"$f":"'Senior H'!B107","v":"Charles GIrouard"},{"$f":"'Senior H'!H107","v":14},null,{"$f":"'Senior H'!B157","v":"David Comeau"},{"$f":"'Senior H'!H157","v":14},null,{"$f":"'Senior H'!B188","v":"William Laurence"},{"$f":"'Senior H'!H188","v":14},null,{"$f":"'Senior H'!B223","v":"Olivier Breton"},{"$f":"'Senior H'!H223","v":""},null,null,{"$f":"'Déconte ATHL'!B154","v":"SSSL"},null,{"$f":"'Déconte ATHL'!C154","v":"Félix Labelle"},{"$f":"'Déconte ATHL'!BH154","v":17},{"$f":"'Déconte ATHL'!BI154","v":14}]
[{"$f":"'Senior H'!B52","v":"William Laurence"},{"$f":"'Senior H'!H52","v":15},null,{"$f":"'Senior H'!B94","v":0},{"$f":"'Senior H'!H94","v":""},null,{"$f":"'Senior H'!B122","v":"Alex Tremblay"},{"$f":"'Senior H'!H122","v":15},null,{"$f":"'Senior H'!B142","v":"Félix Labelle"},{"$f":"'Senior H'!H142","v":15},null,{"$f":"'Senior H'!B196","v":0},{"$f":"'Senior H'!H196","v":""},null,{"$f":"'Senior H'!B224","v":"Alex Tremblay"},{"$f":"'Senior H'!H224","v":""},null,null,{"$f":"'Déconte ATHL'!B160","v":"30deux"},null,{"$f":"'Déconte ATHL'!C160","v":"Samuel Lévesque"},{"$f":"'Déconte ATHL'!BH160","v":16},{"$f":"'Déconte ATHL'!BI160","v":15}]
[{"$f":"'Senior H'!B60","v":0},{"$f":"'Senior H'!H60","v":""},null,{"$f":"'Senior H'!B95","v":0},{"$f":"'Senior H'!H95","v":""},null,{"$f":"'Senior H'!B114","v":"Samuel Lévesque"},{"$f":"'Senior H'!H114","v":16},null,{"$f":"'Senior H'!B148","v":"Samuel Lévesque"},{"$f":"'Senior H'!H148","v":16},null,{"$f":"'Senior H'!B197","v":0},{"$f":"'Senior H'!H197","v":""},null,{"$f":"'Senior H'!B225","v":"David Comeau"},{"$f":"'Senior H'!H225","v":""},null,null,{"$f":"'Déconte ATHL'!B168","v":"Narval"},null,{"$f":"'Déconte ATHL'!C168","v":"Alex Tremblay"},{"$f":"'Déconte ATHL'!BH168","v":15},{"$f":"'Déconte ATHL'!BI168","v":16}]
[{"$f":"'Senior H'!B61","v":0},{"$f":"'Senior H'!H61","v":""},null,{"$f":"'Senior H'!B96","v":0},{"$f":"'Senior H'!H96","v":""},null,{"$f":"'Senior H'!B120","v":"William Laurence"},{"$f":"'Senior H'!H120","v":17},null,{"$f":"'Senior H'!B154","v":"William Laurence"},{"$f":"'Senior H'!H154","v":17},null,{"$f":"'Senior H'!B198","v":0},{"$f":"'Senior H'!H198","v":""},null,{"$f":"'Senior H'!B209","v":"Charles GIrouard"},{"$f":"'Senior H'!H209","v":""},null,null,{"$f":"'Déconte ATHL'!B166","v":"CSRN"},null,{"$f":"'Déconte ATHL'!C166","v":"William Laurence"},{"$f":"'Déconte ATHL'!BH166","v":8},{"$f":"'Déconte ATHL'!BI166","v":17}]
[{"$f":"'Senior H'!B62","v":0},{"$f":"'Senior H'!H62","v":""},null,{"$f":"'Senior H'!B97","v":0},{"$f":"'Senior H'!H97","v":""},null,{"$f":"'Senior H'!B128","v":0},{"$f":"'Senior H'!H128","v":""},null,{"$f":"'Senior H'!B162","v":0},{"$f":"'Senior H'!H162","v":""},null,{"$f":"'Senior H'!B199","v":0},{"$f":"'Senior H'!H199","v":""},null,{"$f":"'Senior H'!B226","v":0},{"$f":"'Senior H'!H226","v":""},null,null,{"$f":"'Déconte ATHL'!B170","v":0},null,{"$f":"'Déconte ATHL'!C170","v":0},{"$f":"'Déconte ATHL'!BH170","v":0},{"$f":"'Déconte ATHL'!BI170","v":18}]
[{"$f":"'Senior H'!B63","v":0},{"$f":"'Senior H'!H63","v":""},null,{"$f":"'Senior H'!B98","v":0},{"$f":"'Senior H'!H98","v":""},null,{"$f":"'Senior H'!B129","v":0},{"$f":"'Senior H'!H129","v":""},null,{"$f":"'Senior H'!B163","v":0},{"$f":"'Senior H'!H163","v":""},null,{"$f":"'Senior H'!B200","v":0},{"$f":"'Senior H'!H200","v":""},null,{"$f":"'Senior H'!B227","v":0},{"$f":"'Senior H'!H227","v":""},null,null,{"$f":"'Déconte ATHL'!B171","v":0},null,{"$f":"'Déconte ATHL'!C171","v":0},{"$f":"'Déconte ATHL'!BH171","v":0},{"$f":"'Déconte ATHL'!BI171","v":18}]
[{"$f":"'Senior H'!B64","v":0},{"$f":"'Senior H'!H64","v":""},null,{"$f":"'Senior H'!B99","v":0},{"$f":"'Senior H'!H99","v":""},null,{"$f":"'Senior H'!B130","v":0},{"$f":"'Senior H'!H130","v":""},null,{"$f":"'Senior H'!B164","v":0},{"$f":"'Senior H'!H164","v":""},null,{"$f":"'Senior H'!B201","v":0},{"$f":"'Senior H'!H201","v":""},null,{"$f":"'Senior H'!B228","v":0},{"$f":"'Senior H'!H228","v":""},null,null,{"$f":"'Déconte ATHL'!B172","v":0},null,{"$f":"'Déconte ATHL'!C172","v":0},{"$f":"'Déconte ATHL'!BH172","v":0},{"$f":"'Déconte ATHL'!BI172","v":18}]
[{"$f":"'Senior H'!B65","v":0},{"$f":"'Senior H'!H65","v":""},null,{"$f":"'Senior H'!B100","v":0},{"$f":"'Senior H'!H100","v":""},null,{"$f":"'Senior H'!B131","v":0},{"$f":"'Senior H'!H131","v":""},null,{"$f":"'Senior H'!B165","v":0},{"$f":"'Senior H'!H165","v":""},null,{"$f":"'Senior H'!B202","v":0},{"$f":"'Senior H'!H202","v":""},null,{"$f":"'Senior H'!B229","v":0},{"$f":"'Senior H'!H229","v":""},null,null,{"$f":"'Déconte ATHL'!B173","v":0},null,{"$f":"'Déconte ATHL'!C173","v":0},{"$f":"'Déconte ATHL'!BH173","v":0},{"$f":"'Déconte ATHL'!BI173","v":18}]
[{"$f":"'Senior H'!B66","v":0},{"$f":"'Senior H'!H66","v":""},null,{"$f":"'Senior H'!B101","v":0},{"$f":"'Senior H'!H101","v":""},null,{"$f":"'Senior H'!B132","v":0},{"$f":"'Senior H'!H132","v":""},null,{"$f":"'Senior H'!B166","v":0},{"$f":"'Senior H'!H166","v":""},null,{"$f":"'Senior H'!B203","v":0},{"$f":"'Senior H'!H203","v":""},null,{"$f":"'Senior H'!B230","v":0},{"$f":"'Senior H'!H230","v":""},null,null,{"$f":"'Déconte ATHL'!B174","v":0},null,{"$f":"'Déconte ATHL'!C174","v":0},{"$f":"'Déconte ATHL'!BH174","v":0},{"$f":"'Déconte ATHL'!BI174","v":18}]
[{"$f":"'Senior H'!B67","v":0},{"$f":"'Senior H'!H67","v":""},null,{"$f":"'Senior H'!B102","v":0},{"$f":"'Senior H'!H102","v":""},null,{"$f":"'Senior H'!B133","v":0},{"$f":"'Senior H'!H133","v":""},null,{"$f":"'Senior H'!B167","v":0},{"$f":"'Senior H'!H167","v":""},null,{"$f":"'Senior H'!B204","v":0},{"$f":"'Senior H'!H204","v":""},null,{"$f":"'Senior H'!B231","v":0},{"$f":"'Senior H'!H231","v":""},null,null,{"$f":"'Déconte ATHL'!B175","v":0},null,{"$f":"'Déconte ATHL'!C175","v":0},{"$f":"'Déconte ATHL'!BH175","v":0},{"$f":"'Déconte ATHL'!BI175","v":18}]
[{"$f":"'Senior H'!B68","v":0},{"$f":"'Senior H'!H68","v":""},null,{"$f":"'Senior H'!B90","v":0},{"$f":"'Senior H'!H90","v":""},null,{"$f":"'Senior H'!B134","v":0},{"$f":"'Senior H'!H134","v":""},null,{"$f":"'Senior H'!B168","v":0},{"$f":"'Senior H'!H168","v":""},null,{"$f":"'Senior H'!B192","v":0},{"$f":"'Senior H'!H192","v":""},null,{"$f":"'Senior H'!B232","v":0},{"$f":"'Senior H'!H232","v":""},null,null,{"$f":"'Déconte ATHL'!B176","v":0},null,{"$f":"'Déconte ATHL'!C176","v":0},{"$f":"'Déconte ATHL'!BH176","v":0},{"$f":"'Déconte ATHL'!BI176","v":18}]
[{"$f":"'Senior H'!B56","v":0},{"$f":"'Senior H'!H56","v":""},null,{"$f":"'Senior H'!B91","v":0},{"$f":"'Senior H'!H91","v":""},null,{"$f":"'Senior H'!B135","v":0},{"$f":"'Senior H'!H135","v":""},null,{"$f":"'Senior H'!B169","v":0},{"$f":"'Senior H'!H169","v":""},null,{"$f":"'Senior H'!B193","v":0},{"$f":"'Senior H'!H193","v":""},null,{"$f":"'Senior H'!B233","v":0},{"$f":"'Senior H'!H233","v":""},null,null,{"$f":"'Déconte ATHL'!B177","v":0},null,{"$f":"'Déconte ATHL'!C177","v":0},{"$f":"'Déconte ATHL'!BH177","v":0},{"$f":"'Déconte ATHL'!BI177","v":18}]
[{"$f":"'Senior H'!B57","v":0},{"$f":"'Senior H'!H57","v":""},null,{"$f":"'Senior H'!B92","v":0},{"$f":"'Senior H'!H92","v":""},null,{"$f":"'Senior H'!B136","v":0},{"$f":"'Senior H'!H136","v":""},null,{"$f":"'Senior H'!B170","v":0},{"$f":"'Senior H'!H170","v":""},null,{"$f":"'Senior H'!B194","v":0},{"$f":"'Senior H'!H194","v":""},null,{"$f":"'Senior H'!B234","v":0},{"$f":"'Senior H'!H234","v":""},null,null,{"$f":"'Déconte ATHL'!B178","v":0},null,{"$f":"'Déconte ATHL'!C178","v":0},{"$f":"'Déconte ATHL'!BH178","v":0},{"$f":"'Déconte ATHL'!BI178","v":18}]
[{"$f":"'Senior H'!B58","v":0},{"$f":"'Senior H'!H58","v":""},null,{"$f":"'Senior H'!B93","v":0},{"$f":"'Senior H'!H93","v":""},null,{"$f":"'Senior H'!B126","v":0},{"$f":"'Senior H'!H126","v":""},null,{"$f":"'Senior H'!B160","v":0},{"$f":"'Senior H'!H160","v":""},null,{"$f":"'Senior H'!B195","v":0},{"$f":"'Senior H'!H195","v":""},null,{"$f":"'Senior H'!B235","v":0},{"$f":"'Senior H'!H235","v":""},null,null,{"$f":"'Déconte ATHL'!B179","v":0},null,{"$f":"'Déconte ATHL'!C179","v":0},{"$f":"'Déconte ATHL'!BH179","v":0},{"$f":"'Déconte ATHL'!BI179","v":18}]
[{"$f":"'Senior H'!B59","v":0},{"$f":"'Senior H'!H59","v":""},null,{"$f":"'Senior H'!B74","v":"Félix Labelle"},{"$f":"'Senior H'!H74","v":"DNS"},null,{"$f":"'Senior H'!B127","v":0},{"$f":"'Senior H'!H127","v":""},null,{"$f":"'Senior H'!B161","v":0},{"$f":"'Senior H'!H161","v":""},null,{"$f":"'Senior H'!B185","v":"Marco Patriarco"},{"$f":"'Senior H'!H185","v":"DNS"},null,{"$f":"'Senior H'!B236","v":0},{"$f":"'Senior H'!H236","v":""},null,null,{"$f":"'Déconte ATHL'!B180","v":0},null,{"$f":"'Déconte ATHL'!C180","v":0},{"$f":"'Déconte ATHL'!BH180","v":0},{"$f":"'Déconte ATHL'!BI180","v":18}]
[{"$f":"'Senior H'!B44","v":"Kevin Bustamante-Cortés"},{"$f":"'Senior H'!H44","v":"DNS"},null,{"$f":"'Senior H'!B77","v":"Dimitri Jean"},{"$f":"'Senior H'!H77","v":"DNS"},null,{"$f":"'Senior H'!B124","v":0},{"$f":"'Senior H'!H124","v":""},null,{"$f":"'Senior H'!B158","v":0},{"$f":"'Senior H'!H158","v":""},null,{"$f":"'Senior H'!B180","v":"Kevin Bustamante-Cortés"},{"$f":"'Senior H'!H180","v":"DQ"},null,{"$f":"'Senior H'!B237","v":0},{"$f":"'Senior H'!H237","v":""},null,null,{"$f":"'Déconte ATHL'!B181","v":0},null,{"$f":"'Déconte ATHL'!C181","v":0},{"$f":"'Déconte ATHL'!BH181","v":0},{"$f":"'Déconte ATHL'!BI181","v":18}]
[{"$f":"'Senior H'!B49","v":"Marco Patriarco"},{"$f":"'Senior H'!H49","v":"DQ"},null,{"$f":"'Senior H'!B83","v":"Marco Patriarco"},{"$f":"'Senior H'!H83","v":"DNS"},null,{"$f":"'Senior H'!B125","v":0},{"$f":"'Senior H'!H125","v":""},null,{"$f":"'Senior H'!B159","v":0},{"$f":"'Senior H'!H159","v":""},null,{"$f":"'Senior H'!B190","v":"Alex Tremblay"},{"$f":"'Senior H'!H190","v":"DQ"},null,{"$f":"'Senior H'!B238","v":0},{"$f":"'Senior H'!H238","v":""},null,null,{"$f":"'Déconte ATHL'!B182","v":0},null,{"$f":"'Déconte ATHL'!C182","v":0},{"$f":"'Déconte ATHL'!BH182","v":0},{"$f":"'Déconte ATHL'!BI182","v":18}]
[]
["Senior Corde"]
["Femme",null,null,null,null,null,"Homme"]
["Noms",null,null,null,"R",null,"Noms",null,null,null,"R"]
[{"$f":"'Résultats PRÉLIMINAIRES'!B327","v":"Alexandra Ladouceur"},null,{"$f":"'Résultats PRÉLIMINAIRES'!B328","v":"Camille Gaudrealt"},null,{"$f":"'Résultats PRÉLIMINAIRES'!C327","v":1},null,{"$f":"'Résultats PRÉLIMINAIRES'!F323","v":"François Houle"},null,{"$f":"'Résultats PRÉLIMINAIRES'!F324","v":"Maxime Chamberland"},null,{"$f":"'Résultats PRÉLIMINAIRES'!L323","v":1}]
[{"$f":"'Résultats PRÉLIMINAIRES'!B315","v":"Émilie Boulerne"},null,{"$f":"'Résultats PRÉLIMINAIRES'!B316","v":"Laurence Lamarre"},null,{"$f":"'Résultats PRÉLIMINAIRES'!C315","v":2},null,{"$f":"'Résultats PRÉLIMINAIRES'!F325","v":"Ismael Chakir"},null,{"$f":"'Résultats PRÉLIMINAIRES'!F326","v":"Kamil Romdhni"},null,{"$f":"'Résultats PRÉLIMINAIRES'!L325","v":2}]
[{"$f":"'Résultats PRÉLIMINAIRES'!B321","v":"Marie-Hélène Paquette"},null,{"$f":"'Résultats PRÉLIMINAIRES'!B322","v":"Claudine Courteau-Godmaire"},null,{"$f":"'Résultats PRÉLIMINAIRES'!C321","v":3},null,{"$f":"'Résultats PRÉLIMINAIRES'!F319","v":"Miguel Jean"},null,{"$f":"'Résultats PRÉLIMINAIRES'!F320","v":"Dimitri Jean"},null,{"$f":"'Résultats PRÉLIMINAIRES'!L319","v":3}]
[{"$f":"'Résultats PRÉLIMINAIRES'!B331","v":"Raphaëlle Tétreault"},null,{"$f":"'Résultats PRÉLIMINAIRES'!B332","v":"Rosanne Trépanier"},null,{"$f":"'Résultats PRÉLIMINAIRES'!C331","v":4},null,{"$f":"'Résultats PRÉLIMINAIRES'!F315","v":"Charles Girouard"},null,{"$f":"'Résultats PRÉLIMINAIRES'!F316","v":"Julien Turgeon"},null,{"$f":"'Résultats PRÉLIMINAIRES'!L315","v":4}]
[{"$f":"'Résultats PRÉLIMINAIRES'!B325","v":"Marie-Pier Anctil"},null,{"$f":"'Résultats PRÉLIMINAIRES'!B326","v":"Emmanuelle Hudon"},null,{"$f":"'Résultats PRÉLIMINAIRES'!C325","v":5},null,{"$f":"'Résultats PRÉLIMINAIRES'!F329","v":"Wiliam Laurence"},null,{"$f":"'Résultats PRÉLIMINAIRES'!F330","v":"Jonathan St-Roch"},null,{"$f":"'Résultats PRÉLIMINAIRES'!L329","v":5}]
[{"$f":"'Résultats PRÉLIMINAIRES'!B319","v":"Caroline Arcand "},null,{"$f":"'Résultats PRÉLIMINAIRES'!B320","v":"Tamara Jacques"},null,{"$f":"'Résultats PRÉLIMINAIRES'!C319","v":6},null,{"$f":"'Résultats PRÉLIMINAIRES'!F321","v":"Thomas Lavoie"},null,{"$f":"'Résultats PRÉLIMINAIRES'!F322","v":"Samuel Lévesque"},null,{"$f":"'Résultats PRÉLIMINAIRES'!L321","v":6}]
[{"$f":"'Résultats PRÉLIMINAIRES'!B339","v":0},null,{"$f":"'Résultats PRÉLIMINAIRES'!B340","v":0},null,{"$f":"'Résultats PRÉLIMINAIRES'!C339","v":""},null,{"$f":"'Résultats PRÉLIMINAIRES'!F337","v":0},null,{"$f":"'Résultats PRÉLIMINAIRES'!F338","v":0},null,{"$f":"'Résultats PRÉLIMINAIRES'!L337","v":""}]
[{"$f":"'Résultats PRÉLIMINAIRES'!B341","v":0},null,{"$f":"'Résultats PRÉLIMINAIRES'!B342","v":0},null,{"$f":"'Résultats PRÉLIMINAIRES'!C341","v":""},null,{"$f":"'Résultats PRÉLIMINAIRES'!F339","v":0},null,{"$f":"'Résultats PRÉLIMINAIRES'!F340","v":0},null,{"$f":"'Résultats PRÉLIMINAIRES'!L339","v":""}]
[{"$f":"'Résultats PRÉLIMINAIRES'!B343","v":0},null,{"$f":"'Résultats PRÉLIMINAIRES'!B344","v":0},null,{"$f":"'Résultats PRÉLIMINAIRES'!C343","v":""},null,{"$f":"'Résultats PRÉLIMINAIRES'!F341","v":0},null,{"$f":"'Résultats PRÉLIMINAIRES'!F342","v":0},null,{"$f":"'Résultats PRÉLIMINAIRES'!L341","v":""}]
[{"$f":"'Résultats PRÉLIMINAIRES'!B337","v":0},null,{"$f":"'Résultats PRÉLIMINAIRES'!B338","v":0},null,{"$f":"'Résultats PRÉLIMINAIRES'!C337","v":""},null,{"$f":"'Résultats PRÉLIMINAIRES'!F343","v":0},null,{"$f":"'Résultats PRÉLIMINAIRES'!F344","v":0},null,{"$f":"'Résultats PRÉLIMINAIRES'!L343","v":""}]
[{"$f":"'Résultats PRÉLIMINAIRES'!B323","v":"Mariama Keita"},null,{"$f":"'Résultats PRÉLIMINAIRES'!B324","v":"Gabrièle St-Georges"},null,{"$f":"'Résultats PRÉLIMINAIRES'!C323","v":"DNF"},null,{"$f":"'Résultats PRÉLIMINAIRES'!F335","v":0},null,{"$f":"'Résultats PRÉLIMINAIRES'!F336","v":0},null,{"$f":"'Résultats PRÉLIMINAIRES'!L335","v":""}]
[{"$f":"'Résultats PRÉLIMINAIRES'!B329","v":"Sarah-Laurence Morin"},null,{"$f":"'Résultats PRÉLIMINAIRES'!B330","v":"Noémie Desjardins"},null,{"$f":"'Résultats PRÉLIMINAIRES'!C329","v":"DNF"},null,{"$f":"'Résultats PRÉLIMINAIRES'!F331","v":0},null,{"$f":"'Résultats PRÉLIMINAIRES'!F332","v":0},null,{"$f":"'Résultats PRÉLIMINAIRES'!L331","v":""}]
[{"$f":"'Résultats PRÉLIMINAIRES'!B333","v":"Célia Crivellaro Kingsbury"},null,{"$f":"'Résultats PRÉLIMINAIRES'!B334","v":"Paula Loaiza"},null,{"$f":"'Résultats PRÉLIMINAIRES'!C333","v":"DNF"},null,{"$f":"'Résultats PRÉLIMINAIRES'!F333","v":0},null,{"$f":"'Résultats PRÉLIMINAIRES'!F334","v":0},null,{"$f":"'Résultats PRÉLIMINAIRES'!L333","v":""}]
[{"$f":"'Résultats PRÉLIMINAIRES'!B335","v":"Jessica Carrier"},null,{"$f":"'Résultats PRÉLIMINAIRES'!B336","v":"Isabelle Carrier"},null,{"$f":"'Résultats PRÉLIMINAIRES'!C335","v":"DNF"},null,{"$f":"'Résultats PRÉLIMINAIRES'!F317","v":"Félix Labelle"},null,{"$f":"'Résultats PRÉLIMINAIRES'!F318","v":"Thomas Willame"},null,{"$f":"'Résultats PRÉLIMINAIRES'!L317","v":"DNF"}]
[{"$f":"'Résultats PRÉLIMINAIRES'!B317","v":"Marie-Chantale Giroux"},null,{"$f":"'Résultats PRÉLIMINAIRES'!B318","v":"Audrey Desroches"},null,{"$f":"'Résultats PRÉLIMINAIRES'!C317","v":"DNS"},null,{"$f":"'Résultats PRÉLIMINAIRES'!F327","v":"Alex Tremblay"},null,{"$f":"'Résultats PRÉLIMINAIRES'!F328","v":"David Comeau"},null,{"$f":"'Résultats PRÉLIMINAIRES'!L327","v":"DNF"}]
[]
[]
["Relais Medley Femme"]
["Club","Nom",null,null,"Nom",null,null,"Nom",null,null,"Nom",null,null,"R"]
[{"$f":"'Résultats PRÉLIMINAIRES'!A243","v":"Dam'eauclès"},{"$f":"'Résultats PRÉLIMINAIRES'!B243","v":"Caroline Arcand"},null,null,{"$f":"'Résultats PRÉLIMINAIRES'!B244","v":"Manuelle Charbonneau"},null,null,{"$f":"'Résultats PRÉLIMINAIRES'!B245","v":"Myriam Jacques"},null,null,{"$f":"'Résultats PRÉLIMINAIRES'!B246","v":"Tamara Jacques"},null,null,{"$f":"'Résultats PRÉLIMINAIRES'!C243","v":3}]
[{"$f":"'Résultats PRÉLIMINAIRES'!A247","v":"Rouville Surf"},{"$f":"'Résultats PRÉLIMINAIRES'!B247","v":"Ana Jaimes"},null,null,{"$f":"'Résultats PRÉLIMINAIRES'!B248","v":"Marie-Hélène Paquette"},null,null,{"$f":"'Résultats PRÉLIMINAIRES'!B249","v":"Mariama Kelta"},null,null,{"$f":"'Résultats PRÉLIMINAIRES'!B250","v":"Claudine Courteau-Godmaire"},null,null,{"$f":"'Résultats PRÉLIMINAIRES'!C247","v":2}]
[{"$f":"'Résultats PRÉLIMINAIRES'!A251","v":"30deux"},{"$f":"'Résultats PRÉLIMINAIRES'!B251","v":"Alexandra Ladouceur"},null,null,{"$f":"'Résultats PRÉLIMINAIRES'!B252","v":"Noemie Desjardins"},null,null,{"$f":"'Résultats PRÉLIMINAIRES'!B253","v":"Camille Gaudreault"},null,null,{"$f":"'Résultats PRÉLIMINAIRES'!B254","v":"Sarah-Laurence Morin"},null,null,{"$f":"'Résultats PRÉLIMINAIRES'!C251","v":1}]
[{"$f":"'Résultats PRÉLIMINAIRES'!A255","v":0},{"$f":"'Résultats PRÉLIMINAIRES'!B255","v":0},null,null,{"$f":"'Résultats PRÉLIMINAIRES'!B256","v":0},null,null,{"$f":"'Résultats PRÉLIMINAIRES'!B257","v":0},null,null,{"$f":"'Résultats PRÉLIMINAIRES'!B258","v":0},null,null,{"$f":"'Résultats PRÉLIMINAIRES'!C255","v":""}]
[{"$f":"'Résultats PRÉLIMINAIRES'!A267","v":0},{"$f":"'Résultats PRÉLIMINAIRES'!B267","v":0},null,null,{"$f":"'Résultats PRÉLIMINAIRES'!B268","v":0},null,null,{"$f":"'Résultats PRÉLIMINAIRES'!B269","v":0},null,null,{"$f":"'Résultats PRÉLIMINAIRES'!B270","v":0},null,null,{"$f":"'Résultats PRÉLIMINAIRES'!C267","v":""}]
[{"$f":"'Résultats PRÉLIMINAIRES'!A271","v":0},{"$f":"'Résultats PRÉLIMINAIRES'!B271","v":0},null,null,{"$f":"'Résultats PRÉLIMINAIRES'!B272","v":0},null,null,{"$f":"'Résultats PRÉLIMINAIRES'!B273","v":0},null,null,{"$f":"'Résultats PRÉLIMINAIRES'!B274","v":0},null,null,{"$f":"'Résultats PRÉLIMINAIRES'!C271","v":""}]
[{"$f":"'Résultats PRÉLIMINAIRES'!A259","v":0},{"$f":"'Résultats PRÉLIMINAIRES'!B259","v":0},null,null,{"$f":"'Résultats PRÉLIMINAIRES'!B260","v":0},null,null,{"$f":"'Résultats PRÉLIMINAIRES'!B261","v":0},null,null,{"$f":"'Résultats PRÉLIMINAIRES'!B262","v":0},null,null,{"$f":"'Résultats PRÉLIMINAIRES'!C259","v":""}]
[{"$f":"'Résultats PRÉLIMINAIRES'!A263","v":0},{"$f":"'Résultats PRÉLIMINAIRES'!B263","v":0},null,null,{"$f":"'Résultats PRÉLIMINAIRES'!B264","v":0},null,null,{"$f":"'Résultats PRÉLIMINAIRES'!B265","v":0},null,null,{"$f":"'Résultats PRÉLIMINAIRES'!B266","v":0},null,null,{"$f":"'Résultats PRÉLIMINAIRES'!C263","v":""}]
[]
["Relais Obstacle Femme"]
["Club","Nom",null,null,"Nom",null,null,"Nom",null,null,"Nom",null,null,"R"]
[{"$f":"'Résultats PRÉLIMINAIRES'!E243","v":"Dam'eauclès"},{"$f":"'Résultats PRÉLIMINAIRES'!F243","v":"Caroline Arcand"},null,null,{"$f":"'Résultats PRÉLIMINAIRES'!F244","v":"Myriam Jacques"},null,null,{"$f":"'Résultats PRÉLIMINAIRES'!F245","v":"Tamara Jacques"},null,null,{"$f":"'Résultats PRÉLIMINAIRES'!F246","v":"Emma Lajeunesse"},null,null,{"$f":"'Résultats PRÉLIMINAIRES'!L243","v":3}]
[{"$f":"'Résultats PRÉLIMINAIRES'!E247","v":"Rouville"},{"$f":"'Résultats PRÉLIMINAIRES'!F247","v":"Claudine Courteau-Godmaire"},null,null,{"$f":"'Résultats PRÉLIMINAIRES'!F248","v":"Ana Jaimes"},null,null,{"$f":"'Résultats PRÉLIMINAIRES'!F249","v":"Gabrièle St-Georges"},null,null,{"$f":"'Résultats PRÉLIMINAIRES'!F250","v":"Mariama Kelta"},null,null,{"$f":"'Résultats PRÉLIMINAIRES'!L247","v":2}]
[{"$f":"'Résultats PRÉLIMINAIRES'!E251","v":"30deux"},{"$f":"'Résultats PRÉLIMINAIRES'!F251","v":"Alexandra Ladouceur"},null,null,{"$f":"'Résultats PRÉLIMINAIRES'!F252","v":"Noemie Desjardins"},null,null,{"$f":"'Résultats PRÉLIMINAIRES'!F253","v":"Camille Gaudreault"},null,null,{"$f":"'Résultats PRÉLIMINAIRES'!F254","v":"Sarah-Laurence Morin"},null,null,{"$f":"'Résultats PRÉLIMINAIRES'!L251","v":1}]
[{"$f":"'Résultats PRÉLIMINAIRES'!E255","v":0},{"$f":"'Résultats PRÉLIMINAIRES'!F255","v":0},null,null,{"$f":"'Résultats PRÉLIMINAIRES'!F256","v":0},null,null,{"$f":"'Résultats PRÉLIMINAIRES'!F257","v":0},null,null,{"$f":"'Résultats PRÉLIMINAIRES'!F258","v":0},null,null,{"$f":"'Résultats PRÉLIMINAIRES'!L255","v":""}]
[{"$f":"'Résultats PRÉLIMINAIRES'!E259","v":0},{"$f":"'Résultats PRÉLIMINAIRES'!F259","v":0},null,null,{"$f":"'Résultats PRÉLIMINAIRES'!F260","v":0},null,null,{"$f":"'Résultats PRÉLIMINAIRES'!F261","v":0},null,null,{"$f":"'Résultats PRÉLIMINAIRES'!F262","v":0},null,null,{"$f":"'Résultats PRÉLIMINAIRES'!L259","v":""}]
[{"$f":"'Résultats PRÉLIMINAIRES'!E263","v":0},{"$f":"'Résultats PRÉLIMINAIRES'!F263","v":0},null,null,{"$f":"'Résultats PRÉLIMINAIRES'!F264","v":0},null,null,{"$f":"'Résultats PRÉLIMINAIRES'!F265","v":0},null,null,{"$f":"'Résultats PRÉLIMINAIRES'!F266","v":0},null,null,{"$f":"'Résultats PRÉLIMINAIRES'!L263","v":""}]
[{"$f":"'Résultats PRÉLIMINAIRES'!E267","v":0},{"$f":"'Résultats PRÉLIMINAIRES'!F267","v":0},null,null,{"$f":"'Résultats PRÉLIMINAIRES'!F268","v":0},null,null,{"$f":"'Résultats PRÉLIMINAIRES'!F269","v":0},null,null,{"$f":"'Résultats PRÉLIMINAIRES'!F270","v":0},null,null,{"$f":"'Résultats PRÉLIMINAIRES'!L267","v":""}]
[{"$f":"'Résultats PRÉLIMINAIRES'!E271","v":0},{"$f":"'Résultats PRÉLIMINAIRES'!F271","v":0},null,null,{"$f":"'Résultats PRÉLIMINAIRES'!F272","v":0},null,null,{"$f":"'Résultats PRÉLIMINAIRES'!F273","v":0},null,null,{"$f":"'Résultats PRÉLIMINAIRES'!F274","v":0},null,null,{"$f":"'Résultats PRÉLIMINAIRES'!L271","v":""}]
[]
["Relais Mannequin Femme"]
["Club","Nom",null,null,"Nom",null,null,"Nom",null,null,"Nom",null,null,"R"]
[{"$f":"'Résultats PRÉLIMINAIRES'!M243","v":"Dam'eauclès"},{"$f":"'Résultats PRÉLIMINAIRES'!N243","v":"Caroline Arcand"},null,null,{"$f":"'Résultats PRÉLIMINAIRES'!N244","v":"Manuelle Charbonneau"},null,null,{"$f":"'Résultats PRÉLIMINAIRES'!N245","v":"Tamara Jacques"},null,null,{"$f":"'Résultats PRÉLIMINAIRES'!N246","v":"Emma Lajeunesse"},null,null,{"$f":"'Résultats PRÉLIMINAIRES'!T243","v":2}]
[{"$f":"'Résultats PRÉLIMINAIRES'!M247","v":"Rouville Surf"},{"$f":"'Résultats PRÉLIMINAIRES'!N247","v":"Claudine Courteau-Godmaire"},null,null,{"$f":"'Résultats PRÉLIMINAIRES'!N248","v":"Ana Jaimes"},null,null,{"$f":"'Résultats PRÉLIMINAIRES'!N249","v":"Marie-Hélène Paquette"},null,null,{"$f":"'Résultats PRÉLIMINAIRES'!N250","v":"Mariama Kelta"},null,null,{"$f":"'Résultats PRÉLIMINAIRES'!T247","v":3}]
[{"$f":"'Résultats PRÉLIMINAIRES'!M251","v":"30deux"},{"$f":"'Résultats PRÉLIMINAIRES'!N251","v":"Alexandra Ladouceur"},null,null,{"$f":"'Résultats PRÉLIMINAIRES'!N252","v":"Noemie Desjardins"},null,null,{"$f":"'Résultats PRÉLIMINAIRES'!N253","v":"Camille Gaudreault"},null,null,{"$f":"'Résultats PRÉLIMINAIRES'!N254","v":"Sarah-Laurence Morin"},null,null,{"$f":"'Résultats PRÉLIMINAIRES'!T251","v":1}]
[{"$f":"'Résultats PRÉLIMINAIRES'!M255","v":0},{"$f":"'Résultats PRÉLIMINAIRES'!N255","v":0},null,null,{"$f":"'Résultats PRÉLIMINAIRES'!N256","v":0},null,null,{"$f":"'Résultats PRÉLIMINAIRES'!N257","v":0},null,null,{"$f":"'Résultats PRÉLIMINAIRES'!N258","v":0},null,null,{"$f":"'Résultats PRÉLIMINAIRES'!T255","v":""}]
[{"$f":"'Résultats PRÉLIMINAIRES'!M259","v":0},{"$f":"'Résultats PRÉLIMINAIRES'!N259","v":0},null,null,{"$f":"'Résultats PRÉLIMINAIRES'!N260","v":0},null,null,{"$f":"'Résultats PRÉLIMINAIRES'!N261","v":0},null,null,{"$f":"'Résultats PRÉLIMINAIRES'!N262","v":0},null,null,{"$f":"'Résultats PRÉLIMINAIRES'!T259","v":""}]
[{"$f":"'Résultats PRÉLIMINAIRES'!M263","v":0},{"$f":"'Résultats PRÉLIMINAIRES'!N263","v":0},null,null,{"$f":"'Résultats PRÉLIMINAIRES'!N264","v":0},null,null,{"$f":"'Résultats PRÉLIMINAIRES'!N265","v":0},null,null,{"$f":"'Résultats PRÉLIMINAIRES'!N266","v":0},null,null,{"$f":"'Résultats PRÉLIMINAIRES'!T263","v":""}]
[{"$f":"'Résultats PRÉLIMINAIRES'!M267","v":0},{"$f":"'Résultats PRÉLIMINAIRES'!N267","v":0},null,null,{"$f":"'Résultats PRÉLIMINAIRES'!N268","v":0},null,null,{"$f":"'Résultats PRÉLIMINAIRES'!N269","v":0},null,null,{"$f":"'Résultats PRÉLIMINAIRES'!N270","v":0},null,null,{"$f":"'Résultats PRÉLIMINAIRES'!T267","v":""}]
[{"$f":"'Résultats PRÉLIMINAIRES'!M271","v":0},{"$f":"'Résultats PRÉLIMINAIRES'!N271","v":0},null,null,{"$f":"'Résultats PRÉLIMINAIRES'!N272","v":0},null,null,{"$f":"'Résultats PRÉLIMINAIRES'!N273","v":0},null,null,{"$f":"'Résultats PRÉLIMINAIRES'!N274","v":0},null,null,{"$f":"'Résultats PRÉLIMINAIRES'!T271","v":""}]
[]
["Relais Medley Homme"]
["Club","Nom",null,null,"Nom",null,null,"Nom",null,null,"Nom",null,null,"R"]
[{"$f":"'Résultats PRÉLIMINAIRES'!A279","v":"Dam'eauclès"},{"$f":"'Résultats PRÉLIMINAIRES'!B279","v":"Charles Girouard"},null,null,{"$f":"'Résultats PRÉLIMINAIRES'!B280","v":"Julien Turgeon"},null,null,{"$f":"'Résultats PRÉLIMINAIRES'!B281","v":"Jacob Rousson"},null,null,{"$f":"'Résultats PRÉLIMINAIRES'!B282","v":"James Williamson"},null,null,{"$f":"'Résultats PRÉLIMINAIRES'!C279","v":3}]
[{"$f":"'Résultats PRÉLIMINAIRES'!A283","v":"30deux"},{"$f":"'Résultats PRÉLIMINAIRES'!B283","v":"Thomas Lavoie"},null,null,{"$f":"'Résultats PRÉLIMINAIRES'!B284","v":"Marco Patriarco"},null,null,{"$f":"'Résultats PRÉLIMINAIRES'!B285","v":"François Houle"},null,null,{"$f":"'Résultats PRÉLIMINAIRES'!B286","v":"Maxime Chamberlant"},null,null,{"$f":"'Résultats PRÉLIMINAIRES'!C283","v":1}]
[{"$f":"'Résultats PRÉLIMINAIRES'!A287","v":"CSRN"},{"$f":"'Résultats PRÉLIMINAIRES'!B287","v":"Kamil Romdhani"},null,null,{"$f":"'Résultats PRÉLIMINAIRES'!B288","v":"Ismael Chakir"},null,null,{"$f":"'Résultats PRÉLIMINAIRES'!B289","v":"William Laurence"},null,null,{"$f":"'Résultats PRÉLIMINAIRES'!B290","v":"Malik Romdhani"},null,null,{"$f":"'Résultats PRÉLIMINAIRES'!C287","v":2}]
[{"$f":"'Résultats PRÉLIMINAIRES'!A291","v":0},{"$f":"'Résultats PRÉLIMINAIRES'!B291","v":0},null,null,{"$f":"'Résultats PRÉLIMINAIRES'!B292","v":0},null,null,{"$f":"'Résultats PRÉLIMINAIRES'!B293","v":0},null,null,{"$f":"'Résultats PRÉLIMINAIRES'!B294","v":0},null,null,{"$f":"'Résultats PRÉLIMINAIRES'!C291","v":""}]
[{"$f":"'Résultats PRÉLIMINAIRES'!A299","v":0},{"$f":"'Résultats PRÉLIMINAIRES'!B299","v":0},null,null,{"$f":"'Résultats PRÉLIMINAIRES'!B300","v":0},null,null,{"$f":"'Résultats PRÉLIMINAIRES'!B301","v":0},null,null,{"$f":"'Résultats PRÉLIMINAIRES'!B302","v":0},null,null,{"$f":"'Résultats PRÉLIMINAIRES'!C299","v":""}]
[{"$f":"'Résultats PRÉLIMINAIRES'!A303","v":0},{"$f":"'Résultats PRÉLIMINAIRES'!B303","v":0},null,null,{"$f":"'Résultats PRÉLIMINAIRES'!B304","v":0},null,null,{"$f":"'Résultats PRÉLIMINAIRES'!B305","v":0},null,null,{"$f":"'Résultats PRÉLIMINAIRES'!B306","v":0},null,null,{"$f":"'Résultats PRÉLIMINAIRES'!C303","v":""}]
[{"$f":"'Résultats PRÉLIMINAIRES'!A307","v":0},{"$f":"'Résultats PRÉLIMINAIRES'!B307","v":0},null,null,{"$f":"'Résultats PRÉLIMINAIRES'!B308","v":0},null,null,{"$f":"'Résultats PRÉLIMINAIRES'!B309","v":0},null,null,{"$f":"'Résultats PRÉLIMINAIRES'!B310","v":0},null,null,{"$f":"'Résultats PRÉLIMINAIRES'!C307","v":""}]
[{"$f":"'Résultats PRÉLIMINAIRES'!A295","v":0},{"$f":"'Résultats PRÉLIMINAIRES'!B295","v":0},null,null,{"$f":"'Résultats PRÉLIMINAIRES'!B296","v":0},null,null,{"$f":"'Résultats PRÉLIMINAIRES'!B297","v":0},null,null,{"$f":"'Résultats PRÉLIMINAIRES'!B298","v":0},null,null,{"$f":"'Résultats PRÉLIMINAIRES'!C295","v":""}]
[]
["Relais Obstacle Homme"]
["Club","Nom",null,null,"Nom",null,null,"Nom",null,null,"Nom",null,null,"R"]
[{"$f":"'Résultats PRÉLIMINAIRES'!E279","v":"Dam'eauclès"},{"$f":"'Résultats PRÉLIMINAIRES'!B279","v":"Charles Girouard"},null,null,{"$f":"'Résultats PRÉLIMINAIRES'!F280","v":"Julien Turgeon"},null,null,{"$f":"'Résultats PRÉLIMINAIRES'!F281","v":"Jacob Rousson"},null,null,{"$f":"'Résultats PRÉLIMINAIRES'!F282","v":"James Williamson"},null,null,{"$f":"'Résultats PRÉLIMINAIRES'!L279","v":3}]
[{"$f":"'Résultats PRÉLIMINAIRES'!E283","v":"30deux"},{"$f":"'Résultats PRÉLIMINAIRES'!B283","v":"Thomas Lavoie"},null,null,{"$f":"'Résultats PRÉLIMINAIRES'!F284","v":"Samuel Léversque"},null,null,{"$f":"'Résultats PRÉLIMINAIRES'!F285","v":"François Houle"},null,null,{"$f":"'Résultats PRÉLIMINAIRES'!F286","v":"Maxime Chamberlant"},null,null,{"$f":"'Résultats PRÉLIMINAIRES'!L283","v":1}]
[{"$f":"'Résultats PRÉLIMINAIRES'!E287","v":"CSRN"},{"$f":"'Résultats PRÉLIMINAIRES'!B287","v":"Kamil Romdhani"},null,null,{"$f":"'Résultats PRÉLIMINAIRES'!F288","v":"Ismael Chakir"},null,null,{"$f":"'Résultats PRÉLIMINAIRES'!F289","v":"William Laurence"},null,null,{"$f":"'Résultats PRÉLIMINAIRES'!F290","v":"Malik Romdhani"},null,null,{"$f":"'Résultats PRÉLIMINAIRES'!L287","v":2}]
[{"$f":"'Résultats PRÉLIMINAIRES'!E291","v":0},{"$f":"'Résultats PRÉLIMINAIRES'!B291","v":0},null,null,{"$f":"'Résultats PRÉLIMINAIRES'!F292","v":0},null,null,{"$f":"'Résultats PRÉLIMINAIRES'!F293","v":0},null,null,{"$f":"'Résultats PRÉLIMINAIRES'!F294","v":0},null,null,{"$f":"'Résultats PRÉLIMINAIRES'!L291","v":""}]
[{"$f":"'Résultats PRÉLIMINAIRES'!E295","v":0},{"$f":"'Résultats PRÉLIMINAIRES'!B295","v":0},null,null,{"$f":"'Résultats PRÉLIMINAIRES'!F296","v":0},null,null,{"$f":"'Résultats PRÉLIMINAIRES'!F297","v":0},null,null,{"$f":"'Résultats PRÉLIMINAIRES'!F298","v":0},null,null,{"$f":"'Résultats PRÉLIMINAIRES'!L295","v":""}]
[{"$f":"'Résultats PRÉLIMINAIRES'!E299","v":0},{"$f":"'Résultats PRÉLIMINAIRES'!B299","v":0},null,null,{"$f":"'Résultats PRÉLIMINAIRES'!F300","v":0},null,null,{"$f":"'Résultats PRÉLIMINAIRES'!F301","v":0},null,null,{"$f":"'Résultats PRÉLIMINAIRES'!F302","v":0},null,null,{"$f":"'Résultats PRÉLIMINAIRES'!L299","v":""}]
[{"$f":"'Résultats PRÉLIMINAIRES'!E303","v":0},{"$f":"'Résultats PRÉLIMINAIRES'!B303","v":0},null,null,{"$f":"'Résultats PRÉLIMINAIRES'!F304","v":0},null,null,{"$f":"'Résultats PRÉLIMINAIRES'!F305","v":0},null,null,{"$f":"'Résultats PRÉLIMINAIRES'!F306","v":0},null,null,{"$f":"'Résultats PRÉLIMINAIRES'!L303","v":""}]
[{"$f":"'Résultats PRÉLIMINAIRES'!E307","v":0},{"$f":"'Résultats PRÉLIMINAIRES'!B307","v":0},null,null,{"$f":"'Résultats PRÉLIMINAIRES'!F308","v":0},null,null,{"$f":"'Résultats PRÉLIMINAIRES'!F309","v":0},null,null,{"$f":"'Résultats PRÉLIMINAIRES'!F310","v":0},null,null,{"$f":"'Résultats PRÉLIMINAIRES'!L307","v":""}]
[]
["Relais Mannequin Homme"]
["Club","Nom",null,null,"Nom",null,null,"Nom",null,null,"Nom",null,null,"R"]
[{"$f":"'Résultats PRÉLIMINAIRES'!M279","v":"30deux"},{"$f":"'Résultats PRÉLIMINAIRES'!N279","v":"Thomas Lavoie"},null,null,{"$f":"'Résultats PRÉLIMINAIRES'!N280","v":"Marco Patriarco"},null,null,{"$f":"'Résultats PRÉLIMINAIRES'!N281","v":"François Houle"},null,null,{"$f":"'Résultats PRÉLIMINAIRES'!N282","v":"Maxime Chamberlant"},null,null,{"$f":"'Résultats PRÉLIMINAIRES'!T279","v":1}]
[{"$f":"'Résultats PRÉLIMINAIRES'!M283","v":"CSRN"},{"$f":"'Résultats PRÉLIMINAIRES'!N283","v":"Kamil Romdhani"},null,null,{"$f":"'Résultats PRÉLIMINAIRES'!N284","v":"Ismael Chakir"},null,null,{"$f":"'Résultats PRÉLIMINAIRES'!N285","v":"William Laurence"},null,null,{"$f":"'Résultats PRÉLIMINAIRES'!N286","v":"Malik Romdhani"},null,null,{"$f":"'Résultats PRÉLIMINAIRES'!T283","v":2}]
[{"$f":"'Résultats PRÉLIMINAIRES'!M287","v":"Dam'eauclès"},{"$f":"'Résultats PRÉLIMINAIRES'!N287","v":"Charles Girouard"},null,null,{"$f":"'Résultats PRÉLIMINAIRES'!N288","v":"Julien Turgeon"},null,null,{"$f":"'Résultats PRÉLIMINAIRES'!N289","v":"Jacob Rousson"},null,null,{"$f":"'Résultats PRÉLIMINAIRES'!N290","v":"James Williamson"},null,null,{"$f":"'Résultats PRÉLIMINAIRES'!T287","v":3}]
[{"$f":"'Résultats PRÉLIMINAIRES'!M291","v":0},{"$f":"'Résultats PRÉLIMINAIRES'!N291","v":0},null,null,{"$f":"'Résultats PRÉLIMINAIRES'!N292","v":0},null,null,{"$f":"'Résultats PRÉLIMINAIRES'!N293","v":0},null,null,{"$f":"'Résultats PRÉLIMINAIRES'!N294","v":0},null,null,{"$f":"'Résultats PRÉLIMINAIRES'!T291","v":""}]
[{"$f":"'Résultats PRÉLIMINAIRES'!M295","v":0},{"$f":"'Résultats PRÉLIMINAIRES'!N295","v":0},null,null,{"$f":"'Résultats PRÉLIMINAIRES'!N296","v":0},null,null,{"$f":"'Résultats PRÉLIMINAIRES'!N297","v":0},null,null,{"$f":"'Résultats PRÉLIMINAIRES'!N298","v":0},null,null,{"$f":"'Résultats PRÉLIMINAIRES'!T295","v":""}]
[{"$f":"'Résultats PRÉLIMINAIRES'!M299","v":0},{"$f":"'Résultats PRÉLIMINAIRES'!N299","v":0},null,null,{"$f":"'Résultats PRÉLIMINAIRES'!N300","v":0},null,null,{"$f":"'Résultats PRÉLIMINAIRES'!N301","v":0},null,null,{"$f":"'Résultats PRÉLIMINAIRES'!N302","v":0},null,null,{"$f":"'Résultats PRÉLIMINAIRES'!T299","v":""}]
[{"$f":"'Résultats PRÉLIMINAIRES'!M303","v":0},{"$f":"'Résultats PRÉLIMINAIRES'!N303","v":0},null,null,{"$f":"'Résultats PRÉLIMINAIRES'!N304","v":0},null,null,{"$f":"'Résultats PRÉLIMINAIRES'!N305","v":0},null,null,{"$f":"'Résultats PRÉLIMINAIRES'!N306","v":0},null,null,{"$f":"'Résultats PRÉLIMINAIRES'!T303","v":""}]
[{"$f":"'Résultats PRÉLIMINAIRES'!M307","v":0},{"$f":"'Résultats PRÉLIMINAIRES'!N307","v":0},null,null,{"$f":"'Résultats PRÉLIMINAIRES'!N308","v":0},null,null,{"$f":"'Résultats PRÉLIMINAIRES'!N309","v":0},null,null,{"$f":"'Résultats PRÉLIMINAIRES'!N310","v":0},null,null,{"$f":"'Résultats PRÉLIMINAIRES'!T307","v":""}]
[]
["Overall",null,null,null,null,null,"Overall",null,null,null,null,null,"Overall"]
["Cumulatif Jeunes Sauveteur",null,null,null,null,null,"Cumulatif Senior",null,null,null,null,null,"Cumulatif Global"]
["Club","Points","R",null,null,null,"Club","Points","R",null,null,null,"Club","Points","R"]
[{"$f":"'Décompte CLUB'!A48","v":"Dam'eauclès"},{"$f":"'Décompte CLUB'!C48","v":559},{"$f":"'Décompte CLUB'!B48","v":1},null,null,null,{"$f":"'Décompte CLUB'!E55","v":"30Deux"},{"$f":"'Décompte CLUB'!H55","v":713},{"$f":"'Décompte CLUB'!G55","v":1},null,null,null,{"$f":"'Décompte CLUB'!J55","v":"30Deux"},{"$f":"'Décompte CLUB'!L55","v":909},{"$f":"'Décompte CLUB'!M55","v":1}]
[{"$f":"'Décompte CLUB'!A52","v":"CSRN"},{"$f":"'Décompte CLUB'!C52","v":547},{"$f":"'Décompte CLUB'!B52","v":2},null,null,null,"Rouville Surf",{"$f":"'Décompte CLUB'!H57","v":460},{"$f":"'Décompte CLUB'!G57","v":2},null,null,null,{"$f":"'Décompte CLUB'!J48","v":"Dam'eauclès"},{"$f":"'Décompte CLUB'!L48","v":819},{"$f":"'Décompte CLUB'!M48","v":2}]
[{"$f":"'Décompte CLUB'!A44","v":"CAEM"},{"$f":"'Décompte CLUB'!C44","v":204},{"$f":"'Décompte CLUB'!B44","v":3},null,null,null,{"$f":"'Décompte CLUB'!E48","v":"Dam'eauclès"},{"$f":"'Décompte CLUB'!H48","v":260},{"$f":"'Décompte CLUB'!G48","v":3},null,null,null,{"$f":"'Décompte CLUB'!J52","v":"CSRN"},{"$f":"'Décompte CLUB'!L52","v":754},{"$f":"'Décompte CLUB'!M52","v":3}]
[{"$f":"'Décompte CLUB'!A55","v":"30Deux"},{"$f":"'Décompte CLUB'!C55","v":196},{"$f":"'Décompte CLUB'!B55","v":4},null,null,null,{"$f":"'Décompte CLUB'!E52","v":"CSRN"},{"$f":"'Décompte CLUB'!H52","v":207},{"$f":"'Décompte CLUB'!G52","v":4},null,null,null,"Rouville Surf",{"$f":"'Décompte CLUB'!L57","v":460},{"$f":"'Décompte CLUB'!M57","v":4}]
[{"$f":"'Décompte CLUB'!A53","v":"CSRAD"},{"$f":"'Décompte CLUB'!C53","v":190},{"$f":"'Décompte CLUB'!B53","v":5},null,null,null,{"$f":"'Décompte CLUB'!E60","v":"CASO"},{"$f":"'Décompte CLUB'!H60","v":118},{"$f":"'Décompte CLUB'!G60","v":5},null,null,null,{"$f":"'Décompte CLUB'!J45","v":"SSSL"},{"$f":"'Décompte CLUB'!L45","v":252},{"$f":"'Décompte CLUB'!M45","v":5}]
[{"$f":"'Décompte CLUB'!A51","v":"Narval"},{"$f":"'Décompte CLUB'!C51","v":171},{"$f":"'Décompte CLUB'!B51","v":6},null,null,null,{"$f":"'Décompte CLUB'!E45","v":"SSSL"},{"$f":"'Décompte CLUB'!H45","v":100},{"$f":"'Décompte CLUB'!G45","v":6},null,null,null,{"$f":"'Décompte CLUB'!J60","v":"CASO"},{"$f":"'Décompte CLUB'!L60","v":241},{"$f":"'Décompte CLUB'!M60","v":6}]
[{"$f":"'Décompte CLUB'!A45","v":"SSSL"},{"$f":"'Décompte CLUB'!C45","v":152},{"$f":"'Décompte CLUB'!B45","v":7},null,null,null,{"$f":"'Décompte CLUB'!E50","v":"Gatineau"},{"$f":"'Décompte CLUB'!H50","v":59},{"$f":"'Décompte CLUB'!G50","v":7},null,null,null,{"$f":"'Décompte CLUB'!J51","v":"Narval"},{"$f":"'Décompte CLUB'!L51","v":226},{"$f":"'Décompte CLUB'!M51","v":7}]
[{"$f":"'Décompte CLUB'!A50","v":"Gatineau"},{"$f":"'Décompte CLUB'!C50","v":126},{"$f":"'Décompte CLUB'!B50","v":8},null,null,null,{"$f":"'Décompte CLUB'!E51","v":"Narval"},{"$f":"'Décompte CLUB'!H51","v":55},{"$f":"'Décompte CLUB'!G51","v":8},null,null,null,{"$f":"'Décompte CLUB'!J44","v":"CAEM"},{"$f":"'Décompte CLUB'!L44","v":204},{"$f":"'Décompte CLUB'!M44","v":8}]
[{"$f":"'Décompte CLUB'!A60","v":"CASO"},{"$f":"'Décompte CLUB'!C60","v":123},{"$f":"'Décompte CLUB'!B60","v":9},null,null,null,"O'méga",{"$f":"'Décompte CLUB'!H59","v":7},{"$f":"'Décompte CLUB'!G59","v":9},null,null,null,{"$f":"'Décompte CLUB'!J50","v":"Gatineau"},{"$f":"'Décompte CLUB'!L50","v":185},{"$f":"'Décompte CLUB'!M50","v":10}]
["O'méga",{"$f":"'Décompte CLUB'!C59","v":81},{"$f":"'Décompte CLUB'!B59","v":10},null,null,null,{"$f":"'Décompte CLUB'!E44","v":"CAEM"},{"$f":"'Décompte CLUB'!H44","v":0},{"$f":"'Décompte CLUB'!G44","v":10},null,null,null,"O'méga",{"$f":"'Décompte CLUB'!L59","v":88},{"$f":"'Décompte CLUB'!M59","v":11}]
[{"$f":"'Décompte CLUB'!A49","v":"Perf'O'Max"},{"$f":"'Décompte CLUB'!C49","v":0},{"$f":"'Décompte CLUB'!B49","v":11},null,null,null,{"$f":"'Décompte CLUB'!E47","v":"CAPN"},{"$f":"'Décompte CLUB'!H47","v":0},{"$f":"'Décompte CLUB'!G47","v":10},null,null,null,{"$f":"'Décompte CLUB'!J47","v":"CAPN"},{"$f":"'Décompte CLUB'!L47","v":0},{"$f":"'Décompte CLUB'!M47","v":12}]
[{"$f":"'Décompte CLUB'!A47","v":"CAPN"},{"$f":"'Décompte CLUB'!C47","v":0},{"$f":"'Décompte CLUB'!B47","v":11},null,null,null,{"$f":"'Décompte CLUB'!E56","v":"Sea Devils"},{"$f":"'Décompte CLUB'!H56","v":0},{"$f":"'Décompte CLUB'!G56","v":10},null,null,null,{"$f":"'Décompte CLUB'!J49","v":"Perf'O'Max"},{"$f":"'Décompte CLUB'!L49","v":0},{"$f":"'Décompte CLUB'!M49","v":12}]
[{"$f":"'Décompte CLUB'!A46","v":"CAM"},{"$f":"'Décompte CLUB'!C46","v":0},{"$f":"'Décompte CLUB'!B46","v":11},null,null,null,{"$f":"'Décompte CLUB'!E49","v":"Perf'O'Max"},{"$f":"'Décompte CLUB'!H49","v":0},{"$f":"'Décompte CLUB'!G49","v":10},null,null,null,{"$f":"'Décompte CLUB'!J56","v":"Sea Devils"},{"$f":"'Décompte CLUB'!L56","v":0},{"$f":"'Décompte CLUB'!M56","v":12}]
[{"$f":"'Décompte CLUB'!A54","v":"SSSC"},{"$f":"'Décompte CLUB'!C54","v":0},{"$f":"'Décompte CLUB'!B54","v":11},null,null,null,{"$f":"'Décompte CLUB'!E54","v":"SSSC"},{"$f":"'Décompte CLUB'!H54","v":0},{"$f":"'Décompte CLUB'!G54","v":10},null,null,null,{"$f":"'Décompte CLUB'!J54","v":"SSSC"},{"$f":"'Décompte CLUB'!L54","v":0},{"$f":"'Décompte CLUB'!M54","v":12}]
["Rouville Surf",{"$f":"'Décompte CLUB'!C57","v":0},{"$f":"'Décompte CLUB'!B57","v":11},null,null,null,{"$f":"'Décompte CLUB'!E46","v":"CAM"},{"$f":"'Décompte CLUB'!H46","v":0},{"$f":"'Décompte CLUB'!G46","v":10},null,null,null,{"$f":"'Décompte CLUB'!J46","v":"CAM"},{"$f":"'Décompte CLUB'!L46","v":0},{"$f":"'Décompte CLUB'!M46","v":12}]
["Quebec",{"$f":"'Décompte CLUB'!C58","v":0},{"$f":"'Décompte CLUB'!B58","v":11},null,null,null,"Quebec",{"$f":"'Décompte CLUB'!H58","v":0},{"$f":"'Décompte CLUB'!G58","v":10},null,null,null,"Quebec",{"$f":"'Décompte CLUB'!L58","v":0},{"$f":"'Décompte CLUB'!M58","v":12}]
[{"$f":"'Décompte CLUB'!A56","v":"Sea Devils"},{"$f":"'Décompte CLUB'!C56","v":0},{"$f":"'Décompte CLUB'!B56","v":11},null,null,null,{"$f":"'Décompte CLUB'!E53","v":"CSRAD"},{"$f":"'Décompte CLUB'!H53","v":0},{"$f":"'Décompte CLUB'!G53","v":10},null,null,null,{"$f":"'Décompte CLUB'!J53","v":"CSRAD"},{"$f":"'Décompte CLUB'!L53","v":190},{"$f":"'Décompte CLUB'!M53","v":9}]

{"sheet":"Vagues FINALES","index":10,"n_rows":268,"n_cols":11,"rows_kept":268,"cut":false,"hidden":true,"merged":[[23,1,27,1],[2,1,2,2],[3,1,7,1],[1,1,1,10],[8,1,12,1],[13,1,17,1],[18,1,22,1],[46,1,50,1],[51,1,55,1],[56,1,60,1],[61,1,65,1],[29,1,29,10],[30,1,30,2],[31,1,35,1],[36,1,40,1],[41,1,45,1],[122,1,126,1],[74,1,78,1],[79,1,83,1],[84,1,88,1],[89,1,93,1],[107,1,111,1],[112,1,116,1],[117,1,121,1],[105,1,105,10],[106,1,106,2],[67,1,67,10],[68,1,68,2],[69,1,73,1],[94,1,98,1],[99,1,103,1],[127,1,131,1],[132,1,136,1],[137,1,141,1],[143,1,143,10],[144,1,144,2],[171,1,175,1],[176,1,180,1],[146,2,147,2],[181,1,188,1],[182,2,185,2],[145,1,150,1],[151,1,155,1],[156,1,160,1],[161,1,165,1],[166,1,170,1],[189,1,196,1],[190,2,193,2],[197,1,204,1],[198,2,201,2],[206,1,206,10],[207,1,207,2],[208,1,213,1],[209,2,210,2],[214,1,218,1],[219,1,223,1],[224,1,228,1],[229,1,233,1],[234,1,238,1],[239,1,243,1],[244,1,251,1],[245,2,248,2],[252,1,259,1],[253,2,256,2],[260,1,267,1],[261,2,264,2]]}
[]
[null,"Vagues finales 11 ans et moins"]
[null,"Position selon les couloirs",null,8,6,4,2,1,3,5,7]
[null,"Lancer de précision","Club",{"$f":"LOOKUP(8,'Résultats PRÉLIMINAIRES'!$F$5:$F$34,'Résultats PRÉLIMINAIRES'!$A$5:$A$34)","v":{"$error":"#N/A"}},{"$f":"LOOKUP(6,'Résultats PRÉLIMINAIRES'!$F$5:$F$34,'Résultats PRÉLIMINAIRES'!$A$5:$A$34)","v":{"$error":"#N/A"}},{"$f":"LOOKUP(4,'Résultats PRÉLIMINAIRES'!$F$5:$F$34,'Résultats PRÉLIMINAIRES'!$A$5:$A$34)","v":{"$error":"#N/A"}},{"$f":"LOOKUP(2,'Résultats PRÉLIMINAIRES'!$F$5:$F$34,'Résultats PRÉLIMINAIRES'!$A$5:$A$34)","v":{"$error":"#N/A"}},{"$f":"LOOKUP(1,'Résultats PRÉLIMINAIRES'!$F$5:$F$34,'Résultats PRÉLIMINAIRES'!$A$5:$A$34)","v":{"$error":"#N/A"}},{"$f":"LOOKUP(3,'Résultats PRÉLIMINAIRES'!$F$5:$F$34,'Résultats PRÉLIMINAIRES'!$A$5:$A$34)","v":{"$error":"#N/A"}},{"$f":"LOOKUP(5,'Résultats PRÉLIMINAIRES'!$F$5:$F$34,'Résultats PRÉLIMINAIRES'!$A$5:$A$34)","v":{"$error":"#N/A"}},{"$f":"LOOKUP(7,'Résultats PRÉLIMINAIRES'!$F$5:$F$34,'Résultats PRÉLIMINAIRES'!$A$5:$A$34)","v":{"$error":"#N/A"}}]
[null,null,"Nom",{"$f":"LOOKUP(8,'Résultats PRÉLIMINAIRES'!$F$5:$F$34,'Résultats PRÉLIMINAIRES'!$B$5:$B$34)","v":{"$error":"#N/A"}},{"$f":"LOOKUP(6,'Résultats PRÉLIMINAIRES'!$F$5:$F$34,'Résultats PRÉLIMINAIRES'!$B$5:$B$34)","v":{"$error":"#N/A"}},{"$f":"LOOKUP(4,'Résultats PRÉLIMINAIRES'!$F$5:$F$34,'Résultats PRÉLIMINAIRES'!$B$5:$B$34)","v":{"$error":"#N/A"}},{"$f":"LOOKUP(2,'Résultats PRÉLIMINAIRES'!$F$5:$F$34,'Résultats PRÉLIMINAIRES'!$B$5:$B$34)","v":{"$error":"#N/A"}},{"$f":"LOOKUP(1,'Résultats PRÉLIMINAIRES'!$F$5:$F$34,'Résultats PRÉLIMINAIRES'!$B$5:$B$34)","v":{"$error":"#N/A"}},{"$f":"LOOKUP(3,'Résultats PRÉLIMINAIRES'!$F$5:$F$34,'Résultats PRÉLIMINAIRES'!$B$5:$B$34)","v":{"$error":"#N/A"}},{"$f":"LOOKUP(5,'Résultats PRÉLIMINAIRES'!$F$5:$F$34,'Résultats PRÉLIMINAIRES'!$B$5:$B$34)","v":{"$error":"#N/A"}},{"$f":"LOOKUP(7,'Résultats PRÉLIMINAIRES'!$F$5:$F$34,'Résultats PRÉLIMINAIRES'!$B$5:$B$34)","v":{"$error":"#N/A"}}]
[null,null,"Chrono 1"]
[null,null,"Chrono 2"]
[null,null,"Temps"]
[null,"Remorquage mannequin + palmes","Club",{"$f":"LOOKUP(8,'Résultats PRÉLIMINAIRES'!$H$5:$H$34,'Résultats PRÉLIMINAIRES'!$A$5:$A$34)","v":"CASO"},{"$f":"LOOKUP(6,'Résultats PRÉLIMINAIRES'!$H$5:$H$34,'Résultats PRÉLIMINAIRES'!$A$5:$A$34)","v":"CASO"},{"$f":"LOOKUP(4,'Résultats PRÉLIMINAIRES'!$H$5:$H$34,'Résultats PRÉLIMINAIRES'!$A$5:$A$34)","v":"CASO"},{"$f":"LOOKUP(2,'Résultats PRÉLIMINAIRES'!$H$5:$H$34,'Résultats PRÉLIMINAIRES'!$A$5:$A$34)","v":"CASO"},{"$f":"LOOKUP(1,'Résultats PRÉLIMINAIRES'!$H$5:$H$34,'Résultats PRÉLIMINAIRES'!$A$5:$A$34)","v":"CASO"},{"$f":"LOOKUP(3,'Résultats PRÉLIMINAIRES'!$H$5:$H$34,'Résultats PRÉLIMINAIRES'!$A$5:$A$34)","v":"CASO"},{"$f":"LOOKUP(5,'Résultats PRÉLIMINAIRES'!$H$5:$H$34,'Résultats PRÉLIMINAIRES'!$A$5:$A$34)","v":"CASO"},{"$f":"LOOKUP(7,'Résultats PRÉLIMINAIRES'!$H$5:$H$34,'Résultats PRÉLIMINAIRES'!$A$5:$A$34)","v":"CASO"}]
[null,null,"Nom",{"$f":"LOOKUP(8,'Résultats PRÉLIMINAIRES'!$H$5:$H$34,'Résultats PRÉLIMINAIRES'!$B$5:$B$34)","v":"Zacharie Taillefer"},{"$f":"LOOKUP(6,'Résultats PRÉLIMINAIRES'!$H$5:$H$34,'Résultats PRÉLIMINAIRES'!$B$5:$B$34)","v":"Zacharie Taillefer"},{"$f":"LOOKUP(4,'Résultats PRÉLIMINAIRES'!$H$5:$H$34,'Résultats PRÉLIMINAIRES'!$B$5:$B$34)","v":"Zacharie Taillefer"},{"$f":"LOOKUP(2,'Résultats PRÉLIMINAIRES'!$H$5:$H$34,'Résultats PRÉLIMINAIRES'!$B$5:$B$34)","v":"Zacharie Taillefer"},{"$f":"LOOKUP(1,'Résultats PRÉLIMINAIRES'!$H$5:$H$34,'Résultats PRÉLIMINAIRES'!$B$5:$B$34)","v":"Zacharie Taillefer"},{"$f":"LOOKUP(3,'Résultats PRÉLIMINAIRES'!$H$5:$H$34,'Résultats PRÉLIMINAIRES'!$B$5:$B$34)","v":"Zacharie Taillefer"},{"$f":"LOOKUP(5,'Résultats PRÉLIMINAIRES'!$H$5:$H$34,'Résultats PRÉLIMINAIRES'!$B$5:$B$34)","v":"Zacharie Taillefer"},{"$f":"LOOKUP(7,'Résultats PRÉLIMINAIRES'!$H$5:$H$34,'Résultats PRÉLIMINAIRES'!$B$5:$B$34)","v":"Zacharie Taillefer"}]
[null,null,"Chrono 1"]
[null,null,"Chrono 2"]
[null,null,"Temps"]
[null,"Obstacles","Club",{"$f":"LOOKUP(8,'Résultats PRÉLIMINAIRES'!$J$5:$J$34,'Résultats PRÉLIMINAIRES'!$A$5:$A$34)","v":"CASO"},{"$f":"LOOKUP(6,'Résultats PRÉLIMINAIRES'!$J$5:$J$34,'Résultats PRÉLIMINAIRES'!$A$5:$A$34)","v":"CASO"},{"$f":"LOOKUP(4,'Résultats PRÉLIMINAIRES'!$J$5:$J$34,'Résultats PRÉLIMINAIRES'!$A$5:$A$34)","v":"CASO"},{"$f":"LOOKUP(2,'Résultats PRÉLIMINAIRES'!$J$5:$J$34,'Résultats PRÉLIMINAIRES'!$A$5:$A$34)","v":"CASO"},{"$f":"LOOKUP(1,'Résultats PRÉLIMINAIRES'!$J$5:$J$34,'Résultats PRÉLIMINAIRES'!$A$5:$A$34)","v":"CASO"},{"$f":"LOOKUP(3,'Résultats PRÉLIMINAIRES'!$J$5:$J$34,'Résultats PRÉLIMINAIRES'!$A$5:$A$34)","v":"CASO"},{"$f":"LOOKUP(5,'Résultats PRÉLIMINAIRES'!$J$5:$J$34,'Résultats PRÉLIMINAIRES'!$A$5:$A$34)","v":"CASO"},{"$f":"LOOKUP(7,'Résultats PRÉLIMINAIRES'!$J$5:$J$34,'Résultats PRÉLIMINAIRES'!$A$5:$A$34)","v":"CASO"}]
[null,null,"Nom",{"$f":"LOOKUP(8,'Résultats PRÉLIMINAIRES'!$J$5:$J$34,'Résultats PRÉLIMINAIRES'!$B$5:$B$34)","v":"Zacharie Taillefer"},{"$f":"LOOKUP(6,'Résultats PRÉLIMINAIRES'!$J$5:$J$34,'Résultats PRÉLIMINAIRES'!$B$5:$B$34)","v":"Zacharie Taillefer"},{"$f":"LOOKUP(4,'Résultats PRÉLIMINAIRES'!$J$5:$J$34,'Résultats PRÉLIMINAIRES'!$B$5:$B$34)","v":"Zacharie Taillefer"},{"$f":"LOOKUP(2,'Résultats PRÉLIMINAIRES'!$J$5:$J$34,'Résultats PRÉLIMINAIRES'!$B$5:$B$34)","v":"Zacharie Taillefer"},{"$f":"LOOKUP(1,'Résultats PRÉLIMINAIRES'!$J$5:$J$34,'Résultats PRÉLIMINAIRES'!$B$5:$B$34)","v":"Zacharie Taillefer"},{"$f":"LOOKUP(3,'Résultats PRÉLIMINAIRES'!$J$5:$J$34,'Résultats PRÉLIMINAIRES'!$B$5:$B$34)","v":"Zacharie Taillefer"},{"$f":"LOOKUP(5,'Résultats PRÉLIMINAIRES'!$J$5:$J$34,'Résultats PRÉLIMINAIRES'!$B$5:$B$34)","v":"Zacharie Taillefer"},{"$f":"LOOKUP(7,'Résultats PRÉLIMINAIRES'!$J$5:$J$34,'Résultats PRÉLIMINAIRES'!$B$5:$B$34)","v":"Zacharie Taillefer"}]
[null,null,"Chrono 1"]
[null,null,"Chrono 2"]
[null,null,"Temps"]
[null,"Portage mannequin + plames","Club",{"$f":"LOOKUP(8,'Résultats PRÉLIMINAIRES'!$L$5:$L$34,'Résultats PRÉLIMINAIRES'!$A$5:$A$34)","v":"CASO"},{"$f":"LOOKUP(6,'Résultats PRÉLIMINAIRES'!$L$5:$L$34,'Résultats PRÉLIMINAIRES'!$A$5:$A$34)","v":"CASO"},{"$f":"LOOKUP(4,'Résultats PRÉLIMINAIRES'!$L$5:$L$34,'Résultats PRÉLIMINAIRES'!$A$5:$A$34)","v":"CASO"},{"$f":"LOOKUP(2,'Résultats PRÉLIMINAIRES'!$L$5:$L$34,'Résultats PRÉLIMINAIRES'!$A$5:$A$34)","v":"CAEM"},{"$f":"LOOKUP(1,'Résultats PRÉLIMINAIRES'!$L$5:$L$34,'Résultats PRÉLIMINAIRES'!$A$5:$A$34)","v":{"$error":"#N/A"}},{"$f":"LOOKUP(3,'Résultats PRÉLIMINAIRES'!$L$5:$L$34,'Résultats PRÉLIMINAIRES'!$A$5:$A$34)","v":"CAEM"},{"$f":"LOOKUP(5,'Résultats PRÉLIMINAIRES'!$L$5:$L$34,'Résultats PRÉLIMINAIRES'!$A$5:$A$34)","v":"CASO"},{"$f":"LOOKUP(7,'Résultats PRÉLIMINAIRES'!$L$5:$L$34,'Résultats PRÉLIMINAIRES'!$A$5:$A$34)","v":"CASO"}]
[null,null,"Nom",{"$f":"LOOKUP(8,'Résultats PRÉLIMINAIRES'!$L$5:$L$34,'Résultats PRÉLIMINAIRES'!$B$5:$B$34)","v":"Zacharie Taillefer"},{"$f":"LOOKUP(6,'Résultats PRÉLIMINAIRES'!$L$5:$L$34,'Résultats PRÉLIMINAIRES'!$B$5:$B$34)","v":"Zacharie Taillefer"},{"$f":"LOOKUP(4,'Résultats PRÉLIMINAIRES'!$L$5:$L$34,'Résultats PRÉLIMINAIRES'!$B$5:$B$34)","v":"Zacharie Taillefer"},{"$f":"LOOKUP(2,'Résultats PRÉLIMINAIRES'!$L$5:$L$34,'Résultats PRÉLIMINAIRES'!$B$5:$B$34)","v":"Emmy Mastrovito"},{"$f":"LOOKUP(1,'Résultats PRÉLIMINAIRES'!$L$5:$L$34,'Résultats PRÉLIMINAIRES'!$B$5:$B$34)","v":{"$error":"#N/A"}},{"$f":"LOOKUP(3,'Résultats PRÉLIMINAIRES'!$L$5:$L$34,'Résultats PRÉLIMINAIRES'!$B$5:$B$34)","v":"Emmy Mastrovito"},{"$f":"LOOKUP(5,'Résultats PRÉLIMINAIRES'!$L$5:$L$34,'Résultats PRÉLIMINAIRES'!$B$5:$B$34)","v":"Zacharie Taillefer"},{"$f":"LOOKUP(7,'Résultats PRÉLIMINAIRES'!$L$5:$L$34,'Résultats PRÉLIMINAIRES'!$B$5:$B$34)","v":"Zacharie Taillefer"}]
[null,null,"Chrono 1"]
[null,null,"Chrono 2"]
[null,null,"Temps"]
[null,"Portage","Club",{"$f":"LOOKUP(8,'Résultats PRÉLIMINAIRES'!$N$5:$N$34,'Résultats PRÉLIMINAIRES'!$A$5:$A$34)","v":"CASO"},{"$f":"LOOKUP(6,'Résultats PRÉLIMINAIRES'!$N$5:$N$34,'Résultats PRÉLIMINAIRES'!$A$5:$A$34)","v":"CASO"},{"$f":"LOOKUP(4,'Résultats PRÉLIMINAIRES'!$N$5:$N$34,'Résultats PRÉLIMINAIRES'!$A$5:$A$34)","v":"CAEM"},{"$f":"LOOKUP(2,'Résultats PRÉLIMINAIRES'!$N$5:$N$34,'Résultats PRÉLIMINAIRES'!$A$5:$A$34)","v":"CAEM"},{"$f":"LOOKUP(1,'Résultats PRÉLIMINAIRES'!$N$5:$N$34,'Résultats PRÉLIMINAIRES'!$A$5:$A$34)","v":{"$error":"#N/A"}},{"$f":"LOOKUP(3,'Résultats PRÉLIMINAIRES'!$N$5:$N$34,'Résultats PRÉLIMINAIRES'!$A$5:$A$34)","v":"CAEM"},{"$f":"LOOKUP(5,'Résultats PRÉLIMINAIRES'!$N$5:$N$34,'Résultats PRÉLIMINAIRES'!$A$5:$A$34)","v":"CASO"},{"$f":"LOOKUP(7,'Résultats PRÉLIMINAIRES'!$N$5:$N$34,'Résultats PRÉLIMINAIRES'!$A$5:$A$34)","v":"CASO"}]
[null,null,"Nom",{"$f":"LOOKUP(8,'Résultats PRÉLIMINAIRES'!$N$5:$N$34,'Résultats PRÉLIMINAIRES'!$B$5:$B$34)","v":"Zacharie Taillefer"},{"$f":"LOOKUP(6,'Résultats PRÉLIMINAIRES'!$N$5:$N$34,'Résultats PRÉLIMINAIRES'!$B$5:$B$34)","v":"Zacharie Taillefer"},{"$f":"LOOKUP(4,'Résultats PRÉLIMINAIRES'!$N$5:$N$34,'Résultats PRÉLIMINAIRES'!$B$5:$B$34)","v":"Emmy Mastrovito"},{"$f":"LOOKUP(2,'Résultats PRÉLIMINAIRES'!$N$5:$N$34,'Résultats PRÉLIMINAIRES'!$B$5:$B$34)","v":"Emmy Mastrovito"},{"$f":"LOOKUP(1,'Résultats PRÉLIMINAIRES'!$N$5:$N$34,'Résultats PRÉLIMINAIRES'!$B$5:$B$34)","v":{"$error":"#N/A"}},{"$f":"LOOKUP(3,'Résultats PRÉLIMINAIRES'!$N$5:$N$34,'Résultats PRÉLIMINAIRES'!$B$5:$B$34)","v":"Emmy Mastrovito"},{"$f":"LOOKUP(5,'Résultats PRÉLIMINAIRES'!$N$5:$N$34,'Résultats PRÉLIMINAIRES'!$B$5:$B$34)","v":"Zacharie Taillefer"},{"$f":"LOOKUP(7,'Résultats PRÉLIMINAIRES'!$N$5:$N$34,'Résultats PRÉLIMINAIRES'!$B$5:$B$34)","v":"Zacharie Taillefer"}]
[null,null,"Chrono 1"]
[null,null,"Chrono 2"]
[null,null,"Temps"]
[]
[null,"Vagues finales 12 - 13 ans"]
[null,"Position selon les couloirs",null,8,6,4,2,1,3,5,7]
[null,"Lancer de précision","Club",{"$f":"LOOKUP(8,'Résultats PRÉLIMINAIRES'!$F$39:$F$68,'Résultats PRÉLIMINAIRES'!$A$39:$A$68)","v":{"$error":"#N/A"}},{"$f":"LOOKUP(6,'Résultats PRÉLIMINAIRES'!$F$39:$F$68,'Résultats PRÉLIMINAIRES'!$A$39:$A$68)","v":{"$error":"#N/A"}},{"$f":"LOOKUP(4,'Résultats PRÉLIMINAIRES'!$F$39:$F$68,'Résultats PRÉLIMINAIRES'!$A$39:$A$68)","v":{"$error":"#N/A"}},{"$f":"LOOKUP(2,'Résultats PRÉLIMINAIRES'!$F$39:$F$68,'Résultats PRÉLIMINAIRES'!$A$39:$A$68)","v":{"$error":"#N/A"}},{"$f":"LOOKUP(1,'Résultats PRÉLIMINAIRES'!$F$39:$F$68,'Résultats PRÉLIMINAIRES'!$A$39:$A$68)","v":{"$error":"#N/A"}},{"$f":"LOOKUP(3,'Résultats PRÉLIMINAIRES'!$F$39:$F$68,'Résultats PRÉLIMINAIRES'!$A$39:$A$68)","v":{"$error":"#N/A"}},{"$f":"LOOKUP(5,'Résultats PRÉLIMINAIRES'!$F$39:$F$68,'Résultats PRÉLIMINAIRES'!$A$39:$A$68)","v":{"$error":"#N/A"}},{"$f":"LOOKUP(7,'Résultats PRÉLIMINAIRES'!$F$39:$F$68,'Résultats PRÉLIMINAIRES'!$A$39:$A$68)","v":{"$error":"#N/A"}}]
[null,null,"Nom",{"$f":"LOOKUP(8,'Résultats PRÉLIMINAIRES'!$F$39:$F$68,'Résultats PRÉLIMINAIRES'!$B$39:$B$68)","v":{"$error":"#N/A"}},{"$f":"LOOKUP(6,'Résultats PRÉLIMINAIRES'!$F$39:$F$68,'Résultats PRÉLIMINAIRES'!$B$39:$B$68)","v":{"$error":"#N/A"}},{"$f":"LOOKUP(4,'Résultats PRÉLIMINAIRES'!$F$39:$F$68,'Résultats PRÉLIMINAIRES'!$B$39:$B$68)","v":{"$error":"#N/A"}},{"$f":"LOOKUP(2,'Résultats PRÉLIMINAIRES'!$F$39:$F$68,'Résultats PRÉLIMINAIRES'!$B$39:$B$68)","v":{"$error":"#N/A"}},{"$f":"LOOKUP(1,'Résultats PRÉLIMINAIRES'!$F$39:$F$68,'Résultats PRÉLIMINAIRES'!$B$39:$B$68)","v":{"$error":"#N/A"}},{"$f":"LOOKUP(3,'Résultats PRÉLIMINAIRES'!$F$39:$F$68,'Résultats PRÉLIMINAIRES'!$B$39:$B$68)","v":{"$error":"#N/A"}},{"$f":"LOOKUP(5,'Résultats PRÉLIMINAIRES'!$F$39:$F$68,'Résultats PRÉLIMINAIRES'!$B$39:$B$68)","v":{"$error":"#N/A"}},{"$f":"LOOKUP(7,'Résultats PRÉLIMINAIRES'!$F$39:$F$68,'Résultats PRÉLIMINAIRES'!$B$39:$B$68)","v":{"$error":"#N/A"}}]
[null,null,"Chrono 1"]
[null,null,"Chrono 2"]
[null,null,"Temps"]
[null,"Remorquage mannequin + palmes","Club",{"$f":"LOOKUP(8,'Résultats PRÉLIMINAIRES'!$H$39:$H$68,'Résultats PRÉLIMINAIRES'!$A$39:$A$68)","v":"CSRN"},{"$f":"LOOKUP(6,'Résultats PRÉLIMINAIRES'!$H$39:$H$68,'Résultats PRÉLIMINAIRES'!$A$39:$A$68)","v":"SSSL"},{"$f":"LOOKUP(4,'Résultats PRÉLIMINAIRES'!$H$39:$H$68,'Résultats PRÉLIMINAIRES'!$A$39:$A$68)","v":{"$error":"#N/A"}},{"$f":"LOOKUP(2,'Résultats PRÉLIMINAIRES'!$H$39:$H$68,'Résultats PRÉLIMINAIRES'!$A$39:$A$68)","v":{"$error":"#N/A"}},{"$f":"LOOKUP(1,'Résultats PRÉLIMINAIRES'!$H$39:$H$68,'Résultats PRÉLIMINAIRES'!$A$39:$A$68)","v":{"$error":"#N/A"}},{"$f":"LOOKUP(3,'Résultats PRÉLIMINAIRES'!$H$39:$H$68,'Résultats PRÉLIMINAIRES'!$A$39:$A$68)","v":{"$error":"#N/A"}},{"$f":"LOOKUP(5,'Résultats PRÉLIMINAIRES'!$H$39:$H$68,'Résultats PRÉLIMINAIRES'!$A$39:$A$68)","v":{"$error":"#N/A"}},{"$f":"LOOKUP(7,'Résultats PRÉLIMINAIRES'!$H$39:$H$68,'Résultats PRÉLIMINAIRES'!$A$39:$A$68)","v":"CSRN"}]
[null,null,"Nom",{"$f":"LOOKUP(8,'Résultats PRÉLIMINAIRES'!$H$39:$H$68,'Résultats PRÉLIMINAIRES'!$B$39:$B$68)","v":"Eugénie Tétreault"},{"$f":"LOOKUP(6,'Résultats PRÉLIMINAIRES'!$H$39:$H$68,'Résultats PRÉLIMINAIRES'!$B$39:$B$68)","v":"Sybel Roy"},{"$f":"LOOKUP(4,'Résultats PRÉLIMINAIRES'!$H$39:$H$68,'Résultats PRÉLIMINAIRES'!$B$39:$B$68)","v":{"$error":"#N/A"}},{"$f":"LOOKUP(2,'Résultats PRÉLIMINAIRES'!$H$39:$H$68,'Résultats PRÉLIMINAIRES'!$B$39:$B$68)","v":{"$error":"#N/A"}},{"$f":"LOOKUP(1,'Résultats PRÉLIMINAIRES'!$H$39:$H$68,'Résultats PRÉLIMINAIRES'!$B$39:$B$68)","v":{"$error":"#N/A"}},{"$f":"LOOKUP(3,'Résultats PRÉLIMINAIRES'!$H$39:$H$68,'Résultats PRÉLIMINAIRES'!$B$39:$B$68)","v":{"$error":"#N/A"}},{"$f":"LOOKUP(5,'Résultats PRÉLIMINAIRES'!$H$39:$H$68,'Résultats PRÉLIMINAIRES'!$B$39:$B$68)","v":{"$error":"#N/A"}},{"$f":"LOOKUP(7,'Résultats PRÉLIMINAIRES'!$H$39:$H$68,'Résultats PRÉLIMINAIRES'!$B$39:$B$68)","v":"Maxime Laurence"}]
[null,null,"Chrono 1"]
[null,null,"Chrono 2"]
[null,null,"Temps"]
[null,"Obstacles","Club",{"$f":"LOOKUP(8,'Résultats PRÉLIMINAIRES'!$J$39:$J$68,'Résultats PRÉLIMINAIRES'!$A$39:$A$68)","v":"CSRN"},{"$f":"LOOKUP(6,'Résultats PRÉLIMINAIRES'!$J$39:$J$68,'Résultats PRÉLIMINAIRES'!$A$39:$A$68)","v":"CSRN"},{"$f":"LOOKUP(4,'Résultats PRÉLIMINAIRES'!$J$39:$J$68,'Résultats PRÉLIMINAIRES'!$A$39:$A$68)","v":"CSRN"},{"$f":"LOOKUP(2,'Résultats PRÉLIMINAIRES'!$J$39:$J$68,'Résultats PRÉLIMINAIRES'!$A$39:$A$68)","v":"CSRAD"},{"$f":"LOOKUP(1,'Résultats PRÉLIMINAIRES'!$J$39:$J$68,'Résultats PRÉLIMINAIRES'!$A$39:$A$68)","v":{"$error":"#N/A"}},{"$f":"LOOKUP(3,'Résultats PRÉLIMINAIRES'!$J$39:$J$68,'Résultats PRÉLIMINAIRES'!$A$39:$A$68)","v":"CSRN"},{"$f":"LOOKUP(5,'Résultats PRÉLIMINAIRES'!$J$39:$J$68,'Résultats PRÉLIMINAIRES'!$A$39:$A$68)","v":"CSRN"},{"$f":"LOOKUP(7,'Résultats PRÉLIMINAIRES'!$J$39:$J$68,'Résultats PRÉLIMINAIRES'!$A$39:$A$68)","v":"CSRN"}]
[null,null,"Nom",{"$f":"LOOKUP(8,'Résultats PRÉLIMINAIRES'!$J$39:$J$68,'Résultats PRÉLIMINAIRES'!$B$39:$B$68)","v":"Eugénie Tétreault"},{"$f":"LOOKUP(6,'Résultats PRÉLIMINAIRES'!$J$39:$J$68,'Résultats PRÉLIMINAIRES'!$B$39:$B$68)","v":"Eugénie Tétreault"},{"$f":"LOOKUP(4,'Résultats PRÉLIMINAIRES'!$J$39:$J$68,'Résultats PRÉLIMINAIRES'!$B$39:$B$68)","v":"Thomas Martin"},{"$f":"LOOKUP(2,'Résultats PRÉLIMINAIRES'!$J$39:$J$68,'Résultats PRÉLIMINAIRES'!$B$39:$B$68)","v":"Malory Boisclair"},{"$f":"LOOKUP(1,'Résultats PRÉLIMINAIRES'!$J$39:$J$68,'Résultats PRÉLIMINAIRES'!$B$39:$B$68)","v":{"$error":"#N/A"}},{"$f":"LOOKUP(3,'Résultats PRÉLIMINAIRES'!$J$39:$J$68,'Résultats PRÉLIMINAIRES'!$B$39:$B$68)","v":"Thomas Martin"},{"$f":"LOOKUP(5,'Résultats PRÉLIMINAIRES'!$J$39:$J$68,'Résultats PRÉLIMINAIRES'!$B$39:$B$68)","v":"Thomas Martin"},{"$f":"LOOKUP(7,'Résultats PRÉLIMINAIRES'!$J$39:$J$68,'Résultats PRÉLIMINAIRES'!$B$39:$B$68)","v":"Eugénie Tétreault"}]
[null,null,"Chrono 1"]
[null,null,"Chrono 2"]
[null,null,"Temps"]
[null,"Portage mannequin + plames","Club",{"$f":"LOOKUP(8,'Résultats PRÉLIMINAIRES'!$L$39:$L$68,'Résultats PRÉLIMINAIRES'!$A$39:$A$68)","v":"CSRN"},{"$f":"LOOKUP(6,'Résultats PRÉLIMINAIRES'!$L$39:$L$68,'Résultats PRÉLIMINAIRES'!$A$39:$A$68)","v":"Dam'eauclès"},{"$f":"LOOKUP(4,'Résultats PRÉLIMINAIRES'!$L$39:$L$68,'Résultats PRÉLIMINAIRES'!$A$39:$A$68)","v":{"$error":"#N/A"}},{"$f":"LOOKUP(2,'Résultats PRÉLIMINAIRES'!$L$39:$L$68,'Résultats PRÉLIMINAIRES'!$A$39:$A$68)","v":{"$error":"#N/A"}},{"$f":"LOOKUP(1,'Résultats PRÉLIMINAIRES'!$L$39:$L$68,'Résultats PRÉLIMINAIRES'!$A$39:$A$68)","v":{"$error":"#N/A"}},{"$f":"LOOKUP(3,'Résultats PRÉLIMINAIRES'!$L$39:$L$68,'Résultats PRÉLIMINAIRES'!$A$39:$A$68)","v":{"$error":"#N/A"}},{"$f":"LOOKUP(5,'Résultats PRÉLIMINAIRES'!$L$39:$L$68,'Résultats PRÉLIMINAIRES'!$A$39:$A$68)","v":{"$error":"#N/A"}},{"$f":"LOOKUP(7,'Résultats PRÉLIMINAIRES'!$L$39:$L$68,'Résultats PRÉLIMINAIRES'!$A$39:$A$68)","v":"CSRN"}]
[null,null,"Nom",{"$f":"LOOKUP(8,'Résultats PRÉLIMINAIRES'!$L$39:$L$68,'Résultats PRÉLIMINAIRES'!$B$39:$B$68)","v":"Thomas Martin"},{"$f":"LOOKUP(6,'Résultats PRÉLIMINAIRES'!$L$39:$L$68,'Résultats PRÉLIMINAIRES'!$B$39:$B$68)","v":"Émile Turgeon"},{"$f":"LOOKUP(4,'Résultats PRÉLIMINAIRES'!$L$39:$L$68,'Résultats PRÉLIMINAIRES'!$B$39:$B$68)","v":{"$error":"#N/A"}},{"$f":"LOOKUP(2,'Résultats PRÉLIMINAIRES'!$L$39:$L$68,'Résultats PRÉLIMINAIRES'!$B$39:$B$68)","v":{"$error":"#N/A"}},{"$f":"LOOKUP(1,'Résultats PRÉLIMINAIRES'!$L$39:$L$68,'Résultats PRÉLIMINAIRES'!$B$39:$B$68)","v":{"$error":"#N/A"}},{"$f":"LOOKUP(3,'Résultats PRÉLIMINAIRES'!$L$39:$L$68,'Résultats PRÉLIMINAIRES'!$B$39:$B$68)","v":{"$error":"#N/A"}},{"$f":"LOOKUP(5,'Résultats PRÉLIMINAIRES'!$L$39:$L$68,'Résultats PRÉLIMINAIRES'!$B$39:$B$68)","v":{"$error":"#N/A"}},{"$f":"LOOKUP(7,'Résultats PRÉLIMINAIRES'!$L$39:$L$68,'Résultats PRÉLIMINAIRES'!$B$39:$B$68)","v":"Thomas Martin"}]
[null,null,"Chrono 1"]
[null,null,"Chrono 2"]
[null,null,"Temps"]
[null,"Portage","Club",{"$f":"LOOKUP(8,'Résultats PRÉLIMINAIRES'!$N$39:$N$68,'Résultats PRÉLIMINAIRES'!$A$39:$A$68)","v":"CSRN"},{"$f":"LOOKUP(6,'Résultats PRÉLIMINAIRES'!$N$39:$N$68,'Résultats PRÉLIMINAIRES'!$A$39:$A$68)","v":"CSRN"},{"$f":"LOOKUP(4,'Résultats PRÉLIMINAIRES'!$N$39:$N$68,'Résultats PRÉLIMINAIRES'!$A$39:$A$68)","v":"CSRN"},{"$f":"LOOKUP(2,'Résultats PRÉLIMINAIRES'!$N$39:$N$68,'Résultats PRÉLIMINAIRES'!$A$39:$A$68)","v":"CSRAD"},{"$f":"LOOKUP(1,'Résultats PRÉLIMINAIRES'!$N$39:$N$68,'Résultats PRÉLIMINAIRES'!$A$39:$A$68)","v":{"$error":"#N/A"}},{"$f":"LOOKUP(3,'Résultats PRÉLIMINAIRES'!$N$39:$N$68,'Résultats PRÉLIMINAIRES'!$A$39:$A$68)","v":"CSRN"},{"$f":"LOOKUP(5,'Résultats PRÉLIMINAIRES'!$N$39:$N$68,'Résultats PRÉLIMINAIRES'!$A$39:$A$68)","v":"CSRN"},{"$f":"LOOKUP(7,'Résultats PRÉLIMINAIRES'!$N$39:$N$68,'Résultats PRÉLIMINAIRES'!$A$39:$A$68)","v":"CSRN"}]
[null,null,"Nom",{"$f":"LOOKUP(8,'Résultats PRÉLIMINAIRES'!$N$39:$N$68,'Résultats PRÉLIMINAIRES'!$B$39:$B$68)","v":"Eugénie Tétreault"},{"$f":"LOOKUP(6,'Résultats PRÉLIMINAIRES'!$N$39:$N$68,'Résultats PRÉLIMINAIRES'!$B$39:$B$68)","v":"Thomas Martin"},{"$f":"LOOKUP(4,'Résultats PRÉLIMINAIRES'!$N$39:$N$68,'Résultats PRÉLIMINAIRES'!$B$39:$B$68)","v":"Thomas Martin"},{"$f":"LOOKUP(2,'Résultats PRÉLIMINAIRES'!$N$39:$N$68,'Résultats PRÉLIMINAIRES'!$B$39:$B$68)","v":"Malory Boisclair"},{"$f":"LOOKUP(1,'Résultats PRÉLIMINAIRES'!$N$39:$N$68,'Résultats PRÉLIMINAIRES'!$B$39:$B$68)","v":{"$error":"#N/A"}},{"$f":"LOOKUP(3,'Résultats PRÉLIMINAIRES'!$N$39:$N$68,'Résultats PRÉLIMINAIRES'!$B$39:$B$68)","v":"Thomas Martin"},{"$f":"LOOKUP(5,'Résultats PRÉLIMINAIRES'!$N$39:$N$68,'Résultats PRÉLIMINAIRES'!$B$39:$B$68)","v":"Thomas Martin"},{"$f":"LOOKUP(7,'Résultats PRÉLIMINAIRES'!$N$39:$N$68,'Résultats PRÉLIMINAIRES'!$B$39:$B$68)","v":"Eugénie Tétreault"}]
[null,null,"Chrono 1"]
[null,null,"Chrono 2"]
[null,null,"Temps"]
[null,"Sauveteur d'acier","Club",{"$f":"LOOKUP(8,'Résultats PRÉLIMINAIRES'!$P$39:$P$68,'Résultats PRÉLIMINAIRES'!$A$39:$A$68)","v":"Narval"},{"$f":"LOOKUP(6,'Résultats PRÉLIMINAIRES'!$P$39:$P$68,'Résultats PRÉLIMINAIRES'!$A$39:$A$68)","v":"CSRN"},{"$f":"LOOKUP(4,'Résultats PRÉLIMINAIRES'!$P$39:$P$68,'Résultats PRÉLIMINAIRES'!$A$39:$A$68)","v":"CSRN"},{"$f":"LOOKUP(2,'Résultats PRÉLIMINAIRES'!$P$39:$P$68,'Résultats PRÉLIMINAIRES'!$A$39:$A$68)","v":"CAEM"},{"$f":"LOOKUP(1,'Résultats PRÉLIMINAIRES'!$P$39:$P$68,'Résultats PRÉLIMINAIRES'!$A$39:$A$68)","v":"CAEM"},{"$f":"LOOKUP(3,'Résultats PRÉLIMINAIRES'!$P$39:$P$68,'Résultats PRÉLIMINAIRES'!$A$39:$A$68)","v":"30deux"},{"$f":"LOOKUP(5,'Résultats PRÉLIMINAIRES'!$P$39:$P$68,'Résultats PRÉLIMINAIRES'!$A$39:$A$68)","v":"CSRN"},{"$f":"LOOKUP(7,'Résultats PRÉLIMINAIRES'!$P$39:$P$68,'Résultats PRÉLIMINAIRES'!$A$39:$A$68)","v":"CSRN"}]
[null,null,"Nom",{"$f":"LOOKUP(8,'Résultats PRÉLIMINAIRES'!$P$39:$P$68,'Résultats PRÉLIMINAIRES'!$B$39:$B$68)","v":"Joelle Gauthier-Drapeau"},{"$f":"LOOKUP(6,'Résultats PRÉLIMINAIRES'!$P$39:$P$68,'Résultats PRÉLIMINAIRES'!$B$39:$B$68)","v":"Eugénie Tétreault"},{"$f":"LOOKUP(4,'Résultats PRÉLIMINAIRES'!$P$39:$P$68,'Résultats PRÉLIMINAIRES'!$B$39:$B$68)","v":"Thomas Martin"},{"$f":"LOOKUP(2,'Résultats PRÉLIMINAIRES'!$P$39:$P$68,'Résultats PRÉLIMINAIRES'!$B$39:$B$68)","v":"Ariane St-Denis"},{"$f":"LOOKUP(1,'Résultats PRÉLIMINAIRES'!$P$39:$P$68,'Résultats PRÉLIMINAIRES'!$B$39:$B$68)","v":"Ariane St-Denis"},{"$f":"LOOKUP(3,'Résultats PRÉLIMINAIRES'!$P$39:$P$68,'Résultats PRÉLIMINAIRES'!$B$39:$B$68)","v":"Ariane Trudel"},{"$f":"LOOKUP(5,'Résultats PRÉLIMINAIRES'!$P$39:$P$68,'Résultats PRÉLIMINAIRES'!$B$39:$B$68)","v":"Eugénie Tétreault"},{"$f":"LOOKUP(7,'Résultats PRÉLIMINAIRES'!$P$39:$P$68,'Résultats PRÉLIMINAIRES'!$B$39:$B$68)","v":"Eugénie Tétreault"}]
[null,null,"Chrono 1"]
[null,null,"Chrono 2"]
[null,null,"Temps"]
[null,"Medley sauvetage","Club",{"$f":"LOOKUP(8,'Résultats PRÉLIMINAIRES'!$R$39:$R$68,'Résultats PRÉLIMINAIRES'!$A$39:$A$68)","v":{"$error":"#N/A"}},{"$f":"LOOKUP(6,'Résultats PRÉLIMINAIRES'!$R$39:$R$68,'Résultats PRÉLIMINAIRES'!$A$39:$A$68)","v":{"$error":"#N/A"}},{"$f":"LOOKUP(4,'Résultats PRÉLIMINAIRES'!$R$39:$R$68,'Résultats PRÉLIMINAIRES'!$A$39:$A$68)","v":{"$error":"#N/A"}},{"$f":"LOOKUP(2,'Résultats PRÉLIMINAIRES'!$R$39:$R$68,'Résultats PRÉLIMINAIRES'!$A$39:$A$68)","v":{"$error":"#N/A"}},{"$f":"LOOKUP(1,'Résultats PRÉLIMINAIRES'!$R$39:$R$68,'Résultats PRÉLIMINAIRES'!$A$39:$A$68)","v":{"$error":"#N/A"}},{"$f":"LOOKUP(3,'Résultats PRÉLIMINAIRES'!$R$39:$R$68,'Résultats PRÉLIMINAIRES'!$A$39:$A$68)","v":{"$error":"#N/A"}},{"$f":"LOOKUP(5,'Résultats PRÉLIMINAIRES'!$R$39:$R$68,'Résultats PRÉLIMINAIRES'!$A$39:$A$68)","v":{"$error":"#N/A"}},{"$f":"LOOKUP(7,'Résultats PRÉLIMINAIRES'!$R$39:$R$68,'Résultats PRÉLIMINAIRES'!$A$39:$A$68)","v":{"$error":"#N/A"}}]
[null,null,"Nom",{"$f":"LOOKUP(8,'Résultats PRÉLIMINAIRES'!$R$39:$R$68,'Résultats PRÉLIMINAIRES'!$B$39:$B$68)","v":{"$error":"#N/A"}},{"$f":"LOOKUP(6,'Résultats PRÉLIMINAIRES'!$R$39:$R$68,'Résultats PRÉLIMINAIRES'!$B$39:$B$68)","v":{"$error":"#N/A"}},{"$f":"LOOKUP(4,'Résultats PRÉLIMINAIRES'!$R$39:$R$68,'Résultats PRÉLIMINAIRES'!$B$39:$B$68)","v":{"$error":"#N/A"}},{"$f":"LOOKUP(2,'Résultats PRÉLIMINAIRES'!$R$39:$R$68,'Résultats PRÉLIMINAIRES'!$B$39:$B$68)","v":{"$error":"#N/A"}},{"$f":"LOOKUP(1,'Résultats PRÉLIMINAIRES'!$R$39:$R$68,'Résultats PRÉLIMINAIRES'!$B$39:$B$68)","v":{"$error":"#N/A"}},{"$f":"LOOKUP(3,'Résultats PRÉLIMINAIRES'!$R$39:$R$68,'Résultats PRÉLIMINAIRES'!$B$39:$B$68)","v":{"$error":"#N/A"}},{"$f":"LOOKUP(5,'Résultats PRÉLIMINAIRES'!$R$39:$R$68,'Résultats PRÉLIMINAIRES'!$B$39:$B$68)","v":{"$error":"#N/A"}},{"$f":"LOOKUP(7,'Résultats PRÉLIMINAIRES'!$R$39:$R$68,'Résultats PRÉLIMINAIRES'!$B$39:$B$68)","v":{"$error":"#N/A"}}]
[null,null,"Chrono 1"]
[null,null,"Chrono 2"]
[null,null,"Temps"]
[]
[null,"Vagues finales 14 - 15 ans Femme"]
[null,"Position selon les couloirs",null,8,6,4,2,1,3,5,7]
[null,"Lancer de précision","Club"]
[null,null,"Nom"]
[null,null,"Chrono 1"]
[null,null,"Chrono 2"]
[null,null,"Temps"]
[null,"Remorquage mannequin + palmes","Club"]
[null,null,"Nom"]
[null,null,"Chrono 1"]
[null,null,"Chrono 2"]
[null,null,"Temps"]
[null,"Obstacles","Club"]
[null,null,"Nom"]
[null,null,"Chrono 1"]
[null,null,"Chrono 2"]
[null,null,"Temps"]
[null,"Portage mannequin + plames","Club"]
[null,null,"Nom"]
[null,null,"Chrono 1"]
[null,null,"Chrono 2"]
[null,null,"Temps"]
[null,"Portage","Club"]
[null,null,"Nom"]
[null,null,"Chrono 1"]
[null,null,"Chrono 2"]
[null,null,"Temps"]
[null,"Sauveteur d'acier","Club"]
[null,null,"Nom"]
[null,null,"Chrono 1"]
[null,null,"Chrono 2"]
[null,null,"Temps"]
[null,"Medley sauvetage","Club"]
[null,null,"Nom"]
[null,null,"Chrono 1"]
[null,null,"Chrono 2"]
[null,null,"Temps"]
[]
[null,"Vagues finales 14 - 15 ans Homme"]
[null,"Position selon les couloirs",null,8,6,4,2,1,3,5,7]
[null,"Lancer de précision","Club"]
[null,null,"Nom"]
[null,null,"Chrono 1"]
[null,null,"Chrono 2"]
[null,null,"Temps"]
[null,"Remorquage mannequin + palmes","Club"]
[null,null,"Nom"]
[null,null,"Chrono 1"]
[null,null,"Chrono 2"]
[null,null,"Temps"]
[null,"Obstacles","Club"]
[null,null,"Nom"]
[null,null,"Chrono 1"]
[null,null,"Chrono 2"]
[null,null,"Temps"]
[null,"Portage mannequin + plames","Club"]
[null,null,"Nom"]
[null,null,"Chrono 1"]
[null,null,"Chrono 2"]
[null,null,"Temps"]
[null,"Portage","Club"]
[null,null,"Nom"]
[null,null,"Chrono 1"]
[null,null,"Chrono 2"]
[null,null,"Temps"]
[null,"Sauveteur d'acier","Club"]
[null,null,"Nom"]
[null,null,"Chrono 1"]
[null,null,"Chrono 2"]
[null,null,"Temps"]
[null,"Medley sauvetage","Club"]
[null,null,"Nom"]
[null,null,"Chrono 1"]
[null,null,"Chrono 2"]
[null,null,"Temps"]
[]
[null,"Senior Femme"]
[null,"Position selon les couloirs",null,8,6,4,2,1,3,5,7]
[null,"Lancer de précision","Club"]
[null,null,"Nom"]
[]
[null,null,"Chrono 1"]
[null,null,"Chrono 2"]
[null,null,"Temps"]
[null,"Remorquage mannequin + palmes","Club"]
[null,null,"Nom"]
[null,null,"Chrono 1"]
[null,null,"Chrono 2"]
[null,null,"Temps"]
[null,"Obstacles","Club"]
[null,null,"Nom"]
[null,null,"Chrono 1"]
[null,null,"Chrono 2"]
[null,null,"Temps"]
[null,"Portage mannequin + plames","Club"]
[null,null,"Nom"]
[null,null,"Chrono 1"]
[null,null,"Chrono 2"]
[null,null,"Temps"]
[null,"Portage","Club"]
[null,null,"Nom"]
[null,null,"Chrono 1"]
[null,null,"Chrono 2"]
[null,null,"Temps"]
[null,"Sauveteur d'acier","Club"]
[null,null,"Nom"]
[null,null,"Chrono 1"]
[null,null,"Chrono 2"]
[null,null,"Temps"]
[null,"Medley sauvetage","Club"]
[null,null,"Nom"]
[null,null,"Chrono 1"]
[null,null,"Chrono 2"]
[null,null,"Temps"]
[null,"Relais Medley","Club"]
[null,null,"Nom"]
[]
[]
[]
[null,null,"Chrono 1"]
[null,null,"Chrono 2"]
[null,null,"Temps"]
[null,"Relais Obstacles","Club"]
[null,null,"Nom"]
[]
[]
[]
[null,null,"Chrono 1"]
[null,null,"Chrono 2"]
[null,null,"Temps"]
[null,"Relais Portage mannequin","Club"]
[null,null,"Nom"]
[]
[]
[]
[null,null,"Chrono 1"]
[null,null,"Chrono 2"]
[null,null,"Temps"]
[]
[null,"Senior Homme"]
[null,"Position selon les couloirs",null,8,6,4,2,1,3,5,7]
[null,"Lancer de précision","Club"]
[null,null,"Nom"]
[]
[null,null,"Chrono 1"]
[null,null,"Chrono 2"]
[null,null,"Temps"]
[null,"Remorquage mannequin + palmes","Club"]
[null,null,"Nom"]
[null,null,"Chrono 1"]
[null,null,"Chrono 2"]
[null,null,"Temps"]
[null,"Obstacles","Club"]
[null,null,"Nom"]
[null,null,"Chrono 1"]
[null,null,"Chrono 2"]
[null,null,"Temps"]
[null,"Portage mannequin + plames","Club"]
[null,null,"Nom"]
[null,null,"Chrono 1"]
[null,null,"Chrono 2"]
[null,null,"Temps"]
[null,"Portage","Club"]
[null,null,"Nom"]
[null,null,"Chrono 1"]
[null,null,"Chrono 2"]
[null,null,"Temps"]
[null,"Sauveteur d'acier","Club"]
[null,null,"Nom"]
[null,null,"Chrono 1"]
[null,null,"Chrono 2"]
[null,null,"Temps"]
[null,"Medley sauvetage","Club"]
[null,null,"Nom"]
[null,null,"Chrono 1"]
[null,null,"Chrono 2"]
[null,null,"Temps"]
[null,"Relais Medley","Club"]
[null,null,"Nom"]
[]
[]
[]
[null,null,"Chrono 1"]
[null,null,"Chrono 2"]
[null,null,"Temps"]
[null,"Relais Obstacles","Club"]
[null,null,"Nom"]
[]
[]
[]
[null,null,"Chrono 1"]
[null,null,"Chrono 2"]
[null,null,"Temps"]
[null,"Relais Portage mannequin","Club"]
[null,null,"Nom"]
[]
[]
[]
[null,null,"Chrono 1"]
[null,null,"Chrono 2"]
[null,null,"Temps"]

{"sheet":"Valeurs","index":11,"n_rows":46,"n_cols":5,"rows_kept":46,"cut":false,"hidden":true,"merged":[[1,0,1,1],[1,4,2,4],[1,2,1,3]]}
[]
["TABLES DE VALEURS - PHYSIQUE",null,"TABLES DE VALEURS - CORDE SENIOR",null,"Club"]
["Position","Pointage","Position","Pointage"]
[1,20,1,40,"CAEM"]
[2,18,2,38,"SSSL"]
[3,16,3,36,"CAM"]
[4,14,4,34,"CAPN"]
[5,13,5,32,"Dam'eauclès"]
[6,12,6,30,"Perf'O'Max"]
[7,11,7,28,"Gatineau"]
[8,10,8,26,"Narval"]
[9,8,9,25,"CSRN"]
[10,7,10,24,"CSRAD"]
[11,6,11,23,"Rouville Surf"]
[12,5,12,22,"30Deux"]
[13,4,13,21,"SSSC"]
[14,3,14,20,"Sea Devils"]
[15,2,15,19,"Quebec"]
[16,1,16,18,"O'méga"]
[17,0,17,16,"CASO"]
[18,0,18,15]
[19,0,19,14]
[20,0,20,13]
[21,0,21,12]
[22,0,22,11]
[23,0,23,10]
[24,0,24,9]
[25,0,25,8]
[26,0,26,7]
[27,0,27,6]
[28,0,28,5]
[29,0,29,4]
[30,0,30,3]
[31,0,31,2]
[32,0,32,1]
[33,0,33,0]
[34,0,34,0]
[35,0,35,0]
[36,0,36,0]
[37,0,37,0]
[38,0,38,0]
[39,0,39,0]
[40,0,40,0]
["DQ",0,"DQ",0]
["DNS",0,"DNS",0]
["DNF",0,"DNF",0]

{"sheet":"Décompte CLUB","index":12,"n_rows":60,"n_cols":47,"rows_kept":60,"cut":false,"hidden":true,"merged":[[26,14,26,15],[27,12,27,13],[27,14,27,15],[34,14,34,15],[30,1,30,2],[30,3,30,4],[27,1,27,2],[27,3,27,4],[28,1,28,2],[28,3,28,4],[29,1,29,2],[29,3,29,4],[29,5,29,6],[29,7,29,8],[33,1,33,2],[33,3,33,4],[33,5,33,6],[30,5,30,6],[30,7,30,8],[27,5,27,6],[28,14,28,15],[29,14,29,15],[30,12,30,13],[30,14,30,15],[31,14,31,15],[35,12,35,13],[35,14,35,15],[35,1,35,2],[35,3,35,4],[35,5,35,6],[35,7,35,8],[36,1,36,2],[36,3,36,4],[36,5,36,6],[36,7,36,8],[32,14,32,15],[33,12,33,13],[33,14,33,15],[36,12,36,13],[36,14,36,15],[34,12,34,13],[33,7,33,8],[34,1,34,2],[34,3,34,4],[34,5,34,6],[34,7,34,8],[28,5,28,6],[28,7,28,8],[28,12,28,13],[32,12,32,13],[26,1,26,2],[26,3,26,4],[26,5,26,6],[26,7,26,8],[27,7,27,8],[31,1,31,2],[31,3,31,4],[31,5,31,6],[31,7,31,8],[32,1,32,2],[32,3,32,4],[32,5,32,6],[32,7,32,8],[29,12,29,13],[26,12,26,13],[31,12,31,13],[0,27,0,36],[0,37,0,46],[20,1,20,2],[20,3,20,4],[20,5,20,6],[20,7,20,8],[20,14,20,15],[20,0,21,0],[0,1,0,5],[0,6,0,12],[21,1,21,2],[21,3,21,4],[21,5,21,6],[21,7,21,8],[21,12,21,13],[0,13,0,19],[20,12,20,13],[21,14,21,15],[20,10,21,11],[0,20,0,26],[0,0,1,0],[25,1,25,2],[25,3,25,4],[25,5,25,6],[25,7,25,8],[24,12,24,13],[22,12,22,13],[22,14,22,15],[23,12,23,13],[23,14,23,15],[23,1,23,2],[23,3,23,4],[23,5,23,6],[23,7,23,8],[24,1,24,2],[24,3,24,4],[24,5,24,6],[24,7,24,8],[22,1,22,2],[22,3,22,4],[22,5,22,6],[22,7,22,8],[24,14,24,15],[25,12,25,13],[25,14,25,15],[37,1,37,2],[37,3,37,4],[37,5,37,6],[37,7,37,8],[37,12,37,13],[37,14,37,15],[40,0,40,2],[41,0,41,2],[42,4,42,5],[40,4,40,7],[41,4,41,7],[40,9,40,12],[41,9,41,12],[42,9,42,10],[38,1,38,2],[38,3,38,4],[38,5,38,6],[38,7,38,8],[38,12,38,13],[38,14,38,15]]}
["Club","11 ans et -",null,null,null,null,"12 - 13 ans",null,null,null,null,null,null,"14 - 15 ans femme",null,null,null,null,null,null,"14 - 15 ans homme",null,null,null,null,null,null,"Senior Femme",null,null,null,null,null,null,null,null,null,"Senior Homme"]
[null,"Corde","Remor + Pal","Obstacle","Port + Pal","Portage","Corde","Remor + Pal","Obstacle","Port + Pal","Portage","Sauv acier","Medley ","Corde","Remor + Pal","Obstacle","Port + Pal","Portage","Sauv acier","Medley ","Corde","Remor + Pal","Obstacle","Port + Pal","Portage","Sauv acier","Medley ","Corde","Remor + Pal","Obstacle","Port + Pal","Portage","Sauv acier","Medley ","Relais Med","Relais obst","Relais port","Corde","Remor + Pal","Obstacle","Port + Pal","Portage","Sauv acier","Medley ","Relais Med","Relais obst","Relais port"]
["CAEM",{"$f":"SUMIF('11 ans et -'!$A$5:$A$34,$A3,'11 ans et -'!$I$5:$I$34)","v":0},{"$f":"SUMIF('11 ans et -'!$A$39:$A$68,$A3,'11 ans et -'!$I$39:$I$68)","v":16},{"$f":"SUMIF('11 ans et -'!$A$73:$A$102,$A3,'11 ans et -'!$I$73:$I$102)","v":13},{"$f":"SUMIF('11 ans et -'!$A$107:$A$136,$A3,'11 ans et -'!$I$107:$I$136)","v":18},{"$f":"SUMIF('11 ans et -'!$A$141:$A$170,$A3,'11 ans et -'!$I$141:$I$170)","v":18},{"$f":"SUMIF('12 - 13 ans'!$A$5:$A$34,$A3,'12 - 13 ans'!$I$5:$I$34)","v":0},{"$f":"SUMIF('12 - 13 ans'!$A$39:$A$68,$A3,'12 - 13 ans'!$I$39:$I$68)","v":20},{"$f":"SUMIF('12 - 13 ans'!$A$73:$A$102,$A3,'12 - 13 ans'!$I$73:$I$102)","v":14},{"$f":"SUMIF('12 - 13 ans'!$A$107:$A$136,$A3,'12 - 13 ans'!$I$107:$I$136)","v":14},{"$f":"SUMIF('12 - 13 ans'!$A$141:$A$170,$A3,'12 - 13 ans'!$I$141:$I$170)","v":13},{"$f":"SUMIF('12 - 13 ans'!$A$175:$A$204,$A3,'12 - 13 ans'!$I$175:$I$204)","v":20},null,{"$f":"SUMIF('14 - 15 ans F'!$A$5:$A$34,$A3,'14 - 15 ans F'!$I$5:$I$34)","v":0},{"$f":"SUMIF('14 - 15 ans F'!$A$39:$A$68,$A3,'14 - 15 ans F'!$I$39:$I$68)","v":12},{"$f":"SUMIF('14 - 15 ans F'!$A$73:$A$102,$A3,'14 - 15 ans F'!$I$73:$I$102)","v":8},{"$f":"SUMIF('14 - 15 ans F'!$A$107:$A$136,$A3,'14 - 15 ans F'!$I$107:$I$136)","v":12},{"$f":"SUMIF('14 - 15 ans F'!$A$141:$A$170,$A3,'14 - 15 ans F'!$I$141:$I$170)","v":13},{"$f":"SUMIF('14 - 15 ans F'!$A$175:$A$204,$A3,'14 - 15 ans F'!$I$175:$I$204)","v":13},null,{"$f":"SUMIF('14 - 15 ans H'!$A$5:$A$34,$A3,'14 - 15 ans H'!$I$5:$I$34)","v":0},{"$f":"SUMIF('14 - 15 ans H'!$A$39:$A$68,$A3,'14 - 15 ans H'!$I$39:$I$68)","v":0},{"$f":"SUMIF('14 - 15 ans H'!$A$73:$A$102,$A3,'14 - 15 ans H'!$I$73:$I$102)","v":0},{"$f":"SUMIF('14 - 15 ans H'!$A$107:$A$136,$A3,'14 - 15 ans H'!$I$107:$I$136)","v":0},{"$f":"SUMIF('14 - 15 ans H'!$A$141:$A$170,$A3,'14 - 15 ans H'!$I$141:$I$170)","v":0},{"$f":"SUMIF('14 - 15 ans H'!$A$175:$A$204,$A3,'14 - 15 ans H'!$I$175:$I$204)","v":0},null,{"$f":"SUMIF('Senior F'!$A$5:$A$34,$A3,'Senior F'!$I$5:$I$34)","v":0},{"$f":"SUMIF('Senior F'!$A$39:$A$68,$A3,'Senior F'!$I$39:$I$68)","v":0},{"$f":"SUMIF('Senior F'!$A$73:$A$102,$A3,'Senior F'!$I$73:$I$102)","v":0},{"$f":"SUMIF('Senior F'!$A$107:$A$136,$A3,'Senior F'!$I$107:$I$136)","v":0},{"$f":"SUMIF('Senior F'!$A$141:$A$170,$A3,'Senior F'!$I$141:$I$170)","v":0},{"$f":"SUMIF('Senior F'!$A$175:$A$204,$A3,'Senior F'!$I$175:$I$204)","v":0},null,{"$f":"SUMIF('Senior F'!$A$244:$A$275,$A3,'Senior F'!$I$244:$I$275)","v":0},{"$f":"SUMIF('Senior F'!$A$280:$A$311,$A3,'Senior F'!$I$280:$I$311)","v":0},{"$f":"SUMIF('Senior F'!$A$316:$A$347,$A3,'Senior F'!$I$316:$I$347)","v":0},{"$f":"SUMIF('Senior H'!$A$5:$A$34,$A3,'Senior H'!$I$5:$I$34)","v":0},{"$f":"SUMIF('Senior H'!$A$39:$A$68,$A3,'Senior H'!$I$39:$I$68)","v":0},{"$f":"SUMIF('Senior H'!$A$73:$A$102,$A3,'Senior H'!$I$73:$I$102)","v":0},{"$f":"SUMIF('Senior H'!$A$107:$A$136,$A3,'Senior H'!$I$107:$I$136)","v":0},{"$f":"SUMIF('Senior H'!$A$141:$A$170,$A3,'Senior H'!$I$141:$I$170)","v":0},{"$f":"SUMIF('Senior H'!$A$175:$A$204,$A3,'Senior H'!$I$175:$I$204)","v":0},null,{"$f":"SUMIF('Senior H'!$A$243:$A$275,$A3,'Senior H'!$I$243:$I$275)","v":0},{"$f":"SUMIF('Senior H'!$A$279:$A$311,$A3,'Senior H'!$I$279:$I$311)","v":0},{"$f":"SUMIF('Senior H'!$A$315:$A$347,$A3,'Senior H'!$I$315:$I$347)","v":0}]
["SSSL",{"$f":"SUMIF('11 ans et -'!$A$5:$A$34,$A4,'11 ans et -'!$I$5:$I$34)","v":0},{"$f":"SUMIF('11 ans et -'!$A$39:$A$68,$A4,'11 ans et -'!$I$39:$I$68)","v":8},{"$f":"SUMIF('11 ans et -'!$A$73:$A$102,$A4,'11 ans et -'!$I$73:$I$102)","v":10},{"$f":"SUMIF('11 ans et -'!$A$107:$A$136,$A4,'11 ans et -'!$I$107:$I$136)","v":12},{"$f":"SUMIF('11 ans et -'!$A$141:$A$170,$A4,'11 ans et -'!$I$141:$I$170)","v":10},{"$f":"SUMIF('12 - 13 ans'!$A$5:$A$34,$A4,'12 - 13 ans'!$I$5:$I$34)","v":0},{"$f":"SUMIF('12 - 13 ans'!$A$39:$A$68,$A4,'12 - 13 ans'!$I$39:$I$68)","v":12},{"$f":"SUMIF('12 - 13 ans'!$A$73:$A$102,$A4,'12 - 13 ans'!$I$73:$I$102)","v":12},{"$f":"SUMIF('12 - 13 ans'!$A$107:$A$136,$A4,'12 - 13 ans'!$I$107:$I$136)","v":11},{"$f":"SUMIF('12 - 13 ans'!$A$141:$A$170,$A4,'12 - 13 ans'!$I$141:$I$170)","v":12},{"$f":"SUMIF('12 - 13 ans'!$A$175:$A$204,$A4,'12 - 13 ans'!$I$175:$I$204)","v":12},null,{"$f":"SUMIF('14 - 15 ans F'!$A$5:$A$34,$A4,'14 - 15 ans F'!$I$5:$I$34)","v":0},{"$f":"SUMIF('14 - 15 ans F'!$A$39:$A$68,$A4,'14 - 15 ans F'!$I$39:$I$68)","v":10},{"$f":"SUMIF('14 - 15 ans F'!$A$73:$A$102,$A4,'14 - 15 ans F'!$I$73:$I$102)","v":12},{"$f":"SUMIF('14 - 15 ans F'!$A$107:$A$136,$A4,'14 - 15 ans F'!$I$107:$I$136)","v":8},{"$f":"SUMIF('14 - 15 ans F'!$A$141:$A$170,$A4,'14 - 15 ans F'!$I$141:$I$170)","v":12},{"$f":"SUMIF('14 - 15 ans F'!$A$175:$A$204,$A4,'14 - 15 ans F'!$I$175:$I$204)","v":11},null,{"$f":"SUMIF('14 - 15 ans H'!$A$5:$A$34,$A4,'14 - 15 ans H'!$I$5:$I$34)","v":0},{"$f":"SUMIF('14 - 15 ans H'!$A$39:$A$68,$A4,'14 - 15 ans H'!$I$39:$I$68)","v":0},{"$f":"SUMIF('14 - 15 ans H'!$A$73:$A$102,$A4,'14 - 15 ans H'!$I$73:$I$102)","v":0},{"$f":"SUMIF('14 - 15 ans H'!$A$107:$A$136,$A4,'14 - 15 ans H'!$I$107:$I$136)","v":0},{"$f":"SUMIF('14 - 15 ans H'!$A$141:$A$170,$A4,'14 - 15 ans H'!$I$141:$I$170)","v":0},{"$f":"SUMIF('14 - 15 ans H'!$A$175:$A$204,$A4,'14 - 15 ans H'!$I$175:$I$204)","v":0},null,{"$f":"SUMIF('Senior F'!$A$5:$A$34,$A4,'Senior F'!$I$5:$I$34)","v":0},{"$f":"SUMIF('Senior F'!$A$39:$A$68,$A4,'Senior F'!$I$39:$I$68)","v":5},{"$f":"SUMIF('Senior F'!$A$73:$A$102,$A4,'Senior F'!$I$73:$I$102)","v":6},{"$f":"SUMIF('Senior F'!$A$107:$A$136,$A4,'Senior F'!$I$107:$I$136)","v":4},{"$f":"SUMIF('Senior F'!$A$141:$A$170,$A4,'Senior F'!$I$141:$I$170)","v":6},{"$f":"SUMIF('Senior F'!$A$175:$A$204,$A4,'Senior F'!$I$175:$I$204)","v":5},null,{"$f":"SUMIF('Senior F'!$A$244:$A$275,$A4,'Senior F'!$I$244:$I$275)","v":0},{"$f":"SUMIF('Senior F'!$A$280:$A$311,$A4,'Senior F'!$I$280:$I$311)","v":0},{"$f":"SUMIF('Senior F'!$A$316:$A$347,$A4,'Senior F'!$I$316:$I$347)","v":0},{"$f":"SUMIF('Senior H'!$A$5:$A$34,$A4,'Senior H'!$I$5:$I$34)","v":0},{"$f":"SUMIF('Senior H'!$A$39:$A$68,$A4,'Senior H'!$I$39:$I$68)","v":19},{"$f":"SUMIF('Senior H'!$A$73:$A$102,$A4,'Senior H'!$I$73:$I$102)","v":13},{"$f":"SUMIF('Senior H'!$A$107:$A$136,$A4,'Senior H'!$I$107:$I$136)","v":17},{"$f":"SUMIF('Senior H'!$A$141:$A$170,$A4,'Senior H'!$I$141:$I$170)","v":9},{"$f":"SUMIF('Senior H'!$A$175:$A$204,$A4,'Senior H'!$I$175:$I$204)","v":16},null,{"$f":"SUMIF('Senior H'!$A$243:$A$275,$A4,'Senior H'!$I$243:$I$275)","v":0},{"$f":"SUMIF('Senior H'!$A$279:$A$311,$A4,'Senior H'!$I$279:$I$311)","v":0},{"$f":"SUMIF('Senior H'!$A$315:$A$347,$A4,'Senior H'!$I$315:$I$347)","v":0}]
["CAM",{"$f":"SUMIF('11 ans et -'!$A$5:$A$34,$A5,'11 ans et -'!$I$5:$I$34)","v":0},{"$f":"SUMIF('11 ans et -'!$A$39:$A$68,$A5,'11 ans et -'!$I$39:$I$68)","v":0},{"$f":"SUMIF('11 ans et -'!$A$73:$A$102,$A5,'11 ans et -'!$I$73:$I$102)","v":0},{"$f":"SUMIF('11 ans et -'!$A$107:$A$136,$A5,'11 ans et -'!$I$107:$I$136)","v":0},{"$f":"SUMIF('11 ans et -'!$A$141:$A$170,$A5,'11 ans et -'!$I$141:$I$170)","v":0},{"$f":"SUMIF('12 - 13 ans'!$A$5:$A$34,$A5,'12 - 13 ans'!$I$5:$I$34)","v":0},{"$f":"SUMIF('12 - 13 ans'!$A$39:$A$68,$A5,'12 - 13 ans'!$I$39:$I$68)","v":0},{"$f":"SUMIF('12 - 13 ans'!$A$73:$A$102,$A5,'12 - 13 ans'!$I$73:$I$102)","v":0},{"$f":"SUMIF('12 - 13 ans'!$A$107:$A$136,$A5,'12 - 13 ans'!$I$107:$I$136)","v":0},{"$f":"SUMIF('12 - 13 ans'!$A$141:$A$170,$A5,'12 - 13 ans'!$I$141:$I$170)","v":0},{"$f":"SUMIF('12 - 13 ans'!$A$175:$A$204,$A5,'12 - 13 ans'!$I$175:$I$204)","v":0},null,{"$f":"SUMIF('14 - 15 ans F'!$A$5:$A$34,$A5,'14 - 15 ans F'!$I$5:$I$34)","v":0},{"$f":"SUMIF('14 - 15 ans F'!$A$39:$A$68,$A5,'14 - 15 ans F'!$I$39:$I$68)","v":0},{"$f":"SUMIF('14 - 15 ans F'!$A$73:$A$102,$A5,'14 - 15 ans F'!$I$73:$I$102)","v":0},{"$f":"SUMIF('14 - 15 ans F'!$A$107:$A$136,$A5,'14 - 15 ans F'!$I$107:$I$136)","v":0},{"$f":"SUMIF('14 - 15 ans F'!$A$141:$A$170,$A5,'14 - 15 ans F'!$I$141:$I$170)","v":0},{"$f":"SUMIF('14 - 15 ans F'!$A$175:$A$204,$A5,'14 - 15 ans F'!$I$175:$I$204)","v":0},null,{"$f":"SUMIF('14 - 15 ans H'!$A$5:$A$34,$A5,'14 - 15 ans H'!$I$5:$I$34)","v":0},{"$f":"SUMIF('14 - 15 ans H'!$A$39:$A$68,$A5,'14 - 15 ans H'!$I$39:$I$68)","v":0},{"$f":"SUMIF('14 - 15 ans H'!$A$73:$A$102,$A5,'14 - 15 ans H'!$I$73:$I$102)","v":0},{"$f":"SUMIF('14 - 15 ans H'!$A$107:$A$136,$A5,'14 - 15 ans H'!$I$107:$I$136)","v":0},{"$f":"SUMIF('14 - 15 ans H'!$A$141:$A$170,$A5,'14 - 15 ans H'!$I$141:$I$170)","v":0},{"$f":"SUMIF('14 - 15 ans H'!$A$175:$A$204,$A5,'14 - 15 ans H'!$I$175:$I$204)","v":0},null,{"$f":"SUMIF('Senior F'!$A$5:$A$34,$A5,'Senior F'!$I$5:$I$34)","v":0},{"$f":"SUMIF('Senior F'!$A$39:$A$68,$A5,'Senior F'!$I$39:$I$68)","v":0},{"$f":"SUMIF('Senior F'!$A$73:$A$102,$A5,'Senior F'!$I$73:$I$102)","v":0},{"$f":"SUMIF('Senior F'!$A$107:$A$136,$A5,'Senior F'!$I$107:$I$136)","v":0},{"$f":"SUMIF('Senior F'!$A$141:$A$170,$A5,'Senior F'!$I$141:$I$170)","v":0},{"$f":"SUMIF('Senior F'!$A$175:$A$204,$A5,'Senior F'!$I$175:$I$204)","v":0},null,{"$f":"SUMIF('Senior F'!$A$244:$A$275,$A5,'Senior F'!$I$244:$I$275)","v":0},{"$f":"SUMIF('Senior F'!$A$280:$A$311,$A5,'Senior F'!$I$280:$I$311)","v":0},{"$f":"SUMIF('Senior F'!$A$316:$A$347,$A5,'Senior F'!$I$316:$I$347)","v":0},{"$f":"SUMIF('Senior H'!$A$5:$A$34,$A5,'Senior H'!$I$5:$I$34)","v":0},{"$f":"SUMIF('Senior H'!$A$39:$A$68,$A5,'Senior H'!$I$39:$I$68)","v":0},{"$f":"SUMIF('Senior H'!$A$73:$A$102,$A5,'Senior H'!$I$73:$I$102)","v":0},{"$f":"SUMIF('Senior H'!$A$107:$A$136,$A5,'Senior H'!$I$107:$I$136)","v":0},{"$f":"SUMIF('Senior H'!$A$141:$A$170,$A5,'Senior H'!$I$141:$I$170)","v":0},{"$f":"SUMIF('Senior H'!$A$175:$A$204,$A5,'Senior H'!$I$175:$I$204)","v":0},null,{"$f":"SUMIF('Senior H'!$A$243:$A$275,$A5,'Senior H'!$I$243:$I$275)","v":0},{"$f":"SUMIF('Senior H'!$A$279:$A$311,$A5,'Senior H'!$I$279:$I$311)","v":0},{"$f":"SUMIF('Senior H'!$A$315:$A$347,$A5,'Senior H'!$I$315:$I$347)","v":0}]
["CAPN",{"$f":"SUMIF('11 ans et -'!$A$5:$A$34,$A6,'11 ans et -'!$I$5:$I$34)","v":0},{"$f":"SUMIF('11 ans et -'!$A$39:$A$68,$A6,'11 ans et -'!$I$39:$I$68)","v":0},{"$f":"SUMIF('11 ans et -'!$A$73:$A$102,$A6,'11 ans et -'!$I$73:$I$102)","v":0},{"$f":"SUMIF('11 ans et -'!$A$107:$A$136,$A6,'11 ans et -'!$I$107:$I$136)","v":0},{"$f":"SUMIF('11 ans et -'!$A$141:$A$170,$A6,'11 ans et -'!$I$141:$I$170)","v":0},{"$f":"SUMIF('12 - 13 ans'!$A$5:$A$34,$A6,'12 - 13 ans'!$I$5:$I$34)","v":0},{"$f":"SUMIF('12 - 13 ans'!$A$39:$A$68,$A6,'12 - 13 ans'!$I$39:$I$68)","v":0},{"$f":"SUMIF('12 - 13 ans'!$A$73:$A$102,$A6,'12 - 13 ans'!$I$73:$I$102)","v":0},{"$f":"SUMIF('12 - 13 ans'!$A$107:$A$136,$A6,'12 - 13 ans'!$I$107:$I$136)","v":0},{"$f":"SUMIF('12 - 13 ans'!$A$141:$A$170,$A6,'12 - 13 ans'!$I$141:$I$170)","v":0},{"$f":"SUMIF('12 - 13 ans'!$A$175:$A$204,$A6,'12 - 13 ans'!$I$175:$I$204)","v":0},null,{"$f":"SUMIF('14 - 15 ans F'!$A$5:$A$34,$A6,'14 - 15 ans F'!$I$5:$I$34)","v":0},{"$f":"SUMIF('14 - 15 ans F'!$A$39:$A$68,$A6,'14 - 15 ans F'!$I$39:$I$68)","v":0},{"$f":"SUMIF('14 - 15 ans F'!$A$73:$A$102,$A6,'14 - 15 ans F'!$I$73:$I$102)","v":0},{"$f":"SUMIF('14 - 15 ans F'!$A$107:$A$136,$A6,'14 - 15 ans F'!$I$107:$I$136)","v":0},{"$f":"SUMIF('14 - 15 ans F'!$A$141:$A$170,$A6,'14 - 15 ans F'!$I$141:$I$170)","v":0},{"$f":"SUMIF('14 - 15 ans F'!$A$175:$A$204,$A6,'14 - 15 ans F'!$I$175:$I$204)","v":0},null,{"$f":"SUMIF('14 - 15 ans H'!$A$5:$A$34,$A6,'14 - 15 ans H'!$I$5:$I$34)","v":0},{"$f":"SUMIF('14 - 15 ans H'!$A$39:$A$68,$A6,'14 - 15 ans H'!$I$39:$I$68)","v":0},{"$f":"SUMIF('14 - 15 ans H'!$A$73:$A$102,$A6,'14 - 15 ans H'!$I$73:$I$102)","v":0},{"$f":"SUMIF('14 - 15 ans H'!$A$107:$A$136,$A6,'14 - 15 ans H'!$I$107:$I$136)","v":0},{"$f":"SUMIF('14 - 15 ans H'!$A$141:$A$170,$A6,'14 - 15 ans H'!$I$141:$I$170)","v":0},{"$f":"SUMIF('14 - 15 ans H'!$A$175:$A$204,$A6,'14 - 15 ans H'!$I$175:$I$204)","v":0},null,{"$f":"SUMIF('Senior F'!$A$5:$A$34,$A6,'Senior F'!$I$5:$I$34)","v":0},{"$f":"SUMIF('Senior F'!$A$39:$A$68,$A6,'Senior F'!$I$39:$I$68)","v":0},{"$f":"SUMIF('Senior F'!$A$73:$A$102,$A6,'Senior F'!$I$73:$I$102)","v":0},{"$f":"SUMIF('Senior F'!$A$107:$A$136,$A6,'Senior F'!$I$107:$I$136)","v":0},{"$f":"SUMIF('Senior F'!$A$141:$A$170,$A6,'Senior F'!$I$141:$I$170)","v":0},{"$f":"SUMIF('Senior F'!$A$175:$A$204,$A6,'Senior F'!$I$175:$I$204)","v":0},null,{"$f":"SUMIF('Senior F'!$A$244:$A$275,$A6,'Senior F'!$I$244:$I$275)","v":0},{"$f":"SUMIF('Senior F'!$A$280:$A$311,$A6,'Senior F'!$I$280:$I$311)","v":0},{"$f":"SUMIF('Senior F'!$A$316:$A$347,$A6,'Senior F'!$I$316:$I$347)","v":0},{"$f":"SUMIF('Senior H'!$A$5:$A$34,$A6,'Senior H'!$I$5:$I$34)","v":0},{"$f":"SUMIF('Senior H'!$A$39:$A$68,$A6,'Senior H'!$I$39:$I$68)","v":0},{"$f":"SUMIF('Senior H'!$A$73:$A$102,$A6,'Senior H'!$I$73:$I$102)","v":0},{"$f":"SUMIF('Senior H'!$A$107:$A$136,$A6,'Senior H'!$I$107:$I$136)","v":0},{"$f":"SUMIF('Senior H'!$A$141:$A$170,$A6,'Senior H'!$I$141:$I$170)","v":0},{"$f":"SUMIF('Senior H'!$A$175:$A$204,$A6,'Senior H'!$I$175:$I$204)","v":0},null,{"$f":"SUMIF('Senior H'!$A$243:$A$275,$A6,'Senior H'!$I$243:$I$275)","v":0},{"$f":"SUMIF('Senior H'!$A$279:$A$311,$A6,'Senior H'!$I$279:$I$311)","v":0},{"$f":"SUMIF('Senior H'!$A$315:$A$347,$A6,'Senior H'!$I$315:$I$347)","v":0}]
["Dam'eauclès",{"$f":"SUMIF('11 ans et -'!$A$5:$A$34,$A7,'11 ans et -'!$I$5:$I$34)","v":0},{"$f":"SUMIF('11 ans et -'!$A$39:$A$68,$A7,'11 ans et -'!$I$39:$I$68)","v":15},{"$f":"SUMIF('11 ans et -'!$A$73:$A$102,$A7,'11 ans et -'!$I$73:$I$102)","v":13},{"$f":"SUMIF('11 ans et -'!$A$107:$A$136,$A7,'11 ans et -'!$I$107:$I$136)","v":9},{"$f":"SUMIF('11 ans et -'!$A$141:$A$170,$A7,'11 ans et -'!$I$141:$I$170)","v":8},{"$f":"SUMIF('12 - 13 ans'!$A$5:$A$34,$A7,'12 - 13 ans'!$I$5:$I$34)","v":0},{"$f":"SUMIF('12 - 13 ans'!$A$39:$A$68,$A7,'12 - 13 ans'!$I$39:$I$68)","v":7},{"$f":"SUMIF('12 - 13 ans'!$A$73:$A$102,$A7,'12 - 13 ans'!$I$73:$I$102)","v":12},{"$f":"SUMIF('12 - 13 ans'!$A$107:$A$136,$A7,'12 - 13 ans'!$I$107:$I$136)","v":12},{"$f":"SUMIF('12 - 13 ans'!$A$141:$A$170,$A7,'12 - 13 ans'!$I$141:$I$170)","v":10},{"$f":"SUMIF('12 - 13 ans'!$A$175:$A$204,$A7,'12 - 13 ans'!$I$175:$I$204)","v":11},null,{"$f":"SUMIF('14 - 15 ans F'!$A$5:$A$34,$A7,'14 - 15 ans F'!$I$5:$I$34)","v":0},{"$f":"SUMIF('14 - 15 ans F'!$A$39:$A$68,$A7,'14 - 15 ans F'!$I$39:$I$68)","v":46},{"$f":"SUMIF('14 - 15 ans F'!$A$73:$A$102,$A7,'14 - 15 ans F'!$I$73:$I$102)","v":50},{"$f":"SUMIF('14 - 15 ans F'!$A$107:$A$136,$A7,'14 - 15 ans F'!$I$107:$I$136)","v":46},{"$f":"SUMIF('14 - 15 ans F'!$A$141:$A$170,$A7,'14 - 15 ans F'!$I$141:$I$170)","v":52},{"$f":"SUMIF('14 - 15 ans F'!$A$175:$A$204,$A7,'14 - 15 ans F'!$I$175:$I$204)","v":36},null,{"$f":"SUMIF('14 - 15 ans H'!$A$5:$A$34,$A7,'14 - 15 ans H'!$I$5:$I$34)","v":0},{"$f":"SUMIF('14 - 15 ans H'!$A$39:$A$68,$A7,'14 - 15 ans H'!$I$39:$I$68)","v":51},{"$f":"SUMIF('14 - 15 ans H'!$A$73:$A$102,$A7,'14 - 15 ans H'!$I$73:$I$102)","v":47},{"$f":"SUMIF('14 - 15 ans H'!$A$107:$A$136,$A7,'14 - 15 ans H'!$I$107:$I$136)","v":43},{"$f":"SUMIF('14 - 15 ans H'!$A$141:$A$170,$A7,'14 - 15 ans H'!$I$141:$I$170)","v":44},{"$f":"SUMIF('14 - 15 ans H'!$A$175:$A$204,$A7,'14 - 15 ans H'!$I$175:$I$204)","v":47},null,{"$f":"SUMIF('Senior F'!$A$5:$A$34,$A7,'Senior F'!$I$5:$I$34)","v":12},{"$f":"SUMIF('Senior F'!$A$39:$A$68,$A7,'Senior F'!$I$39:$I$68)","v":12},{"$f":"SUMIF('Senior F'!$A$73:$A$102,$A7,'Senior F'!$I$73:$I$102)","v":16},{"$f":"SUMIF('Senior F'!$A$107:$A$136,$A7,'Senior F'!$I$107:$I$136)","v":14},{"$f":"SUMIF('Senior F'!$A$141:$A$170,$A7,'Senior F'!$I$141:$I$170)","v":23},{"$f":"SUMIF('Senior F'!$A$175:$A$204,$A7,'Senior F'!$I$175:$I$204)","v":18},null,{"$f":"SUMIF('Senior F'!$A$244:$A$275,$A7,'Senior F'!$I$244:$I$275)","v":16},{"$f":"SUMIF('Senior F'!$A$280:$A$311,$A7,'Senior F'!$I$280:$I$311)","v":16},{"$f":"SUMIF('Senior F'!$A$316:$A$347,$A7,'Senior F'!$I$316:$I$347)","v":18},{"$f":"SUMIF('Senior H'!$A$5:$A$34,$A7,'Senior H'!$I$5:$I$34)","v":14},{"$f":"SUMIF('Senior H'!$A$39:$A$68,$A7,'Senior H'!$I$39:$I$68)","v":8},{"$f":"SUMIF('Senior H'!$A$73:$A$102,$A7,'Senior H'!$I$73:$I$102)","v":12},{"$f":"SUMIF('Senior H'!$A$107:$A$136,$A7,'Senior H'!$I$107:$I$136)","v":3},{"$f":"SUMIF('Senior H'!$A$141:$A$170,$A7,'Senior H'!$I$141:$I$170)","v":12},{"$f":"SUMIF('Senior H'!$A$175:$A$204,$A7,'Senior H'!$I$175:$I$204)","v":18},null,{"$f":"SUMIF('Senior H'!$A$243:$A$275,$A7,'Senior H'!$I$243:$I$275)","v":16},{"$f":"SUMIF('Senior H'!$A$279:$A$311,$A7,'Senior H'!$I$279:$I$311)","v":16},{"$f":"SUMIF('Senior H'!$A$315:$A$347,$A7,'Senior H'!$I$315:$I$347)","v":16}]
["Perf'O'Max",{"$f":"SUMIF('11 ans et -'!$A$5:$A$34,$A8,'11 ans et -'!$I$5:$I$34)","v":0},{"$f":"SUMIF('11 ans et -'!$A$39:$A$68,$A8,'11 ans et -'!$I$39:$I$68)","v":0},{"$f":"SUMIF('11 ans et -'!$A$73:$A$102,$A8,'11 ans et -'!$I$73:$I$102)","v":0},{"$f":"SUMIF('11 ans et -'!$A$107:$A$136,$A8,'11 ans et -'!$I$107:$I$136)","v":0},{"$f":"SUMIF('11 ans et -'!$A$141:$A$170,$A8,'11 ans et -'!$I$141:$I$170)","v":0},{"$f":"SUMIF('12 - 13 ans'!$A$5:$A$34,$A8,'12 - 13 ans'!$I$5:$I$34)","v":0},{"$f":"SUMIF('12 - 13 ans'!$A$39:$A$68,$A8,'12 - 13 ans'!$I$39:$I$68)","v":0},{"$f":"SUMIF('12 - 13 ans'!$A$73:$A$102,$A8,'12 - 13 ans'!$I$73:$I$102)","v":0},{"$f":"SUMIF('12 - 13 ans'!$A$107:$A$136,$A8,'12 - 13 ans'!$I$107:$I$136)","v":0},{"$f":"SUMIF('12 - 13 ans'!$A$141:$A$170,$A8,'12 - 13 ans'!$I$141:$I$170)","v":0},{"$f":"SUMIF('12 - 13 ans'!$A$175:$A$204,$A8,'12 - 13 ans'!$I$175:$I$204)","v":0},null,{"$f":"SUMIF('14 - 15 ans F'!$A$5:$A$34,$A8,'14 - 15 ans F'!$I$5:$I$34)","v":0},{"$f":"SUMIF('14 - 15 ans F'!$A$39:$A$68,$A8,'14 - 15 ans F'!$I$39:$I$68)","v":0},{"$f":"SUMIF('14 - 15 ans F'!$A$73:$A$102,$A8,'14 - 15 ans F'!$I$73:$I$102)","v":0},{"$f":"SUMIF('14 - 15 ans F'!$A$107:$A$136,$A8,'14 - 15 ans F'!$I$107:$I$136)","v":0},{"$f":"SUMIF('14 - 15 ans F'!$A$141:$A$170,$A8,'14 - 15 ans F'!$I$141:$I$170)","v":0},{"$f":"SUMIF('14 - 15 ans F'!$A$175:$A$204,$A8,'14 - 15 ans F'!$I$175:$I$204)","v":0},null,{"$f":"SUMIF('14 - 15 ans H'!$A$5:$A$34,$A8,'14 - 15 ans H'!$I$5:$I$34)","v":0},{"$f":"SUMIF('14 - 15 ans H'!$A$39:$A$68,$A8,'14 - 15 ans H'!$I$39:$I$68)","v":0},{"$f":"SUMIF('14 - 15 ans H'!$A$73:$A$102,$A8,'14 - 15 ans H'!$I$73:$I$102)","v":0},{"$f":"SUMIF('14 - 15 ans H'!$A$107:$A$136,$A8,'14 - 15 ans H'!$I$107:$I$136)","v":0},{"$f":"SUMIF('14 - 15 ans H'!$A$141:$A$170,$A8,'14 - 15 ans H'!$I$141:$I$170)","v":0},{"$f":"SUMIF('14 - 15 ans H'!$A$175:$A$204,$A8,'14 - 15 ans H'!$I$175:$I$204)","v":0},null,{"$f":"SUMIF('Senior F'!$A$5:$A$34,$A8,'Senior F'!$I$5:$I$34)","v":0},{"$f":"SUMIF('Senior F'!$A$39:$A$68,$A8,'Senior F'!$I$39:$I$68)","v":0},{"$f":"SUMIF('Senior F'!$A$73:$A$102,$A8,'Senior F'!$I$73:$I$102)","v":0},{"$f":"SUMIF('Senior F'!$A$107:$A$136,$A8,'Senior F'!$I$107:$I$136)","v":0},{"$f":"SUMIF('Senior F'!$A$141:$A$170,$A8,'Senior F'!$I$141:$I$170)","v":0},{"$f":"SUMIF('Senior F'!$A$175:$A$204,$A8,'Senior F'!$I$175:$I$204)","v":0},null,{"$f":"SUMIF('Senior F'!$A$244:$A$275,$A8,'Senior F'!$I$244:$I$275)","v":0},{"$f":"SUMIF('Senior F'!$A$280:$A$311,$A8,'Senior F'!$I$280:$I$311)","v":0},{"$f":"SUMIF('Senior F'!$A$316:$A$347,$A8,'Senior F'!$I$316:$I$347)","v":0},{"$f":"SUMIF('Senior H'!$A$5:$A$34,$A8,'Senior H'!$I$5:$I$34)","v":0},{"$f":"SUMIF('Senior H'!$A$39:$A$68,$A8,'Senior H'!$I$39:$I$68)","v":0},{"$f":"SUMIF('Senior H'!$A$73:$A$102,$A8,'Senior H'!$I$73:$I$102)","v":0},{"$f":"SUMIF('Senior H'!$A$107:$A$136,$A8,'Senior H'!$I$107:$I$136)","v":0},{"$f":"SUMIF('Senior H'!$A$141:$A$170,$A8,'Senior H'!$I$141:$I$170)","v":0},{"$f":"SUMIF('Senior H'!$A$175:$A$204,$A8,'Senior H'!$I$175:$I$204)","v":0},null,{"$f":"SUMIF('Senior H'!$A$243:$A$275,$A8,'Senior H'!$I$243:$I$275)","v":0},{"$f":"SUMIF('Senior H'!$A$279:$A$311,$A8,'Senior H'!$I$279:$I$311)","v":0},{"$f":"SUMIF('Senior H'!$A$315:$A$347,$A8,'Senior H'!$I$315:$I$347)","v":0}]
["Gatineau",{"$f":"SUMIF('11 ans et -'!$A$5:$A$34,$A9,'11 ans et -'!$I$5:$I$34)","v":0},{"$f":"SUMIF('11 ans et -'!$A$39:$A$68,$A9,'11 ans et -'!$I$39:$I$68)","v":3},{"$f":"SUMIF('11 ans et -'!$A$73:$A$102,$A9,'11 ans et -'!$I$73:$I$102)","v":12},{"$f":"SUMIF('11 ans et -'!$A$107:$A$136,$A9,'11 ans et -'!$I$107:$I$136)","v":4},{"$f":"SUMIF('11 ans et -'!$A$141:$A$170,$A9,'11 ans et -'!$I$141:$I$170)","v":11},{"$f":"SUMIF('12 - 13 ans'!$A$5:$A$34,$A9,'12 - 13 ans'!$I$5:$I$34)","v":0},{"$f":"SUMIF('12 - 13 ans'!$A$39:$A$68,$A9,'12 - 13 ans'!$I$39:$I$68)","v":11},{"$f":"SUMIF('12 - 13 ans'!$A$73:$A$102,$A9,'12 - 13 ans'!$I$73:$I$102)","v":13},{"$f":"SUMIF('12 - 13 ans'!$A$107:$A$136,$A9,'12 - 13 ans'!$I$107:$I$136)","v":11},{"$f":"SUMIF('12 - 13 ans'!$A$141:$A$170,$A9,'12 - 13 ans'!$I$141:$I$170)","v":7},{"$f":"SUMIF('12 - 13 ans'!$A$175:$A$204,$A9,'12 - 13 ans'!$I$175:$I$204)","v":0},null,{"$f":"SUMIF('14 - 15 ans F'!$A$5:$A$34,$A9,'14 - 15 ans F'!$I$5:$I$34)","v":0},{"$f":"SUMIF('14 - 15 ans F'!$A$39:$A$68,$A9,'14 - 15 ans F'!$I$39:$I$68)","v":0},{"$f":"SUMIF('14 - 15 ans F'!$A$73:$A$102,$A9,'14 - 15 ans F'!$I$73:$I$102)","v":0},{"$f":"SUMIF('14 - 15 ans F'!$A$107:$A$136,$A9,'14 - 15 ans F'!$I$107:$I$136)","v":0},{"$f":"SUMIF('14 - 15 ans F'!$A$141:$A$170,$A9,'14 - 15 ans F'!$I$141:$I$170)","v":0},{"$f":"SUMIF('14 - 15 ans F'!$A$175:$A$204,$A9,'14 - 15 ans F'!$I$175:$I$204)","v":0},null,{"$f":"SUMIF('14 - 15 ans H'!$A$5:$A$34,$A9,'14 - 15 ans H'!$I$5:$I$34)","v":0},{"$f":"SUMIF('14 - 15 ans H'!$A$39:$A$68,$A9,'14 - 15 ans H'!$I$39:$I$68)","v":0},{"$f":"SUMIF('14 - 15 ans H'!$A$73:$A$102,$A9,'14 - 15 ans H'!$I$73:$I$102)","v":13},{"$f":"SUMIF('14 - 15 ans H'!$A$107:$A$136,$A9,'14 - 15 ans H'!$I$107:$I$136)","v":14},{"$f":"SUMIF('14 - 15 ans H'!$A$141:$A$170,$A9,'14 - 15 ans H'!$I$141:$I$170)","v":14},{"$f":"SUMIF('14 - 15 ans H'!$A$175:$A$204,$A9,'14 - 15 ans H'!$I$175:$I$204)","v":13},null,{"$f":"SUMIF('Senior F'!$A$5:$A$34,$A9,'Senior F'!$I$5:$I$34)","v":0},{"$f":"SUMIF('Senior F'!$A$39:$A$68,$A9,'Senior F'!$I$39:$I$68)","v":1},{"$f":"SUMIF('Senior F'!$A$73:$A$102,$A9,'Senior F'!$I$73:$I$102)","v":6},{"$f":"SUMIF('Senior F'!$A$107:$A$136,$A9,'Senior F'!$I$107:$I$136)","v":2},{"$f":"SUMIF('Senior F'!$A$141:$A$170,$A9,'Senior F'!$I$141:$I$170)","v":1},{"$f":"SUMIF('Senior F'!$A$175:$A$204,$A9,'Senior F'!$I$175:$I$204)","v":0},null,{"$f":"SUMIF('Senior F'!$A$244:$A$275,$A9,'Senior F'!$I$244:$I$275)","v":0},{"$f":"SUMIF('Senior F'!$A$280:$A$311,$A9,'Senior F'!$I$280:$I$311)","v":0},{"$f":"SUMIF('Senior F'!$A$316:$A$347,$A9,'Senior F'!$I$316:$I$347)","v":0},{"$f":"SUMIF('Senior H'!$A$5:$A$34,$A9,'Senior H'!$I$5:$I$34)","v":0},{"$f":"SUMIF('Senior H'!$A$39:$A$68,$A9,'Senior H'!$I$39:$I$68)","v":7},{"$f":"SUMIF('Senior H'!$A$73:$A$102,$A9,'Senior H'!$I$73:$I$102)","v":16},{"$f":"SUMIF('Senior H'!$A$107:$A$136,$A9,'Senior H'!$I$107:$I$136)","v":14},{"$f":"SUMIF('Senior H'!$A$141:$A$170,$A9,'Senior H'!$I$141:$I$170)","v":5},{"$f":"SUMIF('Senior H'!$A$175:$A$204,$A9,'Senior H'!$I$175:$I$204)","v":7},null,{"$f":"SUMIF('Senior H'!$A$243:$A$275,$A9,'Senior H'!$I$243:$I$275)","v":0},{"$f":"SUMIF('Senior H'!$A$279:$A$311,$A9,'Senior H'!$I$279:$I$311)","v":0},{"$f":"SUMIF('Senior H'!$A$315:$A$347,$A9,'Senior H'!$I$315:$I$347)","v":0}]
["Narval",{"$f":"SUMIF('11 ans et -'!$A$5:$A$34,$A10,'11 ans et -'!$I$5:$I$34)","v":0},{"$f":"SUMIF('11 ans et -'!$A$39:$A$68,$A10,'11 ans et -'!$I$39:$I$68)","v":13},{"$f":"SUMIF('11 ans et -'!$A$73:$A$102,$A10,'11 ans et -'!$I$73:$I$102)","v":16},{"$f":"SUMIF('11 ans et -'!$A$107:$A$136,$A10,'11 ans et -'!$I$107:$I$136)","v":13},{"$f":"SUMIF('11 ans et -'!$A$141:$A$170,$A10,'11 ans et -'!$I$141:$I$170)","v":12},{"$f":"SUMIF('12 - 13 ans'!$A$5:$A$34,$A10,'12 - 13 ans'!$I$5:$I$34)","v":0},{"$f":"SUMIF('12 - 13 ans'!$A$39:$A$68,$A10,'12 - 13 ans'!$I$39:$I$68)","v":22},{"$f":"SUMIF('12 - 13 ans'!$A$73:$A$102,$A10,'12 - 13 ans'!$I$73:$I$102)","v":24},{"$f":"SUMIF('12 - 13 ans'!$A$107:$A$136,$A10,'12 - 13 ans'!$I$107:$I$136)","v":23},{"$f":"SUMIF('12 - 13 ans'!$A$141:$A$170,$A10,'12 - 13 ans'!$I$141:$I$170)","v":24},{"$f":"SUMIF('12 - 13 ans'!$A$175:$A$204,$A10,'12 - 13 ans'!$I$175:$I$204)","v":24},null,{"$f":"SUMIF('14 - 15 ans F'!$A$5:$A$34,$A10,'14 - 15 ans F'!$I$5:$I$34)","v":0},{"$f":"SUMIF('14 - 15 ans F'!$A$39:$A$68,$A10,'14 - 15 ans F'!$I$39:$I$68)","v":0},{"$f":"SUMIF('14 - 15 ans F'!$A$73:$A$102,$A10,'14 - 15 ans F'!$I$73:$I$102)","v":0},{"$f":"SUMIF('14 - 15 ans F'!$A$107:$A$136,$A10,'14 - 15 ans F'!$I$107:$I$136)","v":0},{"$f":"SUMIF('14 - 15 ans F'!$A$141:$A$170,$A10,'14 - 15 ans F'!$I$141:$I$170)","v":0},{"$f":"SUMIF('14 - 15 ans F'!$A$175:$A$204,$A10,'14 - 15 ans F'!$I$175:$I$204)","v":0},null,{"$f":"SUMIF('14 - 15 ans H'!$A$5:$A$34,$A10,'14 - 15 ans H'!$I$5:$I$34)","v":0},{"$f":"SUMIF('14 - 15 ans H'!$A$39:$A$68,$A10,'14 - 15 ans H'!$I$39:$I$68)","v":0},{"$f":"SUMIF('14 - 15 ans H'!$A$73:$A$102,$A10,'14 - 15 ans H'!$I$73:$I$102)","v":0},{"$f":"SUMIF('14 - 15 ans H'!$A$107:$A$136,$A10,'14 - 15 ans H'!$I$107:$I$136)","v":0},{"$f":"SUMIF('14 - 15 ans H'!$A$141:$A$170,$A10,'14 - 15 ans H'!$I$141:$I$170)","v":0},{"$f":"SUMIF('14 - 15 ans H'!$A$175:$A$204,$A10,'14 - 15 ans H'!$I$175:$I$204)","v":0},null,{"$f":"SUMIF('Senior F'!$A$5:$A$34,$A10,'Senior F'!$I$5:$I$34)","v":0},{"$f":"SUMIF('Senior F'!$A$39:$A$68,$A10,'Senior F'!$I$39:$I$68)","v":0},{"$f":"SUMIF('Senior F'!$A$73:$A$102,$A10,'Senior F'!$I$73:$I$102)","v":0},{"$f":"SUMIF('Senior F'!$A$107:$A$136,$A10,'Senior F'!$I$107:$I$136)","v":0},{"$f":"SUMIF('Senior F'!$A$141:$A$170,$A10,'Senior F'!$I$141:$I$170)","v":0},{"$f":"SUMIF('Senior F'!$A$175:$A$204,$A10,'Senior F'!$I$175:$I$204)","v":0},null,{"$f":"SUMIF('Senior F'!$A$244:$A$275,$A10,'Senior F'!$I$244:$I$275)","v":0},{"$f":"SUMIF('Senior F'!$A$280:$A$311,$A10,'Senior F'!$I$280:$I$311)","v":0},{"$f":"SUMIF('Senior F'!$A$316:$A$347,$A10,'Senior F'!$I$316:$I$347)","v":0},{"$f":"SUMIF('Senior H'!$A$5:$A$34,$A10,'Senior H'!$I$5:$I$34)","v":0},{"$f":"SUMIF('Senior H'!$A$39:$A$68,$A10,'Senior H'!$I$39:$I$68)","v":14},{"$f":"SUMIF('Senior H'!$A$73:$A$102,$A10,'Senior H'!$I$73:$I$102)","v":13},{"$f":"SUMIF('Senior H'!$A$107:$A$136,$A10,'Senior H'!$I$107:$I$136)","v":7},{"$f":"SUMIF('Senior H'!$A$141:$A$170,$A10,'Senior H'!$I$141:$I$170)","v":7},{"$f":"SUMIF('Senior H'!$A$175:$A$204,$A10,'Senior H'!$I$175:$I$204)","v":14},null,{"$f":"SUMIF('Senior H'!$A$243:$A$275,$A10,'Senior H'!$I$243:$I$275)","v":0},{"$f":"SUMIF('Senior H'!$A$279:$A$311,$A10,'Senior H'!$I$279:$I$311)","v":0},{"$f":"SUMIF('Senior H'!$A$315:$A$347,$A10,'Senior H'!$I$315:$I$347)","v":0}]
["CSRN",{"$f":"SUMIF('11 ans et -'!$A$5:$A$34,$A11,'11 ans et -'!$I$5:$I$34)","v":0},{"$f":"SUMIF('11 ans et -'!$A$39:$A$68,$A11,'11 ans et -'!$I$39:$I$68)","v":39},{"$f":"SUMIF('11 ans et -'!$A$73:$A$102,$A11,'11 ans et -'!$I$73:$I$102)","v":23},{"$f":"SUMIF('11 ans et -'!$A$107:$A$136,$A11,'11 ans et -'!$I$107:$I$136)","v":46},{"$f":"SUMIF('11 ans et -'!$A$141:$A$170,$A11,'11 ans et -'!$I$141:$I$170)","v":41},{"$f":"SUMIF('12 - 13 ans'!$A$5:$A$34,$A11,'12 - 13 ans'!$I$5:$I$34)","v":0},{"$f":"SUMIF('12 - 13 ans'!$A$39:$A$68,$A11,'12 - 13 ans'!$I$39:$I$68)","v":39},{"$f":"SUMIF('12 - 13 ans'!$A$73:$A$102,$A11,'12 - 13 ans'!$I$73:$I$102)","v":32},{"$f":"SUMIF('12 - 13 ans'!$A$107:$A$136,$A11,'12 - 13 ans'!$I$107:$I$136)","v":35},{"$f":"SUMIF('12 - 13 ans'!$A$141:$A$170,$A11,'12 - 13 ans'!$I$141:$I$170)","v":31},{"$f":"SUMIF('12 - 13 ans'!$A$175:$A$204,$A11,'12 - 13 ans'!$I$175:$I$204)","v":31},null,{"$f":"SUMIF('14 - 15 ans F'!$A$5:$A$34,$A11,'14 - 15 ans F'!$I$5:$I$34)","v":0},{"$f":"SUMIF('14 - 15 ans F'!$A$39:$A$68,$A11,'14 - 15 ans F'!$I$39:$I$68)","v":16},{"$f":"SUMIF('14 - 15 ans F'!$A$73:$A$102,$A11,'14 - 15 ans F'!$I$73:$I$102)","v":18},{"$f":"SUMIF('14 - 15 ans F'!$A$107:$A$136,$A11,'14 - 15 ans F'!$I$107:$I$136)","v":14},{"$f":"SUMIF('14 - 15 ans F'!$A$141:$A$170,$A11,'14 - 15 ans F'!$I$141:$I$170)","v":16},{"$f":"SUMIF('14 - 15 ans F'!$A$175:$A$204,$A11,'14 - 15 ans F'!$I$175:$I$204)","v":18},null,{"$f":"SUMIF('14 - 15 ans H'!$A$5:$A$34,$A11,'14 - 15 ans H'!$I$5:$I$34)","v":0},{"$f":"SUMIF('14 - 15 ans H'!$A$39:$A$68,$A11,'14 - 15 ans H'!$I$39:$I$68)","v":16},{"$f":"SUMIF('14 - 15 ans H'!$A$73:$A$102,$A11,'14 - 15 ans H'!$I$73:$I$102)","v":32},{"$f":"SUMIF('14 - 15 ans H'!$A$107:$A$136,$A11,'14 - 15 ans H'!$I$107:$I$136)","v":34},{"$f":"SUMIF('14 - 15 ans H'!$A$141:$A$170,$A11,'14 - 15 ans H'!$I$141:$I$170)","v":34},{"$f":"SUMIF('14 - 15 ans H'!$A$175:$A$204,$A11,'14 - 15 ans H'!$I$175:$I$204)","v":32},null,{"$f":"SUMIF('Senior F'!$A$5:$A$34,$A11,'Senior F'!$I$5:$I$34)","v":14},{"$f":"SUMIF('Senior F'!$A$39:$A$68,$A11,'Senior F'!$I$39:$I$68)","v":3},{"$f":"SUMIF('Senior F'!$A$73:$A$102,$A11,'Senior F'!$I$73:$I$102)","v":0},{"$f":"SUMIF('Senior F'!$A$107:$A$136,$A11,'Senior F'!$I$107:$I$136)","v":0},{"$f":"SUMIF('Senior F'!$A$141:$A$170,$A11,'Senior F'!$I$141:$I$170)","v":5},{"$f":"SUMIF('Senior F'!$A$175:$A$204,$A11,'Senior F'!$I$175:$I$204)","v":0},null,{"$f":"SUMIF('Senior F'!$A$244:$A$275,$A11,'Senior F'!$I$244:$I$275)","v":0},{"$f":"SUMIF('Senior F'!$A$280:$A$311,$A11,'Senior F'!$I$280:$I$311)","v":0},{"$f":"SUMIF('Senior F'!$A$316:$A$347,$A11,'Senior F'!$I$316:$I$347)","v":0},{"$f":"SUMIF('Senior H'!$A$5:$A$34,$A11,'Senior H'!$I$5:$I$34)","v":31},{"$f":"SUMIF('Senior H'!$A$39:$A$68,$A11,'Senior H'!$I$39:$I$68)","v":16},{"$f":"SUMIF('Senior H'!$A$73:$A$102,$A11,'Senior H'!$I$73:$I$102)","v":18},{"$f":"SUMIF('Senior H'!$A$107:$A$136,$A11,'Senior H'!$I$107:$I$136)","v":20},{"$f":"SUMIF('Senior H'!$A$141:$A$170,$A11,'Senior H'!$I$141:$I$170)","v":20},{"$f":"SUMIF('Senior H'!$A$175:$A$204,$A11,'Senior H'!$I$175:$I$204)","v":26},null,{"$f":"SUMIF('Senior H'!$A$243:$A$275,$A11,'Senior H'!$I$243:$I$275)","v":18},{"$f":"SUMIF('Senior H'!$A$279:$A$311,$A11,'Senior H'!$I$279:$I$311)","v":18},{"$f":"SUMIF('Senior H'!$A$315:$A$347,$A11,'Senior H'!$I$315:$I$347)","v":18}]
["CSRAD",{"$f":"SUMIF('11 ans et -'!$A$5:$A$34,$A12,'11 ans et -'!$I$5:$I$34)","v":0},{"$f":"SUMIF('11 ans et -'!$A$39:$A$68,$A12,'11 ans et -'!$I$39:$I$68)","v":0},{"$f":"SUMIF('11 ans et -'!$A$73:$A$102,$A12,'11 ans et -'!$I$73:$I$102)","v":0},{"$f":"SUMIF('11 ans et -'!$A$107:$A$136,$A12,'11 ans et -'!$I$107:$I$136)","v":0},{"$f":"SUMIF('11 ans et -'!$A$141:$A$170,$A12,'11 ans et -'!$I$141:$I$170)","v":0},{"$f":"SUMIF('12 - 13 ans'!$A$5:$A$34,$A12,'12 - 13 ans'!$I$5:$I$34)","v":0},{"$f":"SUMIF('12 - 13 ans'!$A$39:$A$68,$A12,'12 - 13 ans'!$I$39:$I$68)","v":13},{"$f":"SUMIF('12 - 13 ans'!$A$73:$A$102,$A12,'12 - 13 ans'!$I$73:$I$102)","v":18},{"$f":"SUMIF('12 - 13 ans'!$A$107:$A$136,$A12,'12 - 13 ans'!$I$107:$I$136)","v":18},{"$f":"SUMIF('12 - 13 ans'!$A$141:$A$170,$A12,'12 - 13 ans'!$I$141:$I$170)","v":18},{"$f":"SUMIF('12 - 13 ans'!$A$175:$A$204,$A12,'12 - 13 ans'!$I$175:$I$204)","v":0},null,{"$f":"SUMIF('14 - 15 ans F'!$A$5:$A$34,$A12,'14 - 15 ans F'!$I$5:$I$34)","v":0},{"$f":"SUMIF('14 - 15 ans F'!$A$39:$A$68,$A12,'14 - 15 ans F'!$I$39:$I$68)","v":11},{"$f":"SUMIF('14 - 15 ans F'!$A$73:$A$102,$A12,'14 - 15 ans F'!$I$73:$I$102)","v":13},{"$f":"SUMIF('14 - 15 ans F'!$A$107:$A$136,$A12,'14 - 15 ans F'!$I$107:$I$136)","v":13},{"$f":"SUMIF('14 - 15 ans F'!$A$141:$A$170,$A12,'14 - 15 ans F'!$I$141:$I$170)","v":11},{"$f":"SUMIF('14 - 15 ans F'!$A$175:$A$204,$A12,'14 - 15 ans F'!$I$175:$I$204)","v":12},null,{"$f":"SUMIF('14 - 15 ans H'!$A$5:$A$34,$A12,'14 - 15 ans H'!$I$5:$I$34)","v":0},{"$f":"SUMIF('14 - 15 ans H'!$A$39:$A$68,$A12,'14 - 15 ans H'!$I$39:$I$68)","v":14},{"$f":"SUMIF('14 - 15 ans H'!$A$73:$A$102,$A12,'14 - 15 ans H'!$I$73:$I$102)","v":12},{"$f":"SUMIF('14 - 15 ans H'!$A$107:$A$136,$A12,'14 - 15 ans H'!$I$107:$I$136)","v":13},{"$f":"SUMIF('14 - 15 ans H'!$A$141:$A$170,$A12,'14 - 15 ans H'!$I$141:$I$170)","v":12},{"$f":"SUMIF('14 - 15 ans H'!$A$175:$A$204,$A12,'14 - 15 ans H'!$I$175:$I$204)","v":12},null,{"$f":"SUMIF('Senior F'!$A$5:$A$34,$A12,'Senior F'!$I$5:$I$34)","v":0},{"$f":"SUMIF('Senior F'!$A$39:$A$68,$A12,'Senior F'!$I$39:$I$68)","v":0},{"$f":"SUMIF('Senior F'!$A$73:$A$102,$A12,'Senior F'!$I$73:$I$102)","v":0},{"$f":"SUMIF('Senior F'!$A$107:$A$136,$A12,'Senior F'!$I$107:$I$136)","v":0},{"$f":"SUMIF('Senior F'!$A$141:$A$170,$A12,'Senior F'!$I$141:$I$170)","v":0},{"$f":"SUMIF('Senior F'!$A$175:$A$204,$A12,'Senior F'!$I$175:$I$204)","v":0},null,{"$f":"SUMIF('Senior F'!$A$244:$A$275,$A12,'Senior F'!$I$244:$I$275)","v":0},{"$f":"SUMIF('Senior F'!$A$280:$A$311,$A12,'Senior F'!$I$280:$I$311)","v":0},{"$f":"SUMIF('Senior F'!$A$316:$A$347,$A12,'Senior F'!$I$316:$I$347)","v":0},{"$f":"SUMIF('Senior H'!$A$5:$A$34,$A12,'Senior H'!$I$5:$I$34)","v":0},{"$f":"SUMIF('Senior H'!$A$39:$A$68,$A12,'Senior H'!$I$39:$I$68)","v":0},{"$f":"SUMIF('Senior H'!$A$73:$A$102,$A12,'Senior H'!$I$73:$I$102)","v":0},{"$f":"SUMIF('Senior H'!$A$107:$A$136,$A12,'Senior H'!$I$107:$I$136)","v":0},{"$f":"SUMIF('Senior H'!$A$141:$A$170,$A12,'Senior H'!$I$141:$I$170)","v":0},{"$f":"SUMIF('Senior H'!$A$175:$A$204,$A12,'Senior H'!$I$175:$I$204)","v":0},null,{"$f":"SUMIF('Senior H'!$A$243:$A$275,$A12,'Senior H'!$I$243:$I$275)","v":0},{"$f":"SUMIF('Senior H'!$A$279:$A$311,$A12,'Senior H'!$I$279:$I$311)","v":0},{"$f":"SUMIF('Senior H'!$A$315:$A$347,$A12,'Senior H'!$I$315:$I$347)","v":0}]
["SSSC",{"$f":"SUMIF('11 ans et -'!$A$5:$A$34,$A13,'11 ans et -'!$I$5:$I$34)","v":0},{"$f":"SUMIF('11 ans et -'!$A$39:$A$68,$A13,'11 ans et -'!$I$39:$I$68)","v":0},{"$f":"SUMIF('11 ans et -'!$A$73:$A$102,$A13,'11 ans et -'!$I$73:$I$102)","v":0},{"$f":"SUMIF('11 ans et -'!$A$107:$A$136,$A13,'11 ans et -'!$I$107:$I$136)","v":0},{"$f":"SUMIF('11 ans et -'!$A$141:$A$170,$A13,'11 ans et -'!$I$141:$I$170)","v":0},{"$f":"SUMIF('12 - 13 ans'!$A$5:$A$34,$A13,'12 - 13 ans'!$I$5:$I$34)","v":0},{"$f":"SUMIF('12 - 13 ans'!$A$39:$A$68,$A13,'12 - 13 ans'!$I$39:$I$68)","v":0},{"$f":"SUMIF('12 - 13 ans'!$A$73:$A$102,$A13,'12 - 13 ans'!$I$73:$I$102)","v":0},{"$f":"SUMIF('12 - 13 ans'!$A$107:$A$136,$A13,'12 - 13 ans'!$I$107:$I$136)","v":0},{"$f":"SUMIF('12 - 13 ans'!$A$141:$A$170,$A13,'12 - 13 ans'!$I$141:$I$170)","v":0},{"$f":"SUMIF('12 - 13 ans'!$A$175:$A$204,$A13,'12 - 13 ans'!$I$175:$I$204)","v":0},null,{"$f":"SUMIF('14 - 15 ans F'!$A$5:$A$34,$A13,'14 - 15 ans F'!$I$5:$I$34)","v":0},{"$f":"SUMIF('14 - 15 ans F'!$A$39:$A$68,$A13,'14 - 15 ans F'!$I$39:$I$68)","v":0},{"$f":"SUMIF('14 - 15 ans F'!$A$73:$A$102,$A13,'14 - 15 ans F'!$I$73:$I$102)","v":0},{"$f":"SUMIF('14 - 15 ans F'!$A$107:$A$136,$A13,'14 - 15 ans F'!$I$107:$I$136)","v":0},{"$f":"SUMIF('14 - 15 ans F'!$A$141:$A$170,$A13,'14 - 15 ans F'!$I$141:$I$170)","v":0},{"$f":"SUMIF('14 - 15 ans F'!$A$175:$A$204,$A13,'14 - 15 ans F'!$I$175:$I$204)","v":0},null,{"$f":"SUMIF('14 - 15 ans H'!$A$5:$A$34,$A13,'14 - 15 ans H'!$I$5:$I$34)","v":0},{"$f":"SUMIF('14 - 15 ans H'!$A$39:$A$68,$A13,'14 - 15 ans H'!$I$39:$I$68)","v":0},{"$f":"SUMIF('14 - 15 ans H'!$A$73:$A$102,$A13,'14 - 15 ans H'!$I$73:$I$102)","v":0},{"$f":"SUMIF('14 - 15 ans H'!$A$107:$A$136,$A13,'14 - 15 ans H'!$I$107:$I$136)","v":0},{"$f":"SUMIF('14 - 15 ans H'!$A$141:$A$170,$A13,'14 - 15 ans H'!$I$141:$I$170)","v":0},{"$f":"SUMIF('14 - 15 ans H'!$A$175:$A$204,$A13,'14 - 15 ans H'!$I$175:$I$204)","v":0},null,{"$f":"SUMIF('Senior F'!$A$5:$A$34,$A13,'Senior F'!$I$5:$I$34)","v":0},{"$f":"SUMIF('Senior F'!$A$39:$A$68,$A13,'Senior F'!$I$39:$I$68)","v":0},{"$f":"SUMIF('Senior F'!$A$73:$A$102,$A13,'Senior F'!$I$73:$I$102)","v":0},{"$f":"SUMIF('Senior F'!$A$107:$A$136,$A13,'Senior F'!$I$107:$I$136)","v":0},{"$f":"SUMIF('Senior F'!$A$141:$A$170,$A13,'Senior F'!$I$141:$I$170)","v":0},{"$f":"SUMIF('Senior F'!$A$175:$A$204,$A13,'Senior F'!$I$175:$I$204)","v":0},null,{"$f":"SUMIF('Senior F'!$A$244:$A$275,$A13,'Senior F'!$I$244:$I$275)","v":0},{"$f":"SUMIF('Senior F'!$A$280:$A$311,$A13,'Senior F'!$I$280:$I$311)","v":0},{"$f":"SUMIF('Senior F'!$A$316:$A$347,$A13,'Senior F'!$I$316:$I$347)","v":0},{"$f":"SUMIF('Senior H'!$A$5:$A$34,$A13,'Senior H'!$I$5:$I$34)","v":0},{"$f":"SUMIF('Senior H'!$A$39:$A$68,$A13,'Senior H'!$I$39:$I$68)","v":0},{"$f":"SUMIF('Senior H'!$A$73:$A$102,$A13,'Senior H'!$I$73:$I$102)","v":0},{"$f":"SUMIF('Senior H'!$A$107:$A$136,$A13,'Senior H'!$I$107:$I$136)","v":0},{"$f":"SUMIF('Senior H'!$A$141:$A$170,$A13,'Senior H'!$I$141:$I$170)","v":0},{"$f":"SUMIF('Senior H'!$A$175:$A$204,$A13,'Senior H'!$I$175:$I$204)","v":0},null,{"$f":"SUMIF('Senior H'!$A$243:$A$275,$A13,'Senior H'!$I$243:$I$275)","v":0},{"$f":"SUMIF('Senior H'!$A$279:$A$311,$A13,'Senior H'!$I$279:$I$311)","v":0},{"$f":"SUMIF('Senior H'!$A$315:$A$347,$A13,'Senior H'!$I$315:$I$347)","v":0}]
["30Deux",{"$f":"SUMIF('11 ans et -'!$A$5:$A$34,$A14,'11 ans et -'!$I$5:$I$34)","v":0},{"$f":"SUMIF('11 ans et -'!$A$39:$A$68,$A14,'11 ans et -'!$I$39:$I$68)","v":21},{"$f":"SUMIF('11 ans et -'!$A$73:$A$102,$A14,'11 ans et -'!$I$73:$I$102)","v":26},{"$f":"SUMIF('11 ans et -'!$A$107:$A$136,$A14,'11 ans et -'!$I$107:$I$136)","v":17},{"$f":"SUMIF('11 ans et -'!$A$141:$A$170,$A14,'11 ans et -'!$I$141:$I$170)","v":22},{"$f":"SUMIF('12 - 13 ans'!$A$5:$A$34,$A14,'12 - 13 ans'!$I$5:$I$34)","v":0},{"$f":"SUMIF('12 - 13 ans'!$A$39:$A$68,$A14,'12 - 13 ans'!$I$39:$I$68)","v":16},{"$f":"SUMIF('12 - 13 ans'!$A$73:$A$102,$A14,'12 - 13 ans'!$I$73:$I$102)","v":13},{"$f":"SUMIF('12 - 13 ans'!$A$107:$A$136,$A14,'12 - 13 ans'!$I$107:$I$136)","v":16},{"$f":"SUMIF('12 - 13 ans'!$A$141:$A$170,$A14,'12 - 13 ans'!$I$141:$I$170)","v":14},{"$f":"SUMIF('12 - 13 ans'!$A$175:$A$204,$A14,'12 - 13 ans'!$I$175:$I$204)","v":16},null,{"$f":"SUMIF('14 - 15 ans F'!$A$5:$A$34,$A14,'14 - 15 ans F'!$I$5:$I$34)","v":0},{"$f":"SUMIF('14 - 15 ans F'!$A$39:$A$68,$A14,'14 - 15 ans F'!$I$39:$I$68)","v":13},{"$f":"SUMIF('14 - 15 ans F'!$A$73:$A$102,$A14,'14 - 15 ans F'!$I$73:$I$102)","v":11},{"$f":"SUMIF('14 - 15 ans F'!$A$107:$A$136,$A14,'14 - 15 ans F'!$I$107:$I$136)","v":11},{"$f":"SUMIF('14 - 15 ans F'!$A$141:$A$170,$A14,'14 - 15 ans F'!$I$141:$I$170)","v":0},{"$f":"SUMIF('14 - 15 ans F'!$A$175:$A$204,$A14,'14 - 15 ans F'!$I$175:$I$204)","v":0},null,{"$f":"SUMIF('14 - 15 ans H'!$A$5:$A$34,$A14,'14 - 15 ans H'!$I$5:$I$34)","v":0},{"$f":"SUMIF('14 - 15 ans H'!$A$39:$A$68,$A14,'14 - 15 ans H'!$I$39:$I$68)","v":0},{"$f":"SUMIF('14 - 15 ans H'!$A$73:$A$102,$A14,'14 - 15 ans H'!$I$73:$I$102)","v":0},{"$f":"SUMIF('14 - 15 ans H'!$A$107:$A$136,$A14,'14 - 15 ans H'!$I$107:$I$136)","v":0},{"$f":"SUMIF('14 - 15 ans H'!$A$141:$A$170,$A14,'14 - 15 ans H'!$I$141:$I$170)","v":0},{"$f":"SUMIF('14 - 15 ans H'!$A$175:$A$204,$A14,'14 - 15 ans H'!$I$175:$I$204)","v":0},null,{"$f":"SUMIF('Senior F'!$A$5:$A$34,$A14,'Senior F'!$I$5:$I$34)","v":33},{"$f":"SUMIF('Senior F'!$A$39:$A$68,$A14,'Senior F'!$I$39:$I$68)","v":62},{"$f":"SUMIF('Senior F'!$A$73:$A$102,$A14,'Senior F'!$I$73:$I$102)","v":49},{"$f":"SUMIF('Senior F'!$A$107:$A$136,$A14,'Senior F'!$I$107:$I$136)","v":57},{"$f":"SUMIF('Senior F'!$A$141:$A$170,$A14,'Senior F'!$I$141:$I$170)","v":53},{"$f":"SUMIF('Senior F'!$A$175:$A$204,$A14,'Senior F'!$I$175:$I$204)","v":54},null,{"$f":"SUMIF('Senior F'!$A$244:$A$275,$A14,'Senior F'!$I$244:$I$275)","v":20},{"$f":"SUMIF('Senior F'!$A$280:$A$311,$A14,'Senior F'!$I$280:$I$311)","v":20},{"$f":"SUMIF('Senior F'!$A$316:$A$347,$A14,'Senior F'!$I$316:$I$347)","v":20},{"$f":"SUMIF('Senior H'!$A$5:$A$34,$A14,'Senior H'!$I$5:$I$34)","v":32},{"$f":"SUMIF('Senior H'!$A$39:$A$68,$A14,'Senior H'!$I$39:$I$68)","v":55},{"$f":"SUMIF('Senior H'!$A$73:$A$102,$A14,'Senior H'!$I$73:$I$102)","v":37},{"$f":"SUMIF('Senior H'!$A$107:$A$136,$A14,'Senior H'!$I$107:$I$136)","v":56},{"$f":"SUMIF('Senior H'!$A$141:$A$170,$A14,'Senior H'!$I$141:$I$170)","v":53},{"$f":"SUMIF('Senior H'!$A$175:$A$204,$A14,'Senior H'!$I$175:$I$204)","v":52},null,{"$f":"SUMIF('Senior H'!$A$243:$A$275,$A14,'Senior H'!$I$243:$I$275)","v":20},{"$f":"SUMIF('Senior H'!$A$279:$A$311,$A14,'Senior H'!$I$279:$I$311)","v":20},{"$f":"SUMIF('Senior H'!$A$315:$A$347,$A14,'Senior H'!$I$315:$I$347)","v":20}]
["Sea Devils",{"$f":"SUMIF('11 ans et -'!$A$5:$A$34,$A15,'11 ans et -'!$I$5:$I$34)","v":0},{"$f":"SUMIF('11 ans et -'!$A$39:$A$68,$A15,'11 ans et -'!$I$39:$I$68)","v":0},{"$f":"SUMIF('11 ans et -'!$A$73:$A$102,$A15,'11 ans et -'!$I$73:$I$102)","v":0},{"$f":"SUMIF('11 ans et -'!$A$107:$A$136,$A15,'11 ans et -'!$I$107:$I$136)","v":0},{"$f":"SUMIF('11 ans et -'!$A$141:$A$170,$A15,'11 ans et -'!$I$141:$I$170)","v":0},{"$f":"SUMIF('12 - 13 ans'!$A$5:$A$34,$A15,'12 - 13 ans'!$I$5:$I$34)","v":0},{"$f":"SUMIF('12 - 13 ans'!$A$39:$A$68,$A15,'12 - 13 ans'!$I$39:$I$68)","v":0},{"$f":"SUMIF('12 - 13 ans'!$A$73:$A$102,$A15,'12 - 13 ans'!$I$73:$I$102)","v":0},{"$f":"SUMIF('12 - 13 ans'!$A$107:$A$136,$A15,'12 - 13 ans'!$I$107:$I$136)","v":0},{"$f":"SUMIF('12 - 13 ans'!$A$141:$A$170,$A15,'12 - 13 ans'!$I$141:$I$170)","v":0},{"$f":"SUMIF('12 - 13 ans'!$A$175:$A$204,$A15,'12 - 13 ans'!$I$175:$I$204)","v":0},null,{"$f":"SUMIF('14 - 15 ans F'!$A$5:$A$34,$A15,'14 - 15 ans F'!$I$5:$I$34)","v":0},{"$f":"SUMIF('14 - 15 ans F'!$A$39:$A$68,$A15,'14 - 15 ans F'!$I$39:$I$68)","v":0},{"$f":"SUMIF('14 - 15 ans F'!$A$73:$A$102,$A15,'14 - 15 ans F'!$I$73:$I$102)","v":0},{"$f":"SUMIF('14 - 15 ans F'!$A$107:$A$136,$A15,'14 - 15 ans F'!$I$107:$I$136)","v":0},{"$f":"SUMIF('14 - 15 ans F'!$A$141:$A$170,$A15,'14 - 15 ans F'!$I$141:$I$170)","v":0},{"$f":"SUMIF('14 - 15 ans F'!$A$175:$A$204,$A15,'14 - 15 ans F'!$I$175:$I$204)","v":0},null,{"$f":"SUMIF('14 - 15 ans H'!$A$5:$A$34,$A15,'14 - 15 ans H'!$I$5:$I$34)","v":0},{"$f":"SUMIF('14 - 15 ans H'!$A$39:$A$68,$A15,'14 - 15 ans H'!$I$39:$I$68)","v":0},{"$f":"SUMIF('14 - 15 ans H'!$A$73:$A$102,$A15,'14 - 15 ans H'!$I$73:$I$102)","v":0},{"$f":"SUMIF('14 - 15 ans H'!$A$107:$A$136,$A15,'14 - 15 ans H'!$I$107:$I$136)","v":0},{"$f":"SUMIF('14 - 15 ans H'!$A$141:$A$170,$A15,'14 - 15 ans H'!$I$141:$I$170)","v":0},{"$f":"SUMIF('14 - 15 ans H'!$A$175:$A$204,$A15,'14 - 15 ans H'!$I$175:$I$204)","v":0},null,{"$f":"SUMIF('Senior F'!$A$5:$A$34,$A15,'Senior F'!$I$5:$I$34)","v":0},{"$f":"SUMIF('Senior F'!$A$39:$A$68,$A15,'Senior F'!$I$39:$I$68)","v":0},{"$f":"SUMIF('Senior F'!$A$73:$A$102,$A15,'Senior F'!$I$73:$I$102)","v":0},{"$f":"SUMIF('Senior F'!$A$107:$A$136,$A15,'Senior F'!$I$107:$I$136)","v":0},{"$f":"SUMIF('Senior F'!$A$141:$A$170,$A15,'Senior F'!$I$141:$I$170)","v":0},{"$f":"SUMIF('Senior F'!$A$175:$A$204,$A15,'Senior F'!$I$175:$I$204)","v":0},null,{"$f":"SUMIF('Senior F'!$A$244:$A$275,$A15,'Senior F'!$I$244:$I$275)","v":0},{"$f":"SUMIF('Senior F'!$A$280:$A$311,$A15,'Senior F'!$I$280:$I$311)","v":0},{"$f":"SUMIF('Senior F'!$A$316:$A$347,$A15,'Senior F'!$I$316:$I$347)","v":0},{"$f":"SUMIF('Senior H'!$A$5:$A$34,$A15,'Senior H'!$I$5:$I$34)","v":0},{"$f":"SUMIF('Senior H'!$A$39:$A$68,$A15,'Senior H'!$I$39:$I$68)","v":0},{"$f":"SUMIF('Senior H'!$A$73:$A$102,$A15,'Senior H'!$I$73:$I$102)","v":0},{"$f":"SUMIF('Senior H'!$A$107:$A$136,$A15,'Senior H'!$I$107:$I$136)","v":0},{"$f":"SUMIF('Senior H'!$A$141:$A$170,$A15,'Senior H'!$I$141:$I$170)","v":0},{"$f":"SUMIF('Senior H'!$A$175:$A$204,$A15,'Senior H'!$I$175:$I$204)","v":0},null,{"$f":"SUMIF('Senior H'!$A$243:$A$275,$A15,'Senior H'!$I$243:$I$275)","v":0},{"$f":"SUMIF('Senior H'!$A$279:$A$311,$A15,'Senior H'!$I$279:$I$311)","v":0},{"$f":"SUMIF('Senior H'!$A$315:$A$347,$A15,'Senior H'!$I$315:$I$347)","v":0}]
["Rouville Surf",{"$f":"SUMIF('11 ans et -'!$A$5:$A$34,$A16,'11 ans et -'!$I$5:$I$34)","v":0},{"$f":"SUMIF('11 ans et -'!$A$39:$A$68,$A16,'11 ans et -'!$I$39:$I$68)","v":0},{"$f":"SUMIF('11 ans et -'!$A$73:$A$102,$A16,'11 ans et -'!$I$73:$I$102)","v":0},{"$f":"SUMIF('11 ans et -'!$A$107:$A$136,$A16,'11 ans et -'!$I$107:$I$136)","v":0},{"$f":"SUMIF('11 ans et -'!$A$141:$A$170,$A16,'11 ans et -'!$I$141:$I$170)","v":0},{"$f":"SUMIF('12 - 13 ans'!$A$5:$A$34,$A16,'12 - 13 ans'!$I$5:$I$34)","v":0},{"$f":"SUMIF('12 - 13 ans'!$A$39:$A$68,$A16,'12 - 13 ans'!$I$39:$I$68)","v":0},{"$f":"SUMIF('12 - 13 ans'!$A$73:$A$102,$A16,'12 - 13 ans'!$I$73:$I$102)","v":0},{"$f":"SUMIF('12 - 13 ans'!$A$107:$A$136,$A16,'12 - 13 ans'!$I$107:$I$136)","v":0},{"$f":"SUMIF('12 - 13 ans'!$A$141:$A$170,$A16,'12 - 13 ans'!$I$141:$I$170)","v":0},{"$f":"SUMIF('12 - 13 ans'!$A$175:$A$204,$A16,'12 - 13 ans'!$I$175:$I$204)","v":0},null,{"$f":"SUMIF('14 - 15 ans F'!$A$5:$A$34,$A16,'14 - 15 ans F'!$I$5:$I$34)","v":0},{"$f":"SUMIF('14 - 15 ans F'!$A$39:$A$68,$A16,'14 - 15 ans F'!$I$39:$I$68)","v":0},{"$f":"SUMIF('14 - 15 ans F'!$A$73:$A$102,$A16,'14 - 15 ans F'!$I$73:$I$102)","v":0},{"$f":"SUMIF('14 - 15 ans F'!$A$107:$A$136,$A16,'14 - 15 ans F'!$I$107:$I$136)","v":0},{"$f":"SUMIF('14 - 15 ans F'!$A$141:$A$170,$A16,'14 - 15 ans F'!$I$141:$I$170)","v":0},{"$f":"SUMIF('14 - 15 ans F'!$A$175:$A$204,$A16,'14 - 15 ans F'!$I$175:$I$204)","v":0},null,{"$f":"SUMIF('14 - 15 ans H'!$A$5:$A$34,$A16,'14 - 15 ans H'!$I$5:$I$34)","v":0},{"$f":"SUMIF('14 - 15 ans H'!$A$39:$A$68,$A16,'14 - 15 ans H'!$I$39:$I$68)","v":0},{"$f":"SUMIF('14 - 15 ans H'!$A$73:$A$102,$A16,'14 - 15 ans H'!$I$73:$I$102)","v":0},{"$f":"SUMIF('14 - 15 ans H'!$A$107:$A$136,$A16,'14 - 15 ans H'!$I$107:$I$136)","v":0},{"$f":"SUMIF('14 - 15 ans H'!$A$141:$A$170,$A16,'14 - 15 ans H'!$I$141:$I$170)","v":0},{"$f":"SUMIF('14 - 15 ans H'!$A$175:$A$204,$A16,'14 - 15 ans H'!$I$175:$I$204)","v":0},null,{"$f":"SUMIF('Senior F'!$A$5:$A$34,$A16,'Senior F'!$I$5:$I$34)","v":16},{"$f":"SUMIF('Senior F'!$A$39:$A$68,$A16,'Senior F'!$I$39:$I$68)","v":49},{"$f":"SUMIF('Senior F'!$A$73:$A$102,$A16,'Senior F'!$I$73:$I$102)","v":48},{"$f":"SUMIF('Senior F'!$A$107:$A$136,$A16,'Senior F'!$I$107:$I$136)","v":54},{"$f":"SUMIF('Senior F'!$A$141:$A$170,$A16,'Senior F'!$I$141:$I$170)","v":44},{"$f":"SUMIF('Senior F'!$A$175:$A$204,$A16,'Senior F'!$I$175:$I$204)","v":40},null,{"$f":"SUMIF('Senior F'!$A$244:$A$275,$A16,'Senior F'!$I$244:$I$275)","v":18},{"$f":"SUMIF('Senior F'!$A$280:$A$311,$A16,'Senior F'!$I$280:$I$311)","v":0},{"$f":"SUMIF('Senior F'!$A$316:$A$347,$A16,'Senior F'!$I$316:$I$347)","v":16},{"$f":"SUMIF('Senior H'!$A$5:$A$34,$A16,'Senior H'!$I$5:$I$34)","v":16},{"$f":"SUMIF('Senior H'!$A$39:$A$68,$A16,'Senior H'!$I$39:$I$68)","v":30},{"$f":"SUMIF('Senior H'!$A$73:$A$102,$A16,'Senior H'!$I$73:$I$102)","v":38},{"$f":"SUMIF('Senior H'!$A$107:$A$136,$A16,'Senior H'!$I$107:$I$136)","v":33},{"$f":"SUMIF('Senior H'!$A$141:$A$170,$A16,'Senior H'!$I$141:$I$170)","v":44},{"$f":"SUMIF('Senior H'!$A$175:$A$204,$A16,'Senior H'!$I$175:$I$204)","v":14},null,{"$f":"SUMIF('Senior H'!$A$243:$A$275,$A16,'Senior H'!$I$243:$I$275)","v":0},{"$f":"SUMIF('Senior H'!$A$279:$A$311,$A16,'Senior H'!$I$279:$I$311)","v":0},{"$f":"SUMIF('Senior H'!$A$315:$A$347,$A16,'Senior H'!$I$315:$I$347)","v":0}]
["Quebec",{"$f":"SUMIF('11 ans et -'!$A$5:$A$34,$A17,'11 ans et -'!$I$5:$I$34)","v":0},{"$f":"SUMIF('11 ans et -'!$A$39:$A$68,$A17,'11 ans et -'!$I$39:$I$68)","v":0},{"$f":"SUMIF('11 ans et -'!$A$73:$A$102,$A17,'11 ans et -'!$I$73:$I$102)","v":0},{"$f":"SUMIF('11 ans et -'!$A$107:$A$136,$A17,'11 ans et -'!$I$107:$I$136)","v":0},{"$f":"SUMIF('11 ans et -'!$A$141:$A$170,$A17,'11 ans et -'!$I$141:$I$170)","v":0},{"$f":"SUMIF('12 - 13 ans'!$A$5:$A$34,$A17,'12 - 13 ans'!$I$5:$I$34)","v":0},{"$f":"SUMIF('12 - 13 ans'!$A$39:$A$68,$A17,'12 - 13 ans'!$I$39:$I$68)","v":0},{"$f":"SUMIF('12 - 13 ans'!$A$73:$A$102,$A17,'12 - 13 ans'!$I$73:$I$102)","v":0},{"$f":"SUMIF('12 - 13 ans'!$A$107:$A$136,$A17,'12 - 13 ans'!$I$107:$I$136)","v":0},{"$f":"SUMIF('12 - 13 ans'!$A$141:$A$170,$A17,'12 - 13 ans'!$I$141:$I$170)","v":0},{"$f":"SUMIF('12 - 13 ans'!$A$175:$A$204,$A17,'12 - 13 ans'!$I$175:$I$204)","v":0},null,{"$f":"SUMIF('14 - 15 ans F'!$A$5:$A$34,$A17,'14 - 15 ans F'!$I$5:$I$34)","v":0},{"$f":"SUMIF('14 - 15 ans F'!$A$39:$A$68,$A17,'14 - 15 ans F'!$I$39:$I$68)","v":0},{"$f":"SUMIF('14 - 15 ans F'!$A$73:$A$102,$A17,'14 - 15 ans F'!$I$73:$I$102)","v":0},{"$f":"SUMIF('14 - 15 ans F'!$A$107:$A$136,$A17,'14 - 15 ans F'!$I$107:$I$136)","v":0},{"$f":"SUMIF('14 - 15 ans F'!$A$141:$A$170,$A17,'14 - 15 ans F'!$I$141:$I$170)","v":0},{"$f":"SUMIF('14 - 15 ans F'!$A$175:$A$204,$A17,'14 - 15 ans F'!$I$175:$I$204)","v":0},null,{"$f":"SUMIF('14 - 15 ans H'!$A$5:$A$34,$A17,'14 - 15 ans H'!$I$5:$I$34)","v":0},{"$f":"SUMIF('14 - 15 ans H'!$A$39:$A$68,$A17,'14 - 15 ans H'!$I$39:$I$68)","v":0},{"$f":"SUMIF('14 - 15 ans H'!$A$73:$A$102,$A17,'14 - 15 ans H'!$I$73:$I$102)","v":0},{"$f":"SUMIF('14 - 15 ans H'!$A$107:$A$136,$A17,'14 - 15 ans H'!$I$107:$I$136)","v":0},{"$f":"SUMIF('14 - 15 ans H'!$A$141:$A$170,$A17,'14 - 15 ans H'!$I$141:$I$170)","v":0},{"$f":"SUMIF('14 - 15 ans H'!$A$175:$A$204,$A17,'14 - 15 ans H'!$I$175:$I$204)","v":0},null,{"$f":"SUMIF('Senior F'!$A$5:$A$34,$A17,'Senior F'!$I$5:$I$34)","v":0},{"$f":"SUMIF('Senior F'!$A$39:$A$68,$A17,'Senior F'!$I$39:$I$68)","v":0},{"$f":"SUMIF('Senior F'!$A$73:$A$102,$A17,'Senior F'!$I$73:$I$102)","v":0},{"$f":"SUMIF('Senior F'!$A$107:$A$136,$A17,'Senior F'!$I$107:$I$136)","v":0},{"$f":"SUMIF('Senior F'!$A$141:$A$170,$A17,'Senior F'!$I$141:$I$170)","v":0},{"$f":"SUMIF('Senior F'!$A$175:$A$204,$A17,'Senior F'!$I$175:$I$204)","v":0},null,{"$f":"SUMIF('Senior F'!$A$244:$A$275,$A17,'Senior F'!$I$244:$I$275)","v":0},{"$f":"SUMIF('Senior F'!$A$280:$A$311,$A17,'Senior F'!$I$280:$I$311)","v":0},{"$f":"SUMIF('Senior F'!$A$316:$A$347,$A17,'Senior F'!$I$316:$I$347)","v":0},{"$f":"SUMIF('Senior H'!$A$5:$A$34,$A17,'Senior H'!$I$5:$I$34)","v":0},{"$f":"SUMIF('Senior H'!$A$39:$A$68,$A17,'Senior H'!$I$39:$I$68)","v":0},{"$f":"SUMIF('Senior H'!$A$73:$A$102,$A17,'Senior H'!$I$73:$I$102)","v":0},{"$f":"SUMIF('Senior H'!$A$107:$A$136,$A17,'Senior H'!$I$107:$I$136)","v":0},{"$f":"SUMIF('Senior H'!$A$141:$A$170,$A17,'Senior H'!$I$141:$I$170)","v":0},{"$f":"SUMIF('Senior H'!$A$175:$A$204,$A17,'Senior H'!$I$175:$I$204)","v":0},null,{"$f":"SUMIF('Senior H'!$A$243:$A$275,$A17,'Senior H'!$I$243:$I$275)","v":0},{"$f":"SUMIF('Senior H'!$A$279:$A$311,$A17,'Senior H'!$I$279:$I$311)","v":0},{"$f":"SUMIF('Senior H'!$A$315:$A$347,$A17,'Senior H'!$I$315:$I$347)","v":0}]
["O'méga",{"$f":"SUMIF('11 ans et -'!$A$5:$A$34,$A18,'11 ans et -'!$I$5:$I$34)","v":0},{"$f":"SUMIF('11 ans et -'!$A$39:$A$68,$A18,'11 ans et -'!$I$39:$I$68)","v":0},{"$f":"SUMIF('11 ans et -'!$A$73:$A$102,$A18,'11 ans et -'!$I$73:$I$102)","v":0},{"$f":"SUMIF('11 ans et -'!$A$107:$A$136,$A18,'11 ans et -'!$I$107:$I$136)","v":0},{"$f":"SUMIF('11 ans et -'!$A$141:$A$170,$A18,'11 ans et -'!$I$141:$I$170)","v":0},{"$f":"SUMIF('12 - 13 ans'!$A$5:$A$34,$A18,'12 - 13 ans'!$I$5:$I$34)","v":0},{"$f":"SUMIF('12 - 13 ans'!$A$39:$A$68,$A18,'12 - 13 ans'!$I$39:$I$68)","v":0},{"$f":"SUMIF('12 - 13 ans'!$A$73:$A$102,$A18,'12 - 13 ans'!$I$73:$I$102)","v":0},{"$f":"SUMIF('12 - 13 ans'!$A$107:$A$136,$A18,'12 - 13 ans'!$I$107:$I$136)","v":0},{"$f":"SUMIF('12 - 13 ans'!$A$141:$A$170,$A18,'12 - 13 ans'!$I$141:$I$170)","v":0},{"$f":"SUMIF('12 - 13 ans'!$A$175:$A$204,$A18,'12 - 13 ans'!$I$175:$I$204)","v":0},null,{"$f":"SUMIF('14 - 15 ans F'!$A$5:$A$34,$A18,'14 - 15 ans F'!$I$5:$I$34)","v":0},{"$f":"SUMIF('14 - 15 ans F'!$A$39:$A$68,$A18,'14 - 15 ans F'!$I$39:$I$68)","v":21},{"$f":"SUMIF('14 - 15 ans F'!$A$73:$A$102,$A18,'14 - 15 ans F'!$I$73:$I$102)","v":10},{"$f":"SUMIF('14 - 15 ans F'!$A$107:$A$136,$A18,'14 - 15 ans F'!$I$107:$I$136)","v":18},{"$f":"SUMIF('14 - 15 ans F'!$A$141:$A$170,$A18,'14 - 15 ans F'!$I$141:$I$170)","v":18},{"$f":"SUMIF('14 - 15 ans F'!$A$175:$A$204,$A18,'14 - 15 ans F'!$I$175:$I$204)","v":14},null,{"$f":"SUMIF('14 - 15 ans H'!$A$5:$A$34,$A18,'14 - 15 ans H'!$I$5:$I$34)","v":0},{"$f":"SUMIF('14 - 15 ans H'!$A$39:$A$68,$A18,'14 - 15 ans H'!$I$39:$I$68)","v":0},{"$f":"SUMIF('14 - 15 ans H'!$A$73:$A$102,$A18,'14 - 15 ans H'!$I$73:$I$102)","v":0},{"$f":"SUMIF('14 - 15 ans H'!$A$107:$A$136,$A18,'14 - 15 ans H'!$I$107:$I$136)","v":0},{"$f":"SUMIF('14 - 15 ans H'!$A$141:$A$170,$A18,'14 - 15 ans H'!$I$141:$I$170)","v":0},{"$f":"SUMIF('14 - 15 ans H'!$A$175:$A$204,$A18,'14 - 15 ans H'!$I$175:$I$204)","v":0},null,{"$f":"SUMIF('Senior F'!$A$5:$A$34,$A18,'Senior F'!$I$5:$I$34)","v":0},{"$f":"SUMIF('Senior F'!$A$39:$A$68,$A18,'Senior F'!$I$39:$I$68)","v":0},{"$f":"SUMIF('Senior F'!$A$73:$A$102,$A18,'Senior F'!$I$73:$I$102)","v":1},{"$f":"SUMIF('Senior F'!$A$107:$A$136,$A18,'Senior F'!$I$107:$I$136)","v":0},{"$f":"SUMIF('Senior F'!$A$141:$A$170,$A18,'Senior F'!$I$141:$I$170)","v":2},{"$f":"SUMIF('Senior F'!$A$175:$A$204,$A18,'Senior F'!$I$175:$I$204)","v":4},null,{"$f":"SUMIF('Senior F'!$A$244:$A$275,$A18,'Senior F'!$I$244:$I$275)","v":0},{"$f":"SUMIF('Senior F'!$A$280:$A$311,$A18,'Senior F'!$I$280:$I$311)","v":0},{"$f":"SUMIF('Senior F'!$A$316:$A$347,$A18,'Senior F'!$I$316:$I$347)","v":0},{"$f":"SUMIF('Senior H'!$A$5:$A$34,$A18,'Senior H'!$I$5:$I$34)","v":0},{"$f":"SUMIF('Senior H'!$A$39:$A$68,$A18,'Senior H'!$I$39:$I$68)","v":0},{"$f":"SUMIF('Senior H'!$A$73:$A$102,$A18,'Senior H'!$I$73:$I$102)","v":0},{"$f":"SUMIF('Senior H'!$A$107:$A$136,$A18,'Senior H'!$I$107:$I$136)","v":0},{"$f":"SUMIF('Senior H'!$A$141:$A$170,$A18,'Senior H'!$I$141:$I$170)","v":0},{"$f":"SUMIF('Senior H'!$A$175:$A$204,$A18,'Senior H'!$I$175:$I$204)","v":0},null,{"$f":"SUMIF('Senior H'!$A$243:$A$275,$A18,'Senior H'!$I$243:$I$275)","v":0},{"$f":"SUMIF('Senior H'!$A$279:$A$311,$A18,'Senior H'!$I$279:$I$311)","v":0},{"$f":"SUMIF('Senior H'!$A$315:$A$347,$A18,'Senior H'!$I$315:$I$347)","v":0}]
["CASO",{"$f":"SUMIF('11 ans et -'!$A$5:$A$34,$A19,'11 ans et -'!$I$5:$I$34)","v":0},{"$f":"SUMIF('11 ans et -'!$A$39:$A$68,$A19,'11 ans et -'!$I$39:$I$68)","v":32},{"$f":"SUMIF('11 ans et -'!$A$73:$A$102,$A19,'11 ans et -'!$I$73:$I$102)","v":34},{"$f":"SUMIF('11 ans et -'!$A$107:$A$136,$A19,'11 ans et -'!$I$107:$I$136)","v":30},{"$f":"SUMIF('11 ans et -'!$A$141:$A$170,$A19,'11 ans et -'!$I$141:$I$170)","v":27},{"$f":"SUMIF('12 - 13 ans'!$A$5:$A$34,$A19,'12 - 13 ans'!$I$5:$I$34)","v":0},{"$f":"SUMIF('12 - 13 ans'!$A$39:$A$68,$A19,'12 - 13 ans'!$I$39:$I$68)","v":0},{"$f":"SUMIF('12 - 13 ans'!$A$73:$A$102,$A19,'12 - 13 ans'!$I$73:$I$102)","v":0},{"$f":"SUMIF('12 - 13 ans'!$A$107:$A$136,$A19,'12 - 13 ans'!$I$107:$I$136)","v":0},{"$f":"SUMIF('12 - 13 ans'!$A$141:$A$170,$A19,'12 - 13 ans'!$I$141:$I$170)","v":0},{"$f":"SUMIF('12 - 13 ans'!$A$175:$A$204,$A19,'12 - 13 ans'!$I$175:$I$204)","v":0},null,{"$f":"SUMIF('14 - 15 ans F'!$A$5:$A$34,$A19,'14 - 15 ans F'!$I$5:$I$34)","v":0},{"$f":"SUMIF('14 - 15 ans F'!$A$39:$A$68,$A19,'14 - 15 ans F'!$I$39:$I$68)","v":0},{"$f":"SUMIF('14 - 15 ans F'!$A$73:$A$102,$A19,'14 - 15 ans F'!$I$73:$I$102)","v":0},{"$f":"SUMIF('14 - 15 ans F'!$A$107:$A$136,$A19,'14 - 15 ans F'!$I$107:$I$136)","v":0},{"$f":"SUMIF('14 - 15 ans F'!$A$141:$A$170,$A19,'14 - 15 ans F'!$I$141:$I$170)","v":0},{"$f":"SUMIF('14 - 15 ans F'!$A$175:$A$204,$A19,'14 - 15 ans F'!$I$175:$I$204)","v":0},null,{"$f":"SUMIF('14 - 15 ans H'!$A$5:$A$34,$A19,'14 - 15 ans H'!$I$5:$I$34)","v":0},{"$f":"SUMIF('14 - 15 ans H'!$A$39:$A$68,$A19,'14 - 15 ans H'!$I$39:$I$68)","v":0},{"$f":"SUMIF('14 - 15 ans H'!$A$73:$A$102,$A19,'14 - 15 ans H'!$I$73:$I$102)","v":0},{"$f":"SUMIF('14 - 15 ans H'!$A$107:$A$136,$A19,'14 - 15 ans H'!$I$107:$I$136)","v":0},{"$f":"SUMIF('14 - 15 ans H'!$A$141:$A$170,$A19,'14 - 15 ans H'!$I$141:$I$170)","v":0},{"$f":"SUMIF('14 - 15 ans H'!$A$175:$A$204,$A19,'14 - 15 ans H'!$I$175:$I$204)","v":0},null,{"$f":"SUMIF('Senior F'!$A$5:$A$34,$A19,'Senior F'!$I$5:$I$34)","v":18},{"$f":"SUMIF('Senior F'!$A$39:$A$68,$A19,'Senior F'!$I$39:$I$68)","v":18},{"$f":"SUMIF('Senior F'!$A$73:$A$102,$A19,'Senior F'!$I$73:$I$102)","v":24},{"$f":"SUMIF('Senior F'!$A$107:$A$136,$A19,'Senior F'!$I$107:$I$136)","v":19},{"$f":"SUMIF('Senior F'!$A$141:$A$170,$A19,'Senior F'!$I$141:$I$170)","v":16},{"$f":"SUMIF('Senior F'!$A$175:$A$204,$A19,'Senior F'!$I$175:$I$204)","v":23},null,{"$f":"SUMIF('Senior F'!$A$244:$A$275,$A19,'Senior F'!$I$244:$I$275)","v":0},{"$f":"SUMIF('Senior F'!$A$280:$A$311,$A19,'Senior F'!$I$280:$I$311)","v":0},{"$f":"SUMIF('Senior F'!$A$316:$A$347,$A19,'Senior F'!$I$316:$I$347)","v":0},{"$f":"SUMIF('Senior H'!$A$5:$A$34,$A19,'Senior H'!$I$5:$I$34)","v":0},{"$f":"SUMIF('Senior H'!$A$39:$A$68,$A19,'Senior H'!$I$39:$I$68)","v":0},{"$f":"SUMIF('Senior H'!$A$73:$A$102,$A19,'Senior H'!$I$73:$I$102)","v":0},{"$f":"SUMIF('Senior H'!$A$107:$A$136,$A19,'Senior H'!$I$107:$I$136)","v":0},{"$f":"SUMIF('Senior H'!$A$141:$A$170,$A19,'Senior H'!$I$141:$I$170)","v":0},{"$f":"SUMIF('Senior H'!$A$175:$A$204,$A19,'Senior H'!$I$175:$I$204)","v":0},null,{"$f":"SUMIF('Senior H'!$A$243:$A$275,$A19,'Senior H'!$I$243:$I$275)","v":0},{"$f":"SUMIF('Senior H'!$A$279:$A$311,$A19,'Senior H'!$I$279:$I$311)","v":0},{"$f":"SUMIF('Senior H'!$A$315:$A$347,$A19,'Senior H'!$I$315:$I$347)","v":0}]
[]
["Club","11 ans et -",null,"12 - 13 ans",null,"14 - 15 ans F",null,"14 - 15 ans H",null,null,"Club",null,"Senior Femme",null,"Senior Homme"]
[null,"Points",null,"Points",null,"Points",null,"Points",null,null,null,null,"Points",null,"Points"]
["CAEM",{"$f":"B3+C3+D3+E3+F3","v":65},null,{"$f":"G3+H3+I3+J3+K3+L3+M3","v":81},null,{"$f":"N3+O3+P3+Q3+R3+S3+T3","v":58},null,{"$f":"U3+V3+W3+X3+Y3+Z3+AA3","v":0},null,null,"CAEM",null,{"$f":"AB3+AC3+AD3+AE3+AF3+AG3+AH3+AI3+AJ3+AK3","v":0},null,{"$f":"AL3+AM3+AN3+AO3+AP3+AQ3+AR3+AS3+AT3+AU3","v":0}]
["SSSL",40,null,59,null,53,null,0,null,null,"SSSL",null,26,null,74]
["CAM",0,null,0,null,0,null,0,null,null,"CAM",null,0,null,0]
["CAPN",0,null,0,null,0,null,0,null,null,"CAPN",null,0,null,0]
["Dam'eauclès",45,null,52,null,230,null,232,null,null,"Dam'eauclès",null,145,null,115]
["Perf'O'Max",0,null,0,null,0,null,0,null,null,"Perf'O'Max",null,0,null,0]
["Gatineau",30,null,42,null,0,null,54,null,null,"Gatineau",null,10,null,49]
["Narval",54,null,117,null,0,null,0,null,null,"Narval",null,0,null,55]
["CSRN",149,null,168,null,82,null,148,null,null,"CSRN",null,22,null,185]
["CSRAD",0,null,67,null,60,null,63,null,null,"CSRAD",null,0,null,0]
["SSSC",0,null,0,null,0,null,0,null,null,"SSSC",null,0,null,0]
["30Deux",86,null,75,null,35,null,0,null,null,"30Deux",null,368,null,345]
["Sea Devils",0,null,0,null,0,null,0,null,null,"Sea Devils",null,0,null,0]
["Rouville Surf",0,null,0,null,0,null,0,null,null,"Rouville Surf",null,285,null,175]
["Quebec",0,null,0,null,0,null,0,null,null,"Quebec",null,0,null,0]
["O'méga",0,null,0,null,81,null,0,null,null,"O'méga",null,7,null,0]
["CASO",{"$f":"B19+C19+D19+E19+F19","v":123},null,{"$f":"G19+H19+I19+J19+K19+L19+M19","v":0},null,{"$f":"N19+O19+P19+Q19+R19+S19+T19","v":0},null,{"$f":"U19+V19+W19+X19+Y19+Z19+AA19","v":0},null,null,"CASO",null,{"$f":"AB19+AC19+AD19+AE19+AF19+AG19+AH19+AI19+AJ19+AK19","v":118},null,{"$f":"AL19+AM19+AN19+AO19+AP19+AQ19+AR19+AS19+AT19+AU19","v":0}]
[]
["Overall",null,null,null,"Overall",null,null,null,null,"Pentathlon"]
["Jeunes Sauveteurs",null,null,null,"Senior",null,null,null,null,"Overall"]
["Club","Rang","Points",null,"Club",null,"Rang","Points",null,"Club",null,"Points","Rang"]
["CAEM",{"$f":"RANK(C44,$C$44:$C$60)","v":3},{"$f":"SUM(B23+D23+F23+H23)","v":204},null,"CAEM",null,{"$f":"RANK(H44,$H$44:$H$60)","v":10},{"$f":"SUM(M23+O23)","v":0},null,"CAEM",null,{"$f":"SUM(H44+C44)","v":204},{"$f":"RANK(L44,$L$44:$L$60)","v":8}]
["SSSL",7,152,null,"SSSL",null,6,100,null,"SSSL",null,{"$f":"SUM(H45+C45)","v":252},5]
["CAM",11,0,null,"CAM",null,10,0,null,"CAM",null,0,12]
["CAPN",11,0,null,"CAPN",null,10,0,null,"CAPN",null,0,12]
["Dam'eauclès",1,559,null,"Dam'eauclès",null,3,260,null,"Dam'eauclès",null,819,2]
["Perf'O'Max",11,0,null,"Perf'O'Max",null,10,0,null,"Perf'O'Max",null,0,12]
["Gatineau",8,126,null,"Gatineau",null,7,59,null,"Gatineau",null,185,10]
["Narval",6,171,null,"Narval",null,8,55,null,"Narval",null,226,7]
["CSRN",2,547,null,"CSRN",null,4,207,null,"CSRN",null,754,3]
["CSRAD",5,190,null,"CSRAD",null,10,0,null,"CSRAD",null,190,9]
["SSSC",11,0,null,"SSSC",null,10,0,null,"SSSC",null,0,12]
["30Deux",4,196,null,"30Deux",null,1,713,null,"30Deux",null,909,1]
["Sea Devils",11,0,null,"Sea Devils",null,10,0,null,"Sea Devils",null,0,12]
["Rouville Surf",11,0,null,"Rouville Surf",null,2,460,null,"Rouville Surf",null,{"$f":"SUM(H57+C57)","v":460},4]
["Quebec",11,0,null,"Quebec",null,10,0,null,"Quebec",null,0,12]
["O'méga",10,81,null,"O'méga",null,9,7,null,"O'méga",null,{"$f":"SUM(H59+C59)","v":88},11]
["CASO",9,{"$f":"SUM(B39+D39+F39+H39)","v":123},null,"CASO",null,5,{"$f":"SUM(M39+O39)","v":118},null,"CASO",null,241,6]

{"sheet":"Déconte ATHL","index":13,"n_rows":182,"n_cols":61,"rows_kept":182,"cut":false,"hidden":true,"merged":[[92,0,121,0],[122,0,151,0],[152,0,181,0],[0,49,0,58],[0,2,1,2],[0,28,0,34],[0,37,0,46],[0,3,0,9],[0,10,0,18],[0,19,0,27],[0,1,1,1],[0,0,1,0],[2,0,31,0],[32,0,61,0],[62,0,91,0]]}
["Catégorie","Club","Nom","11 ans et -",null,null,null,null,null,null,"12 - 13 ans",null,null,null,null,null,null,null,null,"14 - 15 ans femme",null,null,null,null,null,null,null,null,"14 - 15 ans homme",null,null,null,null,null,null,null,null,"Senior Femme",null,null,null,null,null,null,null,null,null,null,null,"Senior Femme"]
[null,null,null,"Corde","Remor + Pal","Obstacle","Port + Pal","Portage","Total P","Rang","Corde","Remor + Pal","Obstacle","Port + Pal","Portage","Sauv acier","Medley ","Total P","Rang","Corde","Remor + Pal","Obstacle","Port + Pal","Portage","Sauv acier","Medley ","Total P","Rang","Corde","Remor + Pal","Obstacle","Port + Pal","Portage","Sauv acier","Medley ","Total P","Rang","Corde","Remor + Pal","Obstacle","Port + Pal","Portage","Sauv acier","Medley ","Relais Med","Relais obst","Relais port","Total P","Rang","Corde","Remor + Pal","Obstacle","Port + Pal","Portage","Sauv acier","Medley ","Relais Med","Relais obst","Relais port","Total P","Rang"]
["11 ans et -",{"$f":"Inscription!A2","v":"SSSL"},{"$f":"Inscription!B2","v":"Missy Roy"},{"$f":"SUMIF('11 ans et -'!$B$5:$B$34,$C3,'11 ans et -'!$I$5:$I$34)","v":0},{"$f":"SUMIF('11 ans et -'!$B$39:$B$68,$C3,'11 ans et -'!$I$39:$I$68)","v":8},{"$f":"SUMIF('11 ans et -'!$B$73:$B$102,$C3,'11 ans et -'!$I$73:$I$102)","v":10},{"$f":"SUMIF('11 ans et -'!$B$107:$B$136,$C3,'11 ans et -'!$I$107:$I$136)","v":12},{"$f":"SUMIF('11 ans et -'!$B$141:$B$170,$C3,'11 ans et -'!$I$141:$I$170)","v":10},{"$f":"SUM(D3+E3+F3+G3+H3)","v":40},{"$f":"RANK(I3,$I$3:$I$32)","v":7}]
[null,{"$f":"Inscription!A3","v":"CASO"},{"$f":"Inscription!B3","v":"Étienne Roy"},{"$f":"SUMIF('11 ans et -'!$B$5:$B$34,$C4,'11 ans et -'!$I$5:$I$34)","v":0},{"$f":"SUMIF('11 ans et -'!$B$39:$B$68,$C4,'11 ans et -'!$I$39:$I$68)","v":12},{"$f":"SUMIF('11 ans et -'!$B$73:$B$102,$C4,'11 ans et -'!$I$73:$I$102)","v":14},{"$f":"SUMIF('11 ans et -'!$B$107:$B$136,$C4,'11 ans et -'!$I$107:$I$136)","v":16},{"$f":"SUMIF('11 ans et -'!$B$141:$B$170,$C4,'11 ans et -'!$I$141:$I$170)","v":14},{"$f":"SUM(D4+E4+F4+G4+H4)","v":56},{"$f":"RANK(I4,$I$3:$I$32)","v":5}]
[null,{"$f":"Inscription!A4","v":"CAEM"},{"$f":"Inscription!B4","v":"Emmy Mastrovito"},{"$f":"SUMIF('11 ans et -'!$B$5:$B$34,$C5,'11 ans et -'!$I$5:$I$34)","v":0},{"$f":"SUMIF('11 ans et -'!$B$39:$B$68,$C5,'11 ans et -'!$I$39:$I$68)","v":16},{"$f":"SUMIF('11 ans et -'!$B$73:$B$102,$C5,'11 ans et -'!$I$73:$I$102)","v":13},{"$f":"SUMIF('11 ans et -'!$B$107:$B$136,$C5,'11 ans et -'!$I$107:$I$136)","v":18},{"$f":"SUMIF('11 ans et -'!$B$141:$B$170,$C5,'11 ans et -'!$I$141:$I$170)","v":18},65,2]
[null,{"$f":"Inscription!A5","v":"Dam'eauclès"},{"$f":"Inscription!B5","v":"Katherine Gaulin"},{"$f":"SUMIF('11 ans et -'!$B$5:$B$34,$C6,'11 ans et -'!$I$5:$I$34)","v":0},{"$f":"SUMIF('11 ans et -'!$B$39:$B$68,$C6,'11 ans et -'!$I$39:$I$68)","v":11},{"$f":"SUMIF('11 ans et -'!$B$73:$B$102,$C6,'11 ans et -'!$I$73:$I$102)","v":6},{"$f":"SUMIF('11 ans et -'!$B$107:$B$136,$C6,'11 ans et -'!$I$107:$I$136)","v":7},{"$f":"SUMIF('11 ans et -'!$B$141:$B$170,$C6,'11 ans et -'!$I$141:$I$170)","v":5},29,10]
[null,{"$f":"Inscription!A6","v":"Dam'eauclès"},{"$f":"Inscription!B6","v":"Théodore Turgeon"},{"$f":"SUMIF('11 ans et -'!$B$5:$B$34,$C7,'11 ans et -'!$I$5:$I$34)","v":0},{"$f":"SUMIF('11 ans et -'!$B$39:$B$68,$C7,'11 ans et -'!$I$39:$I$68)","v":4},{"$f":"SUMIF('11 ans et -'!$B$73:$B$102,$C7,'11 ans et -'!$I$73:$I$102)","v":7},{"$f":"SUMIF('11 ans et -'!$B$107:$B$136,$C7,'11 ans et -'!$I$107:$I$136)","v":2},{"$f":"SUMIF('11 ans et -'!$B$141:$B$170,$C7,'11 ans et -'!$I$141:$I$170)","v":3},16,14]
[null,{"$f":"Inscription!A7","v":"30deux"},{"$f":"Inscription!B7","v":"Émilie Tessier"},{"$f":"SUMIF('11 ans et -'!$B$5:$B$34,$C8,'11 ans et -'!$I$5:$I$34)","v":0},{"$f":"SUMIF('11 ans et -'!$B$39:$B$68,$C8,'11 ans et -'!$I$39:$I$68)","v":14},{"$f":"SUMIF('11 ans et -'!$B$73:$B$102,$C8,'11 ans et -'!$I$73:$I$102)","v":18},{"$f":"SUMIF('11 ans et -'!$B$107:$B$136,$C8,'11 ans et -'!$I$107:$I$136)","v":11},{"$f":"SUMIF('11 ans et -'!$B$141:$B$170,$C8,'11 ans et -'!$I$141:$I$170)","v":16},59,3]
[null,{"$f":"Inscription!A8","v":"30deux"},{"$f":"Inscription!B8","v":"Ève-Marie Bell"},{"$f":"SUMIF('11 ans et -'!$B$5:$B$34,$C9,'11 ans et -'!$I$5:$I$34)","v":0},{"$f":"SUMIF('11 ans et -'!$B$39:$B$68,$C9,'11 ans et -'!$I$39:$I$68)","v":7},{"$f":"SUMIF('11 ans et -'!$B$73:$B$102,$C9,'11 ans et -'!$I$73:$I$102)","v":8},{"$f":"SUMIF('11 ans et -'!$B$107:$B$136,$C9,'11 ans et -'!$I$107:$I$136)","v":6},{"$f":"SUMIF('11 ans et -'!$B$141:$B$170,$C9,'11 ans et -'!$I$141:$I$170)","v":6},27,11]
[null,{"$f":"Inscription!A9","v":"CSRN"},{"$f":"Inscription!B9","v":"Samya Chakir"},{"$f":"SUMIF('11 ans et -'!$B$5:$B$34,$C10,'11 ans et -'!$I$5:$I$34)","v":0},{"$f":"SUMIF('11 ans et -'!$B$39:$B$68,$C10,'11 ans et -'!$I$39:$I$68)","v":10},{"$f":"SUMIF('11 ans et -'!$B$73:$B$102,$C10,'11 ans et -'!$I$73:$I$102)","v":11},{"$f":"SUMIF('11 ans et -'!$B$107:$B$136,$C10,'11 ans et -'!$I$107:$I$136)","v":10},{"$f":"SUMIF('11 ans et -'!$B$141:$B$170,$C10,'11 ans et -'!$I$141:$I$170)","v":7},38,8]
[null,{"$f":"Inscription!A10","v":"CSRN"},{"$f":"Inscription!B10","v":"Zoé Martin"},{"$f":"SUMIF('11 ans et -'!$B$5:$B$34,$C11,'11 ans et -'!$I$5:$I$34)","v":0},{"$f":"SUMIF('11 ans et -'!$B$39:$B$68,$C11,'11 ans et -'!$I$39:$I$68)","v":5},{"$f":"SUMIF('11 ans et -'!$B$73:$B$102,$C11,'11 ans et -'!$I$73:$I$102)","v":4},{"$f":"SUMIF('11 ans et -'!$B$107:$B$136,$C11,'11 ans et -'!$I$107:$I$136)","v":8},{"$f":"SUMIF('11 ans et -'!$B$141:$B$170,$C11,'11 ans et -'!$I$141:$I$170)","v":8},25,12]
[null,{"$f":"Inscription!A11","v":"CSRN"},{"$f":"Inscription!B11","v":"Gabriel Martin"},{"$f":"SUMIF('11 ans et -'!$B$5:$B$34,$C12,'11 ans et -'!$I$5:$I$34)","v":0},{"$f":"SUMIF('11 ans et -'!$B$39:$B$68,$C12,'11 ans et -'!$I$39:$I$68)","v":0},{"$f":"SUMIF('11 ans et -'!$B$73:$B$102,$C12,'11 ans et -'!$I$73:$I$102)","v":3},{"$f":"SUMIF('11 ans et -'!$B$107:$B$136,$C12,'11 ans et -'!$I$107:$I$136)","v":3},{"$f":"SUMIF('11 ans et -'!$B$141:$B$170,$C12,'11 ans et -'!$I$141:$I$170)","v":2},8,15]
[null,{"$f":"Inscription!A12","v":"CSRN"},{"$f":"Inscription!B12","v":"Justin Gauthier"},{"$f":"SUMIF('11 ans et -'!$B$5:$B$34,$C13,'11 ans et -'!$I$5:$I$34)","v":0},{"$f":"SUMIF('11 ans et -'!$B$39:$B$68,$C13,'11 ans et -'!$I$39:$I$68)","v":18},{"$f":"SUMIF('11 ans et -'!$B$73:$B$102,$C13,'11 ans et -'!$I$73:$I$102)","v":0},{"$f":"SUMIF('11 ans et -'!$B$107:$B$136,$C13,'11 ans et -'!$I$107:$I$136)","v":20},{"$f":"SUMIF('11 ans et -'!$B$141:$B$170,$C13,'11 ans et -'!$I$141:$I$170)","v":20},58,4]
[null,{"$f":"Inscription!A13","v":"CSRN"},{"$f":"Inscription!B13","v":"Annabelle Rhéaume"},{"$f":"SUMIF('11 ans et -'!$B$5:$B$34,$C14,'11 ans et -'!$I$5:$I$34)","v":0},{"$f":"SUMIF('11 ans et -'!$B$39:$B$68,$C14,'11 ans et -'!$I$39:$I$68)","v":6},{"$f":"SUMIF('11 ans et -'!$B$73:$B$102,$C14,'11 ans et -'!$I$73:$I$102)","v":5},{"$f":"SUMIF('11 ans et -'!$B$107:$B$136,$C14,'11 ans et -'!$I$107:$I$136)","v":5},{"$f":"SUMIF('11 ans et -'!$B$141:$B$170,$C14,'11 ans et -'!$I$141:$I$170)","v":4},20,13]
[null,{"$f":"Inscription!A14","v":"Gatineau"},{"$f":"Inscription!B14","v":"Andréanne Pichette"},{"$f":"SUMIF('11 ans et -'!$B$5:$B$34,$C15,'11 ans et -'!$I$5:$I$34)","v":0},{"$f":"SUMIF('11 ans et -'!$B$39:$B$68,$C15,'11 ans et -'!$I$39:$I$68)","v":3},{"$f":"SUMIF('11 ans et -'!$B$73:$B$102,$C15,'11 ans et -'!$I$73:$I$102)","v":12},{"$f":"SUMIF('11 ans et -'!$B$107:$B$136,$C15,'11 ans et -'!$I$107:$I$136)","v":4},{"$f":"SUMIF('11 ans et -'!$B$141:$B$170,$C15,'11 ans et -'!$I$141:$I$170)","v":11},30,9]
[null,{"$f":"Inscription!A15","v":"Narval"},{"$f":"Inscription!B15","v":"GabriellePotvin"},{"$f":"SUMIF('11 ans et -'!$B$5:$B$34,$C16,'11 ans et -'!$I$5:$I$34)","v":0},{"$f":"SUMIF('11 ans et -'!$B$39:$B$68,$C16,'11 ans et -'!$I$39:$I$68)","v":13},{"$f":"SUMIF('11 ans et -'!$B$73:$B$102,$C16,'11 ans et -'!$I$73:$I$102)","v":16},{"$f":"SUMIF('11 ans et -'!$B$107:$B$136,$C16,'11 ans et -'!$I$107:$I$136)","v":13},{"$f":"SUMIF('11 ans et -'!$B$141:$B$170,$C16,'11 ans et -'!$I$141:$I$170)","v":12},54,6]
[null,{"$f":"Inscription!A16","v":"CASO"},{"$f":"Inscription!B16","v":"Zacharie Taillefer"},{"$f":"SUMIF('11 ans et -'!$B$5:$B$34,$C17,'11 ans et -'!$I$5:$I$34)","v":0},{"$f":"SUMIF('11 ans et -'!$B$39:$B$68,$C17,'11 ans et -'!$I$39:$I$68)","v":20},{"$f":"SUMIF('11 ans et -'!$B$73:$B$102,$C17,'11 ans et -'!$I$73:$I$102)","v":20},{"$f":"SUMIF('11 ans et -'!$B$107:$B$136,$C17,'11 ans et -'!$I$107:$I$136)","v":14},{"$f":"SUMIF('11 ans et -'!$B$141:$B$170,$C17,'11 ans et -'!$I$141:$I$170)","v":13},67,1]
[null,{"$f":"Inscription!A17","v":0},{"$f":"Inscription!B17","v":0},{"$f":"SUMIF('11 ans et -'!$B$5:$B$34,$C18,'11 ans et -'!$I$5:$I$34)","v":0},{"$f":"SUMIF('11 ans et -'!$B$39:$B$68,$C18,'11 ans et -'!$I$39:$I$68)","v":0},{"$f":"SUMIF('11 ans et -'!$B$73:$B$102,$C18,'11 ans et -'!$I$73:$I$102)","v":0},{"$f":"SUMIF('11 ans et -'!$B$107:$B$136,$C18,'11 ans et -'!$I$107:$I$136)","v":0},{"$f":"SUMIF('11 ans et -'!$B$141:$B$170,$C18,'11 ans et -'!$I$141:$I$170)","v":0},0,16]
[null,{"$f":"Inscription!A18","v":0},{"$f":"Inscription!B18","v":0},{"$f":"SUMIF('11 ans et -'!$B$5:$B$34,$C19,'11 ans et -'!$I$5:$I$34)","v":0},{"$f":"SUMIF('11 ans et -'!$B$39:$B$68,$C19,'11 ans et -'!$I$39:$I$68)","v":0},{"$f":"SUMIF('11 ans et -'!$B$73:$B$102,$C19,'11 ans et -'!$I$73:$I$102)","v":0},{"$f":"SUMIF('11 ans et -'!$B$107:$B$136,$C19,'11 ans et -'!$I$107:$I$136)","v":0},{"$f":"SUMIF('11 ans et -'!$B$141:$B$170,$C19,'11 ans et -'!$I$141:$I$170)","v":0},0,16]
[null,{"$f":"Inscription!A19","v":0},{"$f":"Inscription!B19","v":0},{"$f":"SUMIF('11 ans et -'!$B$5:$B$34,$C20,'11 ans et -'!$I$5:$I$34)","v":0},{"$f":"SUMIF('11 ans et -'!$B$39:$B$68,$C20,'11 ans et -'!$I$39:$I$68)","v":0},{"$f":"SUMIF('11 ans et -'!$B$73:$B$102,$C20,'11 ans et -'!$I$73:$I$102)","v":0},{"$f":"SUMIF('11 ans et -'!$B$107:$B$136,$C20,'11 ans et -'!$I$107:$I$136)","v":0},{"$f":"SUMIF('11 ans et -'!$B$141:$B$170,$C20,'11 ans et -'!$I$141:$I$170)","v":0},0,16]
[null,{"$f":"Inscription!A20","v":0},{"$f":"Inscription!B20","v":0},{"$f":"SUMIF('11 ans et -'!$B$5:$B$34,$C21,'11 ans et -'!$I$5:$I$34)","v":0},{"$f":"SUMIF('11 ans et -'!$B$39:$B$68,$C21,'11 ans et -'!$I$39:$I$68)","v":0},{"$f":"SUMIF('11 ans et -'!$B$73:$B$102,$C21,'11 ans et -'!$I$73:$I$102)","v":0},{"$f":"SUMIF('11 ans et -'!$B$107:$B$136,$C21,'11 ans et -'!$I$107:$I$136)","v":0},{"$f":"SUMIF('11 ans et -'!$B$141:$B$170,$C21,'11 ans et -'!$I$141:$I$170)","v":0},0,16]
[null,{"$f":"Inscription!A21","v":0},{"$f":"Inscription!B21","v":0},{"$f":"SUMIF('11 ans et -'!$B$5:$B$34,$C22,'11 ans et -'!$I$5:$I$34)","v":0},{"$f":"SUMIF('11 ans et -'!$B$39:$B$68,$C22,'11 ans et -'!$I$39:$I$68)","v":0},{"$f":"SUMIF('11 ans et -'!$B$73:$B$102,$C22,'11 ans et -'!$I$73:$I$102)","v":0},{"$f":"SUMIF('11 ans et -'!$B$107:$B$136,$C22,'11 ans et -'!$I$107:$I$136)","v":0},{"$f":"SUMIF('11 ans et -'!$B$141:$B$170,$C22,'11 ans et -'!$I$141:$I$170)","v":0},0,16]
[null,{"$f":"Inscription!A22","v":0},{"$f":"Inscription!B22","v":0},{"$f":"SUMIF('11 ans et -'!$B$5:$B$34,$C23,'11 ans et -'!$I$5:$I$34)","v":0},{"$f":"SUMIF('11 ans et -'!$B$39:$B$68,$C23,'11 ans et -'!$I$39:$I$68)","v":0},{"$f":"SUMIF('11 ans et -'!$B$73:$B$102,$C23,'11 ans et -'!$I$73:$I$102)","v":0},{"$f":"SUMIF('11 ans et -'!$B$107:$B$136,$C23,'11 ans et -'!$I$107:$I$136)","v":0},{"$f":"SUMIF('11 ans et -'!$B$141:$B$170,$C23,'11 ans et -'!$I$141:$I$170)","v":0},0,16]
[null,{"$f":"Inscription!A23","v":0},{"$f":"Inscription!B23","v":0},{"$f":"SUMIF('11 ans et -'!$B$5:$B$34,$C24,'11 ans et -'!$I$5:$I$34)","v":0},{"$f":"SUMIF('11 ans et -'!$B$39:$B$68,$C24,'11 ans et -'!$I$39:$I$68)","v":0},{"$f":"SUMIF('11 ans et -'!$B$73:$B$102,$C24,'11 ans et -'!$I$73:$I$102)","v":0},{"$f":"SUMIF('11 ans et -'!$B$107:$B$136,$C24,'11 ans et -'!$I$107:$I$136)","v":0},{"$f":"SUMIF('11 ans et -'!$B$141:$B$170,$C24,'11 ans et -'!$I$141:$I$170)","v":0},0,16]
[null,{"$f":"Inscription!A24","v":0},{"$f":"Inscription!B24","v":0},{"$f":"SUMIF('11 ans et -'!$B$5:$B$34,$C25,'11 ans et -'!$I$5:$I$34)","v":0},{"$f":"SUMIF('11 ans et -'!$B$39:$B$68,$C25,'11 ans et -'!$I$39:$I$68)","v":0},{"$f":"SUMIF('11 ans et -'!$B$73:$B$102,$C25,'11 ans et -'!$I$73:$I$102)","v":0},{"$f":"SUMIF('11 ans et -'!$B$107:$B$136,$C25,'11 ans et -'!$I$107:$I$136)","v":0},{"$f":"SUMIF('11 ans et -'!$B$141:$B$170,$C25,'11 ans et -'!$I$141:$I$170)","v":0},0,16]
[null,{"$f":"Inscription!A25","v":0},{"$f":"Inscription!B25","v":0},{"$f":"SUMIF('11 ans et -'!$B$5:$B$34,$C26,'11 ans et -'!$I$5:$I$34)","v":0},{"$f":"SUMIF('11 ans et -'!$B$39:$B$68,$C26,'11 ans et -'!$I$39:$I$68)","v":0},{"$f":"SUMIF('11 ans et -'!$B$73:$B$102,$C26,'11 ans et -'!$I$73:$I$102)","v":0},{"$f":"SUMIF('11 ans et -'!$B$107:$B$136,$C26,'11 ans et -'!$I$107:$I$136)","v":0},{"$f":"SUMIF('11 ans et -'!$B$141:$B$170,$C26,'11 ans et -'!$I$141:$I$170)","v":0},0,16]
[null,{"$f":"Inscription!A26","v":0},{"$f":"Inscription!B26","v":0},{"$f":"SUMIF('11 ans et -'!$B$5:$B$34,$C27,'11 ans et -'!$I$5:$I$34)","v":0},{"$f":"SUMIF('11 ans et -'!$B$39:$B$68,$C27,'11 ans et -'!$I$39:$I$68)","v":0},{"$f":"SUMIF('11 ans et -'!$B$73:$B$102,$C27,'11 ans et -'!$I$73:$I$102)","v":0},{"$f":"SUMIF('11 ans et -'!$B$107:$B$136,$C27,'11 ans et -'!$I$107:$I$136)","v":0},{"$f":"SUMIF('11 ans et -'!$B$141:$B$170,$C27,'11 ans et -'!$I$141:$I$170)","v":0},0,16]
[null,{"$f":"Inscription!A27","v":0},{"$f":"Inscription!B27","v":0},{"$f":"SUMIF('11 ans et -'!$B$5:$B$34,$C28,'11 ans et -'!$I$5:$I$34)","v":0},{"$f":"SUMIF('11 ans et -'!$B$39:$B$68,$C28,'11 ans et -'!$I$39:$I$68)","v":0},{"$f":"SUMIF('11 ans et -'!$B$73:$B$102,$C28,'11 ans et -'!$I$73:$I$102)","v":0},{"$f":"SUMIF('11 ans et -'!$B$107:$B$136,$C28,'11 ans et -'!$I$107:$I$136)","v":0},{"$f":"SUMIF('11 ans et -'!$B$141:$B$170,$C28,'11 ans et -'!$I$141:$I$170)","v":0},0,16]
[null,{"$f":"Inscription!A28","v":0},{"$f":"Inscription!B28","v":0},{"$f":"SUMIF('11 ans et -'!$B$5:$B$34,$C29,'11 ans et -'!$I$5:$I$34)","v":0},{"$f":"SUMIF('11 ans et -'!$B$39:$B$68,$C29,'11 ans et -'!$I$39:$I$68)","v":0},{"$f":"SUMIF('11 ans et -'!$B$73:$B$102,$C29,'11 ans et -'!$I$73:$I$102)","v":0},{"$f":"SUMIF('11 ans et -'!$B$107:$B$136,$C29,'11 ans et -'!$I$107:$I$136)","v":0},{"$f":"SUMIF('11 ans et -'!$B$141:$B$170,$C29,'11 ans et -'!$I$141:$I$170)","v":0},0,16]
[null,{"$f":"Inscription!A29","v":0},{"$f":"Inscription!B29","v":0},{"$f":"SUMIF('11 ans et -'!$B$5:$B$34,$C30,'11 ans et -'!$I$5:$I$34)","v":0},{"$f":"SUMIF('11 ans et -'!$B$39:$B$68,$C30,'11 ans et -'!$I$39:$I$68)","v":0},{"$f":"SUMIF('11 ans et -'!$B$73:$B$102,$C30,'11 ans et -'!$I$73:$I$102)","v":0},{"$f":"SUMIF('11 ans et -'!$B$107:$B$136,$C30,'11 ans et -'!$I$107:$I$136)","v":0},{"$f":"SUMIF('11 ans et -'!$B$141:$B$170,$C30,'11 ans et -'!$I$141:$I$170)","v":0},0,16]
[null,{"$f":"Inscription!A30","v":0},{"$f":"Inscription!B30","v":0},{"$f":"SUMIF('11 ans et -'!$B$5:$B$34,$C31,'11 ans et -'!$I$5:$I$34)","v":0},{"$f":"SUMIF('11 ans et -'!$B$39:$B$68,$C31,'11 ans et -'!$I$39:$I$68)","v":0},{"$f":"SUMIF('11 ans et -'!$B$73:$B$102,$C31,'11 ans et -'!$I$73:$I$102)","v":0},{"$f":"SUMIF('11 ans et -'!$B$107:$B$136,$C31,'11 ans et -'!$I$107:$I$136)","v":0},{"$f":"SUMIF('11 ans et -'!$B$141:$B$170,$C31,'11 ans et -'!$I$141:$I$170)","v":0},0,16]
[null,{"$f":"Inscription!A31","v":0},{"$f":"Inscription!B31","v":0},{"$f":"SUMIF('11 ans et -'!$B$5:$B$34,$C32,'11 ans et -'!$I$5:$I$34)","v":0},{"$f":"SUMIF('11 ans et -'!$B$39:$B$68,$C32,'11 ans et -'!$I$39:$I$68)","v":0},{"$f":"SUMIF('11 ans et -'!$B$73:$B$102,$C32,'11 ans et -'!$I$73:$I$102)","v":0},{"$f":"SUMIF('11 ans et -'!$B$107:$B$136,$C32,'11 ans et -'!$I$107:$I$136)","v":0},{"$f":"SUMIF('11 ans et -'!$B$141:$B$170,$C32,'11 ans et -'!$I$141:$I$170)","v":0},0,16]
["12 - 13 ans",{"$f":"Inscription!C2","v":"SSSL"},{"$f":"Inscription!D2","v":"Sybel Roy"},null,null,null,null,null,null,null,{"$f":"SUMIF('12 - 13 ans'!$B$5:$B$34,$C33,'12 - 13 ans'!$I$5:$I$34)","v":0},{"$f":"SUMIF('12 - 13 ans'!$B$39:$B$68,$C33,'12 - 13 ans'!$I$39:$I$68)","v":12},{"$f":"SUMIF('12 - 13 ans'!$B$73:$B$102,$C33,'12 - 13 ans'!$I$73:$I$102)","v":12},{"$f":"SUMIF('12 - 13 ans'!$B$107:$B$136,$C33,'12 - 13 ans'!$I$107:$I$136)","v":11},{"$f":"SUMIF('12 - 13 ans'!$B$141:$B$170,$C33,'12 - 13 ans'!$I$141:$I$170)","v":12},{"$f":"SUMIF('12 - 13 ans'!$B$175:$B$204,$C33,'12 - 13 ans'!$I$175:$I$204)","v":12},{"$f":"SUMIF('12 - 13 ans'!$B$209:$B$238,$C33,'12 - 13 ans'!$I$209:$I$238)","v":0},{"$f":"SUM(L33+M33+N33+P33+O33)","v":59},{"$f":"RANK(R33,$R$33:$R$62)","v":6}]
[null,{"$f":"Inscription!C3","v":"CAEM"},{"$f":"Inscription!D3","v":"Ariane St-Denis"},null,null,null,null,null,null,null,{"$f":"SUMIF('12 - 13 ans'!$B$5:$B$34,$C34,'12 - 13 ans'!$I$5:$I$34)","v":0},{"$f":"SUMIF('12 - 13 ans'!$B$39:$B$68,$C34,'12 - 13 ans'!$I$39:$I$68)","v":20},{"$f":"SUMIF('12 - 13 ans'!$B$73:$B$102,$C34,'12 - 13 ans'!$I$73:$I$102)","v":14},{"$f":"SUMIF('12 - 13 ans'!$B$107:$B$136,$C34,'12 - 13 ans'!$I$107:$I$136)","v":14},{"$f":"SUMIF('12 - 13 ans'!$B$141:$B$170,$C34,'12 - 13 ans'!$I$141:$I$170)","v":13},{"$f":"SUMIF('12 - 13 ans'!$B$175:$B$204,$C34,'12 - 13 ans'!$I$175:$I$204)","v":20},{"$f":"SUMIF('12 - 13 ans'!$B$209:$B$238,$C34,'12 - 13 ans'!$I$209:$I$238)","v":0},{"$f":"SUM(L34+M34+N34+P34+O34)","v":81},{"$f":"RANK(R34,$R$33:$R$62)","v":2}]
[null,{"$f":"Inscription!C4","v":"Dam'eauclès"},{"$f":"Inscription!D4","v":"Émile Turgeon"},null,null,null,null,null,null,null,{"$f":"SUMIF('12 - 13 ans'!$B$5:$B$34,$C35,'12 - 13 ans'!$I$5:$I$34)","v":0},{"$f":"SUMIF('12 - 13 ans'!$B$39:$B$68,$C35,'12 - 13 ans'!$I$39:$I$68)","v":7},{"$f":"SUMIF('12 - 13 ans'!$B$73:$B$102,$C35,'12 - 13 ans'!$I$73:$I$102)","v":12},{"$f":"SUMIF('12 - 13 ans'!$B$107:$B$136,$C35,'12 - 13 ans'!$I$107:$I$136)","v":12},{"$f":"SUMIF('12 - 13 ans'!$B$141:$B$170,$C35,'12 - 13 ans'!$I$141:$I$170)","v":10},{"$f":"SUMIF('12 - 13 ans'!$B$175:$B$204,$C35,'12 - 13 ans'!$I$175:$I$204)","v":11},{"$f":"SUMIF('12 - 13 ans'!$B$209:$B$238,$C35,'12 - 13 ans'!$I$209:$I$238)","v":0},52,8]
[null,{"$f":"Inscription!C5","v":"CSRAD"},{"$f":"Inscription!D5","v":"Malory Boisclair"},null,null,null,null,null,null,null,{"$f":"SUMIF('12 - 13 ans'!$B$5:$B$34,$C36,'12 - 13 ans'!$I$5:$I$34)","v":0},{"$f":"SUMIF('12 - 13 ans'!$B$39:$B$68,$C36,'12 - 13 ans'!$I$39:$I$68)","v":13},{"$f":"SUMIF('12 - 13 ans'!$B$73:$B$102,$C36,'12 - 13 ans'!$I$73:$I$102)","v":18},{"$f":"SUMIF('12 - 13 ans'!$B$107:$B$136,$C36,'12 - 13 ans'!$I$107:$I$136)","v":18},{"$f":"SUMIF('12 - 13 ans'!$B$141:$B$170,$C36,'12 - 13 ans'!$I$141:$I$170)","v":18},{"$f":"SUMIF('12 - 13 ans'!$B$175:$B$204,$C36,'12 - 13 ans'!$I$175:$I$204)","v":0},{"$f":"SUMIF('12 - 13 ans'!$B$209:$B$238,$C36,'12 - 13 ans'!$I$209:$I$238)","v":0},67,5]
[null,{"$f":"Inscription!C6","v":"30deux"},{"$f":"Inscription!D6","v":"Ariane Trudel"},null,null,null,null,null,null,null,{"$f":"SUMIF('12 - 13 ans'!$B$5:$B$34,$C37,'12 - 13 ans'!$I$5:$I$34)","v":0},{"$f":"SUMIF('12 - 13 ans'!$B$39:$B$68,$C37,'12 - 13 ans'!$I$39:$I$68)","v":16},{"$f":"SUMIF('12 - 13 ans'!$B$73:$B$102,$C37,'12 - 13 ans'!$I$73:$I$102)","v":13},{"$f":"SUMIF('12 - 13 ans'!$B$107:$B$136,$C37,'12 - 13 ans'!$I$107:$I$136)","v":16},{"$f":"SUMIF('12 - 13 ans'!$B$141:$B$170,$C37,'12 - 13 ans'!$I$141:$I$170)","v":14},{"$f":"SUMIF('12 - 13 ans'!$B$175:$B$204,$C37,'12 - 13 ans'!$I$175:$I$204)","v":16},{"$f":"SUMIF('12 - 13 ans'!$B$209:$B$238,$C37,'12 - 13 ans'!$I$209:$I$238)","v":0},75,3]
[null,{"$f":"Inscription!C7","v":"CSRN"},{"$f":"Inscription!D7","v":"Thomas Martin"},null,null,null,null,null,null,null,{"$f":"SUMIF('12 - 13 ans'!$B$5:$B$34,$C38,'12 - 13 ans'!$I$5:$I$34)","v":0},{"$f":"SUMIF('12 - 13 ans'!$B$39:$B$68,$C38,'12 - 13 ans'!$I$39:$I$68)","v":18},{"$f":"SUMIF('12 - 13 ans'!$B$73:$B$102,$C38,'12 - 13 ans'!$I$73:$I$102)","v":20},{"$f":"SUMIF('12 - 13 ans'!$B$107:$B$136,$C38,'12 - 13 ans'!$I$107:$I$136)","v":20},{"$f":"SUMIF('12 - 13 ans'!$B$141:$B$170,$C38,'12 - 13 ans'!$I$141:$I$170)","v":20},{"$f":"SUMIF('12 - 13 ans'!$B$175:$B$204,$C38,'12 - 13 ans'!$I$175:$I$204)","v":18},{"$f":"SUMIF('12 - 13 ans'!$B$209:$B$238,$C38,'12 - 13 ans'!$I$209:$I$238)","v":0},96,1]
[null,{"$f":"Inscription!C8","v":"CSRN"},{"$f":"Inscription!D8","v":"Maxime Laurence"},null,null,null,null,null,null,null,{"$f":"SUMIF('12 - 13 ans'!$B$5:$B$34,$C39,'12 - 13 ans'!$I$5:$I$34)","v":0},{"$f":"SUMIF('12 - 13 ans'!$B$39:$B$68,$C39,'12 - 13 ans'!$I$39:$I$68)","v":11},{"$f":"SUMIF('12 - 13 ans'!$B$73:$B$102,$C39,'12 - 13 ans'!$I$73:$I$102)","v":0},{"$f":"SUMIF('12 - 13 ans'!$B$107:$B$136,$C39,'12 - 13 ans'!$I$107:$I$136)","v":7},{"$f":"SUMIF('12 - 13 ans'!$B$141:$B$170,$C39,'12 - 13 ans'!$I$141:$I$170)","v":0},{"$f":"SUMIF('12 - 13 ans'!$B$175:$B$204,$C39,'12 - 13 ans'!$I$175:$I$204)","v":0},{"$f":"SUMIF('12 - 13 ans'!$B$209:$B$238,$C39,'12 - 13 ans'!$I$209:$I$238)","v":0},18,11]
[null,{"$f":"Inscription!C9","v":"CSRN"},{"$f":"Inscription!D9","v":"Eugénie Tétreault"},null,null,null,null,null,null,null,{"$f":"SUMIF('12 - 13 ans'!$B$5:$B$34,$C40,'12 - 13 ans'!$I$5:$I$34)","v":0},{"$f":"SUMIF('12 - 13 ans'!$B$39:$B$68,$C40,'12 - 13 ans'!$I$39:$I$68)","v":10},{"$f":"SUMIF('12 - 13 ans'!$B$73:$B$102,$C40,'12 - 13 ans'!$I$73:$I$102)","v":12},{"$f":"SUMIF('12 - 13 ans'!$B$107:$B$136,$C40,'12 - 13 ans'!$I$107:$I$136)","v":8},{"$f":"SUMIF('12 - 13 ans'!$B$141:$B$170,$C40,'12 - 13 ans'!$I$141:$I$170)","v":11},{"$f":"SUMIF('12 - 13 ans'!$B$175:$B$204,$C40,'12 - 13 ans'!$I$175:$I$204)","v":13},{"$f":"SUMIF('12 - 13 ans'!$B$209:$B$238,$C40,'12 - 13 ans'!$I$209:$I$238)","v":0},54,7]
[null,{"$f":"Inscription!C10","v":"CSRN"},{"$f":"Inscription!D10","v":"Justin Gauthier"},null,null,null,null,null,null,null,{"$f":"SUMIF('12 - 13 ans'!$B$5:$B$34,$C41,'12 - 13 ans'!$I$5:$I$34)","v":0},{"$f":"SUMIF('12 - 13 ans'!$B$39:$B$68,$C41,'12 - 13 ans'!$I$39:$I$68)","v":0},{"$f":"SUMIF('12 - 13 ans'!$B$73:$B$102,$C41,'12 - 13 ans'!$I$73:$I$102)","v":0},{"$f":"SUMIF('12 - 13 ans'!$B$107:$B$136,$C41,'12 - 13 ans'!$I$107:$I$136)","v":0},{"$f":"SUMIF('12 - 13 ans'!$B$141:$B$170,$C41,'12 - 13 ans'!$I$141:$I$170)","v":0},{"$f":"SUMIF('12 - 13 ans'!$B$175:$B$204,$C41,'12 - 13 ans'!$I$175:$I$204)","v":0},{"$f":"SUMIF('12 - 13 ans'!$B$209:$B$238,$C41,'12 - 13 ans'!$I$209:$I$238)","v":0},0,13]
[null,{"$f":"Inscription!C11","v":"Gatineau"},{"$f":"Inscription!D11","v":"Justin Pichette"},null,null,null,null,null,null,null,{"$f":"SUMIF('12 - 13 ans'!$B$5:$B$34,$C42,'12 - 13 ans'!$I$5:$I$34)","v":0},{"$f":"SUMIF('12 - 13 ans'!$B$39:$B$68,$C42,'12 - 13 ans'!$I$39:$I$68)","v":6},{"$f":"SUMIF('12 - 13 ans'!$B$73:$B$102,$C42,'12 - 13 ans'!$I$73:$I$102)","v":6},{"$f":"SUMIF('12 - 13 ans'!$B$107:$B$136,$C42,'12 - 13 ans'!$I$107:$I$136)","v":5},{"$f":"SUMIF('12 - 13 ans'!$B$141:$B$170,$C42,'12 - 13 ans'!$I$141:$I$170)","v":7},{"$f":"SUMIF('12 - 13 ans'!$B$175:$B$204,$C42,'12 - 13 ans'!$I$175:$I$204)","v":0},{"$f":"SUMIF('12 - 13 ans'!$B$209:$B$238,$C42,'12 - 13 ans'!$I$209:$I$238)","v":0},24,10]
[null,{"$f":"Inscription!C12","v":"Gatineau"},{"$f":"Inscription!D12","v":"Marianne Caplette"},null,null,null,null,null,null,null,{"$f":"SUMIF('12 - 13 ans'!$B$5:$B$34,$C43,'12 - 13 ans'!$I$5:$I$34)","v":0},{"$f":"SUMIF('12 - 13 ans'!$B$39:$B$68,$C43,'12 - 13 ans'!$I$39:$I$68)","v":5},{"$f":"SUMIF('12 - 13 ans'!$B$73:$B$102,$C43,'12 - 13 ans'!$I$73:$I$102)","v":7},{"$f":"SUMIF('12 - 13 ans'!$B$107:$B$136,$C43,'12 - 13 ans'!$I$107:$I$136)","v":6},{"$f":"SUMIF('12 - 13 ans'!$B$141:$B$170,$C43,'12 - 13 ans'!$I$141:$I$170)","v":0},{"$f":"SUMIF('12 - 13 ans'!$B$175:$B$204,$C43,'12 - 13 ans'!$I$175:$I$204)","v":0},{"$f":"SUMIF('12 - 13 ans'!$B$209:$B$238,$C43,'12 - 13 ans'!$I$209:$I$238)","v":0},18,11]
[null,{"$f":"Inscription!C13","v":"Narval"},{"$f":"Inscription!D13","v":"Joelle Gauthier-Drapeau"},null,null,null,null,null,null,null,{"$f":"SUMIF('12 - 13 ans'!$B$5:$B$34,$C44,'12 - 13 ans'!$I$5:$I$34)","v":0},{"$f":"SUMIF('12 - 13 ans'!$B$39:$B$68,$C44,'12 - 13 ans'!$I$39:$I$68)","v":8},{"$f":"SUMIF('12 - 13 ans'!$B$73:$B$102,$C44,'12 - 13 ans'!$I$73:$I$102)","v":8},{"$f":"SUMIF('12 - 13 ans'!$B$107:$B$136,$C44,'12 - 13 ans'!$I$107:$I$136)","v":10},{"$f":"SUMIF('12 - 13 ans'!$B$141:$B$170,$C44,'12 - 13 ans'!$I$141:$I$170)","v":8},{"$f":"SUMIF('12 - 13 ans'!$B$175:$B$204,$C44,'12 - 13 ans'!$I$175:$I$204)","v":10},{"$f":"SUMIF('12 - 13 ans'!$B$209:$B$238,$C44,'12 - 13 ans'!$I$209:$I$238)","v":0},44,9]
[null,{"$f":"Inscription!C14","v":"Narval"},{"$f":"Inscription!D14","v":"Léony Gobeil"},null,null,null,null,null,null,null,{"$f":"SUMIF('12 - 13 ans'!$B$5:$B$34,$C45,'12 - 13 ans'!$I$5:$I$34)","v":0},{"$f":"SUMIF('12 - 13 ans'!$B$39:$B$68,$C45,'12 - 13 ans'!$I$39:$I$68)","v":14},{"$f":"SUMIF('12 - 13 ans'!$B$73:$B$102,$C45,'12 - 13 ans'!$I$73:$I$102)","v":16},{"$f":"SUMIF('12 - 13 ans'!$B$107:$B$136,$C45,'12 - 13 ans'!$I$107:$I$136)","v":13},{"$f":"SUMIF('12 - 13 ans'!$B$141:$B$170,$C45,'12 - 13 ans'!$I$141:$I$170)","v":16},{"$f":"SUMIF('12 - 13 ans'!$B$175:$B$204,$C45,'12 - 13 ans'!$I$175:$I$204)","v":14},{"$f":"SUMIF('12 - 13 ans'!$B$209:$B$238,$C45,'12 - 13 ans'!$I$209:$I$238)","v":0},73,4]
[null,{"$f":"Inscription!C15","v":0},{"$f":"Inscription!D15","v":0},null,null,null,null,null,null,null,{"$f":"SUMIF('12 - 13 ans'!$B$5:$B$34,$C46,'12 - 13 ans'!$I$5:$I$34)","v":0},{"$f":"SUMIF('12 - 13 ans'!$B$39:$B$68,$C46,'12 - 13 ans'!$I$39:$I$68)","v":0},{"$f":"SUMIF('12 - 13 ans'!$B$73:$B$102,$C46,'12 - 13 ans'!$I$73:$I$102)","v":0},{"$f":"SUMIF('12 - 13 ans'!$B$107:$B$136,$C46,'12 - 13 ans'!$I$107:$I$136)","v":0},{"$f":"SUMIF('12 - 13 ans'!$B$141:$B$170,$C46,'12 - 13 ans'!$I$141:$I$170)","v":0},{"$f":"SUMIF('12 - 13 ans'!$B$175:$B$204,$C46,'12 - 13 ans'!$I$175:$I$204)","v":0},{"$f":"SUMIF('12 - 13 ans'!$B$209:$B$238,$C46,'12 - 13 ans'!$I$209:$I$238)","v":0},0,13]
[null,{"$f":"Inscription!C16","v":0},{"$f":"Inscription!D16","v":0},null,null,null,null,null,null,null,{"$f":"SUMIF('12 - 13 ans'!$B$5:$B$34,$C47,'12 - 13 ans'!$I$5:$I$34)","v":0},{"$f":"SUMIF('12 - 13 ans'!$B$39:$B$68,$C47,'12 - 13 ans'!$I$39:$I$68)","v":0},{"$f":"SUMIF('12 - 13 ans'!$B$73:$B$102,$C47,'12 - 13 ans'!$I$73:$I$102)","v":0},{"$f":"SUMIF('12 - 13 ans'!$B$107:$B$136,$C47,'12 - 13 ans'!$I$107:$I$136)","v":0},{"$f":"SUMIF('12 - 13 ans'!$B$141:$B$170,$C47,'12 - 13 ans'!$I$141:$I$170)","v":0},{"$f":"SUMIF('12 - 13 ans'!$B$175:$B$204,$C47,'12 - 13 ans'!$I$175:$I$204)","v":0},{"$f":"SUMIF('12 - 13 ans'!$B$209:$B$238,$C47,'12 - 13 ans'!$I$209:$I$238)","v":0},0,13]
[null,{"$f":"Inscription!C17","v":0},{"$f":"Inscription!D17","v":0},null,null,null,null,null,null,null,{"$f":"SUMIF('12 - 13 ans'!$B$5:$B$34,$C48,'12 - 13 ans'!$I$5:$I$34)","v":0},{"$f":"SUMIF('12 - 13 ans'!$B$39:$B$68,$C48,'12 - 13 ans'!$I$39:$I$68)","v":0},{"$f":"SUMIF('12 - 13 ans'!$B$73:$B$102,$C48,'12 - 13 ans'!$I$73:$I$102)","v":0},{"$f":"SUMIF('12 - 13 ans'!$B$107:$B$136,$C48,'12 - 13 ans'!$I$107:$I$136)","v":0},{"$f":"SUMIF('12 - 13 ans'!$B$141:$B$170,$C48,'12 - 13 ans'!$I$141:$I$170)","v":0},{"$f":"SUMIF('12 - 13 ans'!$B$175:$B$204,$C48,'12 - 13 ans'!$I$175:$I$204)","v":0},{"$f":"SUMIF('12 - 13 ans'!$B$209:$B$238,$C48,'12 - 13 ans'!$I$209:$I$238)","v":0},0,13]
[null,{"$f":"Inscription!C18","v":0},{"$f":"Inscription!D18","v":0},null,null,null,null,null,null,null,{"$f":"SUMIF('12 - 13 ans'!$B$5:$B$34,$C49,'12 - 13 ans'!$I$5:$I$34)","v":0},{"$f":"SUMIF('12 - 13 ans'!$B$39:$B$68,$C49,'12 - 13 ans'!$I$39:$I$68)","v":0},{"$f":"SUMIF('12 - 13 ans'!$B$73:$B$102,$C49,'12 - 13 ans'!$I$73:$I$102)","v":0},{"$f":"SUMIF('12 - 13 ans'!$B$107:$B$136,$C49,'12 - 13 ans'!$I$107:$I$136)","v":0},{"$f":"SUMIF('12 - 13 ans'!$B$141:$B$170,$C49,'12 - 13 ans'!$I$141:$I$170)","v":0},{"$f":"SUMIF('12 - 13 ans'!$B$175:$B$204,$C49,'12 - 13 ans'!$I$175:$I$204)","v":0},{"$f":"SUMIF('12 - 13 ans'!$B$209:$B$238,$C49,'12 - 13 ans'!$I$209:$I$238)","v":0},0,13]
[null,{"$f":"Inscription!C19","v":0},{"$f":"Inscription!D19","v":0},null,null,null,null,null,null,null,{"$f":"SUMIF('12 - 13 ans'!$B$5:$B$34,$C50,'12 - 13 ans'!$I$5:$I$34)","v":0},{"$f":"SUMIF('12 - 13 ans'!$B$39:$B$68,$C50,'12 - 13 ans'!$I$39:$I$68)","v":0},{"$f":"SUMIF('12 - 13 ans'!$B$73:$B$102,$C50,'12 - 13 ans'!$I$73:$I$102)","v":0},{"$f":"SUMIF('12 - 13 ans'!$B$107:$B$136,$C50,'12 - 13 ans'!$I$107:$I$136)","v":0},{"$f":"SUMIF('12 - 13 ans'!$B$141:$B$170,$C50,'12 - 13 ans'!$I$141:$I$170)","v":0},{"$f":"SUMIF('12 - 13 ans'!$B$175:$B$204,$C50,'12 - 13 ans'!$I$175:$I$204)","v":0},{"$f":"SUMIF('12 - 13 ans'!$B$209:$B$238,$C50,'12 - 13 ans'!$I$209:$I$238)","v":0},0,13]
[null,{"$f":"Inscription!C20","v":0},{"$f":"Inscription!D20","v":0},null,null,null,null,null,null,null,{"$f":"SUMIF('12 - 13 ans'!$B$5:$B$34,$C51,'12 - 13 ans'!$I$5:$I$34)","v":0},{"$f":"SUMIF('12 - 13 ans'!$B$39:$B$68,$C51,'12 - 13 ans'!$I$39:$I$68)","v":0},{"$f":"SUMIF('12 - 13 ans'!$B$73:$B$102,$C51,'12 - 13 ans'!$I$73:$I$102)","v":0},{"$f":"SUMIF('12 - 13 ans'!$B$107:$B$136,$C51,'12 - 13 ans'!$I$107:$I$136)","v":0},{"$f":"SUMIF('12 - 13 ans'!$B$141:$B$170,$C51,'12 - 13 ans'!$I$141:$I$170)","v":0},{"$f":"SUMIF('12 - 13 ans'!$B$175:$B$204,$C51,'12 - 13 ans'!$I$175:$I$204)","v":0},{"$f":"SUMIF('12 - 13 ans'!$B$209:$B$238,$C51,'12 - 13 ans'!$I$209:$I$238)","v":0},0,13]
[null,{"$f":"Inscription!C21","v":0},{"$f":"Inscription!D21","v":0},null,null,null,null,null,null,null,{"$f":"SUMIF('12 - 13 ans'!$B$5:$B$34,$C52,'12 - 13 ans'!$I$5:$I$34)","v":0},{"$f":"SUMIF('12 - 13 ans'!$B$39:$B$68,$C52,'12 - 13 ans'!$I$39:$I$68)","v":0},{"$f":"SUMIF('12 - 13 ans'!$B$73:$B$102,$C52,'12 - 13 ans'!$I$73:$I$102)","v":0},{"$f":"SUMIF('12 - 13 ans'!$B$107:$B$136,$C52,'12 - 13 ans'!$I$107:$I$136)","v":0},{"$f":"SUMIF('12 - 13 ans'!$B$141:$B$170,$C52,'12 - 13 ans'!$I$141:$I$170)","v":0},{"$f":"SUMIF('12 - 13 ans'!$B$175:$B$204,$C52,'12 - 13 ans'!$I$175:$I$204)","v":0},{"$f":"SUMIF('12 - 13 ans'!$B$209:$B$238,$C52,'12 - 13 ans'!$I$209:$I$238)","v":0},0,13]
[null,{"$f":"Inscription!C22","v":0},{"$f":"Inscription!D22","v":0},null,null,null,null,null,null,null,{"$f":"SUMIF('12 - 13 ans'!$B$5:$B$34,$C53,'12 - 13 ans'!$I$5:$I$34)","v":0},{"$f":"SUMIF('12 - 13 ans'!$B$39:$B$68,$C53,'12 - 13 ans'!$I$39:$I$68)","v":0},{"$f":"SUMIF('12 - 13 ans'!$B$73:$B$102,$C53,'12 - 13 ans'!$I$73:$I$102)","v":0},{"$f":"SUMIF('12 - 13 ans'!$B$107:$B$136,$C53,'12 - 13 ans'!$I$107:$I$136)","v":0},{"$f":"SUMIF('12 - 13 ans'!$B$141:$B$170,$C53,'12 - 13 ans'!$I$141:$I$170)","v":0},{"$f":"SUMIF('12 - 13 ans'!$B$175:$B$204,$C53,'12 - 13 ans'!$I$175:$I$204)","v":0},{"$f":"SUMIF('12 - 13 ans'!$B$209:$B$238,$C53,'12 - 13 ans'!$I$209:$I$238)","v":0},0,13]
[null,{"$f":"Inscription!C23","v":0},{"$f":"Inscription!D23","v":0},null,null,null,null,null,null,null,{"$f":"SUMIF('12 - 13 ans'!$B$5:$B$34,$C54,'12 - 13 ans'!$I$5:$I$34)","v":0},{"$f":"SUMIF('12 - 13 ans'!$B$39:$B$68,$C54,'12 - 13 ans'!$I$39:$I$68)","v":0},{"$f":"SUMIF('12 - 13 ans'!$B$73:$B$102,$C54,'12 - 13 ans'!$I$73:$I$102)","v":0},{"$f":"SUMIF('12 - 13 ans'!$B$107:$B$136,$C54,'12 - 13 ans'!$I$107:$I$136)","v":0},{"$f":"SUMIF('12 - 13 ans'!$B$141:$B$170,$C54,'12 - 13 ans'!$I$141:$I$170)","v":0},{"$f":"SUMIF('12 - 13 ans'!$B$175:$B$204,$C54,'12 - 13 ans'!$I$175:$I$204)","v":0},{"$f":"SUMIF('12 - 13 ans'!$B$209:$B$238,$C54,'12 - 13 ans'!$I$209:$I$238)","v":0},0,13]
[null,{"$f":"Inscription!C24","v":0},{"$f":"Inscription!D24","v":0},null,null,null,null,null,null,null,{"$f":"SUMIF('12 - 13 ans'!$B$5:$B$34,$C55,'12 - 13 ans'!$I$5:$I$34)","v":0},{"$f":"SUMIF('12 - 13 ans'!$B$39:$B$68,$C55,'12 - 13 ans'!$I$39:$I$68)","v":0},{"$f":"SUMIF('12 - 13 ans'!$B$73:$B$102,$C55,'12 - 13 ans'!$I$73:$I$102)","v":0},{"$f":"SUMIF('12 - 13 ans'!$B$107:$B$136,$C55,'12 - 13 ans'!$I$107:$I$136)","v":0},{"$f":"SUMIF('12 - 13 ans'!$B$141:$B$170,$C55,'12 - 13 ans'!$I$141:$I$170)","v":0},{"$f":"SUMIF('12 - 13 ans'!$B$175:$B$204,$C55,'12 - 13 ans'!$I$175:$I$204)","v":0},{"$f":"SUMIF('12 - 13 ans'!$B$209:$B$238,$C55,'12 - 13 ans'!$I$209:$I$238)","v":0},0,13]
[null,{"$f":"Inscription!C25","v":0},{"$f":"Inscription!D25","v":0},null,null,null,null,null,null,null,{"$f":"SUMIF('12 - 13 ans'!$B$5:$B$34,$C56,'12 - 13 ans'!$I$5:$I$34)","v":0},{"$f":"SUMIF('12 - 13 ans'!$B$39:$B$68,$C56,'12 - 13 ans'!$I$39:$I$68)","v":0},{"$f":"SUMIF('12 - 13 ans'!$B$73:$B$102,$C56,'12 - 13 ans'!$I$73:$I$102)","v":0},{"$f":"SUMIF('12 - 13 ans'!$B$107:$B$136,$C56,'12 - 13 ans'!$I$107:$I$136)","v":0},{"$f":"SUMIF('12 - 13 ans'!$B$141:$B$170,$C56,'12 - 13 ans'!$I$141:$I$170)","v":0},{"$f":"SUMIF('12 - 13 ans'!$B$175:$B$204,$C56,'12 - 13 ans'!$I$175:$I$204)","v":0},{"$f":"SUMIF('12 - 13 ans'!$B$209:$B$238,$C56,'12 - 13 ans'!$I$209:$I$238)","v":0},0,13]
[null,{"$f":"Inscription!C26","v":0},{"$f":"Inscription!D26","v":0},null,null,null,null,null,null,null,{"$f":"SUMIF('12 - 13 ans'!$B$5:$B$34,$C57,'12 - 13 ans'!$I$5:$I$34)","v":0},{"$f":"SUMIF('12 - 13 ans'!$B$39:$B$68,$C57,'12 - 13 ans'!$I$39:$I$68)","v":0},{"$f":"SUMIF('12 - 13 ans'!$B$73:$B$102,$C57,'12 - 13 ans'!$I$73:$I$102)","v":0},{"$f":"SUMIF('12 - 13 ans'!$B$107:$B$136,$C57,'12 - 13 ans'!$I$107:$I$136)","v":0},{"$f":"SUMIF('12 - 13 ans'!$B$141:$B$170,$C57,'12 - 13 ans'!$I$141:$I$170)","v":0},{"$f":"SUMIF('12 - 13 ans'!$B$175:$B$204,$C57,'12 - 13 ans'!$I$175:$I$204)","v":0},{"$f":"SUMIF('12 - 13 ans'!$B$209:$B$238,$C57,'12 - 13 ans'!$I$209:$I$238)","v":0},0,13]
[null,{"$f":"Inscription!C27","v":0},{"$f":"Inscription!D27","v":0},null,null,null,null,null,null,null,{"$f":"SUMIF('12 - 13 ans'!$B$5:$B$34,$C58,'12 - 13 ans'!$I$5:$I$34)","v":0},{"$f":"SUMIF('12 - 13 ans'!$B$39:$B$68,$C58,'12 - 13 ans'!$I$39:$I$68)","v":0},{"$f":"SUMIF('12 - 13 ans'!$B$73:$B$102,$C58,'12 - 13 ans'!$I$73:$I$102)","v":0},{"$f":"SUMIF('12 - 13 ans'!$B$107:$B$136,$C58,'12 - 13 ans'!$I$107:$I$136)","v":0},{"$f":"SUMIF('12 - 13 ans'!$B$141:$B$170,$C58,'12 - 13 ans'!$I$141:$I$170)","v":0},{"$f":"SUMIF('12 - 13 ans'!$B$175:$B$204,$C58,'12 - 13 ans'!$I$175:$I$204)","v":0},{"$f":"SUMIF('12 - 13 ans'!$B$209:$B$238,$C58,'12 - 13 ans'!$I$209:$I$238)","v":0},0,13]
[null,{"$f":"Inscription!C28","v":0},{"$f":"Inscription!D28","v":0},null,null,null,null,null,null,null,{"$f":"SUMIF('12 - 13 ans'!$B$5:$B$34,$C59,'12 - 13 ans'!$I$5:$I$34)","v":0},{"$f":"SUMIF('12 - 13 ans'!$B$39:$B$68,$C59,'12 - 13 ans'!$I$39:$I$68)","v":0},{"$f":"SUMIF('12 - 13 ans'!$B$73:$B$102,$C59,'12 - 13 ans'!$I$73:$I$102)","v":0},{"$f":"SUMIF('12 - 13 ans'!$B$107:$B$136,$C59,'12 - 13 ans'!$I$107:$I$136)","v":0},{"$f":"SUMIF('12 - 13 ans'!$B$141:$B$170,$C59,'12 - 13 ans'!$I$141:$I$170)","v":0},{"$f":"SUMIF('12 - 13 ans'!$B$175:$B$204,$C59,'12 - 13 ans'!$I$175:$I$204)","v":0},{"$f":"SUMIF('12 - 13 ans'!$B$209:$B$238,$C59,'12 - 13 ans'!$I$209:$I$238)","v":0},0,13]
[null,{"$f":"Inscription!C29","v":0},{"$f":"Inscription!D29","v":0},null,null,null,null,null,null,null,{"$f":"SUMIF('12 - 13 ans'!$B$5:$B$34,$C60,'12 - 13 ans'!$I$5:$I$34)","v":0},{"$f":"SUMIF('12 - 13 ans'!$B$39:$B$68,$C60,'12 - 13 ans'!$I$39:$I$68)","v":0},{"$f":"SUMIF('12 - 13 ans'!$B$73:$B$102,$C60,'12 - 13 ans'!$I$73:$I$102)","v":0},{"$f":"SUMIF('12 - 13 ans'!$B$107:$B$136,$C60,'12 - 13 ans'!$I$107:$I$136)","v":0},{"$f":"SUMIF('12 - 13 ans'!$B$141:$B$170,$C60,'12 - 13 ans'!$I$141:$I$170)","v":0},{"$f":"SUMIF('12 - 13 ans'!$B$175:$B$204,$C60,'12 - 13 ans'!$I$175:$I$204)","v":0},{"$f":"SUMIF('12 - 13 ans'!$B$209:$B$238,$C60,'12 - 13 ans'!$I$209:$I$238)","v":0},0,13]
[null,{"$f":"Inscription!C30","v":0},{"$f":"Inscription!D30","v":0},null,null,null,null,null,null,null,{"$f":"SUMIF('12 - 13 ans'!$B$5:$B$34,$C61,'12 - 13 ans'!$I$5:$I$34)","v":0},{"$f":"SUMIF('12 - 13 ans'!$B$39:$B$68,$C61,'12 - 13 ans'!$I$39:$I$68)","v":0},{"$f":"SUMIF('12 - 13 ans'!$B$73:$B$102,$C61,'12 - 13 ans'!$I$73:$I$102)","v":0},{"$f":"SUMIF('12 - 13 ans'!$B$107:$B$136,$C61,'12 - 13 ans'!$I$107:$I$136)","v":0},{"$f":"SUMIF('12 - 13 ans'!$B$141:$B$170,$C61,'12 - 13 ans'!$I$141:$I$170)","v":0},{"$f":"SUMIF('12 - 13 ans'!$B$175:$B$204,$C61,'12 - 13 ans'!$I$175:$I$204)","v":0},{"$f":"SUMIF('12 - 13 ans'!$B$209:$B$238,$C61,'12 - 13 ans'!$I$209:$I$238)","v":0},0,13]
[null,{"$f":"Inscription!C31","v":0},{"$f":"Inscription!D31","v":0},null,null,null,null,null,null,null,{"$f":"SUMIF('12 - 13 ans'!$B$5:$B$34,$C62,'12 - 13 ans'!$I$5:$I$34)","v":0},{"$f":"SUMIF('12 - 13 ans'!$B$39:$B$68,$C62,'12 - 13 ans'!$I$39:$I$68)","v":0},{"$f":"SUMIF('12 - 13 ans'!$B$73:$B$102,$C62,'12 - 13 ans'!$I$73:$I$102)","v":0},{"$f":"SUMIF('12 - 13 ans'!$B$107:$B$136,$C62,'12 - 13 ans'!$I$107:$I$136)","v":0},{"$f":"SUMIF('12 - 13 ans'!$B$141:$B$170,$C62,'12 - 13 ans'!$I$141:$I$170)","v":0},{"$f":"SUMIF('12 - 13 ans'!$B$175:$B$204,$C62,'12 - 13 ans'!$I$175:$I$204)","v":0},{"$f":"SUMIF('12 - 13 ans'!$B$209:$B$238,$C62,'12 - 13 ans'!$I$209:$I$238)","v":0},0,13]
["14 - 15 ans \nFemme",{"$f":"Inscription!E2","v":"SSSL"},{"$f":"Inscription!F2","v":"Paula Loaiza"},null,null,null,null,null,null,null,null,null,null,null,null,null,null,null,null,{"$f":"SUMIF('14 - 15 ans F'!$B$5:$B$34,$C63,'14 - 15 ans F'!$I$5:$I$34)","v":0},{"$f":"SUMIF('14 - 15 ans F'!$B$39:$B$68,$C63,'14 - 15 ans F'!$I$39:$I$68)","v":10},{"$f":"SUMIF('14 - 15 ans F'!$B$73:$B$102,$C63,'14 - 15 ans F'!$I$73:$I$102)","v":12},{"$f":"SUMIF('14 - 15 ans F'!$B$107:$B$136,$C63,'14 - 15 ans F'!$I$107:$I$136)","v":8},{"$f":"SUMIF('14 - 15 ans F'!$B$141:$B$170,$C63,'14 - 15 ans F'!$I$141:$I$170)","v":12},{"$f":"SUMIF('14 - 15 ans F'!$B$175:$B$204,$C63,'14 - 15 ans F'!$I$175:$I$204)","v":11},{"$f":"SUMIF('14 - 15 ans F'!$B$209:$B$238,$C63,'14 - 15 ans F'!$I$209:$I$238)","v":0},{"$f":"SUM(U63+V63+W63+Y63+X63)","v":53},{"$f":"RANK(AA63,$AA$63:$AA$92)","v":8}]
[null,{"$f":"Inscription!E3","v":"CAEM"},{"$f":"Inscription!F3","v":"Audrey Desroches"},null,null,null,null,null,null,null,null,null,null,null,null,null,null,null,null,{"$f":"SUMIF('14 - 15 ans F'!$B$5:$B$34,$C64,'14 - 15 ans F'!$I$5:$I$34)","v":0},{"$f":"SUMIF('14 - 15 ans F'!$B$39:$B$68,$C64,'14 - 15 ans F'!$I$39:$I$68)","v":12},{"$f":"SUMIF('14 - 15 ans F'!$B$73:$B$102,$C64,'14 - 15 ans F'!$I$73:$I$102)","v":8},{"$f":"SUMIF('14 - 15 ans F'!$B$107:$B$136,$C64,'14 - 15 ans F'!$I$107:$I$136)","v":12},{"$f":"SUMIF('14 - 15 ans F'!$B$141:$B$170,$C64,'14 - 15 ans F'!$I$141:$I$170)","v":13},{"$f":"SUMIF('14 - 15 ans F'!$B$175:$B$204,$C64,'14 - 15 ans F'!$I$175:$I$204)","v":13},{"$f":"SUMIF('14 - 15 ans F'!$B$209:$B$238,$C64,'14 - 15 ans F'!$I$209:$I$238)","v":0},{"$f":"SUM(U64+V64+W64+Y64+X64)","v":58},{"$f":"RANK(AA64,$AA$63:$AA$92)","v":7}]
[null,{"$f":"Inscription!E4","v":"Dam'eauclès"},{"$f":"Inscription!F4","v":"Manuelle Charbonneau"},null,null,null,null,null,null,null,null,null,null,null,null,null,null,null,null,{"$f":"SUMIF('14 - 15 ans F'!$B$5:$B$34,$C65,'14 - 15 ans F'!$I$5:$I$34)","v":0},{"$f":"SUMIF('14 - 15 ans F'!$B$39:$B$68,$C65,'14 - 15 ans F'!$I$39:$I$68)","v":20},{"$f":"SUMIF('14 - 15 ans F'!$B$73:$B$102,$C65,'14 - 15 ans F'!$I$73:$I$102)","v":20},{"$f":"SUMIF('14 - 15 ans F'!$B$107:$B$136,$C65,'14 - 15 ans F'!$I$107:$I$136)","v":20},{"$f":"SUMIF('14 - 15 ans F'!$B$141:$B$170,$C65,'14 - 15 ans F'!$I$141:$I$170)","v":20},{"$f":"SUMIF('14 - 15 ans F'!$B$175:$B$204,$C65,'14 - 15 ans F'!$I$175:$I$204)","v":20},{"$f":"SUMIF('14 - 15 ans F'!$B$209:$B$238,$C65,'14 - 15 ans F'!$I$209:$I$238)","v":0},100,1]
[null,{"$f":"Inscription!E5","v":"Dam'eauclès"},{"$f":"Inscription!F5","v":"Myriam Jacques"},null,null,null,null,null,null,null,null,null,null,null,null,null,null,null,null,{"$f":"SUMIF('14 - 15 ans F'!$B$5:$B$34,$C66,'14 - 15 ans F'!$I$5:$I$34)","v":0},{"$f":"SUMIF('14 - 15 ans F'!$B$39:$B$68,$C66,'14 - 15 ans F'!$I$39:$I$68)","v":8},{"$f":"SUMIF('14 - 15 ans F'!$B$73:$B$102,$C66,'14 - 15 ans F'!$I$73:$I$102)","v":14},{"$f":"SUMIF('14 - 15 ans F'!$B$107:$B$136,$C66,'14 - 15 ans F'!$I$107:$I$136)","v":10},{"$f":"SUMIF('14 - 15 ans F'!$B$141:$B$170,$C66,'14 - 15 ans F'!$I$141:$I$170)","v":14},{"$f":"SUMIF('14 - 15 ans F'!$B$175:$B$204,$C66,'14 - 15 ans F'!$I$175:$I$204)","v":16},{"$f":"SUMIF('14 - 15 ans F'!$B$209:$B$238,$C66,'14 - 15 ans F'!$I$209:$I$238)","v":0},62,5]
[null,{"$f":"Inscription!E6","v":"Dam'eauclès"},{"$f":"Inscription!F6","v":"Emma Lajeunesse"},null,null,null,null,null,null,null,null,null,null,null,null,null,null,null,null,{"$f":"SUMIF('14 - 15 ans F'!$B$5:$B$34,$C67,'14 - 15 ans F'!$I$5:$I$34)","v":0},{"$f":"SUMIF('14 - 15 ans F'!$B$39:$B$68,$C67,'14 - 15 ans F'!$I$39:$I$68)","v":18},{"$f":"SUMIF('14 - 15 ans F'!$B$73:$B$102,$C67,'14 - 15 ans F'!$I$73:$I$102)","v":16},{"$f":"SUMIF('14 - 15 ans F'!$B$107:$B$136,$C67,'14 - 15 ans F'!$I$107:$I$136)","v":16},{"$f":"SUMIF('14 - 15 ans F'!$B$141:$B$170,$C67,'14 - 15 ans F'!$I$141:$I$170)","v":18},{"$f":"SUMIF('14 - 15 ans F'!$B$175:$B$204,$C67,'14 - 15 ans F'!$I$175:$I$204)","v":0},{"$f":"SUMIF('14 - 15 ans F'!$B$209:$B$238,$C67,'14 - 15 ans F'!$I$209:$I$238)","v":0},68,3]
[null,{"$f":"Inscription!E7","v":"CSRAD"},{"$f":"Inscription!F7","v":"Sarah-Claude Lampron"},null,null,null,null,null,null,null,null,null,null,null,null,null,null,null,null,{"$f":"SUMIF('14 - 15 ans F'!$B$5:$B$34,$C68,'14 - 15 ans F'!$I$5:$I$34)","v":0},{"$f":"SUMIF('14 - 15 ans F'!$B$39:$B$68,$C68,'14 - 15 ans F'!$I$39:$I$68)","v":11},{"$f":"SUMIF('14 - 15 ans F'!$B$73:$B$102,$C68,'14 - 15 ans F'!$I$73:$I$102)","v":13},{"$f":"SUMIF('14 - 15 ans F'!$B$107:$B$136,$C68,'14 - 15 ans F'!$I$107:$I$136)","v":13},{"$f":"SUMIF('14 - 15 ans F'!$B$141:$B$170,$C68,'14 - 15 ans F'!$I$141:$I$170)","v":11},{"$f":"SUMIF('14 - 15 ans F'!$B$175:$B$204,$C68,'14 - 15 ans F'!$I$175:$I$204)","v":12},{"$f":"SUMIF('14 - 15 ans F'!$B$209:$B$238,$C68,'14 - 15 ans F'!$I$209:$I$238)","v":0},60,6]
[null,{"$f":"Inscription!E8","v":"O'méga"},{"$f":"Inscription!F8","v":"AnnabelleDuquet"},null,null,null,null,null,null,null,null,null,null,null,null,null,null,null,null,{"$f":"SUMIF('14 - 15 ans F'!$B$5:$B$34,$C69,'14 - 15 ans F'!$I$5:$I$34)","v":0},{"$f":"SUMIF('14 - 15 ans F'!$B$39:$B$68,$C69,'14 - 15 ans F'!$I$39:$I$68)","v":14},{"$f":"SUMIF('14 - 15 ans F'!$B$73:$B$102,$C69,'14 - 15 ans F'!$I$73:$I$102)","v":10},{"$f":"SUMIF('14 - 15 ans F'!$B$107:$B$136,$C69,'14 - 15 ans F'!$I$107:$I$136)","v":18},{"$f":"SUMIF('14 - 15 ans F'!$B$141:$B$170,$C69,'14 - 15 ans F'!$I$141:$I$170)","v":8},{"$f":"SUMIF('14 - 15 ans F'!$B$175:$B$204,$C69,'14 - 15 ans F'!$I$175:$I$204)","v":14},{"$f":"SUMIF('14 - 15 ans F'!$B$209:$B$238,$C69,'14 - 15 ans F'!$I$209:$I$238)","v":0},64,4]
[null,{"$f":"Inscription!E9","v":"O'méga"},{"$f":"Inscription!F9","v":"Odette Côté"},null,null,null,null,null,null,null,null,null,null,null,null,null,null,null,null,{"$f":"SUMIF('14 - 15 ans F'!$B$5:$B$34,$C70,'14 - 15 ans F'!$I$5:$I$34)","v":0},{"$f":"SUMIF('14 - 15 ans F'!$B$39:$B$68,$C70,'14 - 15 ans F'!$I$39:$I$68)","v":7},{"$f":"SUMIF('14 - 15 ans F'!$B$73:$B$102,$C70,'14 - 15 ans F'!$I$73:$I$102)","v":0},{"$f":"SUMIF('14 - 15 ans F'!$B$107:$B$136,$C70,'14 - 15 ans F'!$I$107:$I$136)","v":0},{"$f":"SUMIF('14 - 15 ans F'!$B$141:$B$170,$C70,'14 - 15 ans F'!$I$141:$I$170)","v":10},{"$f":"SUMIF('14 - 15 ans F'!$B$175:$B$204,$C70,'14 - 15 ans F'!$I$175:$I$204)","v":0},{"$f":"SUMIF('14 - 15 ans F'!$B$209:$B$238,$C70,'14 - 15 ans F'!$I$209:$I$238)","v":0},17,10]
[null,{"$f":"Inscription!E10","v":"30deux"},{"$f":"Inscription!F11","v":"Rosanne Trépanier"},null,null,null,null,null,null,null,null,null,null,null,null,null,null,null,null,{"$f":"SUMIF('14 - 15 ans F'!$B$5:$B$34,$C71,'14 - 15 ans F'!$I$5:$I$34)","v":0},{"$f":"SUMIF('14 - 15 ans F'!$B$39:$B$68,$C71,'14 - 15 ans F'!$I$39:$I$68)","v":16},{"$f":"SUMIF('14 - 15 ans F'!$B$73:$B$102,$C71,'14 - 15 ans F'!$I$73:$I$102)","v":18},{"$f":"SUMIF('14 - 15 ans F'!$B$107:$B$136,$C71,'14 - 15 ans F'!$I$107:$I$136)","v":14},{"$f":"SUMIF('14 - 15 ans F'!$B$141:$B$170,$C71,'14 - 15 ans F'!$I$141:$I$170)","v":16},{"$f":"SUMIF('14 - 15 ans F'!$B$175:$B$204,$C71,'14 - 15 ans F'!$I$175:$I$204)","v":18},{"$f":"SUMIF('14 - 15 ans F'!$B$209:$B$238,$C71,'14 - 15 ans F'!$I$209:$I$238)","v":0},82,2]
[null,{"$f":"Inscription!E11","v":"CSRN"},{"$f":"Inscription!F10","v":"Alexane Thibeault"},null,null,null,null,null,null,null,null,null,null,null,null,null,null,null,null,{"$f":"SUMIF('14 - 15 ans F'!$B$5:$B$34,$C72,'14 - 15 ans F'!$I$5:$I$34)","v":0},{"$f":"SUMIF('14 - 15 ans F'!$B$39:$B$68,$C72,'14 - 15 ans F'!$I$39:$I$68)","v":13},{"$f":"SUMIF('14 - 15 ans F'!$B$73:$B$102,$C72,'14 - 15 ans F'!$I$73:$I$102)","v":11},{"$f":"SUMIF('14 - 15 ans F'!$B$107:$B$136,$C72,'14 - 15 ans F'!$I$107:$I$136)","v":11},{"$f":"SUMIF('14 - 15 ans F'!$B$141:$B$170,$C72,'14 - 15 ans F'!$I$141:$I$170)","v":0},{"$f":"SUMIF('14 - 15 ans F'!$B$175:$B$204,$C72,'14 - 15 ans F'!$I$175:$I$204)","v":0},{"$f":"SUMIF('14 - 15 ans F'!$B$209:$B$238,$C72,'14 - 15 ans F'!$I$209:$I$238)","v":0},35,9]
[null,{"$f":"Inscription!E12","v":0},{"$f":"Inscription!F12","v":0},null,null,null,null,null,null,null,null,null,null,null,null,null,null,null,null,{"$f":"SUMIF('14 - 15 ans F'!$B$5:$B$34,$C73,'14 - 15 ans F'!$I$5:$I$34)","v":0},{"$f":"SUMIF('14 - 15 ans F'!$B$39:$B$68,$C73,'14 - 15 ans F'!$I$39:$I$68)","v":0},{"$f":"SUMIF('14 - 15 ans F'!$B$73:$B$102,$C73,'14 - 15 ans F'!$I$73:$I$102)","v":0},{"$f":"SUMIF('14 - 15 ans F'!$B$107:$B$136,$C73,'14 - 15 ans F'!$I$107:$I$136)","v":0},{"$f":"SUMIF('14 - 15 ans F'!$B$141:$B$170,$C73,'14 - 15 ans F'!$I$141:$I$170)","v":0},{"$f":"SUMIF('14 - 15 ans F'!$B$175:$B$204,$C73,'14 - 15 ans F'!$I$175:$I$204)","v":0},{"$f":"SUMIF('14 - 15 ans F'!$B$209:$B$238,$C73,'14 - 15 ans F'!$I$209:$I$238)","v":0},0,11]
[null,{"$f":"Inscription!E13","v":0},{"$f":"Inscription!F13","v":0},null,null,null,null,null,null,null,null,null,null,null,null,null,null,null,null,{"$f":"SUMIF('14 - 15 ans F'!$B$5:$B$34,$C74,'14 - 15 ans F'!$I$5:$I$34)","v":0},{"$f":"SUMIF('14 - 15 ans F'!$B$39:$B$68,$C74,'14 - 15 ans F'!$I$39:$I$68)","v":0},{"$f":"SUMIF('14 - 15 ans F'!$B$73:$B$102,$C74,'14 - 15 ans F'!$I$73:$I$102)","v":0},{"$f":"SUMIF('14 - 15 ans F'!$B$107:$B$136,$C74,'14 - 15 ans F'!$I$107:$I$136)","v":0},{"$f":"SUMIF('14 - 15 ans F'!$B$141:$B$170,$C74,'14 - 15 ans F'!$I$141:$I$170)","v":0},{"$f":"SUMIF('14 - 15 ans F'!$B$175:$B$204,$C74,'14 - 15 ans F'!$I$175:$I$204)","v":0},{"$f":"SUMIF('14 - 15 ans F'!$B$209:$B$238,$C74,'14 - 15 ans F'!$I$209:$I$238)","v":0},0,11]
[null,{"$f":"Inscription!E14","v":0},{"$f":"Inscription!F14","v":0},null,null,null,null,null,null,null,null,null,null,null,null,null,null,null,null,{"$f":"SUMIF('14 - 15 ans F'!$B$5:$B$34,$C75,'14 - 15 ans F'!$I$5:$I$34)","v":0},{"$f":"SUMIF('14 - 15 ans F'!$B$39:$B$68,$C75,'14 - 15 ans F'!$I$39:$I$68)","v":0},{"$f":"SUMIF('14 - 15 ans F'!$B$73:$B$102,$C75,'14 - 15 ans F'!$I$73:$I$102)","v":0},{"$f":"SUMIF('14 - 15 ans F'!$B$107:$B$136,$C75,'14 - 15 ans F'!$I$107:$I$136)","v":0},{"$f":"SUMIF('14 - 15 ans F'!$B$141:$B$170,$C75,'14 - 15 ans F'!$I$141:$I$170)","v":0},{"$f":"SUMIF('14 - 15 ans F'!$B$175:$B$204,$C75,'14 - 15 ans F'!$I$175:$I$204)","v":0},{"$f":"SUMIF('14 - 15 ans F'!$B$209:$B$238,$C75,'14 - 15 ans F'!$I$209:$I$238)","v":0},0,11]
[null,{"$f":"Inscription!E15","v":0},{"$f":"Inscription!F15","v":0},null,null,null,null,null,null,null,null,null,null,null,null,null,null,null,null,{"$f":"SUMIF('14 - 15 ans F'!$B$5:$B$34,$C76,'14 - 15 ans F'!$I$5:$I$34)","v":0},{"$f":"SUMIF('14 - 15 ans F'!$B$39:$B$68,$C76,'14 - 15 ans F'!$I$39:$I$68)","v":0},{"$f":"SUMIF('14 - 15 ans F'!$B$73:$B$102,$C76,'14 - 15 ans F'!$I$73:$I$102)","v":0},{"$f":"SUMIF('14 - 15 ans F'!$B$107:$B$136,$C76,'14 - 15 ans F'!$I$107:$I$136)","v":0},{"$f":"SUMIF('14 - 15 ans F'!$B$141:$B$170,$C76,'14 - 15 ans F'!$I$141:$I$170)","v":0},{"$f":"SUMIF('14 - 15 ans F'!$B$175:$B$204,$C76,'14 - 15 ans F'!$I$175:$I$204)","v":0},{"$f":"SUMIF('14 - 15 ans F'!$B$209:$B$238,$C76,'14 - 15 ans F'!$I$209:$I$238)","v":0},0,11]
[null,{"$f":"Inscription!E16","v":0},{"$f":"Inscription!F16","v":0},null,null,null,null,null,null,null,null,null,null,null,null,null,null,null,null,{"$f":"SUMIF('14 - 15 ans F'!$B$5:$B$34,$C77,'14 - 15 ans F'!$I$5:$I$34)","v":0},{"$f":"SUMIF('14 - 15 ans F'!$B$39:$B$68,$C77,'14 - 15 ans F'!$I$39:$I$68)","v":0},{"$f":"SUMIF('14 - 15 ans F'!$B$73:$B$102,$C77,'14 - 15 ans F'!$I$73:$I$102)","v":0},{"$f":"SUMIF('14 - 15 ans F'!$B$107:$B$136,$C77,'14 - 15 ans F'!$I$107:$I$136)","v":0},{"$f":"SUMIF('14 - 15 ans F'!$B$141:$B$170,$C77,'14 - 15 ans F'!$I$141:$I$170)","v":0},{"$f":"SUMIF('14 - 15 ans F'!$B$175:$B$204,$C77,'14 - 15 ans F'!$I$175:$I$204)","v":0},{"$f":"SUMIF('14 - 15 ans F'!$B$209:$B$238,$C77,'14 - 15 ans F'!$I$209:$I$238)","v":0},0,11]
[null,{"$f":"Inscription!E17","v":0},{"$f":"Inscription!F17","v":0},null,null,null,null,null,null,null,null,null,null,null,null,null,null,null,null,{"$f":"SUMIF('14 - 15 ans F'!$B$5:$B$34,$C78,'14 - 15 ans F'!$I$5:$I$34)","v":0},{"$f":"SUMIF('14 - 15 ans F'!$B$39:$B$68,$C78,'14 - 15 ans F'!$I$39:$I$68)","v":0},{"$f":"SUMIF('14 - 15 ans F'!$B$73:$B$102,$C78,'14 - 15 ans F'!$I$73:$I$102)","v":0},{"$f":"SUMIF('14 - 15 ans F'!$B$107:$B$136,$C78,'14 - 15 ans F'!$I$107:$I$136)","v":0},{"$f":"SUMIF('14 - 15 ans F'!$B$141:$B$170,$C78,'14 - 15 ans F'!$I$141:$I$170)","v":0},{"$f":"SUMIF('14 - 15 ans F'!$B$175:$B$204,$C78,'14 - 15 ans F'!$I$175:$I$204)","v":0},{"$f":"SUMIF('14 - 15 ans F'!$B$209:$B$238,$C78,'14 - 15 ans F'!$I$209:$I$238)","v":0},0,11]
[null,{"$f":"Inscription!E18","v":0},{"$f":"Inscription!F18","v":0},null,null,null,null,null,null,null,null,null,null,null,null,null,null,null,null,{"$f":"SUMIF('14 - 15 ans F'!$B$5:$B$34,$C79,'14 - 15 ans F'!$I$5:$I$34)","v":0},{"$f":"SUMIF('14 - 15 ans F'!$B$39:$B$68,$C79,'14 - 15 ans F'!$I$39:$I$68)","v":0},{"$f":"SUMIF('14 - 15 ans F'!$B$73:$B$102,$C79,'14 - 15 ans F'!$I$73:$I$102)","v":0},{"$f":"SUMIF('14 - 15 ans F'!$B$107:$B$136,$C79,'14 - 15 ans F'!$I$107:$I$136)","v":0},{"$f":"SUMIF('14 - 15 ans F'!$B$141:$B$170,$C79,'14 - 15 ans F'!$I$141:$I$170)","v":0},{"$f":"SUMIF('14 - 15 ans F'!$B$175:$B$204,$C79,'14 - 15 ans F'!$I$175:$I$204)","v":0},{"$f":"SUMIF('14 - 15 ans F'!$B$209:$B$238,$C79,'14 - 15 ans F'!$I$209:$I$238)","v":0},0,11]
[null,{"$f":"Inscription!E19","v":0},{"$f":"Inscription!F19","v":0},null,null,null,null,null,null,null,null,null,null,null,null,null,null,null,null,{"$f":"SUMIF('14 - 15 ans F'!$B$5:$B$34,$C80,'14 - 15 ans F'!$I$5:$I$34)","v":0},{"$f":"SUMIF('14 - 15 ans F'!$B$39:$B$68,$C80,'14 - 15 ans F'!$I$39:$I$68)","v":0},{"$f":"SUMIF('14 - 15 ans F'!$B$73:$B$102,$C80,'14 - 15 ans F'!$I$73:$I$102)","v":0},{"$f":"SUMIF('14 - 15 ans F'!$B$107:$B$136,$C80,'14 - 15 ans F'!$I$107:$I$136)","v":0},{"$f":"SUMIF('14 - 15 ans F'!$B$141:$B$170,$C80,'14 - 15 ans F'!$I$141:$I$170)","v":0},{"$f":"SUMIF('14 - 15 ans F'!$B$175:$B$204,$C80,'14 - 15 ans F'!$I$175:$I$204)","v":0},{"$f":"SUMIF('14 - 15 ans F'!$B$209:$B$238,$C80,'14 - 15 ans F'!$I$209:$I$238)","v":0},0,11]
[null,{"$f":"Inscription!E20","v":0},{"$f":"Inscription!F20","v":0},null,null,null,null,null,null,null,null,null,null,null,null,null,null,null,null,{"$f":"SUMIF('14 - 15 ans F'!$B$5:$B$34,$C81,'14 - 15 ans F'!$I$5:$I$34)","v":0},{"$f":"SUMIF('14 - 15 ans F'!$B$39:$B$68,$C81,'14 - 15 ans F'!$I$39:$I$68)","v":0},{"$f":"SUMIF('14 - 15 ans F'!$B$73:$B$102,$C81,'14 - 15 ans F'!$I$73:$I$102)","v":0},{"$f":"SUMIF('14 - 15 ans F'!$B$107:$B$136,$C81,'14 - 15 ans F'!$I$107:$I$136)","v":0},{"$f":"SUMIF('14 - 15 ans F'!$B$141:$B$170,$C81,'14 - 15 ans F'!$I$141:$I$170)","v":0},{"$f":"SUMIF('14 - 15 ans F'!$B$175:$B$204,$C81,'14 - 15 ans F'!$I$175:$I$204)","v":0},{"$f":"SUMIF('14 - 15 ans F'!$B$209:$B$238,$C81,'14 - 15 ans F'!$I$209:$I$238)","v":0},0,11]
[null,{"$f":"Inscription!E21","v":0},{"$f":"Inscription!F21","v":0},null,null,null,null,null,null,null,null,null,null,null,null,null,null,null,null,{"$f":"SUMIF('14 - 15 ans F'!$B$5:$B$34,$C82,'14 - 15 ans F'!$I$5:$I$34)","v":0},{"$f":"SUMIF('14 - 15 ans F'!$B$39:$B$68,$C82,'14 - 15 ans F'!$I$39:$I$68)","v":0},{"$f":"SUMIF('14 - 15 ans F'!$B$73:$B$102,$C82,'14 - 15 ans F'!$I$73:$I$102)","v":0},{"$f":"SUMIF('14 - 15 ans F'!$B$107:$B$136,$C82,'14 - 15 ans F'!$I$107:$I$136)","v":0},{"$f":"SUMIF('14 - 15 ans F'!$B$141:$B$170,$C82,'14 - 15 ans F'!$I$141:$I$170)","v":0},{"$f":"SUMIF('14 - 15 ans F'!$B$175:$B$204,$C82,'14 - 15 ans F'!$I$175:$I$204)","v":0},{"$f":"SUMIF('14 - 15 ans F'!$B$209:$B$238,$C82,'14 - 15 ans F'!$I$209:$I$238)","v":0},0,11]
[null,{"$f":"Inscription!E22","v":0},{"$f":"Inscription!F22","v":0},null,null,null,null,null,null,null,null,null,null,null,null,null,null,null,null,{"$f":"SUMIF('14 - 15 ans F'!$B$5:$B$34,$C83,'14 - 15 ans F'!$I$5:$I$34)","v":0},{"$f":"SUMIF('14 - 15 ans F'!$B$39:$B$68,$C83,'14 - 15 ans F'!$I$39:$I$68)","v":0},{"$f":"SUMIF('14 - 15 ans F'!$B$73:$B$102,$C83,'14 - 15 ans F'!$I$73:$I$102)","v":0},{"$f":"SUMIF('14 - 15 ans F'!$B$107:$B$136,$C83,'14 - 15 ans F'!$I$107:$I$136)","v":0},{"$f":"SUMIF('14 - 15 ans F'!$B$141:$B$170,$C83,'14 - 15 ans F'!$I$141:$I$170)","v":0},{"$f":"SUMIF('14 - 15 ans F'!$B$175:$B$204,$C83,'14 - 15 ans F'!$I$175:$I$204)","v":0},{"$f":"SUMIF('14 - 15 ans F'!$B$209:$B$238,$C83,'14 - 15 ans F'!$I$209:$I$238)","v":0},0,11]
[null,{"$f":"Inscription!E23","v":0},{"$f":"Inscription!F23","v":0},null,null,null,null,null,null,null,null,null,null,null,null,null,null,null,null,{"$f":"SUMIF('14 - 15 ans F'!$B$5:$B$34,$C84,'14 - 15 ans F'!$I$5:$I$34)","v":0},{"$f":"SUMIF('14 - 15 ans F'!$B$39:$B$68,$C84,'14 - 15 ans F'!$I$39:$I$68)","v":0},{"$f":"SUMIF('14 - 15 ans F'!$B$73:$B$102,$C84,'14 - 15 ans F'!$I$73:$I$102)","v":0},{"$f":"SUMIF('14 - 15 ans F'!$B$107:$B$136,$C84,'14 - 15 ans F'!$I$107:$I$136)","v":0},{"$f":"SUMIF('14 - 15 ans F'!$B$141:$B$170,$C84,'14 - 15 ans F'!$I$141:$I$170)","v":0},{"$f":"SUMIF('14 - 15 ans F'!$B$175:$B$204,$C84,'14 - 15 ans F'!$I$175:$I$204)","v":0},{"$f":"SUMIF('14 - 15 ans F'!$B$209:$B$238,$C84,'14 - 15 ans F'!$I$209:$I$238)","v":0},0,11]
[null,{"$f":"Inscription!E24","v":0},{"$f":"Inscription!F24","v":0},null,null,null,null,null,null,null,null,null,null,null,null,null,null,null,null,{"$f":"SUMIF('14 - 15 ans F'!$B$5:$B$34,$C85,'14 - 15 ans F'!$I$5:$I$34)","v":0},{"$f":"SUMIF('14 - 15 ans F'!$B$39:$B$68,$C85,'14 - 15 ans F'!$I$39:$I$68)","v":0},{"$f":"SUMIF('14 - 15 ans F'!$B$73:$B$102,$C85,'14 - 15 ans F'!$I$73:$I$102)","v":0},{"$f":"SUMIF('14 - 15 ans F'!$B$107:$B$136,$C85,'14 - 15 ans F'!$I$107:$I$136)","v":0},{"$f":"SUMIF('14 - 15 ans F'!$B$141:$B$170,$C85,'14 - 15 ans F'!$I$141:$I$170)","v":0},{"$f":"SUMIF('14 - 15 ans F'!$B$175:$B$204,$C85,'14 - 15 ans F'!$I$175:$I$204)","v":0},{"$f":"SUMIF('14 - 15 ans F'!$B$209:$B$238,$C85,'14 - 15 ans F'!$I$209:$I$238)","v":0},0,11]
[null,{"$f":"Inscription!E25","v":0},{"$f":"Inscription!F25","v":0},null,null,null,null,null,null,null,null,null,null,null,null,null,null,null,null,{"$f":"SUMIF('14 - 15 ans F'!$B$5:$B$34,$C86,'14 - 15 ans F'!$I$5:$I$34)","v":0},{"$f":"SUMIF('14 - 15 ans F'!$B$39:$B$68,$C86,'14 - 15 ans F'!$I$39:$I$68)","v":0},{"$f":"SUMIF('14 - 15 ans F'!$B$73:$B$102,$C86,'14 - 15 ans F'!$I$73:$I$102)","v":0},{"$f":"SUMIF('14 - 15 ans F'!$B$107:$B$136,$C86,'14 - 15 ans F'!$I$107:$I$136)","v":0},{"$f":"SUMIF('14 - 15 ans F'!$B$141:$B$170,$C86,'14 - 15 ans F'!$I$141:$I$170)","v":0},{"$f":"SUMIF('14 - 15 ans F'!$B$175:$B$204,$C86,'14 - 15 ans F'!$I$175:$I$204)","v":0},{"$f":"SUMIF('14 - 15 ans F'!$B$209:$B$238,$C86,'14 - 15 ans F'!$I$209:$I$238)","v":0},0,11]
[null,{"$f":"Inscription!E26","v":0},{"$f":"Inscription!F26","v":0},null,null,null,null,null,null,null,null,null,null,null,null,null,null,null,null,{"$f":"SUMIF('14 - 15 ans F'!$B$5:$B$34,$C87,'14 - 15 ans F'!$I$5:$I$34)","v":0},{"$f":"SUMIF('14 - 15 ans F'!$B$39:$B$68,$C87,'14 - 15 ans F'!$I$39:$I$68)","v":0},{"$f":"SUMIF('14 - 15 ans F'!$B$73:$B$102,$C87,'14 - 15 ans F'!$I$73:$I$102)","v":0},{"$f":"SUMIF('14 - 15 ans F'!$B$107:$B$136,$C87,'14 - 15 ans F'!$I$107:$I$136)","v":0},{"$f":"SUMIF('14 - 15 ans F'!$B$141:$B$170,$C87,'14 - 15 ans F'!$I$141:$I$170)","v":0},{"$f":"SUMIF('14 - 15 ans F'!$B$175:$B$204,$C87,'14 - 15 ans F'!$I$175:$I$204)","v":0},{"$f":"SUMIF('14 - 15 ans F'!$B$209:$B$238,$C87,'14 - 15 ans F'!$I$209:$I$238)","v":0},0,11]
[null,{"$f":"Inscription!E27","v":0},{"$f":"Inscription!F27","v":0},null,null,null,null,null,null,null,null,null,null,null,null,null,null,null,null,{"$f":"SUMIF('14 - 15 ans F'!$B$5:$B$34,$C88,'14 - 15 ans F'!$I$5:$I$34)","v":0},{"$f":"SUMIF('14 - 15 ans F'!$B$39:$B$68,$C88,'14 - 15 ans F'!$I$39:$I$68)","v":0},{"$f":"SUMIF('14 - 15 ans F'!$B$73:$B$102,$C88,'14 - 15 ans F'!$I$73:$I$102)","v":0},{"$f":"SUMIF('14 - 15 ans F'!$B$107:$B$136,$C88,'14 - 15 ans F'!$I$107:$I$136)","v":0},{"$f":"SUMIF('14 - 15 ans F'!$B$141:$B$170,$C88,'14 - 15 ans F'!$I$141:$I$170)","v":0},{"$f":"SUMIF('14 - 15 ans F'!$B$175:$B$204,$C88,'14 - 15 ans F'!$I$175:$I$204)","v":0},{"$f":"SUMIF('14 - 15 ans F'!$B$209:$B$238,$C88,'14 - 15 ans F'!$I$209:$I$238)","v":0},0,11]
[null,{"$f":"Inscription!E28","v":0},{"$f":"Inscription!F28","v":0},null,null,null,null,null,null,null,null,null,null,null,null,null,null,null,null,{"$f":"SUMIF('14 - 15 ans F'!$B$5:$B$34,$C89,'14 - 15 ans F'!$I$5:$I$34)","v":0},{"$f":"SUMIF('14 - 15 ans F'!$B$39:$B$68,$C89,'14 - 15 ans F'!$I$39:$I$68)","v":0},{"$f":"SUMIF('14 - 15 ans F'!$B$73:$B$102,$C89,'14 - 15 ans F'!$I$73:$I$102)","v":0},{"$f":"SUMIF('14 - 15 ans F'!$B$107:$B$136,$C89,'14 - 15 ans F'!$I$107:$I$136)","v":0},{"$f":"SUMIF('14 - 15 ans F'!$B$141:$B$170,$C89,'14 - 15 ans F'!$I$141:$I$170)","v":0},{"$f":"SUMIF('14 - 15 ans F'!$B$175:$B$204,$C89,'14 - 15 ans F'!$I$175:$I$204)","v":0},{"$f":"SUMIF('14 - 15 ans F'!$B$209:$B$238,$C89,'14 - 15 ans F'!$I$209:$I$238)","v":0},0,11]
[null,{"$f":"Inscription!E29","v":0},{"$f":"Inscription!F29","v":0},null,null,null,null,null,null,null,null,null,null,null,null,null,null,null,null,{"$f":"SUMIF('14 - 15 ans F'!$B$5:$B$34,$C90,'14 - 15 ans F'!$I$5:$I$34)","v":0},{"$f":"SUMIF('14 - 15 ans F'!$B$39:$B$68,$C90,'14 - 15 ans F'!$I$39:$I$68)","v":0},{"$f":"SUMIF('14 - 15 ans F'!$B$73:$B$102,$C90,'14 - 15 ans F'!$I$73:$I$102)","v":0},{"$f":"SUMIF('14 - 15 ans F'!$B$107:$B$136,$C90,'14 - 15 ans F'!$I$107:$I$136)","v":0},{"$f":"SUMIF('14 - 15 ans F'!$B$141:$B$170,$C90,'14 - 15 ans F'!$I$141:$I$170)","v":0},{"$f":"SUMIF('14 - 15 ans F'!$B$175:$B$204,$C90,'14 - 15 ans F'!$I$175:$I$204)","v":0},{"$f":"SUMIF('14 - 15 ans F'!$B$209:$B$238,$C90,'14 - 15 ans F'!$I$209:$I$238)","v":0},0,11]
[null,{"$f":"Inscription!E30","v":0},{"$f":"Inscription!F30","v":0},null,null,null,null,null,null,null,null,null,null,null,null,null,null,null,null,{"$f":"SUMIF('14 - 15 ans F'!$B$5:$B$34,$C91,'14 - 15 ans F'!$I$5:$I$34)","v":0},{"$f":"SUMIF('14 - 15 ans F'!$B$39:$B$68,$C91,'14 - 15 ans F'!$I$39:$I$68)","v":0},{"$f":"SUMIF('14 - 15 ans F'!$B$73:$B$102,$C91,'14 - 15 ans F'!$I$73:$I$102)","v":0},{"$f":"SUMIF('14 - 15 ans F'!$B$107:$B$136,$C91,'14 - 15 ans F'!$I$107:$I$136)","v":0},{"$f":"SUMIF('14 - 15 ans F'!$B$141:$B$170,$C91,'14 - 15 ans F'!$I$141:$I$170)","v":0},{"$f":"SUMIF('14 - 15 ans F'!$B$175:$B$204,$C91,'14 - 15 ans F'!$I$175:$I$204)","v":0},{"$f":"SUMIF('14 - 15 ans F'!$B$209:$B$238,$C91,'14 - 15 ans F'!$I$209:$I$238)","v":0},0,11]
[null,{"$f":"Inscription!E31","v":0},{"$f":"Inscription!F31","v":0},null,null,null,null,null,null,null,null,null,null,null,null,null,null,null,null,{"$f":"SUMIF('14 - 15 ans F'!$B$5:$B$34,$C92,'14 - 15 ans F'!$I$5:$I$34)","v":0},{"$f":"SUMIF('14 - 15 ans F'!$B$39:$B$68,$C92,'14 - 15 ans F'!$I$39:$I$68)","v":0},{"$f":"SUMIF('14 - 15 ans F'!$B$73:$B$102,$C92,'14 - 15 ans F'!$I$73:$I$102)","v":0},{"$f":"SUMIF('14 - 15 ans F'!$B$107:$B$136,$C92,'14 - 15 ans F'!$I$107:$I$136)","v":0},{"$f":"SUMIF('14 - 15 ans F'!$B$141:$B$170,$C92,'14 - 15 ans F'!$I$141:$I$170)","v":0},{"$f":"SUMIF('14 - 15 ans F'!$B$175:$B$204,$C92,'14 - 15 ans F'!$I$175:$I$204)","v":0},{"$f":"SUMIF('14 - 15 ans F'!$B$209:$B$238,$C92,'14 - 15 ans F'!$I$209:$I$238)","v":0},0,11]
["14 - 15 ans \nHomme",{"$f":"Inscription!G2","v":"Dam'eauclès"},{"$f":"Inscription!H2","v":"Jacob Rousson"},null,null,null,null,null,null,null,null,null,null,null,null,null,null,null,null,null,null,null,null,null,null,null,null,null,{"$f":"SUMIF('14 - 15 ans H'!$B$5:$B$34,$C93,'14 - 15 ans H'!$I$5:$I$34)","v":0},{"$f":"SUMIF('14 - 15 ans H'!$B$39:$B$68,$C93,'14 - 15 ans H'!$I$39:$I$68)","v":18},{"$f":"SUMIF('14 - 15 ans H'!$B$73:$B$102,$C93,'14 - 15 ans H'!$I$73:$I$102)","v":16},{"$f":"SUMIF('14 - 15 ans H'!$B$107:$B$136,$C93,'14 - 15 ans H'!$I$107:$I$136)","v":12},{"$f":"SUMIF('14 - 15 ans H'!$B$141:$B$170,$C93,'14 - 15 ans H'!$I$141:$I$170)","v":13},{"$f":"SUMIF('14 - 15 ans H'!$B$175:$B$204,$C93,'14 - 15 ans H'!$I$175:$I$204)","v":16},{"$f":"SUMIF('14 - 15 ans H'!$B$209:$B$238,$C93,'14 - 15 ans H'!$I$209:$I$238)","v":0},{"$f":"SUM(AD93+AE93+AF93+AH93+AG93)","v":75},{"$f":"RANK(AJ93,$AJ$93:$AJ$122)","v":3}]
[null,{"$f":"Inscription!G3","v":"Dam'eauclès"},{"$f":"Inscription!H3","v":"Julien Turgeon"},null,null,null,null,null,null,null,null,null,null,null,null,null,null,null,null,null,null,null,null,null,null,null,null,null,{"$f":"SUMIF('14 - 15 ans H'!$B$5:$B$34,$C94,'14 - 15 ans H'!$I$5:$I$34)","v":0},{"$f":"SUMIF('14 - 15 ans H'!$B$39:$B$68,$C94,'14 - 15 ans H'!$I$39:$I$68)","v":20},{"$f":"SUMIF('14 - 15 ans H'!$B$73:$B$102,$C94,'14 - 15 ans H'!$I$73:$I$102)","v":20},{"$f":"SUMIF('14 - 15 ans H'!$B$107:$B$136,$C94,'14 - 15 ans H'!$I$107:$I$136)","v":20},{"$f":"SUMIF('14 - 15 ans H'!$B$141:$B$170,$C94,'14 - 15 ans H'!$I$141:$I$170)","v":20},{"$f":"SUMIF('14 - 15 ans H'!$B$175:$B$204,$C94,'14 - 15 ans H'!$I$175:$I$204)","v":20},{"$f":"SUMIF('14 - 15 ans H'!$B$209:$B$238,$C94,'14 - 15 ans H'!$I$209:$I$238)","v":0},{"$f":"SUM(AD94+AE94+AF94+AH94+AG94)","v":100},{"$f":"RANK(AJ94,$AJ$93:$AJ$122)","v":1}]
[null,{"$f":"Inscription!G4","v":"Dam'eauclès"},{"$f":"Inscription!H4","v":"James Willamson"},null,null,null,null,null,null,null,null,null,null,null,null,null,null,null,null,null,null,null,null,null,null,null,null,null,{"$f":"SUMIF('14 - 15 ans H'!$B$5:$B$34,$C95,'14 - 15 ans H'!$I$5:$I$34)","v":0},{"$f":"SUMIF('14 - 15 ans H'!$B$39:$B$68,$C95,'14 - 15 ans H'!$I$39:$I$68)","v":13},{"$f":"SUMIF('14 - 15 ans H'!$B$73:$B$102,$C95,'14 - 15 ans H'!$I$73:$I$102)","v":11},{"$f":"SUMIF('14 - 15 ans H'!$B$107:$B$136,$C95,'14 - 15 ans H'!$I$107:$I$136)","v":11},{"$f":"SUMIF('14 - 15 ans H'!$B$141:$B$170,$C95,'14 - 15 ans H'!$I$141:$I$170)","v":11},{"$f":"SUMIF('14 - 15 ans H'!$B$175:$B$204,$C95,'14 - 15 ans H'!$I$175:$I$204)","v":11},{"$f":"SUMIF('14 - 15 ans H'!$B$209:$B$238,$C95,'14 - 15 ans H'!$I$209:$I$238)","v":0},57,6]
[null,{"$f":"Inscription!G5","v":"CSRAD"},{"$f":"Inscription!H5","v":"Alexandre Vincent"},null,null,null,null,null,null,null,null,null,null,null,null,null,null,null,null,null,null,null,null,null,null,null,null,null,{"$f":"SUMIF('14 - 15 ans H'!$B$5:$B$34,$C96,'14 - 15 ans H'!$I$5:$I$34)","v":0},{"$f":"SUMIF('14 - 15 ans H'!$B$39:$B$68,$C96,'14 - 15 ans H'!$I$39:$I$68)","v":14},{"$f":"SUMIF('14 - 15 ans H'!$B$73:$B$102,$C96,'14 - 15 ans H'!$I$73:$I$102)","v":12},{"$f":"SUMIF('14 - 15 ans H'!$B$107:$B$136,$C96,'14 - 15 ans H'!$I$107:$I$136)","v":13},{"$f":"SUMIF('14 - 15 ans H'!$B$141:$B$170,$C96,'14 - 15 ans H'!$I$141:$I$170)","v":12},{"$f":"SUMIF('14 - 15 ans H'!$B$175:$B$204,$C96,'14 - 15 ans H'!$I$175:$I$204)","v":12},{"$f":"SUMIF('14 - 15 ans H'!$B$209:$B$238,$C96,'14 - 15 ans H'!$I$209:$I$238)","v":0},63,5]
[null,{"$f":"Inscription!G6","v":"CSRN"},{"$f":"Inscription!H6","v":"Malik Romdhani"},null,null,null,null,null,null,null,null,null,null,null,null,null,null,null,null,null,null,null,null,null,null,null,null,null,{"$f":"SUMIF('14 - 15 ans H'!$B$5:$B$34,$C97,'14 - 15 ans H'!$I$5:$I$34)","v":0},{"$f":"SUMIF('14 - 15 ans H'!$B$39:$B$68,$C97,'14 - 15 ans H'!$I$39:$I$68)","v":16},{"$f":"SUMIF('14 - 15 ans H'!$B$73:$B$102,$C97,'14 - 15 ans H'!$I$73:$I$102)","v":14},{"$f":"SUMIF('14 - 15 ans H'!$B$107:$B$136,$C97,'14 - 15 ans H'!$I$107:$I$136)","v":16},{"$f":"SUMIF('14 - 15 ans H'!$B$141:$B$170,$C97,'14 - 15 ans H'!$I$141:$I$170)","v":18},{"$f":"SUMIF('14 - 15 ans H'!$B$175:$B$204,$C97,'14 - 15 ans H'!$I$175:$I$204)","v":14},{"$f":"SUMIF('14 - 15 ans H'!$B$209:$B$238,$C97,'14 - 15 ans H'!$I$209:$I$238)","v":0},78,2]
[null,{"$f":"Inscription!G7","v":"CSRN"},{"$f":"Inscription!H7","v":"Jonathan St-Roch"},null,null,null,null,null,null,null,null,null,null,null,null,null,null,null,null,null,null,null,null,null,null,null,null,null,{"$f":"SUMIF('14 - 15 ans H'!$B$5:$B$34,$C98,'14 - 15 ans H'!$I$5:$I$34)","v":0},{"$f":"SUMIF('14 - 15 ans H'!$B$39:$B$68,$C98,'14 - 15 ans H'!$I$39:$I$68)","v":0},{"$f":"SUMIF('14 - 15 ans H'!$B$73:$B$102,$C98,'14 - 15 ans H'!$I$73:$I$102)","v":18},{"$f":"SUMIF('14 - 15 ans H'!$B$107:$B$136,$C98,'14 - 15 ans H'!$I$107:$I$136)","v":18},{"$f":"SUMIF('14 - 15 ans H'!$B$141:$B$170,$C98,'14 - 15 ans H'!$I$141:$I$170)","v":16},{"$f":"SUMIF('14 - 15 ans H'!$B$175:$B$204,$C98,'14 - 15 ans H'!$I$175:$I$204)","v":18},{"$f":"SUMIF('14 - 15 ans H'!$B$209:$B$238,$C98,'14 - 15 ans H'!$I$209:$I$238)","v":0},70,4]
[null,{"$f":"Inscription!G8","v":"Gatineau"},{"$f":"Inscription!H8","v":"Vincent Marsclais"},null,null,null,null,null,null,null,null,null,null,null,null,null,null,null,null,null,null,null,null,null,null,null,null,null,{"$f":"SUMIF('14 - 15 ans H'!$B$5:$B$34,$C99,'14 - 15 ans H'!$I$5:$I$34)","v":0},{"$f":"SUMIF('14 - 15 ans H'!$B$39:$B$68,$C99,'14 - 15 ans H'!$I$39:$I$68)","v":0},{"$f":"SUMIF('14 - 15 ans H'!$B$73:$B$102,$C99,'14 - 15 ans H'!$I$73:$I$102)","v":0},{"$f":"SUMIF('14 - 15 ans H'!$B$107:$B$136,$C99,'14 - 15 ans H'!$I$107:$I$136)","v":0},{"$f":"SUMIF('14 - 15 ans H'!$B$141:$B$170,$C99,'14 - 15 ans H'!$I$141:$I$170)","v":0},{"$f":"SUMIF('14 - 15 ans H'!$B$175:$B$204,$C99,'14 - 15 ans H'!$I$175:$I$204)","v":0},{"$f":"SUMIF('14 - 15 ans H'!$B$209:$B$238,$C99,'14 - 15 ans H'!$I$209:$I$238)","v":0},0,8]
[null,{"$f":"Inscription!G9","v":"Gatineau"},{"$f":"Inscription!H9","v":"Benjamin Lapointe"},null,null,null,null,null,null,null,null,null,null,null,null,null,null,null,null,null,null,null,null,null,null,null,null,null,{"$f":"SUMIF('14 - 15 ans H'!$B$5:$B$34,$C100,'14 - 15 ans H'!$I$5:$I$34)","v":0},{"$f":"SUMIF('14 - 15 ans H'!$B$39:$B$68,$C100,'14 - 15 ans H'!$I$39:$I$68)","v":0},{"$f":"SUMIF('14 - 15 ans H'!$B$73:$B$102,$C100,'14 - 15 ans H'!$I$73:$I$102)","v":13},{"$f":"SUMIF('14 - 15 ans H'!$B$107:$B$136,$C100,'14 - 15 ans H'!$I$107:$I$136)","v":14},{"$f":"SUMIF('14 - 15 ans H'!$B$141:$B$170,$C100,'14 - 15 ans H'!$I$141:$I$170)","v":14},{"$f":"SUMIF('14 - 15 ans H'!$B$175:$B$204,$C100,'14 - 15 ans H'!$I$175:$I$204)","v":13},{"$f":"SUMIF('14 - 15 ans H'!$B$209:$B$238,$C100,'14 - 15 ans H'!$I$209:$I$238)","v":0},54,7]
[null,{"$f":"Inscription!G10","v":0},{"$f":"Inscription!H10","v":0},null,null,null,null,null,null,null,null,null,null,null,null,null,null,null,null,null,null,null,null,null,null,null,null,null,{"$f":"SUMIF('14 - 15 ans H'!$B$5:$B$34,$C101,'14 - 15 ans H'!$I$5:$I$34)","v":0},{"$f":"SUMIF('14 - 15 ans H'!$B$39:$B$68,$C101,'14 - 15 ans H'!$I$39:$I$68)","v":0},{"$f":"SUMIF('14 - 15 ans H'!$B$73:$B$102,$C101,'14 - 15 ans H'!$I$73:$I$102)","v":0},{"$f":"SUMIF('14 - 15 ans H'!$B$107:$B$136,$C101,'14 - 15 ans H'!$I$107:$I$136)","v":0},{"$f":"SUMIF('14 - 15 ans H'!$B$141:$B$170,$C101,'14 - 15 ans H'!$I$141:$I$170)","v":0},{"$f":"SUMIF('14 - 15 ans H'!$B$175:$B$204,$C101,'14 - 15 ans H'!$I$175:$I$204)","v":0},{"$f":"SUMIF('14 - 15 ans H'!$B$209:$B$238,$C101,'14 - 15 ans H'!$I$209:$I$238)","v":0},0,8]
[null,{"$f":"Inscription!G11","v":0},{"$f":"Inscription!H11","v":0},null,null,null,null,null,null,null,null,null,null,null,null,null,null,null,null,null,null,null,null,null,null,null,null,null,{"$f":"SUMIF('14 - 15 ans H'!$B$5:$B$34,$C102,'14 - 15 ans H'!$I$5:$I$34)","v":0},{"$f":"SUMIF('14 - 15 ans H'!$B$39:$B$68,$C102,'14 - 15 ans H'!$I$39:$I$68)","v":0},{"$f":"SUMIF('14 - 15 ans H'!$B$73:$B$102,$C102,'14 - 15 ans H'!$I$73:$I$102)","v":0},{"$f":"SUMIF('14 - 15 ans H'!$B$107:$B$136,$C102,'14 - 15 ans H'!$I$107:$I$136)","v":0},{"$f":"SUMIF('14 - 15 ans H'!$B$141:$B$170,$C102,'14 - 15 ans H'!$I$141:$I$170)","v":0},{"$f":"SUMIF('14 - 15 ans H'!$B$175:$B$204,$C102,'14 - 15 ans H'!$I$175:$I$204)","v":0},{"$f":"SUMIF('14 - 15 ans H'!$B$209:$B$238,$C102,'14 - 15 ans H'!$I$209:$I$238)","v":0},0,8]
[null,{"$f":"Inscription!G12","v":0},{"$f":"Inscription!H12","v":0},null,null,null,null,null,null,null,null,null,null,null,null,null,null,null,null,null,null,null,null,null,null,null,null,null,{"$f":"SUMIF('14 - 15 ans H'!$B$5:$B$34,$C103,'14 - 15 ans H'!$I$5:$I$34)","v":0},{"$f":"SUMIF('14 - 15 ans H'!$B$39:$B$68,$C103,'14 - 15 ans H'!$I$39:$I$68)","v":0},{"$f":"SUMIF('14 - 15 ans H'!$B$73:$B$102,$C103,'14 - 15 ans H'!$I$73:$I$102)","v":0},{"$f":"SUMIF('14 - 15 ans H'!$B$107:$B$136,$C103,'14 - 15 ans H'!$I$107:$I$136)","v":0},{"$f":"SUMIF('14 - 15 ans H'!$B$141:$B$170,$C103,'14 - 15 ans H'!$I$141:$I$170)","v":0},{"$f":"SUMIF('14 - 15 ans H'!$B$175:$B$204,$C103,'14 - 15 ans H'!$I$175:$I$204)","v":0},{"$f":"SUMIF('14 - 15 ans H'!$B$209:$B$238,$C103,'14 - 15 ans H'!$I$209:$I$238)","v":0},0,8]
[null,{"$f":"Inscription!G13","v":0},{"$f":"Inscription!H13","v":0},null,null,null,null,null,null,null,null,null,null,null,null,null,null,null,null,null,null,null,null,null,null,null,null,null,{"$f":"SUMIF('14 - 15 ans H'!$B$5:$B$34,$C104,'14 - 15 ans H'!$I$5:$I$34)","v":0},{"$f":"SUMIF('14 - 15 ans H'!$B$39:$B$68,$C104,'14 - 15 ans H'!$I$39:$I$68)","v":0},{"$f":"SUMIF('14 - 15 ans H'!$B$73:$B$102,$C104,'14 - 15 ans H'!$I$73:$I$102)","v":0},{"$f":"SUMIF('14 - 15 ans H'!$B$107:$B$136,$C104,'14 - 15 ans H'!$I$107:$I$136)","v":0},{"$f":"SUMIF('14 - 15 ans H'!$B$141:$B$170,$C104,'14 - 15 ans H'!$I$141:$I$170)","v":0},{"$f":"SUMIF('14 - 15 ans H'!$B$175:$B$204,$C104,'14 - 15 ans H'!$I$175:$I$204)","v":0},{"$f":"SUMIF('14 - 15 ans H'!$B$209:$B$238,$C104,'14 - 15 ans H'!$I$209:$I$238)","v":0},0,8]
[null,{"$f":"Inscription!G14","v":0},{"$f":"Inscription!H14","v":0},null,null,null,null,null,null,null,null,null,null,null,null,null,null,null,null,null,null,null,null,null,null,null,null,null,{"$f":"SUMIF('14 - 15 ans H'!$B$5:$B$34,$C105,'14 - 15 ans H'!$I$5:$I$34)","v":0},{"$f":"SUMIF('14 - 15 ans H'!$B$39:$B$68,$C105,'14 - 15 ans H'!$I$39:$I$68)","v":0},{"$f":"SUMIF('14 - 15 ans H'!$B$73:$B$102,$C105,'14 - 15 ans H'!$I$73:$I$102)","v":0},{"$f":"SUMIF('14 - 15 ans H'!$B$107:$B$136,$C105,'14 - 15 ans H'!$I$107:$I$136)","v":0},{"$f":"SUMIF('14 - 15 ans H'!$B$141:$B$170,$C105,'14 - 15 ans H'!$I$141:$I$170)","v":0},{"$f":"SUMIF('14 - 15 ans H'!$B$175:$B$204,$C105,'14 - 15 ans H'!$I$175:$I$204)","v":0},{"$f":"SUMIF('14 - 15 ans H'!$B$209:$B$238,$C105,'14 - 15 ans H'!$I$209:$I$238)","v":0},0,8]
[null,{"$f":"Inscription!G15","v":0},{"$f":"Inscription!H15","v":0},null,null,null,null,null,null,null,null,null,null,null,null,null,null,null,null,null,null,null,null,null,null,null,null,null,{"$f":"SUMIF('14 - 15 ans H'!$B$5:$B$34,$C106,'14 - 15 ans H'!$I$5:$I$34)","v":0},{"$f":"SUMIF('14 - 15 ans H'!$B$39:$B$68,$C106,'14 - 15 ans H'!$I$39:$I$68)","v":0},{"$f":"SUMIF('14 - 15 ans H'!$B$73:$B$102,$C106,'14 - 15 ans H'!$I$73:$I$102)","v":0},{"$f":"SUMIF('14 - 15 ans H'!$B$107:$B$136,$C106,'14 - 15 ans H'!$I$107:$I$136)","v":0},{"$f":"SUMIF('14 - 15 ans H'!$B$141:$B$170,$C106,'14 - 15 ans H'!$I$141:$I$170)","v":0},{"$f":"SUMIF('14 - 15 ans H'!$B$175:$B$204,$C106,'14 - 15 ans H'!$I$175:$I$204)","v":0},{"$f":"SUMIF('14 - 15 ans H'!$B$209:$B$238,$C106,'14 - 15 ans H'!$I$209:$I$238)","v":0},0,8]
[null,{"$f":"Inscription!G16","v":0},{"$f":"Inscription!H16","v":0},null,null,null,null,null,null,null,null,null,null,null,null,null,null,null,null,null,null,null,null,null,null,null,null,null,{"$f":"SUMIF('14 - 15 ans H'!$B$5:$B$34,$C107,'14 - 15 ans H'!$I$5:$I$34)","v":0},{"$f":"SUMIF('14 - 15 ans H'!$B$39:$B$68,$C107,'14 - 15 ans H'!$I$39:$I$68)","v":0},{"$f":"SUMIF('14 - 15 ans H'!$B$73:$B$102,$C107,'14 - 15 ans H'!$I$73:$I$102)","v":0},{"$f":"SUMIF('14 - 15 ans H'!$B$107:$B$136,$C107,'14 - 15 ans H'!$I$107:$I$136)","v":0},{"$f":"SUMIF('14 - 15 ans H'!$B$141:$B$170,$C107,'14 - 15 ans H'!$I$141:$I$170)","v":0},{"$f":"SUMIF('14 - 15 ans H'!$B$175:$B$204,$C107,'14 - 15 ans H'!$I$175:$I$204)","v":0},{"$f":"SUMIF('14 - 15 ans H'!$B$209:$B$238,$C107,'14 - 15 ans H'!$I$209:$I$238)","v":0},0,8]
[null,{"$f":"Inscription!G17","v":0},{"$f":"Inscription!H17","v":0},null,null,null,null,null,null,null,null,null,null,null,null,null,null,null,null,null,null,null,null,null,null,null,null,null,{"$f":"SUMIF('14 - 15 ans H'!$B$5:$B$34,$C108,'14 - 15 ans H'!$I$5:$I$34)","v":0},{"$f":"SUMIF('14 - 15 ans H'!$B$39:$B$68,$C108,'14 - 15 ans H'!$I$39:$I$68)","v":0},{"$f":"SUMIF('14 - 15 ans H'!$B$73:$B$102,$C108,'14 - 15 ans H'!$I$73:$I$102)","v":0},{"$f":"SUMIF('14 - 15 ans H'!$B$107:$B$136,$C108,'14 - 15 ans H'!$I$107:$I$136)","v":0},{"$f":"SUMIF('14 - 15 ans H'!$B$141:$B$170,$C108,'14 - 15 ans H'!$I$141:$I$170)","v":0},{"$f":"SUMIF('14 - 15 ans H'!$B$175:$B$204,$C108,'14 - 15 ans H'!$I$175:$I$204)","v":0},{"$f":"SUMIF('14 - 15 ans H'!$B$209:$B$238,$C108,'14 - 15 ans H'!$I$209:$I$238)","v":0},0,8]
[null,{"$f":"Inscription!G18","v":0},{"$f":"Inscription!H18","v":0},null,null,null,null,null,null,null,null,null,null,null,null,null,null,null,null,null,null,null,null,null,null,null,null,null,{"$f":"SUMIF('14 - 15 ans H'!$B$5:$B$34,$C109,'14 - 15 ans H'!$I$5:$I$34)","v":0},{"$f":"SUMIF('14 - 15 ans H'!$B$39:$B$68,$C109,'14 - 15 ans H'!$I$39:$I$68)","v":0},{"$f":"SUMIF('14 - 15 ans H'!$B$73:$B$102,$C109,'14 - 15 ans H'!$I$73:$I$102)","v":0},{"$f":"SUMIF('14 - 15 ans H'!$B$107:$B$136,$C109,'14 - 15 ans H'!$I$107:$I$136)","v":0},{"$f":"SUMIF('14 - 15 ans H'!$B$141:$B$170,$C109,'14 - 15 ans H'!$I$141:$I$170)","v":0},{"$f":"SUMIF('14 - 15 ans H'!$B$175:$B$204,$C109,'14 - 15 ans H'!$I$175:$I$204)","v":0},{"$f":"SUMIF('14 - 15 ans H'!$B$209:$B$238,$C109,'14 - 15 ans H'!$I$209:$I$238)","v":0},0,8]
[null,{"$f":"Inscription!G19","v":0},{"$f":"Inscription!H19","v":0},null,null,null,null,null,null,null,null,null,null,null,null,null,null,null,null,null,null,null,null,null,null,null,null,null,{"$f":"SUMIF('14 - 15 ans H'!$B$5:$B$34,$C110,'14 - 15 ans H'!$I$5:$I$34)","v":0},{"$f":"SUMIF('14 - 15 ans H'!$B$39:$B$68,$C110,'14 - 15 ans H'!$I$39:$I$68)","v":0},{"$f":"SUMIF('14 - 15 ans H'!$B$73:$B$102,$C110,'14 - 15 ans H'!$I$73:$I$102)","v":0},{"$f":"SUMIF('14 - 15 ans H'!$B$107:$B$136,$C110,'14 - 15 ans H'!$I$107:$I$136)","v":0},{"$f":"SUMIF('14 - 15 ans H'!$B$141:$B$170,$C110,'14 - 15 ans H'!$I$141:$I$170)","v":0},{"$f":"SUMIF('14 - 15 ans H'!$B$175:$B$204,$C110,'14 - 15 ans H'!$I$175:$I$204)","v":0},{"$f":"SUMIF('14 - 15 ans H'!$B$209:$B$238,$C110,'14 - 15 ans H'!$I$209:$I$238)","v":0},0,8]
[null,{"$f":"Inscription!G20","v":0},{"$f":"Inscription!H20","v":0},null,null,null,null,null,null,null,null,null,null,null,null,null,null,null,null,null,null,null,null,null,null,null,null,null,{"$f":"SUMIF('14 - 15 ans H'!$B$5:$B$34,$C111,'14 - 15 ans H'!$I$5:$I$34)","v":0},{"$f":"SUMIF('14 - 15 ans H'!$B$39:$B$68,$C111,'14 - 15 ans H'!$I$39:$I$68)","v":0},{"$f":"SUMIF('14 - 15 ans H'!$B$73:$B$102,$C111,'14 - 15 ans H'!$I$73:$I$102)","v":0},{"$f":"SUMIF('14 - 15 ans H'!$B$107:$B$136,$C111,'14 - 15 ans H'!$I$107:$I$136)","v":0},{"$f":"SUMIF('14 - 15 ans H'!$B$141:$B$170,$C111,'14 - 15 ans H'!$I$141:$I$170)","v":0},{"$f":"SUMIF('14 - 15 ans H'!$B$175:$B$204,$C111,'14 - 15 ans H'!$I$175:$I$204)","v":0},{"$f":"SUMIF('14 - 15 ans H'!$B$209:$B$238,$C111,'14 - 15 ans H'!$I$209:$I$238)","v":0},0,8]
[null,{"$f":"Inscription!G21","v":0},{"$f":"Inscription!H21","v":0},null,null,null,null,null,null,null,null,null,null,null,null,null,null,null,null,null,null,null,null,null,null,null,null,null,{"$f":"SUMIF('14 - 15 ans H'!$B$5:$B$34,$C112,'14 - 15 ans H'!$I$5:$I$34)","v":0},{"$f":"SUMIF('14 - 15 ans H'!$B$39:$B$68,$C112,'14 - 15 ans H'!$I$39:$I$68)","v":0},{"$f":"SUMIF('14 - 15 ans H'!$B$73:$B$102,$C112,'14 - 15 ans H'!$I$73:$I$102)","v":0},{"$f":"SUMIF('14 - 15 ans H'!$B$107:$B$136,$C112,'14 - 15 ans H'!$I$107:$I$136)","v":0},{"$f":"SUMIF('14 - 15 ans H'!$B$141:$B$170,$C112,'14 - 15 ans H'!$I$141:$I$170)","v":0},{"$f":"SUMIF('14 - 15 ans H'!$B$175:$B$204,$C112,'14 - 15 ans H'!$I$175:$I$204)","v":0},{"$f":"SUMIF('14 - 15 ans H'!$B$209:$B$238,$C112,'14 - 15 ans H'!$I$209:$I$238)","v":0},0,8]
[null,{"$f":"Inscription!G22","v":0},{"$f":"Inscription!H22","v":0},null,null,null,null,null,null,null,null,null,null,null,null,null,null,null,null,null,null,null,null,null,null,null,null,null,{"$f":"SUMIF('14 - 15 ans H'!$B$5:$B$34,$C113,'14 - 15 ans H'!$I$5:$I$34)","v":0},{"$f":"SUMIF('14 - 15 ans H'!$B$39:$B$68,$C113,'14 - 15 ans H'!$I$39:$I$68)","v":0},{"$f":"SUMIF('14 - 15 ans H'!$B$73:$B$102,$C113,'14 - 15 ans H'!$I$73:$I$102)","v":0},{"$f":"SUMIF('14 - 15 ans H'!$B$107:$B$136,$C113,'14 - 15 ans H'!$I$107:$I$136)","v":0},{"$f":"SUMIF('14 - 15 ans H'!$B$141:$B$170,$C113,'14 - 15 ans H'!$I$141:$I$170)","v":0},{"$f":"SUMIF('14 - 15 ans H'!$B$175:$B$204,$C113,'14 - 15 ans H'!$I$175:$I$204)","v":0},{"$f":"SUMIF('14 - 15 ans H'!$B$209:$B$238,$C113,'14 - 15 ans H'!$I$209:$I$238)","v":0},0,8]
[null,{"$f":"Inscription!G23","v":0},{"$f":"Inscription!H23","v":0},null,null,null,null,null,null,null,null,null,null,null,null,null,null,null,null,null,null,null,null,null,null,null,null,null,{"$f":"SUMIF('14 - 15 ans H'!$B$5:$B$34,$C114,'14 - 15 ans H'!$I$5:$I$34)","v":0},{"$f":"SUMIF('14 - 15 ans H'!$B$39:$B$68,$C114,'14 - 15 ans H'!$I$39:$I$68)","v":0},{"$f":"SUMIF('14 - 15 ans H'!$B$73:$B$102,$C114,'14 - 15 ans H'!$I$73:$I$102)","v":0},{"$f":"SUMIF('14 - 15 ans H'!$B$107:$B$136,$C114,'14 - 15 ans H'!$I$107:$I$136)","v":0},{"$f":"SUMIF('14 - 15 ans H'!$B$141:$B$170,$C114,'14 - 15 ans H'!$I$141:$I$170)","v":0},{"$f":"SUMIF('14 - 15 ans H'!$B$175:$B$204,$C114,'14 - 15 ans H'!$I$175:$I$204)","v":0},{"$f":"SUMIF('14 - 15 ans H'!$B$209:$B$238,$C114,'14 - 15 ans H'!$I$209:$I$238)","v":0},0,8]
[null,{"$f":"Inscription!G24","v":0},{"$f":"Inscription!H24","v":0},null,null,null,null,null,null,null,null,null,null,null,null,null,null,null,null,null,null,null,null,null,null,null,null,null,{"$f":"SUMIF('14 - 15 ans H'!$B$5:$B$34,$C115,'14 - 15 ans H'!$I$5:$I$34)","v":0},{"$f":"SUMIF('14 - 15 ans H'!$B$39:$B$68,$C115,'14 - 15 ans H'!$I$39:$I$68)","v":0},{"$f":"SUMIF('14 - 15 ans H'!$B$73:$B$102,$C115,'14 - 15 ans H'!$I$73:$I$102)","v":0},{"$f":"SUMIF('14 - 15 ans H'!$B$107:$B$136,$C115,'14 - 15 ans H'!$I$107:$I$136)","v":0},{"$f":"SUMIF('14 - 15 ans H'!$B$141:$B$170,$C115,'14 - 15 ans H'!$I$141:$I$170)","v":0},{"$f":"SUMIF('14 - 15 ans H'!$B$175:$B$204,$C115,'14 - 15 ans H'!$I$175:$I$204)","v":0},{"$f":"SUMIF('14 - 15 ans H'!$B$209:$B$238,$C115,'14 - 15 ans H'!$I$209:$I$238)","v":0},0,8]
[null,{"$f":"Inscription!G25","v":0},{"$f":"Inscription!H25","v":0},null,null,null,null,null,null,null,null,null,null,null,null,null,null,null,null,null,null,null,null,null,null,null,null,null,{"$f":"SUMIF('14 - 15 ans H'!$B$5:$B$34,$C116,'14 - 15 ans H'!$I$5:$I$34)","v":0},{"$f":"SUMIF('14 - 15 ans H'!$B$39:$B$68,$C116,'14 - 15 ans H'!$I$39:$I$68)","v":0},{"$f":"SUMIF('14 - 15 ans H'!$B$73:$B$102,$C116,'14 - 15 ans H'!$I$73:$I$102)","v":0},{"$f":"SUMIF('14 - 15 ans H'!$B$107:$B$136,$C116,'14 - 15 ans H'!$I$107:$I$136)","v":0},{"$f":"SUMIF('14 - 15 ans H'!$B$141:$B$170,$C116,'14 - 15 ans H'!$I$141:$I$170)","v":0},{"$f":"SUMIF('14 - 15 ans H'!$B$175:$B$204,$C116,'14 - 15 ans H'!$I$175:$I$204)","v":0},{"$f":"SUMIF('14 - 15 ans H'!$B$209:$B$238,$C116,'14 - 15 ans H'!$I$209:$I$238)","v":0},0,8]
[null,{"$f":"Inscription!G26","v":0},{"$f":"Inscription!H26","v":0},null,null,null,null,null,null,null,null,null,null,null,null,null,null,null,null,null,null,null,null,null,null,null,null,null,{"$f":"SUMIF('14 - 15 ans H'!$B$5:$B$34,$C117,'14 - 15 ans H'!$I$5:$I$34)","v":0},{"$f":"SUMIF('14 - 15 ans H'!$B$39:$B$68,$C117,'14 - 15 ans H'!$I$39:$I$68)","v":0},{"$f":"SUMIF('14 - 15 ans H'!$B$73:$B$102,$C117,'14 - 15 ans H'!$I$73:$I$102)","v":0},{"$f":"SUMIF('14 - 15 ans H'!$B$107:$B$136,$C117,'14 - 15 ans H'!$I$107:$I$136)","v":0},{"$f":"SUMIF('14 - 15 ans H'!$B$141:$B$170,$C117,'14 - 15 ans H'!$I$141:$I$170)","v":0},{"$f":"SUMIF('14 - 15 ans H'!$B$175:$B$204,$C117,'14 - 15 ans H'!$I$175:$I$204)","v":0},{"$f":"SUMIF('14 - 15 ans H'!$B$209:$B$238,$C117,'14 - 15 ans H'!$I$209:$I$238)","v":0},0,8]
[null,{"$f":"Inscription!G27","v":0},{"$f":"Inscription!H27","v":0},null,null,null,null,null,null,null,null,null,null,null,null,null,null,null,null,null,null,null,null,null,null,null,null,null,{"$f":"SUMIF('14 - 15 ans H'!$B$5:$B$34,$C118,'14 - 15 ans H'!$I$5:$I$34)","v":0},{"$f":"SUMIF('14 - 15 ans H'!$B$39:$B$68,$C118,'14 - 15 ans H'!$I$39:$I$68)","v":0},{"$f":"SUMIF('14 - 15 ans H'!$B$73:$B$102,$C118,'14 - 15 ans H'!$I$73:$I$102)","v":0},{"$f":"SUMIF('14 - 15 ans H'!$B$107:$B$136,$C118,'14 - 15 ans H'!$I$107:$I$136)","v":0},{"$f":"SUMIF('14 - 15 ans H'!$B$141:$B$170,$C118,'14 - 15 ans H'!$I$141:$I$170)","v":0},{"$f":"SUMIF('14 - 15 ans H'!$B$175:$B$204,$C118,'14 - 15 ans H'!$I$175:$I$204)","v":0},{"$f":"SUMIF('14 - 15 ans H'!$B$209:$B$238,$C118,'14 - 15 ans H'!$I$209:$I$238)","v":0},0,8]
[null,{"$f":"Inscription!G28","v":0},{"$f":"Inscription!H28","v":0},null,null,null,null,null,null,null,null,null,null,null,null,null,null,null,null,null,null,null,null,null,null,null,null,null,{"$f":"SUMIF('14 - 15 ans H'!$B$5:$B$34,$C119,'14 - 15 ans H'!$I$5:$I$34)","v":0},{"$f":"SUMIF('14 - 15 ans H'!$B$39:$B$68,$C119,'14 - 15 ans H'!$I$39:$I$68)","v":0},{"$f":"SUMIF('14 - 15 ans H'!$B$73:$B$102,$C119,'14 - 15 ans H'!$I$73:$I$102)","v":0},{"$f":"SUMIF('14 - 15 ans H'!$B$107:$B$136,$C119,'14 - 15 ans H'!$I$107:$I$136)","v":0},{"$f":"SUMIF('14 - 15 ans H'!$B$141:$B$170,$C119,'14 - 15 ans H'!$I$141:$I$170)","v":0},{"$f":"SUMIF('14 - 15 ans H'!$B$175:$B$204,$C119,'14 - 15 ans H'!$I$175:$I$204)","v":0},{"$f":"SUMIF('14 - 15 ans H'!$B$209:$B$238,$C119,'14 - 15 ans H'!$I$209:$I$238)","v":0},0,8]
[null,{"$f":"Inscription!G29","v":0},{"$f":"Inscription!H29","v":0},null,null,null,null,null,null,null,null,null,null,null,null,null,null,null,null,null,null,null,null,null,null,null,null,null,{"$f":"SUMIF('14 - 15 ans H'!$B$5:$B$34,$C120,'14 - 15 ans H'!$I$5:$I$34)","v":0},{"$f":"SUMIF('14 - 15 ans H'!$B$39:$B$68,$C120,'14 - 15 ans H'!$I$39:$I$68)","v":0},{"$f":"SUMIF('14 - 15 ans H'!$B$73:$B$102,$C120,'14 - 15 ans H'!$I$73:$I$102)","v":0},{"$f":"SUMIF('14 - 15 ans H'!$B$107:$B$136,$C120,'14 - 15 ans H'!$I$107:$I$136)","v":0},{"$f":"SUMIF('14 - 15 ans H'!$B$141:$B$170,$C120,'14 - 15 ans H'!$I$141:$I$170)","v":0},{"$f":"SUMIF('14 - 15 ans H'!$B$175:$B$204,$C120,'14 - 15 ans H'!$I$175:$I$204)","v":0},{"$f":"SUMIF('14 - 15 ans H'!$B$209:$B$238,$C120,'14 - 15 ans H'!$I$209:$I$238)","v":0},0,8]
[null,{"$f":"Inscription!G30","v":0},{"$f":"Inscription!H30","v":0},null,null,null,null,null,null,null,null,null,null,null,null,null,null,null,null,null,null,null,null,null,null,null,null,null,{"$f":"SUMIF('14 - 15 ans H'!$B$5:$B$34,$C121,'14 - 15 ans H'!$I$5:$I$34)","v":0},{"$f":"SUMIF('14 - 15 ans H'!$B$39:$B$68,$C121,'14 - 15 ans H'!$I$39:$I$68)","v":0},{"$f":"SUMIF('14 - 15 ans H'!$B$73:$B$102,$C121,'14 - 15 ans H'!$I$73:$I$102)","v":0},{"$f":"SUMIF('14 - 15 ans H'!$B$107:$B$136,$C121,'14 - 15 ans H'!$I$107:$I$136)","v":0},{"$f":"SUMIF('14 - 15 ans H'!$B$141:$B$170,$C121,'14 - 15 ans H'!$I$141:$I$170)","v":0},{"$f":"SUMIF('14 - 15 ans H'!$B$175:$B$204,$C121,'14 - 15 ans H'!$I$175:$I$204)","v":0},{"$f":"SUMIF('14 - 15 ans H'!$B$209:$B$238,$C121,'14 - 15 ans H'!$I$209:$I$238)","v":0},0,8]
[null,{"$f":"Inscription!G31","v":0},{"$f":"Inscription!H31","v":0},null,null,null,null,null,null,null,null,null,null,null,null,null,null,null,null,null,null,null,null,null,null,null,null,null,{"$f":"SUMIF('14 - 15 ans H'!$B$5:$B$34,$C122,'14 - 15 ans H'!$I$5:$I$34)","v":0},{"$f":"SUMIF('14 - 15 ans H'!$B$39:$B$68,$C122,'14 - 15 ans H'!$I$39:$I$68)","v":0},{"$f":"SUMIF('14 - 15 ans H'!$B$73:$B$102,$C122,'14 - 15 ans H'!$I$73:$I$102)","v":0},{"$f":"SUMIF('14 - 15 ans H'!$B$107:$B$136,$C122,'14 - 15 ans H'!$I$107:$I$136)","v":0},{"$f":"SUMIF('14 - 15 ans H'!$B$141:$B$170,$C122,'14 - 15 ans H'!$I$141:$I$170)","v":0},{"$f":"SUMIF('14 - 15 ans H'!$B$175:$B$204,$C122,'14 - 15 ans H'!$I$175:$I$204)","v":0},{"$f":"SUMIF('14 - 15 ans H'!$B$209:$B$238,$C122,'14 - 15 ans H'!$I$209:$I$238)","v":0},0,8]
["Senior\nFemme",{"$f":"Inscription!I2","v":"SSSL"},{"$f":"Inscription!J2","v":"Célia Crivellaro Kingsbury"},null,null,null,null,null,null,null,null,null,null,null,null,null,null,null,null,null,null,null,null,null,null,null,null,null,null,null,null,null,null,null,null,null,null,{"$f":"SUMIF('Senior F'!$B$5:$B$34,$C123,'Senior F'!$I$5:$I$34)","v":0},{"$f":"SUMIF('Senior F'!$B$39:$B$68,$C123,'Senior F'!$I$39:$I$68)","v":5},{"$f":"SUMIF('Senior F'!$B$73:$B$102,$C123,'Senior F'!$I$73:$I$102)","v":6},{"$f":"SUMIF('Senior F'!$B$107:$B$136,$C123,'Senior F'!$I$107:$I$136)","v":4},{"$f":"SUMIF('Senior F'!$B$141:$B$170,$C123,'Senior F'!$I$141:$I$170)","v":6},{"$f":"SUMIF('Senior F'!$B$175:$B$204,$C123,'Senior F'!$I$175:$I$204)","v":5},{"$f":"SUMIF('Senior F'!$B$209:$B$238,$C123,'Senior F'!$I$209:$I$238)","v":0},{"$f":"SUMIF('Senior F'!$B$244:$B$275,$C123,'Senior F'!$I$244:$I$275)","v":0},{"$f":"SUMIF('Senior F'!$B$280:$B$311,$C123,'Senior F'!$I$280:$I$311)","v":0},{"$f":"SUMIF('Senior F'!$B$316:$B$347,$C123,'Senior F'!$I$316:$I$347)","v":0},{"$f":"SUM(AM123+AN123+AO123+AQ123+AP123)","v":26},{"$f":"RANK(AV123,$AV$123:$AV$152)","v":13}]
[null,{"$f":"Inscription!I3","v":"CASO"},{"$f":"Inscription!J3","v":"Laurence Lamarre"},null,null,null,null,null,null,null,null,null,null,null,null,null,null,null,null,null,null,null,null,null,null,null,null,null,null,null,null,null,null,null,null,null,null,{"$f":"SUMIF('Senior F'!$B$5:$B$34,$C124,'Senior F'!$I$5:$I$34)","v":18},{"$f":"SUMIF('Senior F'!$B$39:$B$68,$C124,'Senior F'!$I$39:$I$68)","v":11},{"$f":"SUMIF('Senior F'!$B$73:$B$102,$C124,'Senior F'!$I$73:$I$102)","v":10},{"$f":"SUMIF('Senior F'!$B$107:$B$136,$C124,'Senior F'!$I$107:$I$136)","v":7},{"$f":"SUMIF('Senior F'!$B$141:$B$170,$C124,'Senior F'!$I$141:$I$170)","v":0},{"$f":"SUMIF('Senior F'!$B$175:$B$204,$C124,'Senior F'!$I$175:$I$204)","v":10},{"$f":"SUMIF('Senior F'!$B$209:$B$238,$C124,'Senior F'!$I$209:$I$238)","v":0},{"$f":"SUMIF('Senior F'!$B$244:$B$275,$C124,'Senior F'!$I$244:$I$275)","v":0},{"$f":"SUMIF('Senior F'!$B$280:$B$311,$C124,'Senior F'!$I$280:$I$311)","v":0},{"$f":"SUMIF('Senior F'!$B$316:$B$347,$C124,'Senior F'!$I$316:$I$347)","v":0},{"$f":"SUM(AM124+AN124+AO124+AQ124+AP124)","v":38},{"$f":"RANK(AV124,$AV$123:$AV$152)","v":10}]
[null,{"$f":"Inscription!I4","v":"CASO"},{"$f":"Inscription!J4","v":"Émilie Boulerne"},null,null,null,null,null,null,null,null,null,null,null,null,null,null,null,null,null,null,null,null,null,null,null,null,null,null,null,null,null,null,null,null,null,null,{"$f":"SUMIF('Senior F'!$B$5:$B$34,$C125,'Senior F'!$I$5:$I$34)","v":18},{"$f":"SUMIF('Senior F'!$B$39:$B$68,$C125,'Senior F'!$I$39:$I$68)","v":7},{"$f":"SUMIF('Senior F'!$B$73:$B$102,$C125,'Senior F'!$I$73:$I$102)","v":14},{"$f":"SUMIF('Senior F'!$B$107:$B$136,$C125,'Senior F'!$I$107:$I$136)","v":12},{"$f":"SUMIF('Senior F'!$B$141:$B$170,$C125,'Senior F'!$I$141:$I$170)","v":16},{"$f":"SUMIF('Senior F'!$B$175:$B$204,$C125,'Senior F'!$I$175:$I$204)","v":13},{"$f":"SUMIF('Senior F'!$B$209:$B$238,$C125,'Senior F'!$I$209:$I$238)","v":0},{"$f":"SUMIF('Senior F'!$B$244:$B$275,$C125,'Senior F'!$I$244:$I$275)","v":0},{"$f":"SUMIF('Senior F'!$B$280:$B$311,$C125,'Senior F'!$I$280:$I$311)","v":0},{"$f":"SUMIF('Senior F'!$B$316:$B$347,$C125,'Senior F'!$I$316:$I$347)","v":0},62,5]
[null,{"$f":"Inscription!I5","v":"Dam'eauclès"},{"$f":"Inscription!J5","v":"Caroline Arcand"},null,null,null,null,null,null,null,null,null,null,null,null,null,null,null,null,null,null,null,null,null,null,null,null,null,null,null,null,null,null,null,null,null,null,{"$f":"SUMIF('Senior F'!$B$5:$B$34,$C126,'Senior F'!$I$5:$I$34)","v":0},{"$f":"SUMIF('Senior F'!$B$39:$B$68,$C126,'Senior F'!$I$39:$I$68)","v":8},{"$f":"SUMIF('Senior F'!$B$73:$B$102,$C126,'Senior F'!$I$73:$I$102)","v":11},{"$f":"SUMIF('Senior F'!$B$107:$B$136,$C126,'Senior F'!$I$107:$I$136)","v":11},{"$f":"SUMIF('Senior F'!$B$141:$B$170,$C126,'Senior F'!$I$141:$I$170)","v":11},{"$f":"SUMIF('Senior F'!$B$175:$B$204,$C126,'Senior F'!$I$175:$I$204)","v":12},{"$f":"SUMIF('Senior F'!$B$209:$B$238,$C126,'Senior F'!$I$209:$I$238)","v":0},{"$f":"SUMIF('Senior F'!$B$244:$B$275,$C126,'Senior F'!$I$244:$I$275)","v":16},{"$f":"SUMIF('Senior F'!$B$280:$B$311,$C126,'Senior F'!$I$280:$I$311)","v":16},{"$f":"SUMIF('Senior F'!$B$316:$B$347,$C126,'Senior F'!$I$316:$I$347)","v":18},53,6]
[null,{"$f":"Inscription!I6","v":"Dam'eauclès"},{"$f":"Inscription!J6","v":"Tamara Jacques"},null,null,null,null,null,null,null,null,null,null,null,null,null,null,null,null,null,null,null,null,null,null,null,null,null,null,null,null,null,null,null,null,null,null,{"$f":"SUMIF('Senior F'!$B$5:$B$34,$C127,'Senior F'!$I$5:$I$34)","v":12},{"$f":"SUMIF('Senior F'!$B$39:$B$68,$C127,'Senior F'!$I$39:$I$68)","v":4},{"$f":"SUMIF('Senior F'!$B$73:$B$102,$C127,'Senior F'!$I$73:$I$102)","v":5},{"$f":"SUMIF('Senior F'!$B$107:$B$136,$C127,'Senior F'!$I$107:$I$136)","v":3},{"$f":"SUMIF('Senior F'!$B$141:$B$170,$C127,'Senior F'!$I$141:$I$170)","v":12},{"$f":"SUMIF('Senior F'!$B$175:$B$204,$C127,'Senior F'!$I$175:$I$204)","v":6},{"$f":"SUMIF('Senior F'!$B$209:$B$238,$C127,'Senior F'!$I$209:$I$238)","v":0},{"$f":"SUMIF('Senior F'!$B$244:$B$275,$C127,'Senior F'!$I$244:$I$275)","v":16},{"$f":"SUMIF('Senior F'!$B$280:$B$311,$C127,'Senior F'!$I$280:$I$311)","v":16},{"$f":"SUMIF('Senior F'!$B$316:$B$347,$C127,'Senior F'!$I$316:$I$347)","v":18},30,11]
[null,{"$f":"Inscription!I7","v":"O'méga"},{"$f":"Inscription!J7","v":"Josée Miron"},null,null,null,null,null,null,null,null,null,null,null,null,null,null,null,null,null,null,null,null,null,null,null,null,null,null,null,null,null,null,null,null,null,null,{"$f":"SUMIF('Senior F'!$B$5:$B$34,$C128,'Senior F'!$I$5:$I$34)","v":0},{"$f":"SUMIF('Senior F'!$B$39:$B$68,$C128,'Senior F'!$I$39:$I$68)","v":0},{"$f":"SUMIF('Senior F'!$B$73:$B$102,$C128,'Senior F'!$I$73:$I$102)","v":1},{"$f":"SUMIF('Senior F'!$B$107:$B$136,$C128,'Senior F'!$I$107:$I$136)","v":0},{"$f":"SUMIF('Senior F'!$B$141:$B$170,$C128,'Senior F'!$I$141:$I$170)","v":2},{"$f":"SUMIF('Senior F'!$B$175:$B$204,$C128,'Senior F'!$I$175:$I$204)","v":4},{"$f":"SUMIF('Senior F'!$B$209:$B$238,$C128,'Senior F'!$I$209:$I$238)","v":0},{"$f":"SUMIF('Senior F'!$B$244:$B$275,$C128,'Senior F'!$I$244:$I$275)","v":0},{"$f":"SUMIF('Senior F'!$B$280:$B$311,$C128,'Senior F'!$I$280:$I$311)","v":0},{"$f":"SUMIF('Senior F'!$B$316:$B$347,$C128,'Senior F'!$I$316:$I$347)","v":0},7,17]
[null,{"$f":"Inscription!I8","v":"Rouville Surf"},{"$f":"Inscription!J8","v":"Marie-Hélène Paquette"},null,null,null,null,null,null,null,null,null,null,null,null,null,null,null,null,null,null,null,null,null,null,null,null,null,null,null,null,null,null,null,null,null,null,{"$f":"SUMIF('Senior F'!$B$5:$B$34,$C129,'Senior F'!$I$5:$I$34)","v":16},{"$f":"SUMIF('Senior F'!$B$39:$B$68,$C129,'Senior F'!$I$39:$I$68)","v":0},{"$f":"SUMIF('Senior F'!$B$73:$B$102,$C129,'Senior F'!$I$73:$I$102)","v":0},{"$f":"SUMIF('Senior F'!$B$107:$B$136,$C129,'Senior F'!$I$107:$I$136)","v":14},{"$f":"SUMIF('Senior F'!$B$141:$B$170,$C129,'Senior F'!$I$141:$I$170)","v":0},{"$f":"SUMIF('Senior F'!$B$175:$B$204,$C129,'Senior F'!$I$175:$I$204)","v":0},{"$f":"SUMIF('Senior F'!$B$209:$B$238,$C129,'Senior F'!$I$209:$I$238)","v":0},{"$f":"SUMIF('Senior F'!$B$244:$B$275,$C129,'Senior F'!$I$244:$I$275)","v":18},{"$f":"SUMIF('Senior F'!$B$280:$B$311,$C129,'Senior F'!$I$280:$I$311)","v":0},{"$f":"SUMIF('Senior F'!$B$316:$B$347,$C129,'Senior F'!$I$316:$I$347)","v":16},14,14]
[null,{"$f":"Inscription!I9","v":"Rouville Surf"},{"$f":"Inscription!J9","v":"Claudine Courteau-Godmaire"},null,null,null,null,null,null,null,null,null,null,null,null,null,null,null,null,null,null,null,null,null,null,null,null,null,null,null,null,null,null,null,null,null,null,{"$f":"SUMIF('Senior F'!$B$5:$B$34,$C130,'Senior F'!$I$5:$I$34)","v":16},{"$f":"SUMIF('Senior F'!$B$39:$B$68,$C130,'Senior F'!$I$39:$I$68)","v":18},{"$f":"SUMIF('Senior F'!$B$73:$B$102,$C130,'Senior F'!$I$73:$I$102)","v":16},{"$f":"SUMIF('Senior F'!$B$107:$B$136,$C130,'Senior F'!$I$107:$I$136)","v":16},{"$f":"SUMIF('Senior F'!$B$141:$B$170,$C130,'Senior F'!$I$141:$I$170)","v":14},{"$f":"SUMIF('Senior F'!$B$175:$B$204,$C130,'Senior F'!$I$175:$I$204)","v":14},{"$f":"SUMIF('Senior F'!$B$209:$B$238,$C130,'Senior F'!$I$209:$I$238)","v":0},{"$f":"SUMIF('Senior F'!$B$244:$B$275,$C130,'Senior F'!$I$244:$I$275)","v":18},{"$f":"SUMIF('Senior F'!$B$280:$B$311,$C130,'Senior F'!$I$280:$I$311)","v":18},{"$f":"SUMIF('Senior F'!$B$316:$B$347,$C130,'Senior F'!$I$316:$I$347)","v":16},78,2]
[null,{"$f":"Inscription!I10","v":"Rouville Surf"},{"$f":"Inscription!J10","v":"Ana Jaimes"},null,null,null,null,null,null,null,null,null,null,null,null,null,null,null,null,null,null,null,null,null,null,null,null,null,null,null,null,null,null,null,null,null,null,{"$f":"SUMIF('Senior F'!$B$5:$B$34,$C131,'Senior F'!$I$5:$I$34)","v":0},{"$f":"SUMIF('Senior F'!$B$39:$B$68,$C131,'Senior F'!$I$39:$I$68)","v":6},{"$f":"SUMIF('Senior F'!$B$73:$B$102,$C131,'Senior F'!$I$73:$I$102)","v":13},{"$f":"SUMIF('Senior F'!$B$107:$B$136,$C131,'Senior F'!$I$107:$I$136)","v":6},{"$f":"SUMIF('Senior F'!$B$141:$B$170,$C131,'Senior F'!$I$141:$I$170)","v":10},{"$f":"SUMIF('Senior F'!$B$175:$B$204,$C131,'Senior F'!$I$175:$I$204)","v":8},{"$f":"SUMIF('Senior F'!$B$209:$B$238,$C131,'Senior F'!$I$209:$I$238)","v":0},{"$f":"SUMIF('Senior F'!$B$244:$B$275,$C131,'Senior F'!$I$244:$I$275)","v":18},{"$f":"SUMIF('Senior F'!$B$280:$B$311,$C131,'Senior F'!$I$280:$I$311)","v":18},{"$f":"SUMIF('Senior F'!$B$316:$B$347,$C131,'Senior F'!$I$316:$I$347)","v":16},43,9]
[null,{"$f":"Inscription!I11","v":"Rouville Surf"},{"$f":"Inscription!J11","v":"Gabrièle St-Georges"},null,null,null,null,null,null,null,null,null,null,null,null,null,null,null,null,null,null,null,null,null,null,null,null,null,null,null,null,null,null,null,null,null,null,{"$f":"SUMIF('Senior F'!$B$5:$B$34,$C132,'Senior F'!$I$5:$I$34)","v":0},{"$f":"SUMIF('Senior F'!$B$39:$B$68,$C132,'Senior F'!$I$39:$I$68)","v":13},{"$f":"SUMIF('Senior F'!$B$73:$B$102,$C132,'Senior F'!$I$73:$I$102)","v":7},{"$f":"SUMIF('Senior F'!$B$107:$B$136,$C132,'Senior F'!$I$107:$I$136)","v":10},{"$f":"SUMIF('Senior F'!$B$141:$B$170,$C132,'Senior F'!$I$141:$I$170)","v":7},{"$f":"SUMIF('Senior F'!$B$175:$B$204,$C132,'Senior F'!$I$175:$I$204)","v":11},{"$f":"SUMIF('Senior F'!$B$209:$B$238,$C132,'Senior F'!$I$209:$I$238)","v":0},{"$f":"SUMIF('Senior F'!$B$244:$B$275,$C132,'Senior F'!$I$244:$I$275)","v":0},{"$f":"SUMIF('Senior F'!$B$280:$B$311,$C132,'Senior F'!$I$280:$I$311)","v":18},{"$f":"SUMIF('Senior F'!$B$316:$B$347,$C132,'Senior F'!$I$316:$I$347)","v":0},48,8]
[null,{"$f":"Inscription!I12","v":"Rouville Surf"},{"$f":"Inscription!J12","v":"Mariama Keita"},null,null,null,null,null,null,null,null,null,null,null,null,null,null,null,null,null,null,null,null,null,null,null,null,null,null,null,null,null,null,null,null,null,null,{"$f":"SUMIF('Senior F'!$B$5:$B$34,$C133,'Senior F'!$I$5:$I$34)","v":0},{"$f":"SUMIF('Senior F'!$B$39:$B$68,$C133,'Senior F'!$I$39:$I$68)","v":12},{"$f":"SUMIF('Senior F'!$B$73:$B$102,$C133,'Senior F'!$I$73:$I$102)","v":12},{"$f":"SUMIF('Senior F'!$B$107:$B$136,$C133,'Senior F'!$I$107:$I$136)","v":8},{"$f":"SUMIF('Senior F'!$B$141:$B$170,$C133,'Senior F'!$I$141:$I$170)","v":13},{"$f":"SUMIF('Senior F'!$B$175:$B$204,$C133,'Senior F'!$I$175:$I$204)","v":7},{"$f":"SUMIF('Senior F'!$B$209:$B$238,$C133,'Senior F'!$I$209:$I$238)","v":0},{"$f":"SUMIF('Senior F'!$B$244:$B$275,$C133,'Senior F'!$I$244:$I$275)","v":0},{"$f":"SUMIF('Senior F'!$B$280:$B$311,$C133,'Senior F'!$I$280:$I$311)","v":0},{"$f":"SUMIF('Senior F'!$B$316:$B$347,$C133,'Senior F'!$I$316:$I$347)","v":0},52,7]
[null,{"$f":"Inscription!I13","v":"30deux"},{"$f":"Inscription!J13","v":"Marie-Pier Anctil"},null,null,null,null,null,null,null,null,null,null,null,null,null,null,null,null,null,null,null,null,null,null,null,null,null,null,null,null,null,null,null,null,null,null,{"$f":"SUMIF('Senior F'!$B$5:$B$34,$C134,'Senior F'!$I$5:$I$34)","v":13},{"$f":"SUMIF('Senior F'!$B$39:$B$68,$C134,'Senior F'!$I$39:$I$68)","v":2},{"$f":"SUMIF('Senior F'!$B$73:$B$102,$C134,'Senior F'!$I$73:$I$102)","v":3},{"$f":"SUMIF('Senior F'!$B$107:$B$136,$C134,'Senior F'!$I$107:$I$136)","v":1},{"$f":"SUMIF('Senior F'!$B$141:$B$170,$C134,'Senior F'!$I$141:$I$170)","v":3},{"$f":"SUMIF('Senior F'!$B$175:$B$204,$C134,'Senior F'!$I$175:$I$204)","v":0},{"$f":"SUMIF('Senior F'!$B$209:$B$238,$C134,'Senior F'!$I$209:$I$238)","v":0},{"$f":"SUMIF('Senior F'!$B$244:$B$275,$C134,'Senior F'!$I$244:$I$275)","v":0},{"$f":"SUMIF('Senior F'!$B$280:$B$311,$C134,'Senior F'!$I$280:$I$311)","v":0},{"$f":"SUMIF('Senior F'!$B$316:$B$347,$C134,'Senior F'!$I$316:$I$347)","v":0},9,15]
[null,{"$f":"Inscription!I14","v":"30deux"},{"$f":"Inscription!J14","v":"Emmanuelle Hudon"},null,null,null,null,null,null,null,null,null,null,null,null,null,null,null,null,null,null,null,null,null,null,null,null,null,null,null,null,null,null,null,null,null,null,{"$f":"SUMIF('Senior F'!$B$5:$B$34,$C135,'Senior F'!$I$5:$I$34)","v":13},{"$f":"SUMIF('Senior F'!$B$39:$B$68,$C135,'Senior F'!$I$39:$I$68)","v":10},{"$f":"SUMIF('Senior F'!$B$73:$B$102,$C135,'Senior F'!$I$73:$I$102)","v":8},{"$f":"SUMIF('Senior F'!$B$107:$B$136,$C135,'Senior F'!$I$107:$I$136)","v":5},{"$f":"SUMIF('Senior F'!$B$141:$B$170,$C135,'Senior F'!$I$141:$I$170)","v":4},{"$f":"SUMIF('Senior F'!$B$175:$B$204,$C135,'Senior F'!$I$175:$I$204)","v":0},{"$f":"SUMIF('Senior F'!$B$209:$B$238,$C135,'Senior F'!$I$209:$I$238)","v":0},{"$f":"SUMIF('Senior F'!$B$244:$B$275,$C135,'Senior F'!$I$244:$I$275)","v":0},{"$f":"SUMIF('Senior F'!$B$280:$B$311,$C135,'Senior F'!$I$280:$I$311)","v":0},{"$f":"SUMIF('Senior F'!$B$316:$B$347,$C135,'Senior F'!$I$316:$I$347)","v":0},27,12]
[null,{"$f":"Inscription!I15","v":"30deux"},{"$f":"Inscription!J15","v":"Alexandra Ladouceur"},null,null,null,null,null,null,null,null,null,null,null,null,null,null,null,null,null,null,null,null,null,null,null,null,null,null,null,null,null,null,null,null,null,null,{"$f":"SUMIF('Senior F'!$B$5:$B$34,$C136,'Senior F'!$I$5:$I$34)","v":20},{"$f":"SUMIF('Senior F'!$B$39:$B$68,$C136,'Senior F'!$I$39:$I$68)","v":20},{"$f":"SUMIF('Senior F'!$B$73:$B$102,$C136,'Senior F'!$I$73:$I$102)","v":0},{"$f":"SUMIF('Senior F'!$B$107:$B$136,$C136,'Senior F'!$I$107:$I$136)","v":20},{"$f":"SUMIF('Senior F'!$B$141:$B$170,$C136,'Senior F'!$I$141:$I$170)","v":18},{"$f":"SUMIF('Senior F'!$B$175:$B$204,$C136,'Senior F'!$I$175:$I$204)","v":16},{"$f":"SUMIF('Senior F'!$B$209:$B$238,$C136,'Senior F'!$I$209:$I$238)","v":0},{"$f":"SUMIF('Senior F'!$B$244:$B$275,$C136,'Senior F'!$I$244:$I$275)","v":20},{"$f":"SUMIF('Senior F'!$B$280:$B$311,$C136,'Senior F'!$I$280:$I$311)","v":20},{"$f":"SUMIF('Senior F'!$B$316:$B$347,$C136,'Senior F'!$I$316:$I$347)","v":20},74,3]
[null,{"$f":"Inscription!I16","v":"30deux"},{"$f":"Inscription!J16","v":"Camille Gaudreault"},null,null,null,null,null,null,null,null,null,null,null,null,null,null,null,null,null,null,null,null,null,null,null,null,null,null,null,null,null,null,null,null,null,null,{"$f":"SUMIF('Senior F'!$B$5:$B$34,$C137,'Senior F'!$I$5:$I$34)","v":0},{"$f":"SUMIF('Senior F'!$B$39:$B$68,$C137,'Senior F'!$I$39:$I$68)","v":14},{"$f":"SUMIF('Senior F'!$B$73:$B$102,$C137,'Senior F'!$I$73:$I$102)","v":18},{"$f":"SUMIF('Senior F'!$B$107:$B$136,$C137,'Senior F'!$I$107:$I$136)","v":13},{"$f":"SUMIF('Senior F'!$B$141:$B$170,$C137,'Senior F'!$I$141:$I$170)","v":8},{"$f":"SUMIF('Senior F'!$B$175:$B$204,$C137,'Senior F'!$I$175:$I$204)","v":18},{"$f":"SUMIF('Senior F'!$B$209:$B$238,$C137,'Senior F'!$I$209:$I$238)","v":0},{"$f":"SUMIF('Senior F'!$B$244:$B$275,$C137,'Senior F'!$I$244:$I$275)","v":20},{"$f":"SUMIF('Senior F'!$B$280:$B$311,$C137,'Senior F'!$I$280:$I$311)","v":20},{"$f":"SUMIF('Senior F'!$B$316:$B$347,$C137,'Senior F'!$I$316:$I$347)","v":20},71,4]
[null,{"$f":"Inscription!I17","v":"30deux"},{"$f":"Inscription!J17","v":"Sarah-Laurence Morin"},null,null,null,null,null,null,null,null,null,null,null,null,null,null,null,null,null,null,null,null,null,null,null,null,null,null,null,null,null,null,null,null,null,null,{"$f":"SUMIF('Senior F'!$B$5:$B$34,$C138,'Senior F'!$I$5:$I$34)","v":0},{"$f":"SUMIF('Senior F'!$B$39:$B$68,$C138,'Senior F'!$I$39:$I$68)","v":16},{"$f":"SUMIF('Senior F'!$B$73:$B$102,$C138,'Senior F'!$I$73:$I$102)","v":20},{"$f":"SUMIF('Senior F'!$B$107:$B$136,$C138,'Senior F'!$I$107:$I$136)","v":18},{"$f":"SUMIF('Senior F'!$B$141:$B$170,$C138,'Senior F'!$I$141:$I$170)","v":20},{"$f":"SUMIF('Senior F'!$B$175:$B$204,$C138,'Senior F'!$I$175:$I$204)","v":20},{"$f":"SUMIF('Senior F'!$B$209:$B$238,$C138,'Senior F'!$I$209:$I$238)","v":0},{"$f":"SUMIF('Senior F'!$B$244:$B$275,$C138,'Senior F'!$I$244:$I$275)","v":20},{"$f":"SUMIF('Senior F'!$B$280:$B$311,$C138,'Senior F'!$I$280:$I$311)","v":20},{"$f":"SUMIF('Senior F'!$B$316:$B$347,$C138,'Senior F'!$I$316:$I$347)","v":20},94,1]
[null,{"$f":"Inscription!I18","v":"30deux"},{"$f":"Inscription!J18","v":"Noémie Desjardins"},null,null,null,null,null,null,null,null,null,null,null,null,null,null,null,null,null,null,null,null,null,null,null,null,null,null,null,null,null,null,null,null,null,null,{"$f":"SUMIF('Senior F'!$B$5:$B$34,$C139,'Senior F'!$I$5:$I$34)","v":0},{"$f":"SUMIF('Senior F'!$B$39:$B$68,$C139,'Senior F'!$I$39:$I$68)","v":0},{"$f":"SUMIF('Senior F'!$B$73:$B$102,$C139,'Senior F'!$I$73:$I$102)","v":0},{"$f":"SUMIF('Senior F'!$B$107:$B$136,$C139,'Senior F'!$I$107:$I$136)","v":0},{"$f":"SUMIF('Senior F'!$B$141:$B$170,$C139,'Senior F'!$I$141:$I$170)","v":0},{"$f":"SUMIF('Senior F'!$B$175:$B$204,$C139,'Senior F'!$I$175:$I$204)","v":0},{"$f":"SUMIF('Senior F'!$B$209:$B$238,$C139,'Senior F'!$I$209:$I$238)","v":0},{"$f":"SUMIF('Senior F'!$B$244:$B$275,$C139,'Senior F'!$I$244:$I$275)","v":0},{"$f":"SUMIF('Senior F'!$B$280:$B$311,$C139,'Senior F'!$I$280:$I$311)","v":0},{"$f":"SUMIF('Senior F'!$B$316:$B$347,$C139,'Senior F'!$I$316:$I$347)","v":0},0,20]
[null,{"$f":"Inscription!I19","v":"CSRN"},{"$f":"Inscription!J19","v":"Raphaëlle Tétreault"},null,null,null,null,null,null,null,null,null,null,null,null,null,null,null,null,null,null,null,null,null,null,null,null,null,null,null,null,null,null,null,null,null,null,{"$f":"SUMIF('Senior F'!$B$5:$B$34,$C140,'Senior F'!$I$5:$I$34)","v":14},{"$f":"SUMIF('Senior F'!$B$39:$B$68,$C140,'Senior F'!$I$39:$I$68)","v":3},{"$f":"SUMIF('Senior F'!$B$73:$B$102,$C140,'Senior F'!$I$73:$I$102)","v":0},{"$f":"SUMIF('Senior F'!$B$107:$B$136,$C140,'Senior F'!$I$107:$I$136)","v":0},{"$f":"SUMIF('Senior F'!$B$141:$B$170,$C140,'Senior F'!$I$141:$I$170)","v":5},{"$f":"SUMIF('Senior F'!$B$175:$B$204,$C140,'Senior F'!$I$175:$I$204)","v":0},{"$f":"SUMIF('Senior F'!$B$209:$B$238,$C140,'Senior F'!$I$209:$I$238)","v":0},{"$f":"SUMIF('Senior F'!$B$244:$B$275,$C140,'Senior F'!$I$244:$I$275)","v":0},{"$f":"SUMIF('Senior F'!$B$280:$B$311,$C140,'Senior F'!$I$280:$I$311)","v":0},{"$f":"SUMIF('Senior F'!$B$316:$B$347,$C140,'Senior F'!$I$316:$I$347)","v":0},8,16]
[null,{"$f":"Inscription!I20","v":"Gatineau"},{"$f":"Inscription!J20","v":"Isabelle Carrier"},null,null,null,null,null,null,null,null,null,null,null,null,null,null,null,null,null,null,null,null,null,null,null,null,null,null,null,null,null,null,null,null,null,null,{"$f":"SUMIF('Senior F'!$B$5:$B$34,$C141,'Senior F'!$I$5:$I$34)","v":0},{"$f":"SUMIF('Senior F'!$B$39:$B$68,$C141,'Senior F'!$I$39:$I$68)","v":0},{"$f":"SUMIF('Senior F'!$B$73:$B$102,$C141,'Senior F'!$I$73:$I$102)","v":4},{"$f":"SUMIF('Senior F'!$B$107:$B$136,$C141,'Senior F'!$I$107:$I$136)","v":2},{"$f":"SUMIF('Senior F'!$B$141:$B$170,$C141,'Senior F'!$I$141:$I$170)","v":1},{"$f":"SUMIF('Senior F'!$B$175:$B$204,$C141,'Senior F'!$I$175:$I$204)","v":0},{"$f":"SUMIF('Senior F'!$B$209:$B$238,$C141,'Senior F'!$I$209:$I$238)","v":0},{"$f":"SUMIF('Senior F'!$B$244:$B$275,$C141,'Senior F'!$I$244:$I$275)","v":0},{"$f":"SUMIF('Senior F'!$B$280:$B$311,$C141,'Senior F'!$I$280:$I$311)","v":0},{"$f":"SUMIF('Senior F'!$B$316:$B$347,$C141,'Senior F'!$I$316:$I$347)","v":0},7,17]
[null,{"$f":"Inscription!I21","v":"Gatineau"},{"$f":"Inscription!J21","v":"Jessica Carrier"},null,null,null,null,null,null,null,null,null,null,null,null,null,null,null,null,null,null,null,null,null,null,null,null,null,null,null,null,null,null,null,null,null,null,{"$f":"SUMIF('Senior F'!$B$5:$B$34,$C142,'Senior F'!$I$5:$I$34)","v":0},{"$f":"SUMIF('Senior F'!$B$39:$B$68,$C142,'Senior F'!$I$39:$I$68)","v":1},{"$f":"SUMIF('Senior F'!$B$73:$B$102,$C142,'Senior F'!$I$73:$I$102)","v":2},{"$f":"SUMIF('Senior F'!$B$107:$B$136,$C142,'Senior F'!$I$107:$I$136)","v":0},{"$f":"SUMIF('Senior F'!$B$141:$B$170,$C142,'Senior F'!$I$141:$I$170)","v":0},{"$f":"SUMIF('Senior F'!$B$175:$B$204,$C142,'Senior F'!$I$175:$I$204)","v":0},{"$f":"SUMIF('Senior F'!$B$209:$B$238,$C142,'Senior F'!$I$209:$I$238)","v":0},{"$f":"SUMIF('Senior F'!$B$244:$B$275,$C142,'Senior F'!$I$244:$I$275)","v":0},{"$f":"SUMIF('Senior F'!$B$280:$B$311,$C142,'Senior F'!$I$280:$I$311)","v":0},{"$f":"SUMIF('Senior F'!$B$316:$B$347,$C142,'Senior F'!$I$316:$I$347)","v":0},3,19]
[null,{"$f":"Inscription!I22","v":0},{"$f":"Inscription!J22","v":0},null,null,null,null,null,null,null,null,null,null,null,null,null,null,null,null,null,null,null,null,null,null,null,null,null,null,null,null,null,null,null,null,null,null,{"$f":"SUMIF('Senior F'!$B$5:$B$34,$C143,'Senior F'!$I$5:$I$34)","v":0},{"$f":"SUMIF('Senior F'!$B$39:$B$68,$C143,'Senior F'!$I$39:$I$68)","v":0},{"$f":"SUMIF('Senior F'!$B$73:$B$102,$C143,'Senior F'!$I$73:$I$102)","v":0},{"$f":"SUMIF('Senior F'!$B$107:$B$136,$C143,'Senior F'!$I$107:$I$136)","v":0},{"$f":"SUMIF('Senior F'!$B$141:$B$170,$C143,'Senior F'!$I$141:$I$170)","v":0},{"$f":"SUMIF('Senior F'!$B$175:$B$204,$C143,'Senior F'!$I$175:$I$204)","v":0},{"$f":"SUMIF('Senior F'!$B$209:$B$238,$C143,'Senior F'!$I$209:$I$238)","v":0},{"$f":"SUMIF('Senior F'!$B$244:$B$275,$C143,'Senior F'!$I$244:$I$275)","v":0},{"$f":"SUMIF('Senior F'!$B$280:$B$311,$C143,'Senior F'!$I$280:$I$311)","v":0},{"$f":"SUMIF('Senior F'!$B$316:$B$347,$C143,'Senior F'!$I$316:$I$347)","v":0},0,20]
[null,{"$f":"Inscription!I23","v":0},{"$f":"Inscription!J23","v":0},null,null,null,null,null,null,null,null,null,null,null,null,null,null,null,null,null,null,null,null,null,null,null,null,null,null,null,null,null,null,null,null,null,null,{"$f":"SUMIF('Senior F'!$B$5:$B$34,$C144,'Senior F'!$I$5:$I$34)","v":0},{"$f":"SUMIF('Senior F'!$B$39:$B$68,$C144,'Senior F'!$I$39:$I$68)","v":0},{"$f":"SUMIF('Senior F'!$B$73:$B$102,$C144,'Senior F'!$I$73:$I$102)","v":0},{"$f":"SUMIF('Senior F'!$B$107:$B$136,$C144,'Senior F'!$I$107:$I$136)","v":0},{"$f":"SUMIF('Senior F'!$B$141:$B$170,$C144,'Senior F'!$I$141:$I$170)","v":0},{"$f":"SUMIF('Senior F'!$B$175:$B$204,$C144,'Senior F'!$I$175:$I$204)","v":0},{"$f":"SUMIF('Senior F'!$B$209:$B$238,$C144,'Senior F'!$I$209:$I$238)","v":0},{"$f":"SUMIF('Senior F'!$B$244:$B$275,$C144,'Senior F'!$I$244:$I$275)","v":0},{"$f":"SUMIF('Senior F'!$B$280:$B$311,$C144,'Senior F'!$I$280:$I$311)","v":0},{"$f":"SUMIF('Senior F'!$B$316:$B$347,$C144,'Senior F'!$I$316:$I$347)","v":0},0,20]
[null,{"$f":"Inscription!I24","v":0},{"$f":"Inscription!J24","v":0},null,null,null,null,null,null,null,null,null,null,null,null,null,null,null,null,null,null,null,null,null,null,null,null,null,null,null,null,null,null,null,null,null,null,{"$f":"SUMIF('Senior F'!$B$5:$B$34,$C145,'Senior F'!$I$5:$I$34)","v":0},{"$f":"SUMIF('Senior F'!$B$39:$B$68,$C145,'Senior F'!$I$39:$I$68)","v":0},{"$f":"SUMIF('Senior F'!$B$73:$B$102,$C145,'Senior F'!$I$73:$I$102)","v":0},{"$f":"SUMIF('Senior F'!$B$107:$B$136,$C145,'Senior F'!$I$107:$I$136)","v":0},{"$f":"SUMIF('Senior F'!$B$141:$B$170,$C145,'Senior F'!$I$141:$I$170)","v":0},{"$f":"SUMIF('Senior F'!$B$175:$B$204,$C145,'Senior F'!$I$175:$I$204)","v":0},{"$f":"SUMIF('Senior F'!$B$209:$B$238,$C145,'Senior F'!$I$209:$I$238)","v":0},{"$f":"SUMIF('Senior F'!$B$244:$B$275,$C145,'Senior F'!$I$244:$I$275)","v":0},{"$f":"SUMIF('Senior F'!$B$280:$B$311,$C145,'Senior F'!$I$280:$I$311)","v":0},{"$f":"SUMIF('Senior F'!$B$316:$B$347,$C145,'Senior F'!$I$316:$I$347)","v":0},0,20]
[null,{"$f":"Inscription!I25","v":0},{"$f":"Inscription!J25","v":0},null,null,null,null,null,null,null,null,null,null,null,null,null,null,null,null,null,null,null,null,null,null,null,null,null,null,null,null,null,null,null,null,null,null,{"$f":"SUMIF('Senior F'!$B$5:$B$34,$C146,'Senior F'!$I$5:$I$34)","v":0},{"$f":"SUMIF('Senior F'!$B$39:$B$68,$C146,'Senior F'!$I$39:$I$68)","v":0},{"$f":"SUMIF('Senior F'!$B$73:$B$102,$C146,'Senior F'!$I$73:$I$102)","v":0},{"$f":"SUMIF('Senior F'!$B$107:$B$136,$C146,'Senior F'!$I$107:$I$136)","v":0},{"$f":"SUMIF('Senior F'!$B$141:$B$170,$C146,'Senior F'!$I$141:$I$170)","v":0},{"$f":"SUMIF('Senior F'!$B$175:$B$204,$C146,'Senior F'!$I$175:$I$204)","v":0},{"$f":"SUMIF('Senior F'!$B$209:$B$238,$C146,'Senior F'!$I$209:$I$238)","v":0},{"$f":"SUMIF('Senior F'!$B$244:$B$275,$C146,'Senior F'!$I$244:$I$275)","v":0},{"$f":"SUMIF('Senior F'!$B$280:$B$311,$C146,'Senior F'!$I$280:$I$311)","v":0},{"$f":"SUMIF('Senior F'!$B$316:$B$347,$C146,'Senior F'!$I$316:$I$347)","v":0},0,20]
[null,{"$f":"Inscription!I26","v":0},{"$f":"Inscription!J26","v":0},null,null,null,null,null,null,null,null,null,null,null,null,null,null,null,null,null,null,null,null,null,null,null,null,null,null,null,null,null,null,null,null,null,null,{"$f":"SUMIF('Senior F'!$B$5:$B$34,$C147,'Senior F'!$I$5:$I$34)","v":0},{"$f":"SUMIF('Senior F'!$B$39:$B$68,$C147,'Senior F'!$I$39:$I$68)","v":0},{"$f":"SUMIF('Senior F'!$B$73:$B$102,$C147,'Senior F'!$I$73:$I$102)","v":0},{"$f":"SUMIF('Senior F'!$B$107:$B$136,$C147,'Senior F'!$I$107:$I$136)","v":0},{"$f":"SUMIF('Senior F'!$B$141:$B$170,$C147,'Senior F'!$I$141:$I$170)","v":0},{"$f":"SUMIF('Senior F'!$B$175:$B$204,$C147,'Senior F'!$I$175:$I$204)","v":0},{"$f":"SUMIF('Senior F'!$B$209:$B$238,$C147,'Senior F'!$I$209:$I$238)","v":0},{"$f":"SUMIF('Senior F'!$B$244:$B$275,$C147,'Senior F'!$I$244:$I$275)","v":0},{"$f":"SUMIF('Senior F'!$B$280:$B$311,$C147,'Senior F'!$I$280:$I$311)","v":0},{"$f":"SUMIF('Senior F'!$B$316:$B$347,$C147,'Senior F'!$I$316:$I$347)","v":0},0,20]
[null,{"$f":"Inscription!I27","v":0},{"$f":"Inscription!J27","v":0},null,null,null,null,null,null,null,null,null,null,null,null,null,null,null,null,null,null,null,null,null,null,null,null,null,null,null,null,null,null,null,null,null,null,{"$f":"SUMIF('Senior F'!$B$5:$B$34,$C148,'Senior F'!$I$5:$I$34)","v":0},{"$f":"SUMIF('Senior F'!$B$39:$B$68,$C148,'Senior F'!$I$39:$I$68)","v":0},{"$f":"SUMIF('Senior F'!$B$73:$B$102,$C148,'Senior F'!$I$73:$I$102)","v":0},{"$f":"SUMIF('Senior F'!$B$107:$B$136,$C148,'Senior F'!$I$107:$I$136)","v":0},{"$f":"SUMIF('Senior F'!$B$141:$B$170,$C148,'Senior F'!$I$141:$I$170)","v":0},{"$f":"SUMIF('Senior F'!$B$175:$B$204,$C148,'Senior F'!$I$175:$I$204)","v":0},{"$f":"SUMIF('Senior F'!$B$209:$B$238,$C148,'Senior F'!$I$209:$I$238)","v":0},{"$f":"SUMIF('Senior F'!$B$244:$B$275,$C148,'Senior F'!$I$244:$I$275)","v":0},{"$f":"SUMIF('Senior F'!$B$280:$B$311,$C148,'Senior F'!$I$280:$I$311)","v":0},{"$f":"SUMIF('Senior F'!$B$316:$B$347,$C148,'Senior F'!$I$316:$I$347)","v":0},0,20]
[null,{"$f":"Inscription!I28","v":0},{"$f":"Inscription!J28","v":0},null,null,null,null,null,null,null,null,null,null,null,null,null,null,null,null,null,null,null,null,null,null,null,null,null,null,null,null,null,null,null,null,null,null,{"$f":"SUMIF('Senior F'!$B$5:$B$34,$C149,'Senior F'!$I$5:$I$34)","v":0},{"$f":"SUMIF('Senior F'!$B$39:$B$68,$C149,'Senior F'!$I$39:$I$68)","v":0},{"$f":"SUMIF('Senior F'!$B$73:$B$102,$C149,'Senior F'!$I$73:$I$102)","v":0},{"$f":"SUMIF('Senior F'!$B$107:$B$136,$C149,'Senior F'!$I$107:$I$136)","v":0},{"$f":"SUMIF('Senior F'!$B$141:$B$170,$C149,'Senior F'!$I$141:$I$170)","v":0},{"$f":"SUMIF('Senior F'!$B$175:$B$204,$C149,'Senior F'!$I$175:$I$204)","v":0},{"$f":"SUMIF('Senior F'!$B$209:$B$238,$C149,'Senior F'!$I$209:$I$238)","v":0},{"$f":"SUMIF('Senior F'!$B$244:$B$275,$C149,'Senior F'!$I$244:$I$275)","v":0},{"$f":"SUMIF('Senior F'!$B$280:$B$311,$C149,'Senior F'!$I$280:$I$311)","v":0},{"$f":"SUMIF('Senior F'!$B$316:$B$347,$C149,'Senior F'!$I$316:$I$347)","v":0},0,20]
[null,{"$f":"Inscription!I29","v":0},{"$f":"Inscription!J29","v":0},null,null,null,null,null,null,null,null,null,null,null,null,null,null,null,null,null,null,null,null,null,null,null,null,null,null,null,null,null,null,null,null,null,null,{"$f":"SUMIF('Senior F'!$B$5:$B$34,$C150,'Senior F'!$I$5:$I$34)","v":0},{"$f":"SUMIF('Senior F'!$B$39:$B$68,$C150,'Senior F'!$I$39:$I$68)","v":0},{"$f":"SUMIF('Senior F'!$B$73:$B$102,$C150,'Senior F'!$I$73:$I$102)","v":0},{"$f":"SUMIF('Senior F'!$B$107:$B$136,$C150,'Senior F'!$I$107:$I$136)","v":0},{"$f":"SUMIF('Senior F'!$B$141:$B$170,$C150,'Senior F'!$I$141:$I$170)","v":0},{"$f":"SUMIF('Senior F'!$B$175:$B$204,$C150,'Senior F'!$I$175:$I$204)","v":0},{"$f":"SUMIF('Senior F'!$B$209:$B$238,$C150,'Senior F'!$I$209:$I$238)","v":0},{"$f":"SUMIF('Senior F'!$B$244:$B$275,$C150,'Senior F'!$I$244:$I$275)","v":0},{"$f":"SUMIF('Senior F'!$B$280:$B$311,$C150,'Senior F'!$I$280:$I$311)","v":0},{"$f":"SUMIF('Senior F'!$B$316:$B$347,$C150,'Senior F'!$I$316:$I$347)","v":0},0,20]
[null,{"$f":"Inscription!I30","v":0},{"$f":"Inscription!J30","v":0},null,null,null,null,null,null,null,null,null,null,null,null,null,null,null,null,null,null,null,null,null,null,null,null,null,null,null,null,null,null,null,null,null,null,{"$f":"SUMIF('Senior F'!$B$5:$B$34,$C151,'Senior F'!$I$5:$I$34)","v":0},{"$f":"SUMIF('Senior F'!$B$39:$B$68,$C151,'Senior F'!$I$39:$I$68)","v":0},{"$f":"SUMIF('Senior F'!$B$73:$B$102,$C151,'Senior F'!$I$73:$I$102)","v":0},{"$f":"SUMIF('Senior F'!$B$107:$B$136,$C151,'Senior F'!$I$107:$I$136)","v":0},{"$f":"SUMIF('Senior F'!$B$141:$B$170,$C151,'Senior F'!$I$141:$I$170)","v":0},{"$f":"SUMIF('Senior F'!$B$175:$B$204,$C151,'Senior F'!$I$175:$I$204)","v":0},{"$f":"SUMIF('Senior F'!$B$209:$B$238,$C151,'Senior F'!$I$209:$I$238)","v":0},{"$f":"SUMIF('Senior F'!$B$244:$B$275,$C151,'Senior F'!$I$244:$I$275)","v":0},{"$f":"SUMIF('Senior F'!$B$280:$B$311,$C151,'Senior F'!$I$280:$I$311)","v":0},{"$f":"SUMIF('Senior F'!$B$316:$B$347,$C151,'Senior F'!$I$316:$I$347)","v":0},0,20]
[null,{"$f":"Inscription!I31","v":0},{"$f":"Inscription!J31","v":0},null,null,null,null,null,null,null,null,null,null,null,null,null,null,null,null,null,null,null,null,null,null,null,null,null,null,null,null,null,null,null,null,null,null,{"$f":"SUMIF('Senior F'!$B$5:$B$34,$C152,'Senior F'!$I$5:$I$34)","v":0},{"$f":"SUMIF('Senior F'!$B$39:$B$68,$C152,'Senior F'!$I$39:$I$68)","v":0},{"$f":"SUMIF('Senior F'!$B$73:$B$102,$C152,'Senior F'!$I$73:$I$102)","v":0},{"$f":"SUMIF('Senior F'!$B$107:$B$136,$C152,'Senior F'!$I$107:$I$136)","v":0},{"$f":"SUMIF('Senior F'!$B$141:$B$170,$C152,'Senior F'!$I$141:$I$170)","v":0},{"$f":"SUMIF('Senior F'!$B$175:$B$204,$C152,'Senior F'!$I$175:$I$204)","v":0},{"$f":"SUMIF('Senior F'!$B$209:$B$238,$C152,'Senior F'!$I$209:$I$238)","v":0},{"$f":"SUMIF('Senior F'!$B$244:$B$275,$C152,'Senior F'!$I$244:$I$275)","v":0},{"$f":"SUMIF('Senior F'!$B$280:$B$311,$C152,'Senior F'!$I$280:$I$311)","v":0},{"$f":"SUMIF('Senior F'!$B$316:$B$347,$C152,'Senior F'!$I$316:$I$347)","v":0},0,20]
["Senior\nHomme",{"$f":"Inscription!K2","v":"Dam'eauclès"},{"$f":"Inscription!L2","v":"Charles GIrouard"},null,null,null,null,null,null,null,null,null,null,null,null,null,null,null,null,null,null,null,null,null,null,null,null,null,null,null,null,null,null,null,null,null,null,null,null,null,null,null,null,null,null,null,null,null,null,{"$f":"SUMIF('Senior H'!$B$5:$B$34,$C153,'Senior H'!$I$5:$I$34)","v":14},{"$f":"SUMIF('Senior H'!$B$39:$B$68,$C153,'Senior H'!$I$39:$I$68)","v":8},{"$f":"SUMIF('Senior H'!$B$73:$B$102,$C153,'Senior H'!$I$73:$I$102)","v":12},{"$f":"SUMIF('Senior H'!$B$107:$B$136,$C153,'Senior H'!$I$107:$I$136)","v":3},{"$f":"SUMIF('Senior H'!$B$141:$B$170,$C153,'Senior H'!$I$141:$I$170)","v":12},{"$f":"SUMIF('Senior H'!$B$175:$B$204,$C153,'Senior H'!$I$175:$I$204)","v":18},{"$f":"SUMIF('Senior H'!$B$209:$B$238,$C153,'Senior H'!$I$209:$I$238)","v":0},{"$f":"SUMIF('Senior H'!$B$243:$B$274,$C153,'Senior H'!$I$243:$I$274)","v":16},{"$f":"SUMIF('Senior H'!$B$279:$B$310,$C153,'Senior H'!$I$279:$I$310)","v":16},{"$f":"SUMIF('Senior H'!$B$315:$B$346,$C153,'Senior H'!$I$315:$I$346)","v":16},{"$f":"SUM(AY153+AZ153+BA153+BC153+BB153)","v":53},{"$f":"RANK(BH153,$BH$153:$BH$182)","v":8}]
[null,{"$f":"Inscription!K3","v":"SSSL"},{"$f":"Inscription!L3","v":"Félix Labelle"},null,null,null,null,null,null,null,null,null,null,null,null,null,null,null,null,null,null,null,null,null,null,null,null,null,null,null,null,null,null,null,null,null,null,null,null,null,null,null,null,null,null,null,null,null,null,{"$f":"SUMIF('Senior H'!$B$5:$B$34,$C154,'Senior H'!$I$5:$I$34)","v":0},{"$f":"SUMIF('Senior H'!$B$39:$B$68,$C154,'Senior H'!$I$39:$I$68)","v":6},{"$f":"SUMIF('Senior H'!$B$73:$B$102,$C154,'Senior H'!$I$73:$I$102)","v":0},{"$f":"SUMIF('Senior H'!$B$107:$B$136,$C154,'Senior H'!$I$107:$I$136)","v":4},{"$f":"SUMIF('Senior H'!$B$141:$B$170,$C154,'Senior H'!$I$141:$I$170)","v":2},{"$f":"SUMIF('Senior H'!$B$175:$B$204,$C154,'Senior H'!$I$175:$I$204)","v":5},{"$f":"SUMIF('Senior H'!$B$209:$B$238,$C154,'Senior H'!$I$209:$I$238)","v":0},{"$f":"SUMIF('Senior H'!$B$243:$B$274,$C154,'Senior H'!$I$243:$I$274)","v":0},{"$f":"SUMIF('Senior H'!$B$279:$B$310,$C154,'Senior H'!$I$279:$I$310)","v":0},{"$f":"SUMIF('Senior H'!$B$315:$B$346,$C154,'Senior H'!$I$315:$I$346)","v":0},{"$f":"SUM(AY154+AZ154+BA154+BC154+BB154)","v":17},{"$f":"RANK(BH154,$BH$153:$BH$182)","v":14}]
[null,{"$f":"Inscription!K4","v":"SSSL"},{"$f":"Inscription!L4","v":"Thomas Willame"},null,null,null,null,null,null,null,null,null,null,null,null,null,null,null,null,null,null,null,null,null,null,null,null,null,null,null,null,null,null,null,null,null,null,null,null,null,null,null,null,null,null,null,null,null,null,{"$f":"SUMIF('Senior H'!$B$5:$B$34,$C155,'Senior H'!$I$5:$I$34)","v":0},{"$f":"SUMIF('Senior H'!$B$39:$B$68,$C155,'Senior H'!$I$39:$I$68)","v":13},{"$f":"SUMIF('Senior H'!$B$73:$B$102,$C155,'Senior H'!$I$73:$I$102)","v":13},{"$f":"SUMIF('Senior H'!$B$107:$B$136,$C155,'Senior H'!$I$107:$I$136)","v":13},{"$f":"SUMIF('Senior H'!$B$141:$B$170,$C155,'Senior H'!$I$141:$I$170)","v":7},{"$f":"SUMIF('Senior H'!$B$175:$B$204,$C155,'Senior H'!$I$175:$I$204)","v":11},{"$f":"SUMIF('Senior H'!$B$209:$B$238,$C155,'Senior H'!$I$209:$I$238)","v":0},{"$f":"SUMIF('Senior H'!$B$243:$B$274,$C155,'Senior H'!$I$243:$I$274)","v":0},{"$f":"SUMIF('Senior H'!$B$279:$B$310,$C155,'Senior H'!$I$279:$I$310)","v":0},{"$f":"SUMIF('Senior H'!$B$315:$B$346,$C155,'Senior H'!$I$315:$I$346)","v":0},57,6]
[null,{"$f":"Inscription!K5","v":"Rouville Surf"},{"$f":"Inscription!L5","v":"Miguel Jean"},null,null,null,null,null,null,null,null,null,null,null,null,null,null,null,null,null,null,null,null,null,null,null,null,null,null,null,null,null,null,null,null,null,null,null,null,null,null,null,null,null,null,null,null,null,null,{"$f":"SUMIF('Senior H'!$B$5:$B$34,$C156,'Senior H'!$I$5:$I$34)","v":16},{"$f":"SUMIF('Senior H'!$B$39:$B$68,$C156,'Senior H'!$I$39:$I$68)","v":18},{"$f":"SUMIF('Senior H'!$B$73:$B$102,$C156,'Senior H'!$I$73:$I$102)","v":18},{"$f":"SUMIF('Senior H'!$B$107:$B$136,$C156,'Senior H'!$I$107:$I$136)","v":7},{"$f":"SUMIF('Senior H'!$B$141:$B$170,$C156,'Senior H'!$I$141:$I$170)","v":13},{"$f":"SUMIF('Senior H'!$B$175:$B$204,$C156,'Senior H'!$I$175:$I$204)","v":8},{"$f":"SUMIF('Senior H'!$B$209:$B$238,$C156,'Senior H'!$I$209:$I$238)","v":0},{"$f":"SUMIF('Senior H'!$B$243:$B$274,$C156,'Senior H'!$I$243:$I$274)","v":0},{"$f":"SUMIF('Senior H'!$B$279:$B$310,$C156,'Senior H'!$I$279:$I$310)","v":0},{"$f":"SUMIF('Senior H'!$B$315:$B$346,$C156,'Senior H'!$I$315:$I$346)","v":0},64,3]
[null,{"$f":"Inscription!K6","v":"Rouville Surf"},{"$f":"Inscription!L6","v":"Dimitri Jean"},null,null,null,null,null,null,null,null,null,null,null,null,null,null,null,null,null,null,null,null,null,null,null,null,null,null,null,null,null,null,null,null,null,null,null,null,null,null,null,null,null,null,null,null,null,null,{"$f":"SUMIF('Senior H'!$B$5:$B$34,$C157,'Senior H'!$I$5:$I$34)","v":16},{"$f":"SUMIF('Senior H'!$B$39:$B$68,$C157,'Senior H'!$I$39:$I$68)","v":12},{"$f":"SUMIF('Senior H'!$B$73:$B$102,$C157,'Senior H'!$I$73:$I$102)","v":0},{"$f":"SUMIF('Senior H'!$B$107:$B$136,$C157,'Senior H'!$I$107:$I$136)","v":6},{"$f":"SUMIF('Senior H'!$B$141:$B$170,$C157,'Senior H'!$I$141:$I$170)","v":11},{"$f":"SUMIF('Senior H'!$B$175:$B$204,$C157,'Senior H'!$I$175:$I$204)","v":6},{"$f":"SUMIF('Senior H'!$B$209:$B$238,$C157,'Senior H'!$I$209:$I$238)","v":0},{"$f":"SUMIF('Senior H'!$B$243:$B$274,$C157,'Senior H'!$I$243:$I$274)","v":0},{"$f":"SUMIF('Senior H'!$B$279:$B$310,$C157,'Senior H'!$I$279:$I$310)","v":0},{"$f":"SUMIF('Senior H'!$B$315:$B$346,$C157,'Senior H'!$I$315:$I$346)","v":0},35,11]
[null,{"$f":"Inscription!K7","v":"Rouville Surf"},{"$f":"Inscription!L7","v":"Kevin Bustamante-Cortés"},null,null,null,null,null,null,null,null,null,null,null,null,null,null,null,null,null,null,null,null,null,null,null,null,null,null,null,null,null,null,null,null,null,null,null,null,null,null,null,null,null,null,null,null,null,null,{"$f":"SUMIF('Senior H'!$B$5:$B$34,$C158,'Senior H'!$I$5:$I$34)","v":0},{"$f":"SUMIF('Senior H'!$B$39:$B$68,$C158,'Senior H'!$I$39:$I$68)","v":0},{"$f":"SUMIF('Senior H'!$B$73:$B$102,$C158,'Senior H'!$I$73:$I$102)","v":20},{"$f":"SUMIF('Senior H'!$B$107:$B$136,$C158,'Senior H'!$I$107:$I$136)","v":20},{"$f":"SUMIF('Senior H'!$B$141:$B$170,$C158,'Senior H'!$I$141:$I$170)","v":20},{"$f":"SUMIF('Senior H'!$B$175:$B$204,$C158,'Senior H'!$I$175:$I$204)","v":0},{"$f":"SUMIF('Senior H'!$B$209:$B$238,$C158,'Senior H'!$I$209:$I$238)","v":0},{"$f":"SUMIF('Senior H'!$B$243:$B$274,$C158,'Senior H'!$I$243:$I$274)","v":0},{"$f":"SUMIF('Senior H'!$B$279:$B$310,$C158,'Senior H'!$I$279:$I$310)","v":0},{"$f":"SUMIF('Senior H'!$B$315:$B$346,$C158,'Senior H'!$I$315:$I$346)","v":0},60,4]
[null,{"$f":"Inscription!K8","v":"30deux"},{"$f":"Inscription!L8","v":"Thomas Lavoie"},null,null,null,null,null,null,null,null,null,null,null,null,null,null,null,null,null,null,null,null,null,null,null,null,null,null,null,null,null,null,null,null,null,null,null,null,null,null,null,null,null,null,null,null,null,null,{"$f":"SUMIF('Senior H'!$B$5:$B$34,$C159,'Senior H'!$I$5:$I$34)","v":12},{"$f":"SUMIF('Senior H'!$B$39:$B$68,$C159,'Senior H'!$I$39:$I$68)","v":16},{"$f":"SUMIF('Senior H'!$B$73:$B$102,$C159,'Senior H'!$I$73:$I$102)","v":14},{"$f":"SUMIF('Senior H'!$B$107:$B$136,$C159,'Senior H'!$I$107:$I$136)","v":16},{"$f":"SUMIF('Senior H'!$B$141:$B$170,$C159,'Senior H'!$I$141:$I$170)","v":16},{"$f":"SUMIF('Senior H'!$B$175:$B$204,$C159,'Senior H'!$I$175:$I$204)","v":20},{"$f":"SUMIF('Senior H'!$B$209:$B$238,$C159,'Senior H'!$I$209:$I$238)","v":0},{"$f":"SUMIF('Senior H'!$B$243:$B$274,$C159,'Senior H'!$I$243:$I$274)","v":20},{"$f":"SUMIF('Senior H'!$B$279:$B$310,$C159,'Senior H'!$I$279:$I$310)","v":20},{"$f":"SUMIF('Senior H'!$B$315:$B$346,$C159,'Senior H'!$I$315:$I$346)","v":20},82,1]
[null,{"$f":"Inscription!K9","v":"30deux"},{"$f":"Inscription!L9","v":"Samuel Lévesque"},null,null,null,null,null,null,null,null,null,null,null,null,null,null,null,null,null,null,null,null,null,null,null,null,null,null,null,null,null,null,null,null,null,null,null,null,null,null,null,null,null,null,null,null,null,null,{"$f":"SUMIF('Senior H'!$B$5:$B$34,$C160,'Senior H'!$I$5:$I$34)","v":12},{"$f":"SUMIF('Senior H'!$B$39:$B$68,$C160,'Senior H'!$I$39:$I$68)","v":5},{"$f":"SUMIF('Senior H'!$B$73:$B$102,$C160,'Senior H'!$I$73:$I$102)","v":5},{"$f":"SUMIF('Senior H'!$B$107:$B$136,$C160,'Senior H'!$I$107:$I$136)","v":1},{"$f":"SUMIF('Senior H'!$B$141:$B$170,$C160,'Senior H'!$I$141:$I$170)","v":1},{"$f":"SUMIF('Senior H'!$B$175:$B$204,$C160,'Senior H'!$I$175:$I$204)","v":4},{"$f":"SUMIF('Senior H'!$B$209:$B$238,$C160,'Senior H'!$I$209:$I$238)","v":0},{"$f":"SUMIF('Senior H'!$B$243:$B$274,$C160,'Senior H'!$I$243:$I$274)","v":0},{"$f":"SUMIF('Senior H'!$B$279:$B$310,$C160,'Senior H'!$I$279:$I$310)","v":0},{"$f":"SUMIF('Senior H'!$B$315:$B$346,$C160,'Senior H'!$I$315:$I$346)","v":0},16,15]
[null,{"$f":"Inscription!K10","v":"30deux"},{"$f":"Inscription!L10","v":"François Houle"},null,null,null,null,null,null,null,null,null,null,null,null,null,null,null,null,null,null,null,null,null,null,null,null,null,null,null,null,null,null,null,null,null,null,null,null,null,null,null,null,null,null,null,null,null,null,{"$f":"SUMIF('Senior H'!$B$5:$B$34,$C161,'Senior H'!$I$5:$I$34)","v":20},{"$f":"SUMIF('Senior H'!$B$39:$B$68,$C161,'Senior H'!$I$39:$I$68)","v":14},{"$f":"SUMIF('Senior H'!$B$73:$B$102,$C161,'Senior H'!$I$73:$I$102)","v":10},{"$f":"SUMIF('Senior H'!$B$107:$B$136,$C161,'Senior H'!$I$107:$I$136)","v":10},{"$f":"SUMIF('Senior H'!$B$141:$B$170,$C161,'Senior H'!$I$141:$I$170)","v":8},{"$f":"SUMIF('Senior H'!$B$175:$B$204,$C161,'Senior H'!$I$175:$I$204)","v":12},{"$f":"SUMIF('Senior H'!$B$209:$B$238,$C161,'Senior H'!$I$209:$I$238)","v":0},{"$f":"SUMIF('Senior H'!$B$243:$B$274,$C161,'Senior H'!$I$243:$I$274)","v":20},{"$f":"SUMIF('Senior H'!$B$279:$B$310,$C161,'Senior H'!$I$279:$I$310)","v":20},{"$f":"SUMIF('Senior H'!$B$315:$B$346,$C161,'Senior H'!$I$315:$I$346)","v":20},54,7]
[null,{"$f":"Inscription!K11","v":"30deux"},{"$f":"Inscription!L11","v":"Maxime Chamberland"},null,null,null,null,null,null,null,null,null,null,null,null,null,null,null,null,null,null,null,null,null,null,null,null,null,null,null,null,null,null,null,null,null,null,null,null,null,null,null,null,null,null,null,null,null,null,{"$f":"SUMIF('Senior H'!$B$5:$B$34,$C162,'Senior H'!$I$5:$I$34)","v":20},{"$f":"SUMIF('Senior H'!$B$39:$B$68,$C162,'Senior H'!$I$39:$I$68)","v":20},{"$f":"SUMIF('Senior H'!$B$73:$B$102,$C162,'Senior H'!$I$73:$I$102)","v":8},{"$f":"SUMIF('Senior H'!$B$107:$B$136,$C162,'Senior H'!$I$107:$I$136)","v":11},{"$f":"SUMIF('Senior H'!$B$141:$B$170,$C162,'Senior H'!$I$141:$I$170)","v":18},{"$f":"SUMIF('Senior H'!$B$175:$B$204,$C162,'Senior H'!$I$175:$I$204)","v":16},{"$f":"SUMIF('Senior H'!$B$209:$B$238,$C162,'Senior H'!$I$209:$I$238)","v":0},{"$f":"SUMIF('Senior H'!$B$243:$B$274,$C162,'Senior H'!$I$243:$I$274)","v":0},{"$f":"SUMIF('Senior H'!$B$279:$B$310,$C162,'Senior H'!$I$279:$I$310)","v":0},{"$f":"SUMIF('Senior H'!$B$315:$B$346,$C162,'Senior H'!$I$315:$I$346)","v":0},73,2]
[null,{"$f":"Inscription!K12","v":"30deux"},{"$f":"Inscription!L12","v":"Marco Patriarco"},null,null,null,null,null,null,null,null,null,null,null,null,null,null,null,null,null,null,null,null,null,null,null,null,null,null,null,null,null,null,null,null,null,null,null,null,null,null,null,null,null,null,null,null,null,null,{"$f":"SUMIF('Senior H'!$B$5:$B$34,$C163,'Senior H'!$I$5:$I$34)","v":0},{"$f":"SUMIF('Senior H'!$B$39:$B$68,$C163,'Senior H'!$I$39:$I$68)","v":0},{"$f":"SUMIF('Senior H'!$B$73:$B$102,$C163,'Senior H'!$I$73:$I$102)","v":0},{"$f":"SUMIF('Senior H'!$B$107:$B$136,$C163,'Senior H'!$I$107:$I$136)","v":18},{"$f":"SUMIF('Senior H'!$B$141:$B$170,$C163,'Senior H'!$I$141:$I$170)","v":10},{"$f":"SUMIF('Senior H'!$B$175:$B$204,$C163,'Senior H'!$I$175:$I$204)","v":0},{"$f":"SUMIF('Senior H'!$B$209:$B$238,$C163,'Senior H'!$I$209:$I$238)","v":0},{"$f":"SUMIF('Senior H'!$B$243:$B$274,$C163,'Senior H'!$I$243:$I$274)","v":20},{"$f":"SUMIF('Senior H'!$B$279:$B$310,$C163,'Senior H'!$I$279:$I$310)","v":0},{"$f":"SUMIF('Senior H'!$B$315:$B$346,$C163,'Senior H'!$I$315:$I$346)","v":20},28,13]
[null,{"$f":"Inscription!K13","v":"CSRN"},{"$f":"Inscription!L13","v":"Ismaël Chakir"},null,null,null,null,null,null,null,null,null,null,null,null,null,null,null,null,null,null,null,null,null,null,null,null,null,null,null,null,null,null,null,null,null,null,null,null,null,null,null,null,null,null,null,null,null,null,{"$f":"SUMIF('Senior H'!$B$5:$B$34,$C164,'Senior H'!$I$5:$I$34)","v":0},{"$f":"SUMIF('Senior H'!$B$39:$B$68,$C164,'Senior H'!$I$39:$I$68)","v":4},{"$f":"SUMIF('Senior H'!$B$73:$B$102,$C164,'Senior H'!$I$73:$I$102)","v":4},{"$f":"SUMIF('Senior H'!$B$107:$B$136,$C164,'Senior H'!$I$107:$I$136)","v":8},{"$f":"SUMIF('Senior H'!$B$141:$B$170,$C164,'Senior H'!$I$141:$I$170)","v":6},{"$f":"SUMIF('Senior H'!$B$175:$B$204,$C164,'Senior H'!$I$175:$I$204)","v":10},{"$f":"SUMIF('Senior H'!$B$209:$B$238,$C164,'Senior H'!$I$209:$I$238)","v":0},{"$f":"SUMIF('Senior H'!$B$243:$B$274,$C164,'Senior H'!$I$243:$I$274)","v":0},{"$f":"SUMIF('Senior H'!$B$279:$B$310,$C164,'Senior H'!$I$279:$I$310)","v":0},{"$f":"SUMIF('Senior H'!$B$315:$B$346,$C164,'Senior H'!$I$315:$I$346)","v":0},32,12]
[null,{"$f":"Inscription!K14","v":"CSRN"},{"$f":"Inscription!L14","v":"Kamil Romdhani"},null,null,null,null,null,null,null,null,null,null,null,null,null,null,null,null,null,null,null,null,null,null,null,null,null,null,null,null,null,null,null,null,null,null,null,null,null,null,null,null,null,null,null,null,null,null,{"$f":"SUMIF('Senior H'!$B$5:$B$34,$C165,'Senior H'!$I$5:$I$34)","v":0},{"$f":"SUMIF('Senior H'!$B$39:$B$68,$C165,'Senior H'!$I$39:$I$68)","v":10},{"$f":"SUMIF('Senior H'!$B$73:$B$102,$C165,'Senior H'!$I$73:$I$102)","v":11},{"$f":"SUMIF('Senior H'!$B$107:$B$136,$C165,'Senior H'!$I$107:$I$136)","v":12},{"$f":"SUMIF('Senior H'!$B$141:$B$170,$C165,'Senior H'!$I$141:$I$170)","v":14},{"$f":"SUMIF('Senior H'!$B$175:$B$204,$C165,'Senior H'!$I$175:$I$204)","v":13},{"$f":"SUMIF('Senior H'!$B$209:$B$238,$C165,'Senior H'!$I$209:$I$238)","v":0},{"$f":"SUMIF('Senior H'!$B$243:$B$274,$C165,'Senior H'!$I$243:$I$274)","v":18},{"$f":"SUMIF('Senior H'!$B$279:$B$310,$C165,'Senior H'!$I$279:$I$310)","v":18},{"$f":"SUMIF('Senior H'!$B$315:$B$346,$C165,'Senior H'!$I$315:$I$346)","v":18},60,4]
[null,{"$f":"Inscription!K15","v":"CSRN"},{"$f":"Inscription!L15","v":"William Laurence"},null,null,null,null,null,null,null,null,null,null,null,null,null,null,null,null,null,null,null,null,null,null,null,null,null,null,null,null,null,null,null,null,null,null,null,null,null,null,null,null,null,null,null,null,null,null,{"$f":"SUMIF('Senior H'!$B$5:$B$34,$C166,'Senior H'!$I$5:$I$34)","v":0},{"$f":"SUMIF('Senior H'!$B$39:$B$68,$C166,'Senior H'!$I$39:$I$68)","v":2},{"$f":"SUMIF('Senior H'!$B$73:$B$102,$C166,'Senior H'!$I$73:$I$102)","v":3},{"$f":"SUMIF('Senior H'!$B$107:$B$136,$C166,'Senior H'!$I$107:$I$136)","v":0},{"$f":"SUMIF('Senior H'!$B$141:$B$170,$C166,'Senior H'!$I$141:$I$170)","v":0},{"$f":"SUMIF('Senior H'!$B$175:$B$204,$C166,'Senior H'!$I$175:$I$204)","v":3},{"$f":"SUMIF('Senior H'!$B$209:$B$238,$C166,'Senior H'!$I$209:$I$238)","v":0},{"$f":"SUMIF('Senior H'!$B$243:$B$274,$C166,'Senior H'!$I$243:$I$274)","v":18},{"$f":"SUMIF('Senior H'!$B$279:$B$310,$C166,'Senior H'!$I$279:$I$310)","v":18},{"$f":"SUMIF('Senior H'!$B$315:$B$346,$C166,'Senior H'!$I$315:$I$346)","v":18},8,17]
[null,{"$f":"Inscription!K16","v":"Gatineau"},{"$f":"Inscription!L16","v":"Olivier Breton"},null,null,null,null,null,null,null,null,null,null,null,null,null,null,null,null,null,null,null,null,null,null,null,null,null,null,null,null,null,null,null,null,null,null,null,null,null,null,null,null,null,null,null,null,null,null,{"$f":"SUMIF('Senior H'!$B$5:$B$34,$C167,'Senior H'!$I$5:$I$34)","v":0},{"$f":"SUMIF('Senior H'!$B$39:$B$68,$C167,'Senior H'!$I$39:$I$68)","v":7},{"$f":"SUMIF('Senior H'!$B$73:$B$102,$C167,'Senior H'!$I$73:$I$102)","v":16},{"$f":"SUMIF('Senior H'!$B$107:$B$136,$C167,'Senior H'!$I$107:$I$136)","v":14},{"$f":"SUMIF('Senior H'!$B$141:$B$170,$C167,'Senior H'!$I$141:$I$170)","v":5},{"$f":"SUMIF('Senior H'!$B$175:$B$204,$C167,'Senior H'!$I$175:$I$204)","v":7},{"$f":"SUMIF('Senior H'!$B$209:$B$238,$C167,'Senior H'!$I$209:$I$238)","v":0},{"$f":"SUMIF('Senior H'!$B$243:$B$274,$C167,'Senior H'!$I$243:$I$274)","v":0},{"$f":"SUMIF('Senior H'!$B$279:$B$310,$C167,'Senior H'!$I$279:$I$310)","v":0},{"$f":"SUMIF('Senior H'!$B$315:$B$346,$C167,'Senior H'!$I$315:$I$346)","v":0},49,9]
[null,{"$f":"Inscription!K17","v":"Narval"},{"$f":"Inscription!L17","v":"Alex Tremblay"},null,null,null,null,null,null,null,null,null,null,null,null,null,null,null,null,null,null,null,null,null,null,null,null,null,null,null,null,null,null,null,null,null,null,null,null,null,null,null,null,null,null,null,null,null,null,{"$f":"SUMIF('Senior H'!$B$5:$B$34,$C168,'Senior H'!$I$5:$I$34)","v":0},{"$f":"SUMIF('Senior H'!$B$39:$B$68,$C168,'Senior H'!$I$39:$I$68)","v":3},{"$f":"SUMIF('Senior H'!$B$73:$B$102,$C168,'Senior H'!$I$73:$I$102)","v":6},{"$f":"SUMIF('Senior H'!$B$107:$B$136,$C168,'Senior H'!$I$107:$I$136)","v":2},{"$f":"SUMIF('Senior H'!$B$141:$B$170,$C168,'Senior H'!$I$141:$I$170)","v":4},{"$f":"SUMIF('Senior H'!$B$175:$B$204,$C168,'Senior H'!$I$175:$I$204)","v":0},{"$f":"SUMIF('Senior H'!$B$209:$B$238,$C168,'Senior H'!$I$209:$I$238)","v":0},{"$f":"SUMIF('Senior H'!$B$243:$B$274,$C168,'Senior H'!$I$243:$I$274)","v":0},{"$f":"SUMIF('Senior H'!$B$279:$B$310,$C168,'Senior H'!$I$279:$I$310)","v":0},{"$f":"SUMIF('Senior H'!$B$315:$B$346,$C168,'Senior H'!$I$315:$I$346)","v":0},15,16]
[null,{"$f":"Inscription!K18","v":"Narval"},{"$f":"Inscription!L18","v":"David Comeau"},null,null,null,null,null,null,null,null,null,null,null,null,null,null,null,null,null,null,null,null,null,null,null,null,null,null,null,null,null,null,null,null,null,null,null,null,null,null,null,null,null,null,null,null,null,null,{"$f":"SUMIF('Senior H'!$B$5:$B$34,$C169,'Senior H'!$I$5:$I$34)","v":0},{"$f":"SUMIF('Senior H'!$B$39:$B$68,$C169,'Senior H'!$I$39:$I$68)","v":11},{"$f":"SUMIF('Senior H'!$B$73:$B$102,$C169,'Senior H'!$I$73:$I$102)","v":7},{"$f":"SUMIF('Senior H'!$B$107:$B$136,$C169,'Senior H'!$I$107:$I$136)","v":5},{"$f":"SUMIF('Senior H'!$B$141:$B$170,$C169,'Senior H'!$I$141:$I$170)","v":3},{"$f":"SUMIF('Senior H'!$B$175:$B$204,$C169,'Senior H'!$I$175:$I$204)","v":14},{"$f":"SUMIF('Senior H'!$B$209:$B$238,$C169,'Senior H'!$I$209:$I$238)","v":0},{"$f":"SUMIF('Senior H'!$B$243:$B$274,$C169,'Senior H'!$I$243:$I$274)","v":0},{"$f":"SUMIF('Senior H'!$B$279:$B$310,$C169,'Senior H'!$I$279:$I$310)","v":0},{"$f":"SUMIF('Senior H'!$B$315:$B$346,$C169,'Senior H'!$I$315:$I$346)","v":0},40,10]
[null,{"$f":"Inscription!K19","v":0},{"$f":"Inscription!L19","v":0},null,null,null,null,null,null,null,null,null,null,null,null,null,null,null,null,null,null,null,null,null,null,null,null,null,null,null,null,null,null,null,null,null,null,null,null,null,null,null,null,null,null,null,null,null,null,{"$f":"SUMIF('Senior H'!$B$5:$B$34,$C170,'Senior H'!$I$5:$I$34)","v":0},{"$f":"SUMIF('Senior H'!$B$39:$B$68,$C170,'Senior H'!$I$39:$I$68)","v":0},{"$f":"SUMIF('Senior H'!$B$73:$B$102,$C170,'Senior H'!$I$73:$I$102)","v":0},{"$f":"SUMIF('Senior H'!$B$107:$B$136,$C170,'Senior H'!$I$107:$I$136)","v":0},{"$f":"SUMIF('Senior H'!$B$141:$B$170,$C170,'Senior H'!$I$141:$I$170)","v":0},{"$f":"SUMIF('Senior H'!$B$175:$B$204,$C170,'Senior H'!$I$175:$I$204)","v":0},{"$f":"SUMIF('Senior H'!$B$209:$B$238,$C170,'Senior H'!$I$209:$I$238)","v":0},{"$f":"SUMIF('Senior H'!$B$243:$B$274,$C170,'Senior H'!$I$243:$I$274)","v":0},{"$f":"SUMIF('Senior H'!$B$279:$B$310,$C170,'Senior H'!$I$279:$I$310)","v":0},{"$f":"SUMIF('Senior H'!$B$315:$B$346,$C170,'Senior H'!$I$315:$I$346)","v":0},0,18]
[null,{"$f":"Inscription!K20","v":0},{"$f":"Inscription!L20","v":0},null,null,null,null,null,null,null,null,null,null,null,null,null,null,null,null,null,null,null,null,null,null,null,null,null,null,null,null,null,null,null,null,null,null,null,null,null,null,null,null,null,null,null,null,null,null,{"$f":"SUMIF('Senior H'!$B$5:$B$34,$C171,'Senior H'!$I$5:$I$34)","v":0},{"$f":"SUMIF('Senior H'!$B$39:$B$68,$C171,'Senior H'!$I$39:$I$68)","v":0},{"$f":"SUMIF('Senior H'!$B$73:$B$102,$C171,'Senior H'!$I$73:$I$102)","v":0},{"$f":"SUMIF('Senior H'!$B$107:$B$136,$C171,'Senior H'!$I$107:$I$136)","v":0},{"$f":"SUMIF('Senior H'!$B$141:$B$170,$C171,'Senior H'!$I$141:$I$170)","v":0},{"$f":"SUMIF('Senior H'!$B$175:$B$204,$C171,'Senior H'!$I$175:$I$204)","v":0},{"$f":"SUMIF('Senior H'!$B$209:$B$238,$C171,'Senior H'!$I$209:$I$238)","v":0},{"$f":"SUMIF('Senior H'!$B$243:$B$274,$C171,'Senior H'!$I$243:$I$274)","v":0},{"$f":"SUMIF('Senior H'!$B$279:$B$310,$C171,'Senior H'!$I$279:$I$310)","v":0},{"$f":"SUMIF('Senior H'!$B$315:$B$346,$C171,'Senior H'!$I$315:$I$346)","v":0},0,18]
[null,{"$f":"Inscription!K21","v":0},{"$f":"Inscription!L21","v":0},null,null,null,null,null,null,null,null,null,null,null,null,null,null,null,null,null,null,null,null,null,null,null,null,null,null,null,null,null,null,null,null,null,null,null,null,null,null,null,null,null,null,null,null,null,null,{"$f":"SUMIF('Senior H'!$B$5:$B$34,$C172,'Senior H'!$I$5:$I$34)","v":0},{"$f":"SUMIF('Senior H'!$B$39:$B$68,$C172,'Senior H'!$I$39:$I$68)","v":0},{"$f":"SUMIF('Senior H'!$B$73:$B$102,$C172,'Senior H'!$I$73:$I$102)","v":0},{"$f":"SUMIF('Senior H'!$B$107:$B$136,$C172,'Senior H'!$I$107:$I$136)","v":0},{"$f":"SUMIF('Senior H'!$B$141:$B$170,$C172,'Senior H'!$I$141:$I$170)","v":0},{"$f":"SUMIF('Senior H'!$B$175:$B$204,$C172,'Senior H'!$I$175:$I$204)","v":0},{"$f":"SUMIF('Senior H'!$B$209:$B$238,$C172,'Senior H'!$I$209:$I$238)","v":0},{"$f":"SUMIF('Senior H'!$B$243:$B$274,$C172,'Senior H'!$I$243:$I$274)","v":0},{"$f":"SUMIF('Senior H'!$B$279:$B$310,$C172,'Senior H'!$I$279:$I$310)","v":0},{"$f":"SUMIF('Senior H'!$B$315:$B$346,$C172,'Senior H'!$I$315:$I$346)","v":0},0,18]
[null,{"$f":"Inscription!K22","v":0},{"$f":"Inscription!L22","v":0},null,null,null,null,null,null,null,null,null,null,null,null,null,null,null,null,null,null,null,null,null,null,null,null,null,null,null,null,null,null,null,null,null,null,null,null,null,null,null,null,null,null,null,null,null,null,{"$f":"SUMIF('Senior H'!$B$5:$B$34,$C173,'Senior H'!$I$5:$I$34)","v":0},{"$f":"SUMIF('Senior H'!$B$39:$B$68,$C173,'Senior H'!$I$39:$I$68)","v":0},{"$f":"SUMIF('Senior H'!$B$73:$B$102,$C173,'Senior H'!$I$73:$I$102)","v":0},{"$f":"SUMIF('Senior H'!$B$107:$B$136,$C173,'Senior H'!$I$107:$I$136)","v":0},{"$f":"SUMIF('Senior H'!$B$141:$B$170,$C173,'Senior H'!$I$141:$I$170)","v":0},{"$f":"SUMIF('Senior H'!$B$175:$B$204,$C173,'Senior H'!$I$175:$I$204)","v":0},{"$f":"SUMIF('Senior H'!$B$209:$B$238,$C173,'Senior H'!$I$209:$I$238)","v":0},{"$f":"SUMIF('Senior H'!$B$243:$B$274,$C173,'Senior H'!$I$243:$I$274)","v":0},{"$f":"SUMIF('Senior H'!$B$279:$B$310,$C173,'Senior H'!$I$279:$I$310)","v":0},{"$f":"SUMIF('Senior H'!$B$315:$B$346,$C173,'Senior H'!$I$315:$I$346)","v":0},0,18]
[null,{"$f":"Inscription!K23","v":0},{"$f":"Inscription!L23","v":0},null,null,null,null,null,null,null,null,null,null,null,null,null,null,null,null,null,null,null,null,null,null,null,null,null,null,null,null,null,null,null,null,null,null,null,null,null,null,null,null,null,null,null,null,null,null,{"$f":"SUMIF('Senior H'!$B$5:$B$34,$C174,'Senior H'!$I$5:$I$34)","v":0},{"$f":"SUMIF('Senior H'!$B$39:$B$68,$C174,'Senior H'!$I$39:$I$68)","v":0},{"$f":"SUMIF('Senior H'!$B$73:$B$102,$C174,'Senior H'!$I$73:$I$102)","v":0},{"$f":"SUMIF('Senior H'!$B$107:$B$136,$C174,'Senior H'!$I$107:$I$136)","v":0},{"$f":"SUMIF('Senior H'!$B$141:$B$170,$C174,'Senior H'!$I$141:$I$170)","v":0},{"$f":"SUMIF('Senior H'!$B$175:$B$204,$C174,'Senior H'!$I$175:$I$204)","v":0},{"$f":"SUMIF('Senior H'!$B$209:$B$238,$C174,'Senior H'!$I$209:$I$238)","v":0},{"$f":"SUMIF('Senior H'!$B$243:$B$274,$C174,'Senior H'!$I$243:$I$274)","v":0},{"$f":"SUMIF('Senior H'!$B$279:$B$310,$C174,'Senior H'!$I$279:$I$310)","v":0},{"$f":"SUMIF('Senior H'!$B$315:$B$346,$C174,'Senior H'!$I$315:$I$346)","v":0},0,18]
[null,{"$f":"Inscription!K24","v":0},{"$f":"Inscription!L24","v":0},null,null,null,null,null,null,null,null,null,null,null,null,null,null,null,null,null,null,null,null,null,null,null,null,null,null,null,null,null,null,null,null,null,null,null,null,null,null,null,null,null,null,null,null,null,null,{"$f":"SUMIF('Senior H'!$B$5:$B$34,$C175,'Senior H'!$I$5:$I$34)","v":0},{"$f":"SUMIF('Senior H'!$B$39:$B$68,$C175,'Senior H'!$I$39:$I$68)","v":0},{"$f":"SUMIF('Senior H'!$B$73:$B$102,$C175,'Senior H'!$I$73:$I$102)","v":0},{"$f":"SUMIF('Senior H'!$B$107:$B$136,$C175,'Senior H'!$I$107:$I$136)","v":0},{"$f":"SUMIF('Senior H'!$B$141:$B$170,$C175,'Senior H'!$I$141:$I$170)","v":0},{"$f":"SUMIF('Senior H'!$B$175:$B$204,$C175,'Senior H'!$I$175:$I$204)","v":0},{"$f":"SUMIF('Senior H'!$B$209:$B$238,$C175,'Senior H'!$I$209:$I$238)","v":0},{"$f":"SUMIF('Senior H'!$B$243:$B$274,$C175,'Senior H'!$I$243:$I$274)","v":0},{"$f":"SUMIF('Senior H'!$B$279:$B$310,$C175,'Senior H'!$I$279:$I$310)","v":0},{"$f":"SUMIF('Senior H'!$B$315:$B$346,$C175,'Senior H'!$I$315:$I$346)","v":0},0,18]
[null,{"$f":"Inscription!K25","v":0},{"$f":"Inscription!L25","v":0},null,null,null,null,null,null,null,null,null,null,null,null,null,null,null,null,null,null,null,null,null,null,null,null,null,null,null,null,null,null,null,null,null,null,null,null,null,null,null,null,null,null,null,null,null,null,{"$f":"SUMIF('Senior H'!$B$5:$B$34,$C176,'Senior H'!$I$5:$I$34)","v":0},{"$f":"SUMIF('Senior H'!$B$39:$B$68,$C176,'Senior H'!$I$39:$I$68)","v":0},{"$f":"SUMIF('Senior H'!$B$73:$B$102,$C176,'Senior H'!$I$73:$I$102)","v":0},{"$f":"SUMIF('Senior H'!$B$107:$B$136,$C176,'Senior H'!$I$107:$I$136)","v":0},{"$f":"SUMIF('Senior H'!$B$141:$B$170,$C176,'Senior H'!$I$141:$I$170)","v":0},{"$f":"SUMIF('Senior H'!$B$175:$B$204,$C176,'Senior H'!$I$175:$I$204)","v":0},{"$f":"SUMIF('Senior H'!$B$209:$B$238,$C176,'Senior H'!$I$209:$I$238)","v":0},{"$f":"SUMIF('Senior H'!$B$243:$B$274,$C176,'Senior H'!$I$243:$I$274)","v":0},{"$f":"SUMIF('Senior H'!$B$279:$B$310,$C176,'Senior H'!$I$279:$I$310)","v":0},{"$f":"SUMIF('Senior H'!$B$315:$B$346,$C176,'Senior H'!$I$315:$I$346)","v":0},0,18]
[null,{"$f":"Inscription!K26","v":0},{"$f":"Inscription!L26","v":0},null,null,null,null,null,null,null,null,null,null,null,null,null,null,null,null,null,null,null,null,null,null,null,null,null,null,null,null,null,null,null,null,null,null,null,null,null,null,null,null,null,null,null,null,null,null,{"$f":"SUMIF('Senior H'!$B$5:$B$34,$C177,'Senior H'!$I$5:$I$34)","v":0},{"$f":"SUMIF('Senior H'!$B$39:$B$68,$C177,'Senior H'!$I$39:$I$68)","v":0},{"$f":"SUMIF('Senior H'!$B$73:$B$102,$C177,'Senior H'!$I$73:$I$102)","v":0},{"$f":"SUMIF('Senior H'!$B$107:$B$136,$C177,'Senior H'!$I$107:$I$136)","v":0},{"$f":"SUMIF('Senior H'!$B$141:$B$170,$C177,'Senior H'!$I$141:$I$170)","v":0},{"$f":"SUMIF('Senior H'!$B$175:$B$204,$C177,'Senior H'!$I$175:$I$204)","v":0},{"$f":"SUMIF('Senior H'!$B$209:$B$238,$C177,'Senior H'!$I$209:$I$238)","v":0},{"$f":"SUMIF('Senior H'!$B$243:$B$274,$C177,'Senior H'!$I$243:$I$274)","v":0},{"$f":"SUMIF('Senior H'!$B$279:$B$310,$C177,'Senior H'!$I$279:$I$310)","v":0},{"$f":"SUMIF('Senior H'!$B$315:$B$346,$C177,'Senior H'!$I$315:$I$346)","v":0},0,18]
[null,{"$f":"Inscription!K27","v":0},{"$f":"Inscription!L27","v":0},null,null,null,null,null,null,null,null,null,null,null,null,null,null,null,null,null,null,null,null,null,null,null,null,null,null,null,null,null,null,null,null,null,null,null,null,null,null,null,null,null,null,null,null,null,null,{"$f":"SUMIF('Senior H'!$B$5:$B$34,$C178,'Senior H'!$I$5:$I$34)","v":0},{"$f":"SUMIF('Senior H'!$B$39:$B$68,$C178,'Senior H'!$I$39:$I$68)","v":0},{"$f":"SUMIF('Senior H'!$B$73:$B$102,$C178,'Senior H'!$I$73:$I$102)","v":0},{"$f":"SUMIF('Senior H'!$B$107:$B$136,$C178,'Senior H'!$I$107:$I$136)","v":0},{"$f":"SUMIF('Senior H'!$B$141:$B$170,$C178,'Senior H'!$I$141:$I$170)","v":0},{"$f":"SUMIF('Senior H'!$B$175:$B$204,$C178,'Senior H'!$I$175:$I$204)","v":0},{"$f":"SUMIF('Senior H'!$B$209:$B$238,$C178,'Senior H'!$I$209:$I$238)","v":0},{"$f":"SUMIF('Senior H'!$B$243:$B$274,$C178,'Senior H'!$I$243:$I$274)","v":0},{"$f":"SUMIF('Senior H'!$B$279:$B$310,$C178,'Senior H'!$I$279:$I$310)","v":0},{"$f":"SUMIF('Senior H'!$B$315:$B$346,$C178,'Senior H'!$I$315:$I$346)","v":0},0,18]
[null,{"$f":"Inscription!K28","v":0},{"$f":"Inscription!L28","v":0},null,null,null,null,null,null,null,null,null,null,null,null,null,null,null,null,null,null,null,null,null,null,null,null,null,null,null,null,null,null,null,null,null,null,null,null,null,null,null,null,null,null,null,null,null,null,{"$f":"SUMIF('Senior H'!$B$5:$B$34,$C179,'Senior H'!$I$5:$I$34)","v":0},{"$f":"SUMIF('Senior H'!$B$39:$B$68,$C179,'Senior H'!$I$39:$I$68)","v":0},{"$f":"SUMIF('Senior H'!$B$73:$B$102,$C179,'Senior H'!$I$73:$I$102)","v":0},{"$f":"SUMIF('Senior H'!$B$107:$B$136,$C179,'Senior H'!$I$107:$I$136)","v":0},{"$f":"SUMIF('Senior H'!$B$141:$B$170,$C179,'Senior H'!$I$141:$I$170)","v":0},{"$f":"SUMIF('Senior H'!$B$175:$B$204,$C179,'Senior H'!$I$175:$I$204)","v":0},{"$f":"SUMIF('Senior H'!$B$209:$B$238,$C179,'Senior H'!$I$209:$I$238)","v":0},{"$f":"SUMIF('Senior H'!$B$243:$B$274,$C179,'Senior H'!$I$243:$I$274)","v":0},{"$f":"SUMIF('Senior H'!$B$279:$B$310,$C179,'Senior H'!$I$279:$I$310)","v":0},{"$f":"SUMIF('Senior H'!$B$315:$B$346,$C179,'Senior H'!$I$315:$I$346)","v":0},0,18]
[null,{"$f":"Inscription!K29","v":0},{"$f":"Inscription!L29","v":0},null,null,null,null,null,null,null,null,null,null,null,null,null,null,null,null,null,null,null,null,null,null,null,null,null,null,null,null,null,null,null,null,null,null,null,null,null,null,null,null,null,null,null,null,null,null,{"$f":"SUMIF('Senior H'!$B$5:$B$34,$C180,'Senior H'!$I$5:$I$34)","v":0},{"$f":"SUMIF('Senior H'!$B$39:$B$68,$C180,'Senior H'!$I$39:$I$68)","v":0},{"$f":"SUMIF('Senior H'!$B$73:$B$102,$C180,'Senior H'!$I$73:$I$102)","v":0},{"$f":"SUMIF('Senior H'!$B$107:$B$136,$C180,'Senior H'!$I$107:$I$136)","v":0},{"$f":"SUMIF('Senior H'!$B$141:$B$170,$C180,'Senior H'!$I$141:$I$170)","v":0},{"$f":"SUMIF('Senior H'!$B$175:$B$204,$C180,'Senior H'!$I$175:$I$204)","v":0},{"$f":"SUMIF('Senior H'!$B$209:$B$238,$C180,'Senior H'!$I$209:$I$238)","v":0},{"$f":"SUMIF('Senior H'!$B$243:$B$274,$C180,'Senior H'!$I$243:$I$274)","v":0},{"$f":"SUMIF('Senior H'!$B$279:$B$310,$C180,'Senior H'!$I$279:$I$310)","v":0},{"$f":"SUMIF('Senior H'!$B$315:$B$346,$C180,'Senior H'!$I$315:$I$346)","v":0},0,18]
[null,{"$f":"Inscription!K30","v":0},{"$f":"Inscription!L30","v":0},null,null,null,null,null,null,null,null,null,null,null,null,null,null,null,null,null,null,null,null,null,null,null,null,null,null,null,null,null,null,null,null,null,null,null,null,null,null,null,null,null,null,null,null,null,null,{"$f":"SUMIF('Senior H'!$B$5:$B$34,$C181,'Senior H'!$I$5:$I$34)","v":0},{"$f":"SUMIF('Senior H'!$B$39:$B$68,$C181,'Senior H'!$I$39:$I$68)","v":0},{"$f":"SUMIF('Senior H'!$B$73:$B$102,$C181,'Senior H'!$I$73:$I$102)","v":0},{"$f":"SUMIF('Senior H'!$B$107:$B$136,$C181,'Senior H'!$I$107:$I$136)","v":0},{"$f":"SUMIF('Senior H'!$B$141:$B$170,$C181,'Senior H'!$I$141:$I$170)","v":0},{"$f":"SUMIF('Senior H'!$B$175:$B$204,$C181,'Senior H'!$I$175:$I$204)","v":0},{"$f":"SUMIF('Senior H'!$B$209:$B$238,$C181,'Senior H'!$I$209:$I$238)","v":0},{"$f":"SUMIF('Senior H'!$B$243:$B$274,$C181,'Senior H'!$I$243:$I$274)","v":0},{"$f":"SUMIF('Senior H'!$B$279:$B$310,$C181,'Senior H'!$I$279:$I$310)","v":0},{"$f":"SUMIF('Senior H'!$B$315:$B$346,$C181,'Senior H'!$I$315:$I$346)","v":0},0,18]
[null,{"$f":"Inscription!K31","v":0},{"$f":"Inscription!L31","v":0},null,null,null,null,null,null,null,null,null,null,null,null,null,null,null,null,null,null,null,null,null,null,null,null,null,null,null,null,null,null,null,null,null,null,null,null,null,null,null,null,null,null,null,null,null,null,{"$f":"SUMIF('Senior H'!$B$5:$B$34,$C182,'Senior H'!$I$5:$I$34)","v":0},{"$f":"SUMIF('Senior H'!$B$39:$B$68,$C182,'Senior H'!$I$39:$I$68)","v":0},{"$f":"SUMIF('Senior H'!$B$73:$B$102,$C182,'Senior H'!$I$73:$I$102)","v":0},{"$f":"SUMIF('Senior H'!$B$107:$B$136,$C182,'Senior H'!$I$107:$I$136)","v":0},{"$f":"SUMIF('Senior H'!$B$141:$B$170,$C182,'Senior H'!$I$141:$I$170)","v":0},{"$f":"SUMIF('Senior H'!$B$175:$B$204,$C182,'Senior H'!$I$175:$I$204)","v":0},{"$f":"SUMIF('Senior H'!$B$209:$B$238,$C182,'Senior H'!$I$209:$I$238)","v":0},{"$f":"SUMIF('Senior H'!$B$243:$B$274,$C182,'Senior H'!$I$243:$I$274)","v":0},{"$f":"SUMIF('Senior H'!$B$279:$B$310,$C182,'Senior H'!$I$279:$I$310)","v":0},{"$f":"SUMIF('Senior H'!$B$315:$B$346,$C182,'Senior H'!$I$315:$I$346)","v":0},0,18]